Workbook

Sheet Greasewood North #
A1: Strachan Exploration, Inc. Financial Assurance Warranty Calculation
A2: Greasewood North #
A4: Reclamation Task and Quantity
C5: Unit cost | D5: # of units | E5: Item totals
A6: Equipment Removal- Tanks, flow lines, valves, etc | E6: =C6*D6 -> 0
A7: Completed with Plugging and Abandonment | E7: =C7*D7 -> 0
A8: Tank Berms | E8: =C8*D8 -> 0
A9: Berms removed with Plugging and Abandonment | E9: =C9*D9 -> 0
A10: Pits | E10: =C10*D10 -> 0
A11: Pit reclamation | E11: =C11*D11 -> 0
A12: Road Reclamation (Using Road Grader) Total linear feet | E12: =C12*D12 -> 0
A13: $300/Hour to re-grade and rip road (300 feet/hr or $1.00/linear foot) | E13: =C13*D13 -> 0
A14: Rip and Re-Grade Site (not including roads) Acres Total | E14: =C14*D14 -> 0
A15: Road Grader $300.00/hour @ 1/2 acre/hour=$600/ac | E15: =C15*D15 -> 0
A16: Topsoil Replacement | E16: =C16*D16 -> 0
A17: Import and re-spread topsoil @ 4 inches deep over 1.0 acres | E17: =C17*D17 -> 0
... A32: or $416/ac based on 208 feet along lowest side) | E32: =C32*D32 -> 0
A33: Stormwater Inspection, Weed Spraying, Mowing | E33: 4475
A36: Total Direct Costs | E36: =SUM(E6:E35) -> 4475
A37: Mobilization/Demobilization | E37: 2000
A39: Total Financial Warranty | E39: =SUM(E36:E38) -> 6475
A42: Notes:
A43: Initial Area of Disturbance:
A44: Remaining Area of Disturbance:
A45: Wells on Location:
A46: Soil Type:
A47: Salt Kill Considerations:
A48: High Priority Habitat:
A49: Rangeland or Cropland:

Sheet BABB #14-14
A1: Strachan Exploration, Inc. Financial Assurance Warranty Calculation
A2: BABB #14-14
A3: Includes Facility ID 332405
A4: Reclamation Task and Quantity
C5: Unit cost | D5: # of units | E5: Item totals
A6: Equipment Removal not completed during Plugging and Abandonment | E6: =SUM(C6*D6) -> 0
A7: Tank removal @ $1,500.00/Tank | C7: 1500 | E7: =SUM(C7*D7) -> 0
A8: Pit reclamation | E8: =SUM(C8*D8) -> 0
A9: Liner Removal | E9: =SUM(C9*D9) -> 0
A10: Backfilling- Bobcat S86 Skid Steer Loader-$125.00/hr | C10: 125 | E10: =SUM(C10*D10) -> 0
A11: Misc | E11: =SUM(C11*D11) -> 0
A12: Road Reclamation (Using Road Grader) Total linear feet | E12: =SUM(C12*D12) -> 0
A13: $300/Hour to re-grade and rip road (300 feet/hr or $1.00/linear foot) | C13: 1 | D13: 509 | E13: =SUM(C13*D13) -> 509
A14: Rip and Re-Grade Site (not including roads) Acres Total | E14: =SUM(C14*D14) -> 0
A15: Bobcat S86-$125.00/hour @ 1/2 acre/hour=$250/ac | C15: 250 | D15: 0.02 | E15: =SUM(C15*D15) -> 5
A16: Topsoil Replacement -Import and re-spread topsoil @ 4 inches deep | E16: =SUM(C16*D16) -> 0
A17: Grading cost =$250/ac | C17: 250 | D17: 0.02 | E17: =SUM(C17*D17) -> 5
A18: 27 loads (20yds/load) @ $600/load=$16,200.00/Acre | C18: 16200 | D18: 0.02 | E18: =SUM(C18*D18) -> 324
A19: Topsoil Preparation (minimum of 1 acre) | E19: =SUM(C19*D19) -> 0
A20: Spread Cow Manure as Soil Amendment (20 Tons/Acre@ $50 acre) | C20: 50 | D20: 1 | E20: =SUM(C20*D20) -> 50
A21: Disc to incorporate on 1 acres ($50.00/Acre) | C21: 50 | D21: 1 | E21: =SUM(C21*D21) -> 50
A22: Drag Harrow to firm up seed bed on 1 acres ($50.00/Acre) | C22: 50 | D22: 1 | E22: =SUM(C22*D22) -> 50
A23: Seeding (minimum of 1 acre which includes road) | E23: =SUM(C23*D23) -> 0
A24: Seed Cost $14.00/lb @ 15 lbs/acre ($210/Acre) | C24: 210 | D24: 1 | E24: =SUM(C24*D24) -> 210
A25: Seeding with Grass Drill $232.00/Acre | C25: 232 | D25: 1 | E25: =SUM(C25*D25) -> 232
A26: Mulch and Crimp Straw @ 2 tons/acre $1058/Acre | C26: 1058 | D26: 1 | E26: =SUM(C26*D26) -> 1058
A27: %25 Failure rate replacement seeding $110/Acre (no additional mulch) | C27: 110 | D27: 1 | E27: =SUM(C27*D27) -> 110
A28: Site Soil Testing- $414.00/sample | C28: 414 | D28: 2 | E28: =SUM(C28*D28) -> 828
A29: PID Testing ($.50/ft for lines) | C29: 0.5 | D29: 509 | E29: =SUM(C29*D29) -> 254.5
A30: ($150.00 each for tank and/or pad) | C30: 150 | D30: 1 | E30: =SUM(C30*D30) -> 150
A31: Straw Wattles ($2.00/linear foot installed) | C31: 2 | D31: 208 | E31: =SUM(C31*D31) -> 416
A32: or $416/ac based on 208 feet along lowest side) | C32: 416 | E32: =SUM(C32*D32) -> 0
A33: Stormwater Inspection, Weed Spraying, Mowing | E33: 2000
A36: Total Direct Costs | E36: =SUM(E6:E35) -> 6251.5
A37: Mobilization/Demobilization | E37: 630
A39: Total Financial Warranty | E39: =SUM(E36:E38) -> 6881.5
A42: Notes:
A43: Road Length (ft): | B43: 509
A44: Initial Area of Disturbance (ac): | B44: 1.8
A45: Remaining Area of Disturbance (ac): | B45: 0.02
A46: Soil Type: | B46: Ascelion Sandy Loam
A47: Salt Kill Considerations: | B47: No
A48: High Priority Habitat: | B48: Pronghorn SWR
A49: Rangeland or Cropland: | B49: Range

Sheet BABB #14-14 Tank Battery
A1: Strachan Exploration, Inc. Financial Assurance Warranty Calculation
A2: BABB #14-14 Tank Battery
A4: Reclamation Task and Quantity
C5: Unit cost | D5: # of units | E5: Item totals
A6: Equipment Removal not completed during Plugging and Abandonment | E6: =SUM(C6*D6) -> 0
A7: Tank removal @ $1,500.00/Tank | C7: 1500 | D7: 1 | E7: =SUM(C7*D7) -> 1500
A8: Pit reclamation | E8: =SUM(C8*D8) -> 0
A9: Liner Removal | E9: =SUM(C9*D9) -> 0
A10: Backfilling- Bobcat S86 Skid Steer Loader-$125.00/hr | C10: 125 | D10: 3 | E10: =SUM(C10*D10) -> 375
A11: Misc | E11: =SUM(C11*D11) -> 0
A12: Road Reclamation (Using Road Grader) Total linear feet | C12: 1 | E12: =SUM(C12*D12) -> 0
A13: $300/Hour to re-grade and rip road (300 feet/hr or $1.00/linear foot) | E13: =SUM(C13*D13) -> 0
A14: Rip and Re-Grade Site (not including roads) Acres Total | E14: =SUM(C14*D14) -> 0
A15: Bobcat S86-$125.00/hour @ 1/2 acre/hour=$250/ac | C15: 250 | D15: 0.52 | E15: =SUM(C15*D15) -> 130
A16: Topsoil Replacement -Import and re-spread topsoil @ 4 inches deep | E16: =SUM(C16*D16) -> 0
A17: Grading cost =$250/ac | C17: 250 | D17: 0.52 | E17: =SUM(C17*D17) -> 130
A18: 27 loads (20yds/load) @ $600/load=$16,200.00/Acre | C18: 16200 | D18: 0.52 | E18: =SUM(C18*D18) -> 8424
A19: Topsoil Preparation (minimum of 1 acre) | E19: =SUM(C19*D19) -> 0
A20: Spread Cow Manure as Soil Amendment (20 Tons/Acre@ $50 acre) | C20: 50 | D20: 1 | E20: =SUM(C20*D20) -> 50
A21: Disc to incorporate on 1 acres ($50.00/Acre) | C21: 50 | D21: 1 | E21: =SUM(C21*D21) -> 50
A22: Drag Harrow to firm up seed bed on 1 acres ($50.00/Acre) | C22: 50 | D22: 1 | E22: =SUM(C22*D22) -> 50
A23: Seeding (minimum of 1 acre which includes road) | E23: =SUM(C23*D23) -> 0
A24: Seed Cost $14.00/lb @ 15 lbs/acre ($210/Acre) | C24: 210 | D24: 1 | E24: =SUM(C24*D24) -> 210
A25: Seeding with Grass Drill $232.00/Acre | C25: 232 | D25: 1 | E25: =SUM(C25*D25) -> 232
A26: Mulch and Crimp Straw @ 2 tons/acre $1058/Acre | C26: 1058 | D26: 1 | E26: =SUM(C26*D26) -> 1058
A27: %25 Failure rate replacement seeding $110/Acre (no additional mulch) | C27: 110 | D27: 1 | E27: =SUM(C27*D27) -> 110
A28: Site Soil Testing- $414.00/sample | C28: 414 | D28: 1 | E28: =SUM(C28*D28) -> 414
A29: PID Testing ($.50/ft for lines) | C29: 0.5 | D29: 100 | E29: =SUM(C29*D29) -> 50
A30: ($150.00 each for tank and/or pad) | C30: 150 | D30: 2 | E30: =SUM(C30*D30) -> 300
A31: Straw Wattles ($2.00/linear foot installed) | C31: 2 | E31: =SUM(C31*D31) -> 0
A32: or $416/ac based on 208 feet along lowest side) | C32: 416 | D32: 1 | E32: =SUM(C32*D32) -> 416
A33: Stormwater Inspection, Weed Spraying, Mowing | E33: 2000
A36: Total Direct Costs | E36: =SUM(E6:E35) -> 15499
A37: Mobilization/Demobilization | E37: 630
A39: Total Financial Warranty | E39: =SUM(E36:E38) -> 16129
A42: Notes:
A43: Road Length (ft): | B43: n/a
A44: Initial Area of Disturbance (ac): | B44: 1.42
A45: Remaining Area of Disturbance (ac): | B45: 0.52
A46: Soil Type: | B46: Ascelion Sandy Loam
A47: Salt Kill Considerations: | B47: No
A48: High Priority Habitat: | B48: Pronghorn SWR
A49: Rangeland or Cropland: | B49: Range

Sheet BANEY-STATE #16-2
A1: Strachan Exploration, Inc. Financial Assurance Warranty Calculation
A2: BANEY-STATE #16-2
A3: Includes Facility ID 433737
A4: Reclamation Task and Quantity
C5: Unit cost | D5: # of units | E5: Item totals
A6: Equipment Removal not completed during Plugging and Abandonment | E6: =SUM(C6*D6) -> 0
A7: Tank removal @ $1,500.00/Tank | C7: 1500 | D7: 4 | E7: =SUM(C7*D7) -> 6000
A8: Pit reclamation | E8: =SUM(C8*D8) -> 0
A9: Liner Removal | E9: =SUM(C9*D9) -> 0
A10: Backfilling- Bobcat S86 Skid Steer Loader-$125.00/hr | C10: 125 | D10: 4 | E10: =SUM(C10*D10) -> 500
A11: Misc | E11: =SUM(C11*D11) -> 0
A12: Road Reclamation (Using Road Grader) Total linear feet | E12: =SUM(C12*D12) -> 0
A13: $300/Hour to re-grade and rip road (300 feet/hr or $1.00/linear foot) | C13: 1 | D13: 764 | E13: =SUM(C13*D13) -> 764
A14: Rip and Re-Grade Site (not including roads) Acres Total | E14: =SUM(C14*D14) -> 0
A15: Bobcat S86-$125.00/hour @ 1/2 acre/hour=$250/ac | C15: 250 | D15: 1.03 | E15: =SUM(C15*D15) -> 257.5
A16: Topsoil Replacement -Import and re-spread topsoil @ 4 inches deep | E16: =SUM(C16*D16) -> 0
A17: Grading cost =$250/ac | C17: 250 | D17: 1.03 | E17: =SUM(C17*D17) -> 257.5
A18: 27 loads (20yds/load) @ $600/load=$16,200.00/Acre | C18: 16200 | D18: 1.03 | E18: =SUM(C18*D18) -> 16686
A19: Topsoil Preparation (minimum of 1 acre) | E19: =SUM(C19*D19) -> 0
A20: Spread Cow Manure as Soil Amendment (20 Tons/Acre@ $50 acre) | C20: 50 | D20: 1.03 | E20: =SUM(C20*D20) -> 51.5
A21: Disc to incorporate on 1 acres ($50.00/Acre) | C21: 50 | D21: 1.03 | E21: =SUM(C21*D21) -> 51.5
A22: Drag Harrow to firm up seed bed on 1 acres ($50.00/Acre) | C22: 50 | D22: 1.03 | E22: =SUM(C22*D22) -> 51.5
A23: Seeding (minimum of 1 acre which includes road) | E23: =SUM(C23*D23) -> 0
A24: Seed Cost $14.00/lb @ 15 lbs/acre ($210/Acre) | C24: 210 | D24: 1.03 | E24: =SUM(C24*D24) -> 216.3
A25: Seeding with Grass Drill $232.00/Acre | C25: 232 | D25: 1.03 | E25: =SUM(C25*D25) -> 238.96
A26: Mulch and Crimp Straw @ 2 tons/acre $1058/Acre | C26: 1058 | D26: 1.03 | E26: =SUM(C26*D26) -> 1089.74
A27: %25 Failure rate replacement seeding $110/Acre (no additional mulch) | C27: 110 | D27: 1.03 | E27: =SUM(C27*D27) -> 113.3
A28: Site Soil Testing- $414.00/sample | C28: 414 | D28: 1 | E28: =SUM(C28*D28) -> 414
A29: PID Testing ($.50/ft for lines) | C29: 0.5 | D29: 764 | E29: =SUM(C29*D29) -> 382
A30: ($150.00 each for tank and/or pad) | C30: 150 | D30: 5 | E30: =SUM(C30*D30) -> 750
A31: Straw Wattles ($2.00/linear foot installed) | C31: 2 | E31: =SUM(C31*D31) -> 0
A32: or $416/ac based on 208 feet along lowest side) | C32: 416 | D32: 1.03 | E32: =SUM(C32*D32) -> 428.48
A33: Stormwater Inspection, Weed Spraying, Mowing | E33: 2000
A36: Total Direct Costs | E36: =SUM(E6:E35) -> 30252.28
A37: Mobilization/Demobilization | E37: 630
A39: Total Financial Warranty | E39: =SUM(E36:E38) -> 30882.28
A42: Notes:
A43: Road Length (ft): | B43: 764
A44: Initial Area of Disturbance (ac): | B44: 1.85
A45: Remaining Area of Disturbance (ac): | B45: 1.03
A46: Soil Type: | B46: Ascalion Fine sandy Loam
A47: Salt Kill Considerations: | B47: No
A48: High Priority Habitat: | B48: No
A49: Rangeland or Cropland: | B49: Crop

Sheet BANEY STATE 16-3
A1: Strachan Exploration, Inc. Financial Assurance Warranty Calculation
A2: BANEY STATE 16-3
A4: Reclamation Task and Quantity
C5: Unit cost | D5: # of units | E5: Item totals
A6: Equipment Removal not completed during Plugging and Abandonment | E6: =SUM(C6*D6) -> 0
A7: Tank removal @ $1,500.00/Tank | C7: 1500 | E7: =SUM(C7*D7) -> 0
A8: Pit reclamation | E8: =SUM(C8*D8) -> 0
A9: Liner Removal | E9: =SUM(C9*D9) -> 0
A10: Backfilling- Bobcat S86 Skid Steer Loader-$125.00/hr | C10: 125 | E10: =SUM(C10*D10) -> 0
A11: Misc | E11: =SUM(C11*D11) -> 0
A12: Road Reclamation (Using Road Grader) Total linear feet | C12: 1 | D12: 2112 | E12: =SUM(C12*D12) -> 2112
A13: $300/Hour to re-grade and rip road (300 feet/hr or $1.00/linear foot) | E13: =SUM(C13*D13) -> 0
A14: Rip and Re-Grade Site (not including roads) Acres Total | E14: =SUM(C14*D14) -> 0
A15: Bobcat S86-$125.00/hour @ 1/2 acre/hour=$250/ac | C15: 250 | D15: 0.14 | E15: =SUM(C15*D15) -> 35
A16: Topsoil Replacement -Import and re-spread topsoil @ 4 inches deep | E16: =SUM(C16*D16) -> 0
A17: Grading cost =$250/ac | C17: 250 | D17: 0.14 | E17: =SUM(C17*D17) -> 35
A18: 27 loads (20yds/load) @ $600/load=$16,200.00/Acre | C18: 16200 | D18: 0.14 | E18: =SUM(C18*D18) -> 2268
A19: Topsoil Preparation (minimum of 1 acre) | E19: =SUM(C19*D19) -> 0
A20: Spread Cow Manure as Soil Amendment (20 Tons/Acre@ $50 acre) | C20: 50 | D20: 1 | E20: =SUM(C20*D20) -> 50
A21: Disc to incorporate on 1 acres ($50.00/Acre) | C21: 50 | D21: 1 | E21: =SUM(C21*D21) -> 50
A22: Drag Harrow to firm up seed bed on 1 acres ($50.00/Acre) | C22: 50 | D22: 1 | E22: =SUM(C22*D22) -> 50
A23: Seeding (minimum of 1 acre which includes road) | E23: =SUM(C23*D23) -> 0
A24: Seed Cost $14.00/lb @ 15 lbs/acre ($210/Acre) | C24: 210 | D24: 1 | E24: =SUM(C24*D24) -> 210
A25: Seeding with Grass Drill $232.00/Acre | C25: 232 | D25: 1 | E25: =SUM(C25*D25) -> 232
A26: Mulch and Crimp Straw @ 2 tons/acre $1058/Acre | C26: 1058 | D26: 1 | E26: =SUM(C26*D26) -> 1058
A27: %25 Failure rate replacement seeding $110/Acre (no additional mulch) | C27: 110 | D27: 1 | E27: =SUM(C27*D27) -> 110
A28: Site Soil Testing- $414.00/sample | C28: 414 | D28: 1 | E28: =SUM(C28*D28) -> 414
A29: PID Testing ($.50/ft for lines) | C29: 0.5 | D29: 2112 | E29: =SUM(C29*D29) -> 1056
A30: ($150.00 each for tank and/or pad) | C30: 150 | D30: 1 | E30: =SUM(C30*D30) -> 150
A31: Straw Wattles ($2.00/linear foot installed) | C31: 2 | E31: =SUM(C31*D31) -> 0
A32: or $416/ac based on 208 feet along lowest side) | C32: 416 | D32: 1 | E32: =SUM(C32*D32) -> 416
A33: Stormwater Inspection, Weed Spraying, Mowing | E33: 2000
A36: Total Direct Costs | E36: =SUM(E6:E35) -> 10246
A37: Mobilization/Demobilization | E37: 630
A39: Total Financial Warranty | E39: =SUM(E36:E38) -> 10876
A42: Notes:
A43: Road Length (ft): | B43: 2112
A44: Initial Area of Disturbance (ac): | B44: 0.53
A45: Remaining Area of Disturbance (ac): | B45: 0.14
A46: Soil Type: | B46: Weld Loam
A47: Salt Kill Considerations: | B47: No
A48: High Priority Habitat: | B48: No
A49: Rangeland or Cropland: | B49: Crop

Sheet BANEY STATE 16-5
A1: Strachan Exploration, Inc. Financial Assurance Warranty Calculation
A2: BANEY STATE 16-5
A4: Reclamation Task and Quantity
C5: Unit cost | D5: # of units | E5: Item totals
A6: Equipment Removal not completed during Plugging and Abandonment | E6: =SUM(C6*D6) -> 0
A7: Tank removal @ $1,500.00/Tank | C7: 1500 | E7: =SUM(C7*D7) -> 0
A8: Pit reclamation | E8: =SUM(C8*D8) -> 0
A9: Liner Removal | E9: =SUM(C9*D9) -> 0
A10: Backfilling- Bobcat S86 Skid Steer Loader-$125.00/hr | C10: 125 | E10: =SUM(C10*D10) -> 0
A11: Misc | E11: =SUM(C11*D11) -> 0
A12: Road Reclamation (Using Road Grader) Total linear feet | C12: 1 | D12: 835 | E12: =SUM(C12*D12) -> 835
A13: $300/Hour to re-grade and rip road (300 feet/hr or $1.00/linear foot) | E13: =SUM(C13*D13) -> 0
A14: Rip and Re-Grade Site (not including roads) Acres Total | D14: 0.43 | E14: =SUM(C14*D14) -> 0
A15: Bobcat S86-$125.00/hour @ 1/2 acre/hour=$250/ac | C15: 250 | E15: =SUM(C15*D15) -> 0
A16: Topsoil Replacement -Import and re-spread topsoil @ 4 inches deep | E16: =SUM(C16*D16) -> 0
A17: Grading cost =$250/ac | C17: 250 | D17: 0.43 | E17: =SUM(C17*D17) -> 107.5
A18: 27 loads (20yds/load) @ $600/load=$16,200.00/Acre | C18: 16200 | D18: 0.43 | E18: =SUM(C18*D18) -> 6966
A19: Topsoil Preparation (minimum of 1 acre) | E19: =SUM(C19*D19) -> 0
A20: Spread Cow Manure as Soil Amendment (20 Tons/Acre@ $50 acre) | C20: 50 | D20: 1 | E20: =SUM(C20*D20) -> 50
A21: Disc to incorporate on 1 acres ($50.00/Acre) | C21: 50 | D21: 1 | E21: =SUM(C21*D21) -> 50
A22: Drag Harrow to firm up seed bed on 1 acres ($50.00/Acre) | C22: 50 | D22: 1 | E22: =SUM(C22*D22) -> 50
A23: Seeding (minimum of 1 acre which includes road) | E23: =SUM(C23*D23) -> 0
A24: Seed Cost $14.00/lb @ 15 lbs/acre ($210/Acre) | C24: 210 | D24: 1 | E24: =SUM(C24*D24) -> 210
A25: Seeding with Grass Drill $232.00/Acre | C25: 232 | D25: 1 | E25: =SUM(C25*D25) -> 232
A26: Mulch and Crimp Straw @ 2 tons/acre $1058/Acre | C26: 1058 | D26: 1 | E26: =SUM(C26*D26) -> 1058
A27: %25 Failure rate replacement seeding $110/Acre (no additional mulch) | C27: 110 | D27: 1 | E27: =SUM(C27*D27) -> 110
A28: Site Soil Testing- $414.00/sample | C28: 414 | D28: 1 | E28: =SUM(C28*D28) -> 414
A29: PID Testing ($.50/ft for lines) | C29: 0.5 | D29: 835 | E29: =SUM(C29*D29) -> 417.5
A30: ($150.00 each for tank and/or pad) | C30: 150 | D30: 1 | E30: =SUM(C30*D30) -> 150
A31: Straw Wattles ($2.00/linear foot installed) | C31: 2 | D31: 208 | E31: =SUM(C31*D31) -> 416
A32: or $416/ac based on 208 feet along lowest side) | C32: 416 | E32: =SUM(C32*D32) -> 0
A33: Stormwater Inspection, Weed Spraying, Mowing | E33: 2000
A36: Total Direct Costs | E36: =SUM(E6:E35) -> 13066
A37: Mobilization/Demobilization | E37: 630
A39: Total Financial Warranty | E39: =SUM(E36:E38) -> 13696
A42: Notes:
A43: Road Length (ft): | B43: 835
A44: Initial Area of Disturbance (ac): | B44: 1.04
A45: Remaining Area of Disturbance (ac): | B45: 0.43
A46: Soil Type: | B46: Weld Loam
A47: Salt Kill Considerations: | B47: No
A48: High Priority Habitat: | B48: No
A49: Rangeland or Cropland: | B49: Crop

Sheet BEHRING #23-7
A1: Strachan Exploration, Inc. Financial Assurance Warranty Calculation
A2: BEHRING #23-7
A3: Includes Facility ID 274753
A4: Reclamation Task and Quantity
C5: Unit cost | D5: # of units | E5: Item totals
A6: Equipment Removal not completed during Plugging and Abandonment | E6: =SUM(C6*D6) -> 0
A7: Tank removal @ $1,500.00/Tank | C7: 1500 | E7: =SUM(C7*D7) -> 0
A8: Pit reclamation | E8: =SUM(C8*D8) -> 0
A9: Liner Removal | E9: =SUM(C9*D9) -> 0
A10: Backfilling- Bobcat S86 Skid Steer Loader-$125.00/hr | C10: 125 | E10: =SUM(C10*D10) -> 0
A11: Misc | E11: =SUM(C11*D11) -> 0
A12: Road Reclamation (Using Road Grader) Total linear feet | C12: 1 | D12: 1873 | E12: =SUM(C12*D12) -> 1873
A13: $300/Hour to re-grade and rip road (300 feet/hr or $1.00/linear foot) | E13: =SUM(C13*D13) -> 0
A14: Rip and Re-Grade Site (not including roads) Acres Total | D14: 0.59 | E14: =SUM(C14*D14) -> 0
A15: Bobcat S86-$125.00/hour @ 1/2 acre/hour=$250/ac | C15: 250 | E15: =SUM(C15*D15) -> 0
A16: Topsoil Replacement -Import and re-spread topsoil @ 4 inches deep | E16: =SUM(C16*D16) -> 0
A17: Grading cost =$250/ac | C17: 250 | D17: 0.59 | E17: =SUM(C17*D17) -> 147.5
A18: 27 loads (20yds/load) @ $600/load=$16,200.00/Acre | C18: 16200 | D18: 0.59 | E18: =SUM(C18*D18) -> 9558
A19: Topsoil Preparation (minimum of 1 acre) | E19: =SUM(C19*D19) -> 0
A20: Spread Cow Manure as Soil Amendment (20 Tons/Acre@ $50 acre) | C20: 50 | D20: 1 | E20: =SUM(C20*D20) -> 50
A21: Disc to incorporate on 1 acres ($50.00/Acre) | C21: 50 | D21: 1 | E21: =SUM(C21*D21) -> 50
A22: Drag Harrow to firm up seed bed on 1 acres ($50.00/Acre) | C22: 50 | D22: 1 | E22: =SUM(C22*D22) -> 50
A23: Seeding (minimum of 1 acre which includes road) | E23: =SUM(C23*D23) -> 0
A24: Seed Cost $14.00/lb @ 15 lbs/acre ($210/Acre) | C24: 210 | D24: 1 | E24: =SUM(C24*D24) -> 210
A25: Seeding with Grass Drill $232.00/Acre | C25: 232 | D25: 1 | E25: =SUM(C25*D25) -> 232
A26: Mulch and Crimp Straw @ 2 tons/acre $1058/Acre | C26: 1058 | D26: 1 | E26: =SUM(C26*D26) -> 1058
A27: %25 Failure rate replacement seeding $110/Acre (no additional mulch) | C27: 110 | D27: 1 | E27: =SUM(C27*D27) -> 110
A28: Site Soil Testing- $414.00/sample | C28: 414 | D28: 1 | E28: =SUM(C28*D28) -> 414
A29: PID Testing ($.50/ft for lines) | C29: 0.5 | D29: 1873 | E29: =SUM(C29*D29) -> 936.5
A30: ($150.00 each for tank and/or pad) | C30: 150 | D30: 1 | E30: =SUM(C30*D30) -> 150
A31: Straw Wattles ($2.00/linear foot installed) | C31: 2 | D31: 208 | E31: =SUM(C31*D31) -> 416
A32: or $416/ac based on 208 feet along lowest side) | C32: 416 | E32: =SUM(C32*D32) -> 0
A33: Stormwater Inspection, Weed Spraying, Mowing | E33: 2000
A36: Total Direct Costs | E36: =SUM(E6:E35) -> 17255
A37: Mobilization/Demobilization | E37: 630
A39: Total Financial Warranty | E39: =SUM(E36:E38) -> 17885
A42: Notes:
A43: Road Length (ft): | B43: 1873
A44: Initial Area of Disturbance (ac): | B44: 2.11
A45: Remaining Area of Disturbance (ac): | B45: 0.59
A46: Soil Type: | B46: Ascelion Sandy Loam
A47: Salt Kill Considerations: | B47: No
A48: High Priority Habitat: | B48: Pronghorn SWR
A49: Rangeland or Cropland: | B49: Range

Sheet BEHRING 23-7 # Tank
A1: Strachan Exploration, Inc. Financial Assurance Warranty Calculation
A2: BEHRING 23-7 # Pit
A4: Reclamation Task and Quantity
C5: Unit cost | D5: # of units | E5: Item totals
A6: Equipment Removal not completed during Plugging and Abandonment | E6: =SUM(C6*D6) -> 0
A7: Tank removal @ $1,500.00/Tank | C7: 1500 | D7: 3 | E7: =SUM(C7*D7) -> 4500
A8: Pit reclamation | E8: =SUM(C8*D8) -> 0
A9: Liner Removal | E9: =SUM(C9*D9) -> 0
A10: Backfilling- Bobcat S86 Skid Steer Loader-$125.00/hr | C10: 125 | D10: 3 | E10: =SUM(C10*D10) -> 375
A11: Misc | E11: =SUM(C11*D11) -> 0
A12: Road Reclamation (Using Road Grader) Total linear feet | C12: 1 | E12: =SUM(C12*D12) -> 0
A13: $300/Hour to re-grade and rip road (300 feet/hr or $1.00/linear foot) | E13: =SUM(C13*D13) -> 0
A14: Rip and Re-Grade Site (not including roads) Acres Total | D14: 0.54 | E14: =SUM(C14*D14) -> 0
A15: Bobcat S86-$125.00/hour @ 1/2 acre/hour=$250/ac | C15: 250 | E15: =SUM(C15*D15) -> 0
A16: Topsoil Replacement -Import and re-spread topsoil @ 4 inches deep | E16: =SUM(C16*D16) -> 0
A17: Grading cost =$250/ac | C17: 250 | D17: 0.54 | E17: =SUM(C17*D17) -> 135
A18: 27 loads (20yds/load) @ $600/load=$16,200.00/Acre | C18: 16200 | D18: 0.54 | E18: =SUM(C18*D18) -> 8748
A19: Topsoil Preparation (minimum of 1 acre) | E19: =SUM(C19*D19) -> 0
A20: Spread Cow Manure as Soil Amendment (20 Tons/Acre@ $50 acre) | C20: 50 | D20: 1 | E20: =SUM(C20*D20) -> 50
A21: Disc to incorporate on 1 acres ($50.00/Acre) | C21: 50 | D21: 1 | E21: =SUM(C21*D21) -> 50
A22: Drag Harrow to firm up seed bed on 1 acres ($50.00/Acre) | C22: 50 | D22: 1 | E22: =SUM(C22*D22) -> 50
A23: Seeding (minimum of 1 acre which includes road) | E23: =SUM(C23*D23) -> 0
A24: Seed Cost $14.00/lb @ 15 lbs/acre ($210/Acre) | C24: 210 | D24: 1 | E24: =SUM(C24*D24) -> 210
A25: Seeding with Grass Drill $232.00/Acre | C25: 232 | D25: 1 | E25: =SUM(C25*D25) -> 232
A26: Mulch and Crimp Straw @ 2 tons/acre $1058/Acre | C26: 1058 | D26: 1 | E26: =SUM(C26*D26) -> 1058
A27: %25 Failure rate replacement seeding $110/Acre (no additional mulch) | C27: 110 | D27: 1 | E27: =SUM(C27*D27) -> 110
A28: Site Soil Testing- $414.00/sample | C28: 414 | D28: 1 | E28: =SUM(C28*D28) -> 414
A29: PID Testing ($.50/ft for lines) | C29: 0.5 | D29: 100 | E29: =SUM(C29*D29) -> 50
A30: ($150.00 each for tank and/or pad) | C30: 150 | D30: 4 | E30: =SUM(C30*D30) -> 600
A31: Straw Wattles ($2.00/linear foot installed) | C31: 2 | D31: 208 | E31: =SUM(C31*D31) -> 416
A32: or $416/ac based on 208 feet along lowest side) | C32: 416 | E32: =SUM(C32*D32) -> 0
A33: Stormwater Inspection, Weed Spraying, Mowing | E33: 2000
A36: Total Direct Costs | E36: =SUM(E6:E35) -> 18998
A37: Mobilization/Demobilization | E37: 630
A39: Total Financial Warranty | E39: =SUM(E36:E38) -> 19628
A42: Notes:
A43: Road Length (ft): | B43: n/a
A44: Initial Area of Disturbance (ac): | B44: 1.06
A45: Remaining Area of Disturbance (ac): | B45: 0.54
A46: Soil Type: | B46: Ascelion Sandy Loam
A47: Salt Kill Considerations: | B47: No
A48: High Priority Habitat: | B48: Pronghorn SWR
A49: Rangeland or Cropland: | B49: Range

Sheet CHALK #31-13
A1: Strachan Exploration, Inc. Financial Assurance Warranty Calculation
A2: CHALK #31-13
A4: Reclamation Task and Quantity
C5: Unit cost | D5: # of units | E5: Item totals
A6: Equipment Removal not completed during Plugging and Abandonment | E6: =SUM(C6*D6) -> 0
A7: Tank removal @ $1,500.00/Tank | C7: 1500 | E7: =SUM(C7*D7) -> 0
A8: Pit reclamation | E8: =SUM(C8*D8) -> 0
A9: Liner Removal | E9: =SUM(C9*D9) -> 0
A10: Backfilling- Bobcat S86 Skid Steer Loader-$125.00/hr | C10: 125 | E10: =SUM(C10*D10) -> 0
A11: Misc | E11: =SUM(C11*D11) -> 0
A12: Road Reclamation (Using Road Grader) Total linear feet | C12: 1 | D12: 401 | E12: =SUM(C12*D12) -> 401
A13: $300/Hour to re-grade and rip road (300 feet/hr or $1.00/linear foot) | E13: =SUM(C13*D13) -> 0
A14: Rip and Re-Grade Site (not including roads) Acres Total | E14: =SUM(C14*D14) -> 0
A15: Bobcat S86-$125.00/hour @ 1/2 acre/hour=$250/ac | C15: 250 | E15: =SUM(C15*D15) -> 0
A16: Topsoil Replacement -Import and re-spread topsoil @ 4 inches deep | E16: =SUM(C16*D16) -> 0
A17: Grading cost =$250/ac | C17: 250 | D17: 0.2 | E17: =SUM(C17*D17) -> 50
A18: 27 loads (20yds/load) @ $600/load=$16,200.00/Acre | C18: 16200 | D18: 0.2 | E18: =SUM(C18*D18) -> 3240
A19: Topsoil Preparation (minimum of 1 acre) | E19: =SUM(C19*D19) -> 0
A20: Spread Cow Manure as Soil Amendment (20 Tons/Acre@ $50 acre) | C20: 50 | D20: 1 | E20: =SUM(C20*D20) -> 50
A21: Disc to incorporate on 1 acres ($50.00/Acre) | C21: 50 | D21: 1 | E21: =SUM(C21*D21) -> 50
A22: Drag Harrow to firm up seed bed on 1 acres ($50.00/Acre) | C22: 50 | D22: 1 | E22: =SUM(C22*D22) -> 50
A23: Seeding (minimum of 1 acre which includes road) | E23: =SUM(C23*D23) -> 0
A24: Seed Cost $14.00/lb @ 15 lbs/acre ($210/Acre) | C24: 210 | D24: 1 | E24: =SUM(C24*D24) -> 210
A25: Seeding with Grass Drill $232.00/Acre | C25: 232 | D25: 1 | E25: =SUM(C25*D25) -> 232
A26: Mulch and Crimp Straw @ 2 tons/acre $1058/Acre | C26: 1058 | D26: 1 | E26: =SUM(C26*D26) -> 1058
A27: %25 Failure rate replacement seeding $110/Acre (no additional mulch) | C27: 110 | D27: 1 | E27: =SUM(C27*D27) -> 110
A28: Site Soil Testing- $414.00/sample | C28: 414 | D28: 1 | E28: =SUM(C28*D28) -> 414
A29: PID Testing ($.50/ft for lines) | C29: 0.5 | D29: 401 | E29: =SUM(C29*D29) -> 200.5
A30: ($150.00 each for tank and/or pad) | C30: 150 | D30: 1 | E30: =SUM(C30*D30) -> 150
A31: Straw Wattles ($2.00/linear foot installed) | C31: 2 | D31: 208 | E31: =SUM(C31*D31) -> 416
A32: or $416/ac based on 208 feet along lowest side) | C32: 416 | E32: =SUM(C32*D32) -> 0
A33: Stormwater Inspection, Weed Spraying, Mowing | E33: 2000
A36: Total Direct Costs | E36: =SUM(E6:E35) -> 8631.5
A37: Mobilization/Demobilization | E37: 630
A39: Total Financial Warranty | E39: =SUM(E36:E38) -> 9261.5
A42: Notes:
A43: Road Length (ft): | B43: 401
A44: Initial Area of Disturbance (ac): | B44: 0.52
A45: Remaining Area of Disturbance (ac): | B45: 0.2
A46: Soil Type: | B46: Olney Fine Sandy Loam
A47: Salt Kill Considerations: | B47: No
A48: High Priority Habitat: | B48: No
A49: Rangeland or Cropland: | B49: Crop

Sheet CHALK #31-13 Tank Battery
A1: Strachan Exploration, Inc. Financial Assurance Warranty Calculation
A2: CHALK #31-13 PIT
A4: Reclamation Task and Quantity
C5: Unit cost | D5: # of units | E5: Item totals
A6: Equipment Removal not completed during Plugging and Abandonment | E6: =SUM(C6*D6) -> 0
A7: Tank removal @ $1,500.00/Tank | C7: 1500 | D7: 3 | E7: =SUM(C7*D7) -> 4500
A8: Pit reclamation | E8: =SUM(C8*D8) -> 0
A9: Liner Removal | E9: =SUM(C9*D9) -> 0
A10: Backfilling- Bobcat S86 Skid Steer Loader-$125.00/hr | C10: 125 | D10: 2 | E10: =SUM(C10*D10) -> 250
A11: Misc | E11: =SUM(C11*D11) -> 0
A12: Road Reclamation (Using Road Grader) Total linear feet | C12: 1 | E12: =SUM(C12*D12) -> 0
A13: $300/Hour to re-grade and rip road (300 feet/hr or $1.00/linear foot) | E13: =SUM(C13*D13) -> 0
A14: Rip and Re-Grade Site (not including roads) Acres Total | D14: 0.88 | E14: =SUM(C14*D14) -> 0
A15: Bobcat S86-$125.00/hour @ 1/2 acre/hour=$250/ac | C15: 250 | E15: =SUM(C15*D15) -> 0
A16: Topsoil Replacement -Import and re-spread topsoil @ 4 inches deep | E16: =SUM(C16*D16) -> 0
A17: Grading cost =$250/ac | C17: 250 | D17: 0.88 | E17: =SUM(C17*D17) -> 220
A18: 27 loads (20yds/load) @ $600/load=$16,200.00/Acre | C18: 16200 | D18: 0.88 | E18: =SUM(C18*D18) -> 14256
A19: Topsoil Preparation (minimum of 1 acre) | E19: =SUM(C19*D19) -> 0
A20: Spread Cow Manure as Soil Amendment (20 Tons/Acre@ $50 acre) | C20: 50 | D20: 1 | E20: =SUM(C20*D20) -> 50
A21: Disc to incorporate on 1 acres ($50.00/Acre) | C21: 50 | D21: 1 | E21: =SUM(C21*D21) -> 50
A22: Drag Harrow to firm up seed bed on 1 acres ($50.00/Acre) | C22: 50 | D22: 1 | E22: =SUM(C22*D22) -> 50
A23: Seeding (minimum of 1 acre which includes road) | E23: =SUM(C23*D23) -> 0
A24: Seed Cost $14.00/lb @ 15 lbs/acre ($210/Acre) | C24: 210 | D24: 1 | E24: =SUM(C24*D24) -> 210
A25: Seeding with Grass Drill $232.00/Acre | C25: 232 | D25: 1 | E25: =SUM(C25*D25) -> 232
A26: Mulch and Crimp Straw @ 2 tons/acre $1058/Acre | C26: 1058 | D26: 1 | E26: =SUM(C26*D26) -> 1058
A27: %25 Failure rate replacement seeding $110/Acre (no additional mulch) | C27: 110 | D27: 1 | E27: =SUM(C27*D27) -> 110
A28: Site Soil Testing- $414.00/sample | C28: 414 | D28: 1 | E28: =SUM(C28*D28) -> 414
A29: PID Testing ($.50/ft for lines) | C29: 0.5 | D29: 100 | E29: =SUM(C29*D29) -> 50
A30: ($150.00 each for tank and/or pad) | C30: 150 | D30: 4 | E30: =SUM(C30*D30) -> 600
A31: Straw Wattles ($2.00/linear foot installed) | C31: 2 | D31: 208 | E31: =SUM(C31*D31) -> 416
A32: or $416/ac based on 208 feet along lowest side) | C32: 416 | E32: =SUM(C32*D32) -> 0
A33: Stormwater Inspection, Weed Spraying, Mowing | E33: 2000
A36: Total Direct Costs | E36: =SUM(E6:E35) -> 24466
A37: Mobilization/Demobilization | E37: 630
A39: Total Financial Warranty | E39: =SUM(E36:E38) -> 25096
A42: Notes:
A43: Road Length (ft): | B43: n/a
A44: Initial Area of Disturbance (ac): | B44: 2.8
A45: Remaining Area of Disturbance (ac): | B45: 0.88
A46: Soil Type: | B46: Olney Fine Sandy Loam
A47: Salt Kill Considerations: | B47: No
A48: High Priority Habitat: | B48: No
A49: Rangeland or Cropland: | B49: Crop

Sheet BOURNE #1
A1: Strachan Exploration, Inc. Financial Assurance Warranty Calculation
A2: BOURNE #1 (with Tank)
A4: Reclamation Task and Quantity
C5: Unit cost | D5: # of units | E5: Item totals
A6: Equipment Removal (not completed with Plugging and Abandonment) | E6: =C6*D6 -> 0
A7: Tank removal @ $1,500.00/Tank | C7: 1500 | D7: 1 | E7: =C7*D7 -> 1500
A8: Pit reclamation | E8: =C8*D8 -> 0
A9: Liner Removal | E9: =C9*D9 -> 0
A10: Backfilling- Bobcat S86 Skid Steer Loader-$125.00/hr | C10: 125 | E10: =C10*D10 -> 0
A11: Misc | E11: =C11*D11 -> 0
A12: Road Reclamation (Using Road Grader) Total linear feet | C12: 1 | D12: 564 | E12: =C12*D12 -> 564
A13: $300/Hour to re-grade and rip road (300 feet/hr or $1.00/linear foot) | E13: =C13*D13 -> 0
A14: Rip and Re-Grade Site (not including roads) Acres Total | D14: 0.5 | E14: =C14*D14 -> 0
A15: Bobcat S86-$125.00/hour @ 1/2 acre/hour=$250/ac | C15: 250 | E15: =C15*D15 -> 0
A16: Topsoil Replacement -Import and re-spread topsoil @ 4 inches deep | E16: =C16*D16 -> 0
A17: Grading cost =$250/ac | C17: 250 | D17: 0.5 | E17: =C17*D17 -> 125
A18: 27 loads (20yds/load) @ $600/load=$16,200.00/Acre | C18: 16200 | D18: 0.5 | E18: =C18*D18 -> 8100
A19: Topsoil Preparation (minimum of 1 acre) | E19: =C19*D19 -> 0
A20: Spread Cow Manure as Soil Amendment (20 Tons/Acre@ $50 acre) | C20: 50 | D20: 1 | E20: =C20*D20 -> 50
A21: Disc to incorporate on 1 acres ($50.00/Acre) | C21: 50 | D21: 1 | E21: =C21*D21 -> 50
A22: Drag Harrow to firm up seed bed on 1 acres ($50.00/Acre) | C22: 50 | D22: 1 | E22: =C22*D22 -> 50
A23: Seeding (minimum of 1 acre which includes road) | E23: =C23*D23 -> 0
A24: Seed Cost $14.00/lb @ 15 lbs/acre ($210/Acre) | C24: 210 | D24: 1 | E24: =C24*D24 -> 210
A25: Seeding with Grass Drill $232.00/Acre | C25: 232 | D25: 1 | E25: =C25*D25 -> 232
A26: Mulch and Crimp Straw @ 2 tons/acre $1058/Acre | C26: 1058 | D26: 1 | E26: =C26*D26 -> 1058
A27: %25 Failure rate replacement seeding $110/Acre (no additional mulch) | C27: 110 | D27: 1 | E27: =C27*D27 -> 110
A28: Site Soil Testing- $414.00/sample | C28: 414 | D28: 1 | E28: =C28*D28 -> 414
A29: PID Testing ($.50/ft for lines) | C29: 0.5 | D29: 200 | E29: =C29*D29 -> 100
A30: ($150.00 each for tank and/or pad) | C30: 150 | D30: 2 | E30: =C30*D30 -> 300
A31: Straw Wattles ($2.00/linear foot installed) | C31: 2 | D31: 208 | E31: =C31*D31 -> 416
A32: or $416/ac based on 208 feet along lowest side) | C32: 416 | E32: =C32*D32 -> 0
A33: Stormwater Inspection, Weed Spraying, Mowing | E33: 2000
A36: Total Direct Costs | E36: =SUM(E6:E35) -> 15279
A37: Mobilization/Demobilization | E37: 630
A39: Total Financial Warranty | E39: =SUM(E36:E38) -> 15909
A42: Notes:
A43: Road Length (ft): | B43: 564
A44: Initial Area of Disturbance (ac): | B44: 1.66
A45: Remaining Area of Disturbance (ac): | B45: 0.5
A46: Soil Type: | B46: Rocky Ford Clay Loam
A47: Salt Kill Considerations: | B47: No
A48: High Priority Habitat: | B48: MDeerSWR
A49: Rangeland or Cropland: | B49: Crop

Sheet BAILEY #1-26
A1: Strachan Exploration, Inc. Financial Assurance Warranty Calculation
A2: BAILEY #1-26
A4: Reclamation Task and Quantity
C5: Unit cost | D5: # of units | E5: Item totals
A6: Equipment Removal (not completed with Plugging and Abandonment) | E6: =C6*D6 -> 0
A7: Tank removal @ $1,500.00/Tank | C7: 1500 | D7: 2 | E7: =C7*D7 -> 3000
A8: Pit reclamation | E8: =C8*D8 -> 0
A9: Liner Removal | E9: =C9*D9 -> 0
A10: Backfilling- Bobcat S86 Skid Steer Loader-$125.00/hr | C10: 125 | E10: =C10*D10 -> 0
A11: Misc | E11: =C11*D11 -> 0
A12: Road Reclamation (Using Road Grader) Total linear feet | C12: 1 | D12: 4330 | E12: =C12*D12 -> 4330
A13: $300/Hour to re-grade and rip road (300 feet/hr or $1.00/linear foot) | E13: =C13*D13 -> 0
A14: Rip and Re-Grade Site (not including roads) Acres Total | D14: 0.4 | E14: =C14*D14 -> 0
A15: Bobcat S86-$125.00/hour @ 1/2 acre/hour=$250/ac | C15: 250 | E15: =C15*D15 -> 0
A16: Topsoil Replacement -Import and re-spread topsoil @ 4 inches deep | E16: =C16*D16 -> 0
A17: Grading cost =$250/ac | C17: 250 | D17: 0.4 | E17: =C17*D17 -> 100
A18: 27 loads (20yds/load) @ $600/load=$16,200.00/Acre | C18: 16200 | D18: 0.4 | E18: =C18*D18 -> 6480
A19: Topsoil Preparation (minimum of 1 acre) | E19: =C19*D19 -> 0
A20: Spread Cow Manure as Soil Amendment (20 Tons/Acre@ $50 acre) | C20: 50 | D20: 0.4 | E20: =C20*D20 -> 20
A21: Disc to incorporate on 1 acres ($50.00/Acre) | C21: 50 | D21: 0.4 | E21: =C21*D21 -> 20
A22: Drag Harrow to firm up seed bed on 1 acres ($50.00/Acre) | C22: 50 | D22: 0.4 | E22: =C22*D22 -> 20
A23: Seeding (minimum of 1 acre which includes road) | E23: =C23*D23 -> 0
A24: Seed Cost $14.00/lb @ 15 lbs/acre ($210/Acre) | C24: 210 | D24: 1.9 | E24: =C24*D24 -> 399
A25: Seeding with Grass Drill $232.00/Acre | C25: 232 | D25: 1.9 | E25: =C25*D25 -> 440.8
A26: Mulch and Crimp Straw @ 2 tons/acre $1058/Acre | C26: 1058 | D26: 1.9 | E26: =C26*D26 -> 2010.2
A27: %25 Failure rate replacement seeding $110/Acre (no additional mulch) | C27: 110 | D27: 1.9 | E27: =C27*D27 -> 209
A28: Site Soil Testing- $414.00/sample | C28: 414 | D28: 1 | E28: =C28*D28 -> 414
A29: PID Testing ($.50/ft for lines) | C29: 0.5 | D29: 125 | E29: =C29*D29 -> 62.5
A30: ($150.00 each for tank and/or pad) | C30: 150 | D30: 3 | E30: =C30*D30 -> 450
A31: Straw Wattles ($2.00/linear foot installed) | C31: 2 | D31: 208 | E31: =C31*D31 -> 416
A32: or $416/ac based on 208 feet along lowest side) | C32: 416 | E32: =C32*D32 -> 0
A33: Stormwater Inspection, Weed Spraying, Mowing | E33: 2000
A36: Total Direct Costs | E36: =SUM(E6:E35) -> 20371.5
A37: Mobilization/Demobilization | E37: 630
A39: Total Financial Warranty | E39: =SUM(E36:E38) -> 21001.5
A42: Notes:
A43: Road Length (ft): | B43: 4330
A44: Initial Area of Disturbance (ac): | B44: 1.01
A45: Remaining Area of Disturbance (ac): | B45: 0.4
A46: Soil Type: | B46: Baca Clay Loam
A47: Salt Kill Considerations: | B47: No
A48: High Priority Habitat: | B48: No
A49: Rangeland or Cropland: | B49: Crop

Sheet CLYDE GAS PLANT #
A1: Strachan Exploration, Inc. Financial Assurance Warranty Calculation
A2: CLYDE GAS PLANT #
A4: Reclamation Task and Quantity
C5: Unit cost | D5: # of units | E5: Item totals
A6: Equipment Removal (not completed with Plugging and Abandonment) | E6: =C6*D6 -> 0
A7: Tank removal @ $1,500.00/Tank | C7: 1500 | D7: 5 | E7: =C7*D7 -> 7500
A8: Pit reclamation | E8: =C8*D8 -> 0
A9: Liner Removal | E9: =C9*D9 -> 0
A10: Backfilling- Bobcat S86 Skid Steer Loader-$125.00/hr | C10: 125 | E10: =C10*D10 -> 0
A11: Misc | E11: =C11*D11 -> 0
A12: Road Reclamation (Using Road Grader) Total linear feet | C12: 1 | E12: =C12*D12 -> 0
A13: $300/Hour to re-grade and rip road (300 feet/hr or $1.00/linear foot) | E13: =C13*D13 -> 0
A14: Rip and Re-Grade Site (not including roads) Acres Total | D14: 0.58 | E14: =C14*D14 -> 0
A15: Bobcat S86-$125.00/hour @ 1/2 acre/hour=$250/ac | C15: 250 | E15: =C15*D15 -> 0
A16: Topsoil Replacement -Import and re-spread topsoil @ 4 inches deep | E16: =C16*D16 -> 0
A17: Grading cost =$250/ac | C17: 250 | D17: 0.58 | E17: =C17*D17 -> 145
A18: 27 loads (20yds/load) @ $600/load=$16,200.00/Acre | C18: 16200 | D18: 0.58 | E18: =C18*D18 -> 9396
A19: Topsoil Preparation (minimum of 1 acre) | E19: =C19*D19 -> 0
A20: Spread Cow Manure as Soil Amendment (20 Tons/Acre@ $50 acre) | C20: 50 | D20: 0.58 | E20: =C20*D20 -> 29
A21: Disc to incorporate on 1 acres ($50.00/Acre) | C21: 50 | D21: 0.58 | E21: =C21*D21 -> 29
A22: Drag Harrow to firm up seed bed on 1 acres ($50.00/Acre) | C22: 50 | D22: 0.58 | E22: =C22*D22 -> 29
A23: Seeding (minimum of 1 acre which includes road) | E23: =C23*D23 -> 0
A24: Seed Cost $14.00/lb @ 15 lbs/acre ($210/Acre) | C24: 210 | D24: 0.58 | E24: =C24*D24 -> 121.8
A25: Seeding with Grass Drill $232.00/Acre | C25: 232 | D25: 0.58 | E25: =C25*D25 -> 134.56
A26: Mulch and Crimp Straw @ 2 tons/acre $1058/Acre | C26: 1058 | D26: 0.58 | E26: =C26*D26 -> 613.64
A27: %25 Failure rate replacement seeding $110/Acre (no additional mulch) | C27: 110 | D27: 0.58 | E27: =C27*D27 -> 63.8
A28: Site Soil Testing- $414.00/sample | C28: 414 | D28: 1 | E28: =C28*D28 -> 414
A29: PID Testing ($.50/ft for lines) | C29: 0.5 | D29: 800 | E29: =C29*D29 -> 400
A30: ($150.00 each for tank and/or pad) | C30: 150 | D30: 4 | E30: =C30*D30 -> 600
A31: Straw Wattles ($2.00/linear foot installed) | C31: 2 | D31: 208 | E31: =C31*D31 -> 416
A32: or $416/ac based on 208 feet along lowest side) | C32: 416 | E32: =C32*D32 -> 0
A33: Stormwater Inspection, Weed Spraying, Mowing | E33: 2000
A36: Total Direct Costs | E36: =SUM(E6:E35) -> 21891.8
A37: Mobilization/Demobilization | E37: 630
A39: Total Financial Warranty | E39: =SUM(E36:E38) -> 22521.8
A42: Notes: | B42: Surrounded by City Road on one side and cultivated field on other sides.
A43: Road Length (ft): | B43: N/A
A44: Initial Area of Disturbance (ac): | B44: 1.14
A45: Remaining Area of Disturbance (ac): | B45: 0.58
A46: Soil Type: | B46: Colby silt loam
A47: Salt Kill Considerations: | B47: No
A48: High Priority Habitat: | B48: No
A49: Rangeland or Cropland:

Sheet HOFFMAN, EARL #1
A1: Strachan Exploration, Inc. Financial Assurance Warranty Calculation
A2: HOFFMAN, EARL #1
A4: Reclamation Task and Quantity
C5: Unit cost | D5: # of units | E5: Item totals
A6: Equipment Removal (not completed with Plugging and Abandonment) | E6: =C6*D6 -> 0
A7: Tank removal @ $1,500.00/Tank | C7: 1500 | D7: 1 | E7: =C7*D7 -> 1500
A8: Pit reclamation | E8: =C8*D8 -> 0
A9: Liner Removal | E9: =C9*D9 -> 0
A10: Backfilling- Bobcat S86 Skid Steer Loader-$125.00/hr | C10: 125 | E10: =C10*D10 -> 0
A11: Misc | E11: =C11*D11 -> 0
A12: Road Reclamation (Using Road Grader) Total linear feet | C12: 1 | D12: 1742 | E12: =C12*D12 -> 1742
A13: $300/Hour to re-grade and rip road (300 feet/hr or $1.00/linear foot) | E13: =C13*D13 -> 0
A14: Rip and Re-Grade Site (not including roads) Acres Total | D14: 0.18 | E14: =C14*D14 -> 0
A15: Bobcat S86-$125.00/hour @ 1/2 acre/hour=$250/ac | C15: 250 | E15: =C15*D15 -> 0
A16: Topsoil Replacement -Import and re-spread topsoil @ 4 inches deep | E16: =C16*D16 -> 0
A17: Grading cost =$250/ac | C17: 250 | D17: 0.18 | E17: =C17*D17 -> 45
A18: 27 loads (20yds/load) @ $600/load=$16,200.00/Acre | C18: 16200 | D18: 0.18 | E18: =C18*D18 -> 2916
A19: Topsoil Preparation (minimum of 1 acre) | E19: =C19*D19 -> 0
A20: Spread Cow Manure as Soil Amendment (20 Tons/Acre@ $50 acre) | C20: 50 | D20: 1 | E20: =C20*D20 -> 50
A21: Disc to incorporate on 1 acres ($50.00/Acre) | C21: 50 | D21: 1 | E21: =C21*D21 -> 50
A22: Drag Harrow to firm up seed bed on 1 acres ($50.00/Acre) | C22: 50 | D22: 1 | E22: =C22*D22 -> 50
A23: Seeding (minimum of 1 acre which includes road) | E23: =C23*D23 -> 0
A24: Seed Cost $14.00/lb @ 15 lbs/acre ($210/Acre) | C24: 210 | D24: 1 | E24: =C24*D24 -> 210
A25: Seeding with Grass Drill $232.00/Acre | C25: 232 | D25: 1 | E25: =C25*D25 -> 232
A26: Mulch and Crimp Straw @ 2 tons/acre $1058/Acre | C26: 1058 | D26: 1 | E26: =C26*D26 -> 1058
A27: %25 Failure rate replacement seeding $110/Acre (no additional mulch) | C27: 110 | D27: 1 | E27: =C27*D27 -> 110
A28: Site Soil Testing- $414.00/sample | C28: 414 | D28: 1 | E28: =C28*D28 -> 414
A29: PID Testing ($.50/ft for lines) | C29: 0.5 | D29: 100 | E29: =C29*D29 -> 50
A30: ($150.00 each for tank and/or pad) | C30: 150 | D30: 2 | E30: =C30*D30 -> 300
A31: Straw Wattles ($2.00/linear foot installed) | C31: 2 | D31: 208 | E31: =C31*D31 -> 416
A32: or $416/ac based on 208 feet along lowest side) | C32: 416 | E32: =C32*D32 -> 0
A33: Stormwater Inspection, Weed Spraying, Mowing | E33: 2000
A36: Total Direct Costs | E36: =SUM(E6:E35) -> 11143
A37: Mobilization/Demobilization | E37: 630
A39: Total Financial Warranty | E39: =SUM(E36:E38) -> 11773
A42: Notes:
A43: Road Length (ft): | B43: 1742
A44: Initial Area of Disturbance (ac): | B44: 0.68
A45: Remaining Area of Disturbance (ac): | B45: 0.18
A46: Soil Type: | B46: Harvey Loam
A47: Salt Kill Considerations: | B47: No
A48: High Priority Habitat: | B48: MDeerSWR
A49: Rangeland or Cropland: | B49: Range

Sheet HUMPHREY #2A
A1: Strachan Exploration, Inc. Financial Assurance Warranty Calculation
A2: HUMPHREY #2A
A4: Reclamation Task and Quantity
C5: Unit cost | D5: # of units | E5: Item totals
A6: Equipment Removal (not completed with Plugging and Abandonment) | E6: =C6*D6 -> 0
A7: Tank removal @ $1,500.00/Tank | C7: 1500 | D7: 1 | E7: =C7*D7 -> 1500
A8: Pit reclamation | E8: =C8*D8 -> 0
A9: Liner Removal | E9: =C9*D9 -> 0
A10: Backfilling- Bobcat S86 Skid Steer Loader-$125.00/hr | C10: 125 | E10: =C10*D10 -> 0
A11: Misc | E11: =C11*D11 -> 0
A12: Road Reclamation (Using Road Grader) Total linear feet | E12: =C12*D12 -> 0
A13: $300/Hour to re-grade and rip road (300 feet/hr or $1.00/linear foot) | E13: =C13*D13 -> 0
A14: Rip and Re-Grade Site (not including roads) Acres Total | D14: 0.77 | E14: =C14*D14 -> 0
A15: Bobcat S86-$125.00/hour @ 1/2 acre/hour=$250/ac | C15: 250 | E15: =C15*D15 -> 0
A16: Topsoil Replacement -Import and re-spread topsoil @ 4 inches deep | E16: =C16*D16 -> 0
A17: Grading cost =$250/ac | C17: 250 | D17: 0.77 | E17: =C17*D17 -> 192.5
A18: 27 loads (20yds/load) @ $600/load=$16,200.00/Acre | C18: 16200 | D18: 0.77 | E18: =C18*D18 -> 12474
A19: Topsoil Preparation (minimum of 1 acre) | E19: =C19*D19 -> 0
A20: Spread Cow Manure as Soil Amendment (20 Tons/Acre@ $50 acre) | C20: 50 | D20: 1 | E20: =C20*D20 -> 50
A21: Disc to incorporate on 1 acres ($50.00/Acre) | C21: 50 | D21: 1 | E21: =C21*D21 -> 50
A22: Drag Harrow to firm up seed bed on 1 acres ($50.00/Acre) | C22: 50 | D22: 1 | E22: =C22*D22 -> 50
A23: Seeding (minimum of 1 acre which includes road) | E23: =C23*D23 -> 0
A24: Seed Cost $14.00/lb @ 15 lbs/acre ($210/Acre) | C24: 210 | D24: 1 | E24: =C24*D24 -> 210
A25: Seeding with Grass Drill $232.00/Acre | C25: 232 | D25: 1 | E25: =C25*D25 -> 232
A26: Mulch and Crimp Straw @ 2 tons/acre $1058/Acre | C26: 1058 | D26: 1 | E26: =C26*D26 -> 1058
A27: %25 Failure rate replacement seeding $110/Acre (no additional mulch) | C27: 110 | D27: 1 | E27: =C27*D27 -> 110
A28: Site Soil Testing- $414.00/sample | C28: 414 | D28: 1 | E28: =C28*D28 -> 414
A29: PID Testing ($.50/ft for lines) | C29: 0.5 | D29: 100 | E29: =C29*D29 -> 50
A30: ($150.00 each for tank and/or pad) | C30: 150 | D30: 2 | E30: =C30*D30 -> 300
A31: Straw Wattles ($2.00/linear foot installed) | C31: 2 | D31: 208 | E31: =C31*D31 -> 416
A32: or $416/ac based on 208 feet along lowest side) | C32: 416 | E32: =C32*D32 -> 0
A33: Stormwater Inspection, Weed Spraying, Mowing | E33: 2000
A36: Total Direct Costs | E36: =SUM(E6:E35) -> 19106.5
A37: Mobilization/Demobilization | E37: 630
A39: Total Financial Warranty | E39: =SUM(E36:E38) -> 19736.5
A42: Notes:
A43: Road Length (ft): | B43: N/A
A44: Initial Area of Disturbance (ac): | B44: 1.11
A45: Remaining Area of Disturbance (ac): | B45: 0.77
A46: Soil Type: | B46: Baca Silt Loam
A47: Salt Kill Considerations: | B47: No
A48: High Priority Habitat: | B48: No
A49: Rangeland or Cropland: | B49: Range

Sheet HUMPHREY-WOLLERT #2
A1: Strachan Exploration, Inc. Financial Assurance Warranty Calculation
A2: HUMPHREY-WOLLERT #2
A4: Reclamation Task and Quantity
C5: Unit cost | D5: # of units | E5: Item totals
A6: Equipment Removal (not completed with Plugging and Abandonment) | E6: =C6*D6 -> 0
A7: Tank removal @ $1,500.00/Tank | E7: =C7*D7 -> 0
A8: Pit reclamation | E8: =C8*D8 -> 0
A9: Liner Removal | E9: =C9*D9 -> 0
A10: Backfilling- Bobcat S86 Skid Steer Loader-$125.00/hr | C10: 125 | E10: =C10*D10 -> 0
A11: Misc | E11: =C11*D11 -> 0
A12: Road Reclamation (Using Road Grader) Total linear feet | C12: 1 | D12: 1368 | E12: =C12*D12 -> 1368
A13: $300/Hour to re-grade and rip road (300 feet/hr or $1.00/linear foot) | E13: =C13*D13 -> 0
A14: Rip and Re-Grade Site (not including roads) Acres Total | D14: 0.19 | E14: =C14*D14 -> 0
A15: Bobcat S86-$125.00/hour @ 1/2 acre/hour=$250/ac | C15: 250 | E15: =C15*D15 -> 0
A16: Topsoil Replacement -Import and re-spread topsoil @ 4 inches deep | E16: =C16*D16 -> 0
A17: Grading cost =$250/ac | C17: 250 | D17: 0.19 | E17: =C17*D17 -> 47.5
A18: 27 loads (20yds/load) @ $600/load=$16,200.00/Acre | C18: 16200 | D18: 0.19 | E18: =C18*D18 -> 3078
A19: Topsoil Preparation (minimum of 1 acre) | E19: =C19*D19 -> 0
A20: Spread Cow Manure as Soil Amendment (20 Tons/Acre@ $50 acre) | C20: 50 | D20: 1 | E20: =C20*D20 -> 50
A21: Disc to incorporate on 1 acres ($50.00/Acre) | C21: 50 | D21: 1 | E21: =C21*D21 -> 50
A22: Drag Harrow to firm up seed bed on 1 acres ($50.00/Acre) | C22: 50 | D22: 1 | E22: =C22*D22 -> 50
A23: Seeding (minimum of 1 acre which includes road) | E23: =C23*D23 -> 0
A24: Seed Cost $14.00/lb @ 15 lbs/acre ($210/Acre) | C24: 210 | D24: 1 | E24: =C24*D24 -> 210
A25: Seeding with Grass Drill $232.00/Acre | C25: 232 | D25: 1 | E25: =C25*D25 -> 232
A26: Mulch and Crimp Straw @ 2 tons/acre $1058/Acre | C26: 1058 | D26: 1 | E26: =C26*D26 -> 1058
A27: %25 Failure rate replacement seeding $110/Acre (no additional mulch) | C27: 110 | D27: 1 | E27: =C27*D27 -> 110
A28: Site Soil Testing- $414.00/sample | C28: 414 | D28: 1 | E28: =C28*D28 -> 414
A29: PID Testing ($.50/ft for lines) | C29: 0.5 | D29: 60 | E29: =C29*D29 -> 30
A30: ($150.00 each for tank and/or pad) | C30: 150 | D30: 1 | E30: =C30*D30 -> 150
A31: Straw Wattles ($2.00/linear foot installed) | C31: 2 | D31: 208 | E31: =C31*D31 -> 416
A32: or $416/ac based on 208 feet along lowest side) | C32: 416 | E32: =C32*D32 -> 0
A33: Stormwater Inspection, Weed Spraying, Mowing | E33: 2000
A36: Total Direct Costs | E36: =SUM(E6:E35) -> 9263.5
A37: Mobilization/Demobilization | E37: 630
A39: Total Financial Warranty | E39: =SUM(E36:E38) -> 9893.5
A42: Notes:
A43: Road Length (ft): | B43: 1368
A44: Initial Area of Disturbance (ac): | B44: 0.39
A45: Remaining Area of Disturbance (ac): | B45: 0.19
A46: Soil Type: | B46: Baca Silt Loam
A47: Salt Kill Considerations: | B47: No
A48: High Priority Habitat: | B48: No
A49: Rangeland or Cropland: | B49: Range

Sheet LAS ANIMAS GATHERING SYSTEM #  
A1: Strachan Exploration, Inc. Financial Assurance Warranty Calculation
A2: LAS ANIMAS GATHERING SYSTEM #
A4: Reclamation Task and Quantity
C5: Unit cost | D5: # of units | E5: Item totals
A6: Equipment Removal (not completed with Plugging and Abandonment) | E6: =C6*D6 -> 0
A7: Tank removal @ $1,500.00/Tank | C7: 1500 | D7: 3 | E7: =C7*D7 -> 4500
A8: Pit reclamation | E8: =C8*D8 -> 0
A9: Liner Removal | E9: =C9*D9 -> 0
A10: Backfilling- Bobcat S86 Skid Steer Loader-$125.00/hr | C10: 125 | E10: =C10*D10 -> 0
A11: Misc | E11: =C11*D11 -> 0
A12: Road Reclamation (Using Road Grader) Total linear feet | C12: 1 | E12: =C12*D12 -> 0
A13: $300/Hour to re-grade and rip road (300 feet/hr or $1.00/linear foot) | E13: =C13*D13 -> 0
A14: Rip and Re-Grade Site (not including roads) Acres Total | D14: 1.37 | E14: =C14*D14 -> 0
A15: Bobcat S86-$125.00/hour @ 1/2 acre/hour=$250/ac | C15: 250 | E15: =C15*D15 -> 0
A16: Topsoil Replacement -Import and re-spread topsoil @ 4 inches deep | E16: =C16*D16 -> 0
A17: Grading cost =$250/ac | C17: 250 | D17: 1.37 | E17: =C17*D17 -> 342.5
A18: 27 loads (20yds/load) @ $600/load=$16,200.00/Acre | C18: 16200 | D18: 1.37 | E18: =C18*D18 -> 22194
A19: Topsoil Preparation (minimum of 1 acre) | E19: =C19*D19 -> 0
A20: Spread Cow Manure as Soil Amendment (20 Tons/Acre@ $50 acre) | C20: 50 | D20: 1.37 | E20: =C20*D20 -> 68.5
A21: Disc to incorporate on 1 acres ($50.00/Acre) | C21: 50 | D21: 1.37 | E21: =C21*D21 -> 68.5
A22: Drag Harrow to firm up seed bed on 1 acres ($50.00/Acre) | C22: 50 | D22: 1.37 | E22: =C22*D22 -> 68.5
A23: Seeding (minimum of 1 acre which includes road) | E23: =C23*D23 -> 0
A24: Seed Cost $14.00/lb @ 15 lbs/acre ($210/Acre) | C24: 210 | D24: 1.37 | E24: =C24*D24 -> 287.7
A25: Seeding with Grass Drill $232.00/Acre | C25: 232 | D25: 1.37 | E25: =C25*D25 -> 317.84
A26: Mulch and Crimp Straw @ 2 tons/acre $1058/Acre | C26: 1058 | D26: 1.37 | E26: =C26*D26 -> 1449.46
A27: %25 Failure rate replacement seeding $110/Acre (no additional mulch) | C27: 110 | D27: 1.37 | E27: =C27*D27 -> 150.7
A28: Site Soil Testing- $414.00/sample | C28: 414 | D28: 1 | E28: =C28*D28 -> 414
A29: PID Testing ($.50/ft for lines) | C29: 0.5 | D29: 400 | E29: =C29*D29 -> 200
A30: ($150.00 each for tank and/or pad) | C30: 150 | D30: 4 | E30: =C30*D30 -> 600
A31: Straw Wattles ($2.00/linear foot installed) | C31: 2 | D31: 208 | E31: =C31*D31 -> 416
A32: or $416/ac based on 208 feet along lowest side) | C32: 416 | E32: =C32*D32 -> 0
A33: Stormwater Inspection, Weed Spraying, Mowing | E33: 2000
A36: Total Direct Costs | E36: =SUM(E6:E35) -> 33077.7
A37: Mobilization/Demobilization | E37: 630
A39: Total Financial Warranty | E39: =SUM(E36:E38) -> 33707.7
A42: Notes:
A43: Road Length (ft): | B43: N/A
A44: Initial Area of Disturbance (ac): | B44: 2.99
A45: Remaining Area of Disturbance (ac): | B45: 1.37
A46: Soil Type: | B46: Stoneham Loam
A47: Salt Kill Considerations: | B47: No
A48: High Priority Habitat: | B48: No
A49: Rangeland or Cropland: | B49: Range

Sheet ROWE  A #1
A1: Strachan Exploration, Inc. Financial Assurance Warranty Calculation
A2: ROWE A #1
A4: Reclamation Task and Quantity
C5: Unit cost | D5: # of units | E5: Item totals
A6: Equipment Removal (not completed with Plugging and Abandonment) | E6: =C6*D6 -> 0
A7: Tank removal @ $1,500.00/Tank | E7: =C7*D7 -> 0
A8: Pit reclamation | E8: =C8*D8 -> 0
A9: Liner Removal | E9: =C9*D9 -> 0
A10: Backfilling- Bobcat S86 Skid Steer Loader-$125.00/hr | C10: 125 | E10: =C10*D10 -> 0
A11: Misc | E11: =C11*D11 -> 0
A12: Road Reclamation (Using Road Grader) Total linear feet | C12: 1 | D12: 927 | E12: =C12*D12 -> 927
A13: $300/Hour to re-grade and rip road (300 feet/hr or $1.00/linear foot) | E13: =C13*D13 -> 0
A14: Rip and Re-Grade Site (not including roads) Acres Total | D14: 0.43 | E14: =C14*D14 -> 0
A15: Bobcat S86-$125.00/hour @ 1/2 acre/hour=$250/ac | C15: 250 | E15: =C15*D15 -> 0
A16: Topsoil Replacement -Import and re-spread topsoil @ 4 inches deep | E16: =C16*D16 -> 0
A17: Grading cost =$250/ac | C17: 250 | D17: 0.43 | E17: =C17*D17 -> 107.5
A18: 27 loads (20yds/load) @ $600/load=$16,200.00/Acre | C18: 16200 | D18: 0.43 | E18: =C18*D18 -> 6966
A19: Topsoil Preparation (minimum of 1 acre) | E19: =C19*D19 -> 0
A20: Spread Cow Manure as Soil Amendment (20 Tons/Acre@ $50 acre) | C20: 50 | D20: 1 | E20: =C20*D20 -> 50
A21: Disc to incorporate on 1 acres ($50.00/Acre) | C21: 50 | D21: 1 | E21: =C21*D21 -> 50
A22: Drag Harrow to firm up seed bed on 1 acres ($50.00/Acre) | C22: 50 | D22: 1 | E22: =C22*D22 -> 50
A23: Seeding (minimum of 1 acre which includes road) | E23: =C23*D23 -> 0
A24: Seed Cost $14.00/lb @ 15 lbs/acre ($210/Acre) | C24: 210 | D24: 1 | E24: =C24*D24 -> 210
A25: Seeding with Grass Drill $232.00/Acre | C25: 232 | D25: 1 | E25: =C25*D25 -> 232
A26: Mulch and Crimp Straw @ 2 tons/acre $1058/Acre | C26: 1058 | D26: 1 | E26: =C26*D26 -> 1058
A27: %25 Failure rate replacement seeding $110/Acre (no additional mulch) | C27: 110 | D27: 1 | E27: =C27*D27 -> 110
A28: Site Soil Testing- $414.00/sample | C28: 414 | D28: 1 | E28: =C28*D28 -> 414
A29: PID Testing ($.50/ft for lines) | C29: 0.5 | D29: 100 | E29: =C29*D29 -> 50
A30: ($150.00 each for tank and/or pad) | C30: 150 | D30: 1 | E30: =C30*D30 -> 150
A31: Straw Wattles ($2.00/linear foot installed) | C31: 2 | D31: 208 | E31: =C31*D31 -> 416
A32: or $416/ac based on 208 feet along lowest side) | C32: 416 | E32: =C32*D32 -> 0
A33: Stormwater Inspection, Weed Spraying, Mowing | E33: 2000
A36: Total Direct Costs | E36: =SUM(E6:E35) -> 12790.5
A37: Mobilization/Demobilization | E37: 630
A39: Total Financial Warranty | E39: =SUM(E36:E38) -> 13420.5
A42: Notes:
A43: Road Length (ft): | B43: 927
A44: Initial Area of Disturbance (ac): | B44: 0.68
A45: Remaining Area of Disturbance (ac): | B45: 0.43
A46: Soil Type: | B46: Rocky Ford Clay Loam
A47: Salt Kill Considerations: | B47: No
A48: High Priority Habitat: | B48: No
A49: Rangeland or Cropland: | B49: Crop

Sheet SNIFF #D-1
A1: Strachan Exploration, Inc. Financial Assurance Warranty Calculation
A2: SNIFF #D-1
A4: Reclamation Task and Quantity
C5: Unit cost | D5: # of units | E5: Item totals
A6: Equipment Removal (not completed with Plugging and Abandonment) | E6: =C6*D6 -> 0
A7: Tank removal @ $1,500.00/Tank | C7: 1500 | D7: 1 | E7: =C7*D7 -> 1500
A8: Pit reclamation | E8: =C8*D8 -> 0
A9: Liner Removal | E9: =C9*D9 -> 0
A10: Backfilling- Bobcat S86 Skid Steer Loader-$125.00/hr | C10: 125 | E10: =C10*D10 -> 0
A11: Misc | E11: =C11*D11 -> 0
A12: Road Reclamation (Using Road Grader) Total linear feet | C12: 1 | D12: 6717 | E12: =C12*D12 -> 6717
A13: $300/Hour to re-grade and rip road (300 feet/hr or $1.00/linear foot) | E13: =C13*D13 -> 0
A14: Rip and Re-Grade Site (not including roads) Acres Total | D14: 0.18 | E14: =C14*D14 -> 0
A15: Bobcat S86-$125.00/hour @ 1/2 acre/hour=$250/ac | C15: 250 | E15: =C15*D15 -> 0
A16: Topsoil Replacement -Import and re-spread topsoil @ 4 inches deep | E16: =C16*D16 -> 0
A17: Grading cost =$250/ac | C17: 250 | D17: 0.18 | E17: =C17*D17 -> 45
A18: 27 loads (20yds/load) @ $600/load=$16,200.00/Acre | C18: 16200 | D18: 0.18 | E18: =C18*D18 -> 2916
A19: Topsoil Preparation (minimum of 1 acre) | E19: =C19*D19 -> 0
A20: Spread Cow Manure as Soil Amendment (20 Tons/Acre@ $50 acre) | C20: 50 | D20: 2.5 | E20: =C20*D20 -> 125
A21: Disc to incorporate on 1 acres ($50.00/Acre) | C21: 50 | D21: 2.5 | E21: =C21*D21 -> 125
A22: Drag Harrow to firm up seed bed on 1 acres ($50.00/Acre) | C22: 50 | D22: 2.5 | E22: =C22*D22 -> 125
A23: Seeding (minimum of 1 acre which includes road) | E23: =C23*D23 -> 0
A24: Seed Cost $14.00/lb @ 15 lbs/acre ($210/Acre) | C24: 210 | D24: 2.5 | E24: =C24*D24 -> 525
A25: Seeding with Grass Drill $232.00/Acre | C25: 232 | D25: 2.5 | E25: =C25*D25 -> 580
A26: Mulch and Crimp Straw @ 2 tons/acre $1058/Acre | C26: 1058 | D26: 2.5 | E26: =C26*D26 -> 2645
A27: %25 Failure rate replacement seeding $110/Acre (no additional mulch) | C27: 110 | D27: 2.5 | E27: =C27*D27 -> 275
A28: Site Soil Testing- $414.00/sample | C28: 414 | D28: 1 | E28: =C28*D28 -> 414
A29: PID Testing ($.50/ft for lines) | C29: 0.5 | D29: 6717 | E29: =C29*D29 -> 3358.5
A30: ($150.00 each for tank and/or pad) | C30: 150 | D30: 2 | E30: =C30*D30 -> 300
A31: Straw Wattles ($2.00/linear foot installed) | C31: 2 | D31: 208 | E31: =C31*D31 -> 416
A32: or $416/ac based on 208 feet along lowest side) | C32: 416 | E32: =C32*D32 -> 0
A33: Stormwater Inspection, Weed Spraying, Mowing | E33: 2000
A36: Total Direct Costs | E36: =SUM(E6:E35) -> 22066.5
A37: Mobilization/Demobilization | E37: 630
A39: Total Financial Warranty | E39: =SUM(E36:E38) -> 22696.5
A42: Notes:
A43: Road Length (ft): | B43: 6717
A44: Initial Area of Disturbance (ac): | B44: 0.68
A45: Remaining Area of Disturbance (ac): | B45: 0.18
A46: Soil Type: | B46: Tivoli Dune
A47: Salt Kill Considerations: | B47: No
A48: High Priority Habitat: | B48: No
A49: Rangeland or Cropland: | B49: Range

Sheet STATE G #1
A1: Strachan Exploration, Inc. Financial Assurance Warranty Calculation
A2: STATE G #1 OOS
A4: Reclamation Task and Quantity
C5: Unit cost | D5: # of units | E5: Item totals
A6: Equipment Removal (not completed with Plugging and Abandonment) | E6: =C6*D6 -> 0
A7: Tank removal @ $1,500.00/Tank | E7: =C7*D7 -> 0
A8: Pit reclamation | E8: =C8*D8 -> 0
A9: Liner Removal | E9: =C9*D9 -> 0
A10: Backfilling- Bobcat S86 Skid Steer Loader-$125.00/hr | C10: 125 | E10: =C10*D10 -> 0
A11: Misc | E11: =C11*D11 -> 0
A12: Road Reclamation (Using Road Grader) Total linear feet | C12: 1 | D12: 1299 | E12: =C12*D12 -> 1299
A13: $300/Hour to re-grade and rip road (300 feet/hr or $1.00/linear foot) | E13: =C13*D13 -> 0
A14: Rip and Re-Grade Site (not including roads) Acres Total | D14: 0.1 | E14: =C14*D14 -> 0
A15: Bobcat S86-$125.00/hour @ 1/2 acre/hour=$250/ac | C15: 250 | E15: =C15*D15 -> 0
A16: Topsoil Replacement -Import and re-spread topsoil @ 4 inches deep | E16: =C16*D16 -> 0
A17: Grading cost =$250/ac | C17: 250 | D17: 0.1 | E17: =C17*D17 -> 25
A18: 27 loads (20yds/load) @ $600/load=$16,200.00/Acre | C18: 16200 | D18: 0.1 | E18: =C18*D18 -> 1620
A19: Topsoil Preparation (minimum of 1 acre) | E19: =C19*D19 -> 0
A20: Spread Cow Manure as Soil Amendment (20 Tons/Acre@ $50 acre) | C20: 50 | D20: 1 | E20: =C20*D20 -> 50
A21: Disc to incorporate on 1 acres ($50.00/Acre) | C21: 50 | D21: 1 | E21: =C21*D21 -> 50
A22: Drag Harrow to firm up seed bed on 1 acres ($50.00/Acre) | C22: 50 | D22: 1 | E22: =C22*D22 -> 50
A23: Seeding (minimum of 1 acre which includes road) | E23: =C23*D23 -> 0
A24: Seed Cost $14.00/lb @ 15 lbs/acre ($210/Acre) | C24: 210 | D24: 1 | E24: =C24*D24 -> 210
A25: Seeding with Grass Drill $232.00/Acre | C25: 232 | D25: 1 | E25: =C25*D25 -> 232
A26: Mulch and Crimp Straw @ 2 tons/acre $1058/Acre | C26: 1058 | D26: 1 | E26: =C26*D26 -> 1058
A27: %25 Failure rate replacement seeding $110/Acre (no additional mulch) | C27: 110 | D27: 1 | E27: =C27*D27 -> 110
A28: Site Soil Testing- $414.00/sample | C28: 414 | D28: 1 | E28: =C28*D28 -> 414
A29: PID Testing ($.50/ft for lines) | C29: 0.5 | D29: 1299 | E29: =C29*D29 -> 649.5
A30: ($150.00 each for tank and/or pad) | C30: 150 | D30: 1 | E30: =C30*D30 -> 150
A31: Straw Wattles ($2.00/linear foot installed) | C31: 2 | D31: 208 | E31: =C31*D31 -> 416
A32: or $416/ac based on 208 feet along lowest side) | C32: 416 | E32: =C32*D32 -> 0
A33: Stormwater Inspection, Weed Spraying, Mowing | E33: 2000
A36: Total Direct Costs | E36: =SUM(E6:E35) -> 8333.5
A37: Mobilization/Demobilization | E37: 630
A39: Total Financial Warranty | E39: =SUM(E36:E38) -> 8963.5
A42: Notes:
A43: Road Length (ft): | B43: 1299
A44: Initial Area of Disturbance (ac): | B44: 0.35
A45: Remaining Area of Disturbance (ac): | B45: 0.1
A46: Soil Type: | B46: Rocky Ford Clay Loam
A47: Salt Kill Considerations: | B47: No
A48: High Priority Habitat: | B48: No
A49: Rangeland or Cropland: | B49: Crop

Sheet STATE #1-14
A1: Strachan Exploration, Inc. Financial Assurance Warranty Calculation
A2: STATE #1-14
A4: Reclamation Task and Quantity
C5: Unit cost | D5: # of units | E5: Item totals
A6: Equipment Removal (not completed with Plugging and Abandonment) | E6: =C6*D6 -> 0
A7: Tank removal @ $1,500.00/Tank | C7: 1500 | D7: 1 | E7: =C7*D7 -> 1500
A8: Pit reclamation | E8: =C8*D8 -> 0
A9: Liner Removal | E9: =C9*D9 -> 0
A10: Backfilling- Bobcat S86 Skid Steer Loader-$125.00/hr | C10: 125 | E10: =C10*D10 -> 0
A11: Misc | E11: =C11*D11 -> 0
A12: Road Reclamation (Using Road Grader) Total linear feet | C12: 1 | D12: 5870 | E12: =C12*D12 -> 5870
A13: $300/Hour to re-grade and rip road (300 feet/hr or $1.00/linear foot) | E13: =C13*D13 -> 0
A14: Rip and Re-Grade Site (not including roads) Acres Total | D14: 0.46 | E14: =C14*D14 -> 0
A15: Bobcat S86-$125.00/hour @ 1/2 acre/hour=$250/ac | C15: 250 | E15: =C15*D15 -> 0
A16: Topsoil Replacement -Import and re-spread topsoil @ 4 inches deep | E16: =C16*D16 -> 0
A17: Grading cost =$250/ac | C17: 250 | D17: 0.46 | E17: =C17*D17 -> 115
A18: 27 loads (20yds/load) @ $600/load=$16,200.00/Acre | C18: 16200 | D18: 0.46 | E18: =C18*D18 -> 7452
A19: Topsoil Preparation (minimum of 1 acre) | E19: =C19*D19 -> 0
A20: Spread Cow Manure as Soil Amendment (20 Tons/Acre@ $50 acre) | C20: 50 | D20: 2.48 | E20: =C20*D20 -> 124
A21: Disc to incorporate on 1 acres ($50.00/Acre) | C21: 50 | D21: 2.48 | E21: =C21*D21 -> 124
A22: Drag Harrow to firm up seed bed on 1 acres ($50.00/Acre) | C22: 50 | D22: 2.48 | E22: =C22*D22 -> 124
A23: Seeding (minimum of 1 acre which includes road) | E23: =C23*D23 -> 0
A24: Seed Cost $14.00/lb @ 15 lbs/acre ($210/Acre) | C24: 210 | D24: 2.48 | E24: =C24*D24 -> 520.8
A25: Seeding with Grass Drill $232.00/Acre | C25: 232 | D25: 2.48 | E25: =C25*D25 -> 575.36
A26: Mulch and Crimp Straw @ 2 tons/acre $1058/Acre | C26: 1058 | D26: 2.48 | E26: =C26*D26 -> 2623.84
A27: %25 Failure rate replacement seeding $110/Acre (no additional mulch) | C27: 110 | D27: 2.48 | E27: =C27*D27 -> 272.8
A28: Site Soil Testing- $414.00/sample | C28: 414 | D28: 1 | E28: =C28*D28 -> 414
A29: PID Testing ($.50/ft for lines) | C29: 0.5 | D29: 150 | E29: =C29*D29 -> 75
A30: ($150.00 each for tank and/or pad) | C30: 150 | D30: 2 | E30: =C30*D30 -> 300
A31: Straw Wattles ($2.00/linear foot installed) | C31: 2 | D31: 208 | E31: =C31*D31 -> 416
A32: or $416/ac based on 208 feet along lowest side) | C32: 416 | E32: =C32*D32 -> 0
A33: Stormwater Inspection, Weed Spraying, Mowing | E33: 2000
A36: Total Direct Costs | E36: =SUM(E6:E35) -> 22506.8
A37: Mobilization/Demobilization | E37: 630
A39: Total Financial Warranty | E39: =SUM(E36:E38) -> 23136.8
A42: Notes:
A43: Road Length (ft): | B43: 5870
A44: Initial Area of Disturbance (ac): | B44: 1.02
A45: Remaining Area of Disturbance (ac): | B45: 0.46
A46: Soil Type: | B46: Wiley Silt Loam
A47: Salt Kill Considerations: | B47: No
A48: High Priority Habitat: | B48: MDeerSWR
A49: Rangeland or Cropland: | B49: Crop

Sheet STATE #2-14
A1: Strachan Exploration, Inc. Financial Assurance Warranty Calculation
A2: STATE #2-14
A4: Reclamation Task and Quantity
C5: Unit cost | D5: # of units | E5: Item totals
A6: Equipment Removal (not completed with Plugging and Abandonment) | E6: =C6*D6 -> 0
A7: Tank removal @ $1,500.00/Tank | C7: 1500 | D7: 1 | E7: =C7*D7 -> 1500
A8: Pit reclamation | E8: =C8*D8 -> 0
A9: Liner Removal | E9: =C9*D9 -> 0
A10: Backfilling- Bobcat S86 Skid Steer Loader-$125.00/hr | C10: 125 | E10: =C10*D10 -> 0
A11: Misc | E11: =C11*D11 -> 0
A12: Road Reclamation (Using Road Grader) Total linear feet | C12: 1 | D12: 4332 | E12: =C12*D12 -> 4332
A13: $300/Hour to re-grade and rip road (300 feet/hr or $1.00/linear foot) | E13: =C13*D13 -> 0
A14: Rip and Re-Grade Site (not including roads) Acres Total | D14: 0.21 | E14: =C14*D14 -> 0
A15: Bobcat S86-$125.00/hour @ 1/2 acre/hour=$250/ac | C15: 250 | E15: =C15*D15 -> 0
A16: Topsoil Replacement -Import and re-spread topsoil @ 4 inches deep | E16: =C16*D16 -> 0
A17: Grading cost =$250/ac | C17: 250 | D17: 0.21 | E17: =C17*D17 -> 52.5
A18: 27 loads (20yds/load) @ $600/load=$16,200.00/Acre | C18: 16200 | D18: 0.21 | E18: =C18*D18 -> 3402
A19: Topsoil Preparation (minimum of 1 acre) | E19: =C19*D19 -> 0
A20: Spread Cow Manure as Soil Amendment (20 Tons/Acre@ $50 acre) | C20: 50 | D20: 1.7 | E20: =C20*D20 -> 85
A21: Disc to incorporate on 1 acres ($50.00/Acre) | C21: 50 | D21: 1.7 | E21: =C21*D21 -> 85
A22: Drag Harrow to firm up seed bed on 1 acres ($50.00/Acre) | C22: 50 | D22: 1.7 | E22: =C22*D22 -> 85
A23: Seeding (minimum of 1 acre which includes road) | E23: =C23*D23 -> 0
A24: Seed Cost $14.00/lb @ 15 lbs/acre ($210/Acre) | C24: 210 | D24: 1.7 | E24: =C24*D24 -> 357
A25: Seeding with Grass Drill $232.00/Acre | C25: 232 | D25: 1.7 | E25: =C25*D25 -> 394.4
A26: Mulch and Crimp Straw @ 2 tons/acre $1058/Acre | C26: 1058 | D26: 1.7 | E26: =C26*D26 -> 1798.6
A27: %25 Failure rate replacement seeding $110/Acre (no additional mulch) | C27: 110 | D27: 1.7 | E27: =C27*D27 -> 187
A28: Site Soil Testing- $414.00/sample | C28: 414 | D28: 1 | E28: =C28*D28 -> 414
A29: PID Testing ($.50/ft for lines) | C29: 0.5 | D29: 60 | E29: =C29*D29 -> 30
A30: ($150.00 each for tank and/or pad) | C30: 150 | D30: 2 | E30: =C30*D30 -> 300
A31: Straw Wattles ($2.00/linear foot installed) | C31: 2 | D31: 208 | E31: =C31*D31 -> 416
A32: or $416/ac based on 208 feet along lowest side) | C32: 416 | E32: =C32*D32 -> 0
A33: Stormwater Inspection, Weed Spraying, Mowing | E33: 2000
A36: Total Direct Costs | E36: =SUM(E6:E35) -> 15438.5
A37: Mobilization/Demobilization | E37: 630
A39: Total Financial Warranty | E39: =SUM(E36:E38) -> 16068.5
A42: Notes:
A43: Road Length (ft): | B43: 4332
A44: Initial Area of Disturbance (ac): | B44: 0.81
A45: Remaining Area of Disturbance (ac): | B45: 0.21
A46: Soil Type: | B46: Colby Silt Loam
A47: Salt Kill Considerations: | B47: No
A48: High Priority Habitat: | B48: MDeerSWR
A49: Rangeland or Cropland: | B49: Crop

Sheet WAGON TRAIL GATHERING SYSTEM # 
A1: Strachan Exploration, Inc. Financial Assurance Warranty Calculation
A2: WAGON TRAIL GATHERING SYSTEM #
A4: Reclamation Task and Quantity
C5: Unit cost | D5: # of units | E5: Item totals
A6: Equipment Removal (not completed with Plugging and Abandonment) | E6: =C6*D6 -> 0
A7: Tank removal @ $1,500.00/Tank | C7: 1500 | D7: 3 | E7: =C7*D7 -> 4500
A8: Pit reclamation | E8: =C8*D8 -> 0
A9: Liner Removal | E9: =C9*D9 -> 0
A10: Backfilling- Bobcat S86 Skid Steer Loader-$125.00/hr | C10: 125 | E10: =C10*D10 -> 0
A11: Misc | E11: =C11*D11 -> 0
A12: Road Reclamation (Using Road Grader) Total linear feet | C12: 1 | E12: =C12*D12 -> 0
A13: $300/Hour to re-grade and rip road (300 feet/hr or $1.00/linear foot) | E13: =C13*D13 -> 0
A14: Rip and Re-Grade Site (not including roads) Acres Total | D14: 0.67 | E14: =C14*D14 -> 0
A15: Bobcat S86-$125.00/hour @ 1/2 acre/hour=$250/ac | C15: 250 | E15: =C15*D15 -> 0
A16: Topsoil Replacement -Import and re-spread topsoil @ 4 inches deep | E16: =C16*D16 -> 0
A17: Grading cost =$250/ac | C17: 250 | D17: 0.67 | E17: =C17*D17 -> 167.5
A18: 27 loads (20yds/load) @ $600/load=$16,200.00/Acre | C18: 16200 | D18: 0.67 | E18: =C18*D18 -> 10854
A19: Topsoil Preparation (minimum of 1 acre) | E19: =C19*D19 -> 0
A20: Spread Cow Manure as Soil Amendment (20 Tons/Acre@ $50 acre) | C20: 50 | D20: 1 | E20: =C20*D20 -> 50
A21: Disc to incorporate on 1 acres ($50.00/Acre) | C21: 50 | D21: 1 | E21: =C21*D21 -> 50
A22: Drag Harrow to firm up seed bed on 1 acres ($50.00/Acre) | C22: 50 | D22: 1 | E22: =C22*D22 -> 50
A23: Seeding (minimum of 1 acre which includes road) | E23: =C23*D23 -> 0
A24: Seed Cost $14.00/lb @ 15 lbs/acre ($210/Acre) | C24: 210 | D24: 1 | E24: =C24*D24 -> 210
A25: Seeding with Grass Drill $232.00/Acre | C25: 232 | D25: 1 | E25: =C25*D25 -> 232
A26: Mulch and Crimp Straw @ 2 tons/acre $1058/Acre | C26: 1058 | D26: 1 | E26: =C26*D26 -> 1058
A27: %25 Failure rate replacement seeding $110/Acre (no additional mulch) | C27: 110 | D27: 1 | E27: =C27*D27 -> 110
A28: Site Soil Testing- $414.00/sample | C28: 414 | D28: 1 | E28: =C28*D28 -> 414
A29: PID Testing ($.50/ft for lines) | C29: 0.5 | D29: 300 | E29: =C29*D29 -> 150
A30: ($150.00 each for tank and/or pad) | C30: 150 | D30: 4 | E30: =C30*D30 -> 600
A31: Straw Wattles ($2.00/linear foot installed) | C31: 2 | D31: 208 | E31: =C31*D31 -> 416
A32: or $416/ac based on 208 feet along lowest side) | C32: 416 | E32: =C32*D32 -> 0
A33: Stormwater Inspection, Weed Spraying, Mowing | E33: 2000
A36: Total Direct Costs | E36: =SUM(E6:E35) -> 20861.5
A37: Mobilization/Demobilization | E37: 630
A39: Total Financial Warranty | E39: =SUM(E36:E38) -> 21491.5
A42: Notes: | B42: There is a plant with a 225HHP compressor and separation equipment
A43: Road Length (ft): | B43: 798
A44: Initial Area of Disturbance (ac): | B44: 1.13
A45: Remaining Area of Disturbance (ac): | B45: 0.67
A46: Soil Type:
A47: Salt Kill Considerations: | B47: No
A48: High Priority Habitat: | B48: No
A49: Rangeland or Cropland: | B49: Range

Sheet WOLLERT #1
A1: Strachan Exploration, Inc. Financial Assurance Warranty Calculation
A2: WOLLERT #1
A4: Reclamation Task and Quantity
C5: Unit cost | D5: # of units | E5: Item totals
A6: Equipment Removal (not completed with Plugging and Abandonment) | E6: =C6*D6 -> 0
A7: Tank removal @ $1,500.00/Tank | C7: 1500 | D7: 1 | E7: =C7*D7 -> 1500
A8: Pit reclamation | E8: =C8*D8 -> 0
A9: Liner Removal | E9: =C9*D9 -> 0
A10: Backfilling- Bobcat S86 Skid Steer Loader-$125.00/hr | C10: 125 | E10: =C10*D10 -> 0
A11: Misc | E11: =C11*D11 -> 0
A12: Road Reclamation (Using Road Grader) Total linear feet | C12: 1 | D12: 1918 | E12: =C12*D12 -> 1918
A13: $300/Hour to re-grade and rip road (300 feet/hr or $1.00/linear foot) | E13: =C13*D13 -> 0
A14: Rip and Re-Grade Site (not including roads) Acres Total | D14: 0.79 | E14: =C14*D14 -> 0
A15: Bobcat S86-$125.00/hour @ 1/2 acre/hour=$250/ac | C15: 250 | E15: =C15*D15 -> 0
A16: Topsoil Replacement -Import and re-spread topsoil @ 4 inches deep | E16: =C16*D16 -> 0
A17: Grading cost =$250/ac | C17: 250 | D17: 0.79 | E17: =C17*D17 -> 197.5
A18: 27 loads (20yds/load) @ $600/load=$16,200.00/Acre | C18: 16200 | D18: 0.79 | E18: =C18*D18 -> 12798
A19: Topsoil Preparation (minimum of 1 acre) | E19: =C19*D19 -> 0
A20: Spread Cow Manure as Soil Amendment (20 Tons/Acre@ $50 acre) | C20: 50 | D20: 1.5 | E20: =C20*D20 -> 75
A21: Disc to incorporate on 1 acres ($50.00/Acre) | C21: 50 | D21: 1.5 | E21: =C21*D21 -> 75
A22: Drag Harrow to firm up seed bed on 1 acres ($50.00/Acre) | C22: 50 | D22: 1.5 | E22: =C22*D22 -> 75
A23: Seeding (minimum of 1 acre which includes road) | E23: =C23*D23 -> 0
A24: Seed Cost $14.00/lb @ 15 lbs/acre ($210/Acre) | C24: 210 | D24: 1.5 | E24: =C24*D24 -> 315
A25: Seeding with Grass Drill $232.00/Acre | C25: 232 | D25: 1.5 | E25: =C25*D25 -> 348
A26: Mulch and Crimp Straw @ 2 tons/acre $1058/Acre | C26: 1058 | D26: 1.5 | E26: =C26*D26 -> 1587
A27: %25 Failure rate replacement seeding $110/Acre (no additional mulch) | C27: 110 | D27: 1.5 | E27: =C27*D27 -> 165
A28: Site Soil Testing- $414.00/sample | C28: 414 | D28: 1 | E28: =C28*D28 -> 414
A29: PID Testing ($.50/ft for lines) | C29: 0.5 | D29: 120 | E29: =C29*D29 -> 60
A30: ($150.00 each for tank and/or pad) | C30: 150 | D30: 2 | E30: =C30*D30 -> 300
A31: Straw Wattles ($2.00/linear foot installed) | C31: 2 | D31: 208 | E31: =C31*D31 -> 416
A32: or $416/ac based on 208 feet along lowest side) | C32: 416 | E32: =C32*D32 -> 0
A33: Stormwater Inspection, Weed Spraying, Mowing | E33: 2000
A36: Total Direct Costs | E36: =SUM(E6:E35) -> 22243.5
A37: Mobilization/Demobilization | E37: 630
A39: Total Financial Warranty | E39: =SUM(E36:E38) -> 22873.5
A42: Notes:
A43: Road Length (ft): | B43: 1918
A44: Initial Area of Disturbance (ac): | B44: 1.73
A45: Remaining Area of Disturbance (ac): | B45: 0.79
A46: Soil Type: | B46: Wiley Silt Loam
A47: Salt Kill Considerations: | B47: No
A48: High Priority Habitat: | B48: No
A49: Rangeland or Cropland: | B49: Range

Sheet WOLLERT D #1
A1: Strachan Exploration, Inc. Financial Assurance Warranty Calculation
A2: WOLLERT D #1 OOS
A4: Reclamation Task and Quantity
C5: Unit cost | D5: # of units | E5: Item totals
A6: Equipment Removal (not completed with Plugging and Abandonment) | E6: =C6*D6 -> 0
A7: Tank removal @ $1,500.00/Tank | E7: =C7*D7 -> 0
A8: Pit reclamation | E8: =C8*D8 -> 0
A9: Liner Removal | E9: =C9*D9 -> 0
A10: Backfilling- Bobcat S86 Skid Steer Loader-$125.00/hr | C10: 125 | E10: =C10*D10 -> 0
A11: Misc | E11: =C11*D11 -> 0
A12: Road Reclamation (Using Road Grader) Total linear feet | C12: 1 | D12: 797 | E12: =C12*D12 -> 797
A13: $300/Hour to re-grade and rip road (300 feet/hr or $1.00/linear foot) | E13: =C13*D13 -> 0
A14: Rip and Re-Grade Site (not including roads) Acres Total | D14: 0.1 | E14: =C14*D14 -> 0
A15: Bobcat S86-$125.00/hour @ 1/2 acre/hour=$250/ac | C15: 250 | E15: =C15*D15 -> 0
A16: Topsoil Replacement -Import and re-spread topsoil @ 4 inches deep | E16: =C16*D16 -> 0
A17: Grading cost =$250/ac | C17: 250 | D17: 0.1 | E17: =C17*D17 -> 25
A18: 27 loads (20yds/load) @ $600/load=$16,200.00/Acre | C18: 16200 | D18: 0.1 | E18: =C18*D18 -> 1620
A19: Topsoil Preparation (minimum of 1 acre) | E19: =C19*D19 -> 0
A20: Spread Cow Manure as Soil Amendment (20 Tons/Acre@ $50 acre) | C20: 50 | D20: 1 | E20: =C20*D20 -> 50
A21: Disc to incorporate on 1 acres ($50.00/Acre) | C21: 50 | D21: 1 | E21: =C21*D21 -> 50
A22: Drag Harrow to firm up seed bed on 1 acres ($50.00/Acre) | C22: 50 | D22: 1 | E22: =C22*D22 -> 50
A23: Seeding (minimum of 1 acre which includes road) | E23: =C23*D23 -> 0
A24: Seed Cost $14.00/lb @ 15 lbs/acre ($210/Acre) | C24: 210 | D24: 1 | E24: =C24*D24 -> 210
A25: Seeding with Grass Drill $232.00/Acre | C25: 232 | D25: 1 | E25: =C25*D25 -> 232
A26: Mulch and Crimp Straw @ 2 tons/acre $1058/Acre | C26: 1058 | D26: 1 | E26: =C26*D26 -> 1058
A27: %25 Failure rate replacement seeding $110/Acre (no additional mulch) | C27: 110 | D27: 1 | E27: =C27*D27 -> 110
A28: Site Soil Testing- $414.00/sample | C28: 414 | D28: 1 | E28: =C28*D28 -> 414
A29: PID Testing ($.50/ft for lines) | C29: 0.5 | D29: 797 | E29: =C29*D29 -> 398.5
A30: ($150.00 each for tank and/or pad) | C30: 150 | D30: 1 | E30: =C30*D30 -> 150
A31: Straw Wattles ($2.00/linear foot installed) | C31: 2 | D31: 208 | E31: =C31*D31 -> 416
A32: or $416/ac based on 208 feet along lowest side) | C32: 416 | E32: =C32*D32 -> 0
A33: Stormwater Inspection, Weed Spraying, Mowing | E33: 2000
A36: Total Direct Costs | E36: =SUM(E6:E35) -> 7580.5
A37: Mobilization/Demobilization | E37: 630
A39: Total Financial Warranty | E39: =SUM(E36:E38) -> 8210.5
A42: Notes:
A43: Road Length (ft): | B43: 797
A44: Initial Area of Disturbance (ac): | B44: 0.38
A45: Remaining Area of Disturbance (ac): | B45: 0.01
A46: Soil Type: | B46: Rocky Ford Clay Loam
A47: Salt Kill Considerations: | B47: No
A48: High Priority Habitat: | B48: MDeerSWR
A49: Rangeland or Cropland: | B49: Crop

Sheet FRAZEE #2-6
A1: Strachan Exploration, Inc. Financial Assurance Warranty Calculation
A2: FRAZEE #2-6
A4: Reclamation Task and Quantity
C5: Unit cost | D5: # of units | E5: Item totals
A6: Equipment Removal (not completed with Plugging and Abandonment) | E6: =C6*D6 -> 0
A7: Tank removal @ $1,500.00/Tank | C7: 1500 | D7: 3 | E7: =C7*D7 -> 4500
A8: Pit reclamation | E8: =C8*D8 -> 0
A9: Liner Removal | E9: =C9*D9 -> 0
A10: Backfilling- Bobcat S86 Skid Steer Loader-$125.00/hr | C10: 125 | E10: =C10*D10 -> 0
A11: Misc | E11: =C11*D11 -> 0
A12: Road Reclamation (Using Road Grader) Total linear feet | C12: 1 | D12: 699 | E12: =C12*D12 -> 699
A13: $300/Hour to re-grade and rip road (300 feet/hr or $1.00/linear foot) | E13: =C13*D13 -> 0
A14: Rip and Re-Grade Site (not including roads) Acres Total | D14: 1.32 | E14: =C14*D14 -> 0
A15: Bobcat S86-$125.00/hour @ 1/2 acre/hour=$250/ac | C15: 250 | E15: =C15*D15 -> 0
A16: Topsoil Replacement -Import and re-spread topsoil @ 4 inches deep | E16: =C16*D16 -> 0
A17: Grading cost =$250/ac | C17: 250 | D17: 1.32 | E17: =C17*D17 -> 330
A18: 27 loads (20yds/load) @ $600/load=$16,200.00/Acre | C18: 16200 | D18: 1.32 | E18: =C18*D18 -> 21384
A19: Topsoil Preparation (minimum of 1 acre) | E19: =C19*D19 -> 0
A20: Spread Cow Manure as Soil Amendment (20 Tons/Acre@ $50 acre) | C20: 50 | D20: 1.55 | E20: =C20*D20 -> 77.5
A21: Disc to incorporate on 1 acres ($50.00/Acre) | C21: 50 | D21: 1.55 | E21: =C21*D21 -> 77.5
A22: Drag Harrow to firm up seed bed on 1 acres ($50.00/Acre) | C22: 50 | D22: 1.55 | E22: =C22*D22 -> 77.5
A23: Seeding (minimum of 1 acre which includes road) | E23: =C23*D23 -> 0
A24: Seed Cost $14.00/lb @ 15 lbs/acre ($210/Acre) | C24: 210 | D24: 1.55 | E24: =C24*D24 -> 325.5
A25: Seeding with Grass Drill $232.00/Acre | C25: 232 | D25: 1.55 | E25: =C25*D25 -> 359.6
A26: Mulch and Crimp Straw @ 2 tons/acre $1058/Acre | C26: 1058 | D26: 1.55 | E26: =C26*D26 -> 1639.9
A27: %25 Failure rate replacement seeding $110/Acre (no additional mulch) | C27: 110 | D27: 1.55 | E27: =C27*D27 -> 170.5
A28: Site Soil Testing- $414.00/sample | C28: 414 | D28: 1 | E28: =C28*D28 -> 414
A29: PID Testing ($.50/ft for lines) | C29: 0.5 | D29: 200 | E29: =C29*D29 -> 100
A30: ($150.00 each for tank and/or pad) | C30: 150 | D30: 4 | E30: =C30*D30 -> 600
A31: Straw Wattles ($2.00/linear foot installed) | C31: 2 | D31: 208 | E31: =C31*D31 -> 416
A32: or $416/ac based on 208 feet along lowest side) | C32: 416 | E32: =C32*D32 -> 0
A33: Stormwater Inspection, Weed Spraying, Mowing | E33: 2000
A36: Total Direct Costs | E36: =SUM(E6:E35) -> 33171
A37: Mobilization/Demobilization | E37: 630
A39: Total Financial Warranty | E39: =SUM(E36:E38) -> 33801
A42: Notes:
A43: Road Length (ft): | B43: 699
A44: Initial Area of Disturbance (ac): | B44: 2.97
A45: Remaining Area of Disturbance (ac): | B45: 1.32
A46: Soil Type: | B46: Wiley Loam
A47: Salt Kill Considerations: | B47: No
A48: High Priority Habitat: | B48: No
A49: Rangeland or Cropland: | B49: Range

Sheet FRAZEE-BOLYARD #1-35
A1: Strachan Exploration, Inc. Financial Assurance Warranty Calculation
A2: FRAZEE-BOLYARD #1-35
A4: Reclamation Task and Quantity
C5: Unit cost | D5: # of units | E5: Item totals
A6: Equipment Removal (not completed with Plugging and Abandonment) | E6: =C6*D6 -> 0
A7: Tank removal @ $1,500.00/Tank | C7: 1500 | D7: 4 | E7: =C7*D7 -> 6000
A8: Pit reclamation | E8: =C8*D8 -> 0
A9: Liner Removal | E9: =C9*D9 -> 0
A10: Backfilling- Bobcat S86 Skid Steer Loader-$125.00/hr | C10: 125 | E10: =C10*D10 -> 0
A11: Misc | E11: =C11*D11 -> 0
A12: Road Reclamation (Using Road Grader) Total linear feet | C12: 1 | D12: 2183 | E12: =C12*D12 -> 2183
A13: $300/Hour to re-grade and rip road (300 feet/hr or $1.00/linear foot) | E13: =C13*D13 -> 0
A14: Rip and Re-Grade Site (not including roads) Acres Total | D14: 1 | E14: =C14*D14 -> 0
A15: Bobcat S86-$125.00/hour @ 1/2 acre/hour=$250/ac | C15: 250 | E15: =C15*D15 -> 0
A16: Topsoil Replacement -Import and re-spread topsoil @ 4 inches deep | E16: =C16*D16 -> 0
A17: Grading cost =$250/ac | C17: 250 | D17: 1 | E17: =C17*D17 -> 250
A18: 27 loads (20yds/load) @ $600/load=$16,200.00/Acre | C18: 16200 | D18: 1 | E18: =C18*D18 -> 16200
A19: Topsoil Preparation (minimum of 1 acre) | E19: =C19*D19 -> 0
A20: Spread Cow Manure as Soil Amendment (20 Tons/Acre@ $50 acre) | C20: 50 | D20: 1.75 | E20: =C20*D20 -> 87.5
A21: Disc to incorporate on 1 acres ($50.00/Acre) | C21: 50 | D21: 1.75 | E21: =C21*D21 -> 87.5
A22: Drag Harrow to firm up seed bed on 1 acres ($50.00/Acre) | C22: 50 | D22: 1.75 | E22: =C22*D22 -> 87.5
A23: Seeding (minimum of 1 acre which includes road) | E23: =C23*D23 -> 0
A24: Seed Cost $14.00/lb @ 15 lbs/acre ($210/Acre) | C24: 210 | D24: 1.75 | E24: =C24*D24 -> 367.5
A25: Seeding with Grass Drill $232.00/Acre | C25: 232 | D25: 1.75 | E25: =C25*D25 -> 406
A26: Mulch and Crimp Straw @ 2 tons/acre $1058/Acre | C26: 1058 | D26: 1.75 | E26: =C26*D26 -> 1851.5
A27: %25 Failure rate replacement seeding $110/Acre (no additional mulch) | C27: 110 | D27: 1.75 | E27: =C27*D27 -> 192.5
A28: Site Soil Testing- $414.00/sample | C28: 414 | D28: 1 | E28: =C28*D28 -> 414
A29: PID Testing ($.50/ft for lines) | C29: 0.5 | D29: 150 | E29: =C29*D29 -> 75
A30: ($150.00 each for tank and/or pad) | C30: 150 | D30: 5 | E30: =C30*D30 -> 750
A31: Straw Wattles ($2.00/linear foot installed) | C31: 2 | D31: 208 | E31: =C31*D31 -> 416
A32: or $416/ac based on 208 feet along lowest side) | C32: 416 | E32: =C32*D32 -> 0
A33: Stormwater Inspection, Weed Spraying, Mowing | E33: 2000
A36: Total Direct Costs | E36: =SUM(E6:E35) -> 31368
A37: Mobilization/Demobilization | E37: 630
A39: Total Financial Warranty | E39: =SUM(E36:E38) -> 31998
A42: Notes:
A43: Road Length (ft): | B43: 2183
A44: Initial Area of Disturbance (ac): | B44: 2.52
A45: Remaining Area of Disturbance (ac): | B45: 1
A46: Soil Type: | B46: Kim Harvey Stoneham Loam
A47: Salt Kill Considerations: | B47: No
A48: High Priority Habitat: | B48: No
A49: Rangeland or Cropland: | B49: Range

Sheet FRAZEE-BOLYARD #2-35-SWD
A1: Strachan Exploration, Inc. Financial Assurance Warranty Calculation
A2: FRAZEE-BOLYARD #2-35-SWD
A4: Reclamation Task and Quantity
C5: Unit cost | D5: # of units | E5: Item totals
A6: Equipment Removal (not completed with Plugging and Abandonment) | E6: =C6*D6 -> 0
A7: Tank removal @ $1,500.00/Tank | E7: =C7*D7 -> 0
A8: Pit reclamation | E8: =C8*D8 -> 0
A9: Liner Removal | E9: =C9*D9 -> 0
A10: Backfilling- Bobcat S86 Skid Steer Loader-$125.00/hr | C10: 125 | E10: =C10*D10 -> 0
A11: Misc | E11: =C11*D11 -> 0
A12: Road Reclamation (Using Road Grader) Total linear feet | C12: 1 | D12: 943 | E12: =C12*D12 -> 943
A13: $300/Hour to re-grade and rip road (300 feet/hr or $1.00/linear foot) | E13: =C13*D13 -> 0
A14: Rip and Re-Grade Site (not including roads) Acres Total | D14: 0.15 | E14: =C14*D14 -> 0
A15: Bobcat S86-$125.00/hour @ 1/2 acre/hour=$250/ac | C15: 250 | E15: =C15*D15 -> 0
A16: Topsoil Replacement -Import and re-spread topsoil @ 4 inches deep | E16: =C16*D16 -> 0
A17: Grading cost =$250/ac | C17: 250 | D17: 0.15 | E17: =C17*D17 -> 37.5
A18: 27 loads (20yds/load) @ $600/load=$16,200.00/Acre | C18: 16200 | D18: 0.15 | E18: =C18*D18 -> 2430
A19: Topsoil Preparation (minimum of 1 acre) | E19: =C19*D19 -> 0
A20: Spread Cow Manure as Soil Amendment (20 Tons/Acre@ $50 acre) | C20: 50 | D20: 1 | E20: =C20*D20 -> 50
A21: Disc to incorporate on 1 acres ($50.00/Acre) | C21: 50 | D21: 1 | E21: =C21*D21 -> 50
A22: Drag Harrow to firm up seed bed on 1 acres ($50.00/Acre) | C22: 50 | D22: 1 | E22: =C22*D22 -> 50
A23: Seeding (minimum of 1 acre which includes road) | E23: =C23*D23 -> 0
A24: Seed Cost $14.00/lb @ 15 lbs/acre ($210/Acre) | C24: 210 | D24: 1 | E24: =C24*D24 -> 210
A25: Seeding with Grass Drill $232.00/Acre | C25: 232 | D25: 1 | E25: =C25*D25 -> 232
A26: Mulch and Crimp Straw @ 2 tons/acre $1058/Acre | C26: 1058 | D26: 1 | E26: =C26*D26 -> 1058
A27: %25 Failure rate replacement seeding $110/Acre (no additional mulch) | C27: 110 | D27: 1 | E27: =C27*D27 -> 110
A28: Site Soil Testing- $414.00/sample | C28: 414 | D28: 1 | E28: =C28*D28 -> 414
A29: PID Testing ($.50/ft for lines) | C29: 0.5 | E29: =C29*D29 -> 0
A30: ($150.00 each for tank and/or pad) | C30: 150 | D30: 1 | E30: =C30*D30 -> 150
A31: Straw Wattles ($2.00/linear foot installed) | C31: 2 | D31: 208 | E31: =C31*D31 -> 416
A32: or $416/ac based on 208 feet along lowest side) | C32: 416 | E32: =C32*D32 -> 0
A33: Stormwater Inspection, Weed Spraying, Mowing | E33: 2000
A36: Total Direct Costs | E36: =SUM(E6:E35) -> 8150.5
A37: Mobilization/Demobilization | E37: 630
A39: Total Financial Warranty | E39: =SUM(E36:E38) -> 8780.5
A42: Notes:
A43: Road Length (ft): | B43: 943
A44: Initial Area of Disturbance (ac): | B44: 0.45
A45: Remaining Area of Disturbance (ac): | B45: 0.15
A46: Soil Type: | B46: Kim Stoneham Larimer Loam
A47: Salt Kill Considerations: | B47: No
A48: High Priority Habitat: | B48: No
A49: Rangeland or Cropland: | B49: Range

Sheet FRAZEE-B-14-2
A1: Strachan Exploration, Inc. Financial Assurance Warranty Calculation
A2: FRAZEE-BOLYARD 2-35 #
A4: Reclamation Task and Quantity
C5: Unit cost | D5: # of units | E5: Item totals
A6: Equipment Removal (not completed with Plugging and Abandonment) | E6: =C6*D6 -> 0
A7: Tank removal @ $1,500.00/Tank | C7: 1500 | D7: 1 | E7: =C7*D7 -> 1500
A8: Pit reclamation | E8: =C8*D8 -> 0
A9: Liner Removal | E9: =C9*D9 -> 0
A10: Backfilling- Bobcat S86 Skid Steer Loader-$125.00/hr | C10: 125 | E10: =C10*D10 -> 0
A11: Misc | E11: =C11*D11 -> 0
A12: Road Reclamation (Using Road Grader) Total linear feet | C12: 1 | D12: 2970 | E12: =C12*D12 -> 2970
A13: $300/Hour to re-grade and rip road (300 feet/hr or $1.00/linear foot) | E13: =C13*D13 -> 0
A14: Rip and Re-Grade Site (not including roads) Acres Total | D14: 0.12 | E14: =C14*D14 -> 0
A15: Bobcat S86-$125.00/hour @ 1/2 acre/hour=$250/ac | C15: 250 | E15: =C15*D15 -> 0
A16: Topsoil Replacement -Import and re-spread topsoil @ 4 inches deep | E16: =C16*D16 -> 0
A17: Grading cost =$250/ac | C17: 250 | D17: 0.12 | E17: =C17*D17 -> 30
A18: 27 loads (20yds/load) @ $600/load=$16,200.00/Acre | C18: 16200 | D18: 0.12 | E18: =C18*D18 -> 1944
A19: Topsoil Preparation (minimum of 1 acre) | E19: =C19*D19 -> 0
A20: Spread Cow Manure as Soil Amendment (20 Tons/Acre@ $50 acre) | C20: 50 | D20: 1 | E20: =C20*D20 -> 50
A21: Disc to incorporate on 1 acres ($50.00/Acre) | C21: 50 | D21: 1 | E21: =C21*D21 -> 50
A22: Drag Harrow to firm up seed bed on 1 acres ($50.00/Acre) | C22: 50 | D22: 1 | E22: =C22*D22 -> 50
A23: Seeding (minimum of 1 acre which includes road) | E23: =C23*D23 -> 0
A24: Seed Cost $14.00/lb @ 15 lbs/acre ($210/Acre) | C24: 210 | D24: 1 | E24: =C24*D24 -> 210
A25: Seeding with Grass Drill $232.00/Acre | C25: 232 | D25: 1 | E25: =C25*D25 -> 232
A26: Mulch and Crimp Straw @ 2 tons/acre $1058/Acre | C26: 1058 | D26: 1 | E26: =C26*D26 -> 1058
A27: %25 Failure rate replacement seeding $110/Acre (no additional mulch) | C27: 110 | D27: 1 | E27: =C27*D27 -> 110
A28: Site Soil Testing- $414.00/sample | C28: 414 | D28: 1 | E28: =C28*D28 -> 414
A29: PID Testing ($.50/ft for lines) | C29: 0.5 | D29: 100 | E29: =C29*D29 -> 50
A30: ($150.00 each for tank and/or pad) | C30: 150 | D30: 2 | E30: =C30*D30 -> 300
A31: Straw Wattles ($2.00/linear foot installed) | C31: 2 | D31: 208 | E31: =C31*D31 -> 416
A32: or $416/ac based on 208 feet along lowest side) | C32: 416 | E32: =C32*D32 -> 0
A33: Stormwater Inspection, Weed Spraying, Mowing | E33: 2000
A36: Total Direct Costs | E36: =SUM(E6:E35) -> 11384
A37: Mobilization/Demobilization | E37: 630
A39: Total Financial Warranty | E39: =SUM(E36:E38) -> 12014
A42: Notes:
A43: Road Length (ft): | B43: 2970
A44: Initial Area of Disturbance (ac): | B44: 0.4
A45: Remaining Area of Disturbance (ac): | B45: 0.12
A46: Soil Type: | B46: Stoneham Loam
A47: Salt Kill Considerations: | B47: No
A48: High Priority Habitat: | B48: No
A49: Rangeland or Cropland: | B49: Range

Sheet LAS ANIMAS #1-1
A1: Strachan Exploration, Inc. Financial Assurance Warranty Calculation
A2: LAS ANIMAS #1-1
A4: Reclamation Task and Quantity
C5: Unit cost | D5: # of units | E5: Item totals
A6: Equipment Removal (not completed with Plugging and Abandonment) | E6: =C6*D6 -> 0
A7: Tank removal @ $1,500.00/Tank | E7: =C7*D7 -> 0
A8: Pit reclamation | E8: =C8*D8 -> 0
A9: Liner Removal | E9: =C9*D9 -> 0
A10: Backfilling- Bobcat S86 Skid Steer Loader-$125.00/hr | C10: 125 | E10: =C10*D10 -> 0
A11: Misc | E11: =C11*D11 -> 0
A12: Road Reclamation (Using Road Grader) Total linear feet | C12: 1 | D12: 2006 | E12: =C12*D12 -> 2006
A13: $300/Hour to re-grade and rip road (300 feet/hr or $1.00/linear foot) | E13: =C13*D13 -> 0
A14: Rip and Re-Grade Site (not including roads) Acres Total | D14: 0.16 | E14: =C14*D14 -> 0
A15: Bobcat S86-$125.00/hour @ 1/2 acre/hour=$250/ac | C15: 250 | E15: =C15*D15 -> 0
A16: Topsoil Replacement -Import and re-spread topsoil @ 4 inches deep | E16: =C16*D16 -> 0
A17: Grading cost =$250/ac | C17: 250 | D17: 0.16 | E17: =C17*D17 -> 40
A18: 27 loads (20yds/load) @ $600/load=$16,200.00/Acre | C18: 16200 | D18: 0.16 | E18: =C18*D18 -> 2592
A19: Topsoil Preparation (minimum of 1 acre) | E19: =C19*D19 -> 0
A20: Spread Cow Manure as Soil Amendment (20 Tons/Acre@ $50 acre) | C20: 50 | D20: 1 | E20: =C20*D20 -> 50
A21: Disc to incorporate on 1 acres ($50.00/Acre) | C21: 50 | D21: 1 | E21: =C21*D21 -> 50
A22: Drag Harrow to firm up seed bed on 1 acres ($50.00/Acre) | C22: 50 | D22: 1 | E22: =C22*D22 -> 50
A23: Seeding (minimum of 1 acre which includes road) | E23: =C23*D23 -> 0
A24: Seed Cost $14.00/lb @ 15 lbs/acre ($210/Acre) | C24: 210 | D24: 1 | E24: =C24*D24 -> 210
A25: Seeding with Grass Drill $232.00/Acre | C25: 232 | D25: 1 | E25: =C25*D25 -> 232
A26: Mulch and Crimp Straw @ 2 tons/acre $1058/Acre | C26: 1058 | D26: 1 | E26: =C26*D26 -> 1058
A27: %25 Failure rate replacement seeding $110/Acre (no additional mulch) | C27: 110 | D27: 1 | E27: =C27*D27 -> 110
A28: Site Soil Testing- $414.00/sample | C28: 414 | D28: 1 | E28: =C28*D28 -> 414
A29: PID Testing ($.50/ft for lines) | C29: 0.5 | D29: 50 | E29: =C29*D29 -> 25
A30: ($150.00 each for tank and/or pad) | C30: 150 | D30: 1 | E30: =C30*D30 -> 150
A31: Straw Wattles ($2.00/linear foot installed) | C31: 2 | D31: 208 | E31: =C31*D31 -> 416
A32: or $416/ac based on 208 feet along lowest side) | C32: 416 | E32: =C32*D32 -> 0
A33: Stormwater Inspection, Weed Spraying, Mowing | E33: 2000
A36: Total Direct Costs | E36: =SUM(E6:E35) -> 9403
A37: Mobilization/Demobilization | E37: 630
A39: Total Financial Warranty | E39: =SUM(E36:E38) -> 10033
A42: Notes:
A43: Road Length (ft): | B43: 2006
A44: Initial Area of Disturbance (ac): | B44: 0.4
A45: Remaining Area of Disturbance (ac): | B45: 0.16
A46: Soil Type: | B46: Stoneham Loam
A47: Salt Kill Considerations: | B47: No
A48: High Priority Habitat: | B48: No
A49: Rangeland or Cropland: | B49: Range

Sheet McCLAVE GAS COMPRESSOR STATION 
A1: Strachan Exploration, Inc. Financial Assurance Warranty Calculation
A2: McCLAVE GAS COMPRESSOR STATION #
A4: Reclamation Task and Quantity
C5: Unit cost | D5: # of units | E5: Item totals
A6: Equipment Removal (not completed with Plugging and Abandonment) | B6: Tanks | C6: 1500 | D6: 4 | E6: =C6*D6 -> 6000
A7: Tank removal @ $1,500.00/ /Tank; Crane @ $400/hr; Roustabout @ $300/hr; Haul Trucks @ $150/hr | B7: Other equipment | C7: 850 | D7: 12 | E7: =C7*D7 -> 10200
A8: Pit reclamation | C8: 300 | D8: 6 | E8: =C8*D8 -> 1800
A9: Liner Removal | C9: 150 | D9: 6 | E9: =C9*D9 -> 900
A10: Backfilling- Bobcat S86 Skid Steer Loader-$125.00/hr | C10: 125 | E10: =C10*D10 -> 0
A11: Misc | E11: =C11*D11 -> 0
A12: Road Reclamation (Using Road Grader) Total linear feet | C12: 1 | D12: 318 | E12: =C12*D12 -> 318
A13: $300/Hour to re-grade and rip road (300 feet/hr or $1.00/linear foot) | E13: =C13*D13 -> 0
A14: Rip and Re-Grade Site (not including roads) Acres Total | D14: 1.9 | E14: =C14*D14 -> 0
A15: Bobcat S86-$125.00/hour @ 1/2 acre/hour=$250/ac | C15: 250 | E15: =C15*D15 -> 0
A16: Topsoil Replacement -Import and re-spread topsoil @ 4 inches deep | E16: =C16*D16 -> 0
A17: Grading cost =$250/ac | C17: 250 | D17: 1.9 | E17: =C17*D17 -> 475
A18: 27 loads (20yds/load) @ $600/load=$16,200.00/Acre | C18: 16200 | D18: 1.9 | E18: =C18*D18 -> 30780
A19: Topsoil Preparation (minimum of 1 acre) | E19: =C19*D19 -> 0
A20: Spread Cow Manure as Soil Amendment (20 Tons/Acre@ $50 acre) | C20: 50 | D20: 2 | E20: =C20*D20 -> 100
A21: Disc to incorporate on 1 acres ($50.00/Acre) | C21: 50 | D21: 2 | E21: =C21*D21 -> 100
A22: Drag Harrow to firm up seed bed on 1 acres ($50.00/Acre) | C22: 50 | D22: 2 | E22: =C22*D22 -> 100
A23: Seeding (minimum of 1 acre which includes road) | E23: =C23*D23 -> 0
A24: Seed Cost $14.00/lb @ 15 lbs/acre ($210/Acre) | C24: 210 | D24: 2 | E24: =C24*D24 -> 420
A25: Seeding with Grass Drill $232.00/Acre | C25: 232 | D25: 2 | E25: =C25*D25 -> 464
A26: Mulch and Crimp Straw @ 2 tons/acre $1058/Acre | C26: 1058 | D26: 2 | E26: =C26*D26 -> 2116
A27: %25 Failure rate replacement seeding $110/Acre (no additional mulch) | C27: 110 | D27: 2 | E27: =C27*D27 -> 220
A28: Site Soil Testing- $414.00/sample | C28: 414 | D28: 1 | E28: =C28*D28 -> 414
A29: PID Testing ($.50/ft for lines) | C29: 0.5 | D29: 400 | E29: =C29*D29 -> 200
A30: ($150.00 each for tank and/or pad) | C30: 150 | D30: 5 | E30: =C30*D30 -> 750
A31: Straw Wattles ($2.00/linear foot installed) | C31: 2 | D31: 416 | E31: =C31*D31 -> 832
A32: or $416/ac based on 208 feet along lowest side) | C32: 416 | E32: =C32*D32 -> 0
A33: Stormwater Inspection, Weed Spraying, Mowing | E33: 2000
A36: Total Direct Costs | E36: =SUM(E6:E35) -> 58189
A37: Mobilization/Demobilization | E37: 630
A39: Total Financial Warranty | E39: =SUM(E36:E38) -> 58819
A42: Notes:
A43: Road Length (ft): | B43: 318
A44: Initial Area of Disturbance (ac): | B44: 3.18
A45: Remaining Area of Disturbance (ac): | B45: 1.9
A46: Soil Type:
A47: Salt Kill Considerations:
A48: High Priority Habitat:
A49: Rangeland or Cropland:
A51: 1000HHP compressor, separation Equipment, 2 Storage tanks, Dehy, Combustor, 2 buildings , pipe storage

Sheet MORSE A #1
A1: Strachan Exploration, Inc. Financial Assurance Warranty Calculation
A2: MORSE A #1
A4: Reclamation Task and Quantity
C5: Unit cost | D5: # of units | E5: Item totals
A6: Equipment Removal (not completed with Plugging and Abandonment) | E6: =C6*D6 -> 0
A7: Tank removal @ $1,500.00/Tank | E7: =C7*D7 -> 0
A8: Pit reclamation | E8: =C8*D8 -> 0
A9: Liner Removal | E9: =C9*D9 -> 0
A10: Backfilling- Bobcat S86 Skid Steer Loader-$125.00/hr | C10: 125 | E10: =C10*D10 -> 0
A11: Misc | E11: =C11*D11 -> 0
A12: Road Reclamation (Using Road Grader) Total linear feet | C12: 1 | D12: 816 | E12: =C12*D12 -> 816
A13: $300/Hour to re-grade and rip road (300 feet/hr or $1.00/linear foot) | E13: =C13*D13 -> 0
A14: Rip and Re-Grade Site (not including roads) Acres Total | D14: 0.1 | E14: =C14*D14 -> 0
A15: Bobcat S86-$125.00/hour @ 1/2 acre/hour=$250/ac | C15: 250 | D15: 0.1 | E15: =C15*D15 -> 25
A16: Topsoil Replacement -Import and re-spread topsoil @ 4 inches deep | E16: =C16*D16 -> 0
A17: Grading cost =$250/ac | C17: 250 | D17: 0.1 | E17: =C17*D17 -> 25
A18: 27 loads (20yds/load) @ $600/load=$16,200.00/Acre | C18: 16200 | D18: 0.1 | E18: =C18*D18 -> 1620
A19: Topsoil Preparation (minimum of 1 acre) | E19: =C19*D19 -> 0
A20: Spread Cow Manure as Soil Amendment (20 Tons/Acre@ $50 acre) | C20: 50 | D20: 1 | E20: =C20*D20 -> 50
A21: Disc to incorporate on 1 acres ($50.00/Acre) | C21: 50 | D21: 1 | E21: =C21*D21 -> 50
A22: Drag Harrow to firm up seed bed on 1 acres ($50.00/Acre) | C22: 50 | D22: 1 | E22: =C22*D22 -> 50
A23: Seeding (minimum of 1 acre which includes road) | E23: =C23*D23 -> 0
A24: Seed Cost $14.00/lb @ 15 lbs/acre ($210/Acre) | C24: 210 | D24: 1 | E24: =C24*D24 -> 210
A25: Seeding with Grass Drill $232.00/Acre | C25: 232 | D25: 1 | E25: =C25*D25 -> 232
A26: Mulch and Crimp Straw @ 2 tons/acre $1058/Acre | C26: 1058 | D26: 1 | E26: =C26*D26 -> 1058
A27: %25 Failure rate replacement seeding $110/Acre (no additional mulch) | C27: 110 | D27: 1 | E27: =C27*D27 -> 110
A28: Site Soil Testing- $414.00/sample | C28: 414 | D28: 1 | E28: =C28*D28 -> 414
A29: PID Testing ($.50/ft for lines) | C29: 0.5 | D29: 70 | E29: =C29*D29 -> 35
A30: ($150.00 each for tank and/or pad) | C30: 150 | D30: 1 | E30: =C30*D30 -> 150
A31: Straw Wattles ($2.00/linear foot installed) | C31: 2 | D31: 208 | E31: =C31*D31 -> 416
A32: or $416/ac based on 208 feet along lowest side) | C32: 416 | E32: =C32*D32 -> 0
A33: Stormwater Inspection, Weed Spraying, Mowing | E33: 2000
A36: Total Direct Costs | E36: =SUM(E6:E35) -> 7261
A37: Mobilization/Demobilization | E37: 630
A39: Total Financial Warranty | E39: =SUM(E36:E38) -> 7891
A42: Notes:
A43: Road Length (ft): | B43: 816
A44: Initial Area of Disturbance (ac): | B44: 1.05
A45: Remaining Area of Disturbance (ac): | B45: 0.1
A46: Soil Type: | B46: Ft Collins Sandy Loam
A47: Salt Kill Considerations: | B47: No
A48: High Priority Habitat: | B48: No
A49: Rangeland or Cropland: | B49: Range

Sheet STATE #1
A1: Strachan Exploration, Inc. Financial Assurance Warranty Calculation
A2: STATE #1 State 1 is plugged and in the reclamation phase.
A4: Reclamation Task and Quantity
C5: Unit cost | D5: # of units | E5: Item totals
A6: Equipment Removal (not completed with Plugging and Abandonment) | E6: =C6*D6 -> 0
A7: Tank removal @ $1,500.00/Tank | C7: 1500 | D7: 1 | E7: =C7*D7 -> 1500
A8: Pit reclamation | E8: =C8*D8 -> 0
A9: Liner Removal | E9: =C9*D9 -> 0
A10: Backfilling- Bobcat S86 Skid Steer Loader-$125.00/hr | C10: 125 | E10: =C10*D10 -> 0
A11: Misc | E11: =C11*D11 -> 0
A12: Road Reclamation (Using Road Grader) Total linear feet | C12: 1 | D12: 4286 | E12: =C12*D12 -> 4286
A13: $300/Hour to re-grade and rip road (300 feet/hr or $1.00/linear foot) | E13: =C13*D13 -> 0
A14: Rip and Re-Grade Site (not including roads) Acres Total | D14: 0.78 | E14: =C14*D14 -> 0
A15: Bobcat S86-$125.00/hour @ 1/2 acre/hour=$250/ac | C15: 250 | E15: =C15*D15 -> 0
A16: Topsoil Replacement -Import and re-spread topsoil @ 4 inches deep | E16: =C16*D16 -> 0
A17: Grading cost =$250/ac | C17: 250 | D17: 0.78 | E17: =C17*D17 -> 195
A18: 27 loads (20yds/load) @ $600/load=$16,200.00/Acre | C18: 16200 | D18: 0.78 | E18: =C18*D18 -> 12636
A19: Topsoil Preparation (minimum of 1 acre) | E19: =C19*D19 -> 0
A20: Spread Cow Manure as Soil Amendment (20 Tons/Acre@ $50 acre) | C20: 50 | D20: 2.25 | E20: =C20*D20 -> 112.5
A21: Disc to incorporate on 1 acres ($50.00/Acre) | C21: 50 | D21: 2.25 | E21: =C21*D21 -> 112.5
A22: Drag Harrow to firm up seed bed on 1 acres ($50.00/Acre) | C22: 50 | D22: 2.25 | E22: =C22*D22 -> 112.5
A23: Seeding (minimum of 1 acre which includes road) | E23: =C23*D23 -> 0
A24: Seed Cost $14.00/lb @ 15 lbs/acre ($210/Acre) | C24: 210 | D24: 2.25 | E24: =C24*D24 -> 472.5
A25: Seeding with Grass Drill $232.00/Acre | C25: 232 | D25: 2.25 | E25: =C25*D25 -> 522
A26: Mulch and Crimp Straw @ 2 tons/acre $1058/Acre | C26: 1058 | D26: 2.25 | E26: =C26*D26 -> 2380.5
A27: %25 Failure rate replacement seeding $110/Acre (no additional mulch) | C27: 110 | D27: 2.25 | E27: =C27*D27 -> 247.5
A28: Site Soil Testing- $414.00/sample | C28: 414 | D28: 1 | E28: =C28*D28 -> 414
A29: PID Testing ($.50/ft for lines) | C29: 0.5 | D29: 300 | E29: =C29*D29 -> 150
A30: ($150.00 each for tank and/or pad) | C30: 150 | D30: 2 | E30: =C30*D30 -> 300
A31: Straw Wattles ($2.00/linear foot installed) | C31: 2 | D31: 208 | E31: =C31*D31 -> 416
A32: or $416/ac based on 208 feet along lowest side) | C32: 416 | E32: =C32*D32 -> 0
A33: Stormwater Inspection, Weed Spraying, Mowing | E33: 2000
A36: Total Direct Costs | E36: =SUM(E6:E35) -> 25857
A37: Mobilization/Demobilization | E37: 630
A39: Total Financial Warranty | E39: =SUM(E36:E38) -> 26487
A42: Notes:
A43: Road Length (ft): | B43: 4286
A44: Initial Area of Disturbance (ac): | B44: 2.09
A45: Remaining Area of Disturbance (ac): | B45: 0.78
A46: Soil Type: | B46: Rocky Ford Clay Loam
A47: Salt Kill Considerations: | B47: No
A48: High Priority Habitat: | B48: No
A49: Rangeland or Cropland: | B49: Crop

Sheet TEMPLE C #1
A1: Strachan Exploration, Inc. Financial Assurance Warranty Calculation
A2: TEMPLE C #1
A4: Reclamation Task and Quantity
C5: Unit cost | D5: # of units | E5: Item totals
A6: Equipment Removal (not completed with Plugging and Abandonment) | E6: =C6*D6 -> 0
A7: Tank removal @ $1,500.00/Tank | C7: 1500 | E7: =C7*D7 -> 0
A8: Pit reclamation | E8: =C8*D8 -> 0
A9: Liner Removal | E9: =C9*D9 -> 0
A10: Backfilling- Bobcat S86 Skid Steer Loader-$125.00/hr | C10: 125 | E10: =C10*D10 -> 0
A11: Misc | E11: =C11*D11 -> 0
A12: Road Reclamation (Using Road Grader) Total linear feet | C12: 1 | E12: =C12*D12 -> 0
A13: $300/Hour to re-grade and rip road (300 feet/hr or $1.00/linear foot) | E13: =C13*D13 -> 0
A14: Rip and Re-Grade Site (not including roads) Acres Total | D14: 0.07 | E14: =C14*D14 -> 0
A15: Bobcat S86-$125.00/hour @ 1/2 acre/hour=$250/ac | C15: 250 | E15: =C15*D15 -> 0
A16: Topsoil Replacement -Import and re-spread topsoil @ 4 inches deep | E16: =C16*D16 -> 0
A17: Grading cost =$250/ac | C17: 250 | D17: 0.07 | E17: =C17*D17 -> 17.5
A18: 27 loads (20yds/load) @ $600/load=$16,200.00/Acre | C18: 16200 | D18: 0.07 | E18: =C18*D18 -> 1134
A19: Topsoil Preparation (minimum of 1 acre) | E19: =C19*D19 -> 0
A20: Spread Cow Manure as Soil Amendment (20 Tons/Acre@ $50 acre) | C20: 50 | D20: 0.07 | E20: =C20*D20 -> 3.5
A21: Disc to incorporate on 1 acres ($50.00/Acre) | C21: 50 | D21: 0.07 | E21: =C21*D21 -> 3.5
A22: Drag Harrow to firm up seed bed on 1 acres ($50.00/Acre) | C22: 50 | D22: 0.07 | E22: =C22*D22 -> 3.5
A23: Seeding (minimum of 1 acre which includes road) | E23: =C23*D23 -> 0
A24: Seed Cost $14.00/lb @ 15 lbs/acre ($210/Acre) | C24: 210 | E24: =C24*D24 -> 0
A25: Seeding with Grass Drill $232.00/Acre | C25: 232 | E25: =C25*D25 -> 0
A26: Mulch and Crimp Straw @ 2 tons/acre $1058/Acre | C26: 1058 | E26: =C26*D26 -> 0
A27: %25 Failure rate replacement seeding $110/Acre (no additional mulch) | C27: 110 | E27: =C27*D27 -> 0
A28: Site Soil Testing- $414.00/sample | C28: 414 | D28: 1 | E28: =C28*D28 -> 414
A29: PID Testing ($.50/ft for lines) | C29: 0.5 | E29: =C29*D29 -> 0
A30: ($150.00 each for tank and/or pad) | C30: 150 | D30: 1 | E30: =C30*D30 -> 150
A31: Straw Wattles ($2.00/linear foot installed) | C31: 2 | E31: =C31*D31 -> 0
A32: or $416/ac based on 208 feet along lowest side) | C32: 416 | E32: =C32*D32 -> 0
A33: Stormwater Inspection, Weed Spraying, Mowing | E33: 2000
A36: Total Direct Costs | E36: =SUM(E6:E35) -> 3726
A37: Mobilization/Demobilization | E37: 630
A39: Total Financial Warranty | E39: =SUM(E36:E38) -> 4356
A42: Notes:
A43: Road Length (ft): | B43: N/A
A44: Initial Area of Disturbance (ac): | B44: 1.1
A45: Remaining Area of Disturbance (ac): | B45: 0.07
A46: Soil Type: | B46: Rocky Ford Clay Loam
A47: Salt Kill Considerations: | B47: No
A48: High Priority Habitat: | B48: MDeerSWR
A49: Rangeland or Cropland: | B49: Crop
A51: Wellhead is in a cultivated field, 10’x10’, and the standard financial warranty cost estimate does not accurately reflect the costs associated with reclaiming this site.

Sheet STATE OF COLORADO #1-28
A1: Strachan Exploration, Inc. Financial Assurance Warranty Calculation
A2: STATE OF COLORADO #1-28
A4: Reclamation Task and Quantity
C5: Unit cost | D5: # of units | E5: Item totals
A6: Equipment Removal (not completed with Plugging and Abandonment) | E6: =C6*D6 -> 0
A7: Tank removal @ $1,500.00/Tank | C7: 1500 | D7: 1 | E7: =C7*D7 -> 1500
A8: Pit reclamation | E8: =C8*D8 -> 0
A9: Liner Removal | E9: =C9*D9 -> 0
A10: Backfilling- Bobcat S86 Skid Steer Loader-$125.00/hr | C10: 125 | E10: =C10*D10 -> 0
A11: Misc | E11: =C11*D11 -> 0
A12: Road Reclamation (Using Road Grader) Total linear feet | C12: 1 | D12: 3412 | E12: =C12*D12 -> 3412
A13: $300/Hour to re-grade and rip road (300 feet/hr or $1.00/linear foot) | E13: =C13*D13 -> 0
A14: Rip and Re-Grade Site (not including roads) Acres Total | D14: 0.25 | E14: =C14*D14 -> 0
A15: Bobcat S86-$125.00/hour @ 1/2 acre/hour=$250/ac | C15: 250 | E15: =C15*D15 -> 0
A16: Topsoil Replacement -Import and re-spread topsoil @ 4 inches deep | E16: =C16*D16 -> 0
A17: Grading cost =$250/ac | C17: 250 | D17: 0.25 | E17: =C17*D17 -> 62.5
A18: 27 loads (20yds/load) @ $600/load=$16,200.00/Acre | C18: 16200 | D18: 0.25 | E18: =C18*D18 -> 4050
A19: Topsoil Preparation (minimum of 1 acre) | E19: =C19*D19 -> 0
A20: Spread Cow Manure as Soil Amendment (20 Tons/Acre@ $50 acre) | C20: 50 | D20: 1.42 | E20: =C20*D20 -> 71
A21: Disc to incorporate on 1 acres ($50.00/Acre) | C21: 50 | D21: 1.42 | E21: =C21*D21 -> 71
A22: Drag Harrow to firm up seed bed on 1 acres ($50.00/Acre) | C22: 50 | D22: 1.42 | E22: =C22*D22 -> 71
A23: Seeding (minimum of 1 acre which includes road) | E23: =C23*D23 -> 0
A24: Seed Cost $14.00/lb @ 15 lbs/acre ($210/Acre) | C24: 210 | D24: 1.42 | E24: =C24*D24 -> 298.2
A25: Seeding with Grass Drill $232.00/Acre | C25: 232 | D25: 1.42 | E25: =C25*D25 -> 329.44
A26: Mulch and Crimp Straw @ 2 tons/acre $1058/Acre | C26: 1058 | D26: 1.42 | E26: =C26*D26 -> 1502.36
A27: %25 Failure rate replacement seeding $110/Acre (no additional mulch) | C27: 110 | D27: 1.42 | E27: =C27*D27 -> 156.2
A28: Site Soil Testing- $414.00/sample | C28: 414 | D28: 1 | E28: =C28*D28 -> 414
A29: PID Testing ($.50/ft for lines) | C29: 0.5 | D29: 150 | E29: =C29*D29 -> 75
A30: ($150.00 each for tank and/or pad) | C30: 150 | D30: 2 | E30: =C30*D30 -> 300
A31: Straw Wattles ($2.00/linear foot installed) | C31: 2 | D31: 208 | E31: =C31*D31 -> 416
A32: or $416/ac based on 208 feet along lowest side) | C32: 416 | E32: =C32*D32 -> 0
A33: Stormwater Inspection, Weed Spraying, Mowing | E33: 2000
A36: Total Direct Costs | E36: =SUM(E6:E35) -> 14728.7
A37: Mobilization/Demobilization | E37: 630
A39: Total Financial Warranty | E39: =SUM(E36:E38) -> 15358.7
A42: Notes:
A43: Road Length (ft): | B43: 3412
A44: Initial Area of Disturbance (ac): | B44: 0.48
A45: Remaining Area of Disturbance (ac): | B45: 0.25
A46: Soil Type: | B46: Kim- Harvey Stoneham Loam
A47: Salt Kill Considerations: | B47: No
A48: High Priority Habitat: | B48: No
A49: Rangeland or Cropland: | B49: Range

Sheet STATE-PYLES #1
A1: Strachan Exploration, Inc. Financial Assurance Warranty Calculation
A2: STATE-PYLES #1
A4: Reclamation Task and Quantity
C5: Unit cost | D5: # of units | E5: Item totals
A6: Equipment Removal (not completed with Plugging and Abandonment) | E6: =C6*D6 -> 0
A7: Tank removal @ $1,500.00/Tank | C7: 1500 | D7: 1 | E7: =C7*D7 -> 1500
A8: Pit reclamation | E8: =C8*D8 -> 0
A9: Liner Removal | E9: =C9*D9 -> 0
A10: Backfilling- Bobcat S86 Skid Steer Loader-$125.00/hr | C10: 125 | E10: =C10*D10 -> 0
A11: Misc | E11: =C11*D11 -> 0
A12: Road Reclamation (Using Road Grader) Total linear feet | C12: 1 | D12: 3403 | E12: =C12*D12 -> 3403
A13: $300/Hour to re-grade and rip road (300 feet/hr or $1.00/linear foot) | E13: =C13*D13 -> 0
A14: Rip and Re-Grade Site (not including roads) Acres Total | D14: 0.22 | E14: =C14*D14 -> 0
A15: Bobcat S86-$125.00/hour @ 1/2 acre/hour=$250/ac | C15: 250 | E15: =C15*D15 -> 0
A16: Topsoil Replacement -Import and re-spread topsoil @ 4 inches deep | E16: =C16*D16 -> 0
A17: Grading cost =$250/ac | C17: 250 | D17: 0.22 | E17: =C17*D17 -> 55
A18: 27 loads (20yds/load) @ $600/load=$16,200.00/Acre | C18: 16200 | D18: 0.22 | E18: =C18*D18 -> 3564
A19: Topsoil Preparation (minimum of 1 acre) | E19: =C19*D19 -> 0
A20: Spread Cow Manure as Soil Amendment (20 Tons/Acre@ $50 acre) | C20: 50 | D20: 1.4 | E20: =C20*D20 -> 70
A21: Disc to incorporate on 1 acres ($50.00/Acre) | C21: 50 | D21: 1.4 | E21: =C21*D21 -> 70
A22: Drag Harrow to firm up seed bed on 1 acres ($50.00/Acre) | C22: 50 | D22: 1.4 | E22: =C22*D22 -> 70
A23: Seeding (minimum of 1 acre which includes road) | E23: =C23*D23 -> 0
A24: Seed Cost $14.00/lb @ 15 lbs/acre ($210/Acre) | C24: 210 | D24: 1.4 | E24: =C24*D24 -> 294
A25: Seeding with Grass Drill $232.00/Acre | C25: 232 | D25: 1.4 | E25: =C25*D25 -> 324.8
A26: Mulch and Crimp Straw @ 2 tons/acre $1058/Acre | C26: 1058 | D26: 1.4 | E26: =C26*D26 -> 1481.2
A27: %25 Failure rate replacement seeding $110/Acre (no additional mulch) | C27: 110 | D27: 1.4 | E27: =C27*D27 -> 154
A28: Site Soil Testing- $414.00/sample | C28: 414 | D28: 1 | E28: =C28*D28 -> 414
A29: PID Testing ($.50/ft for lines) | C29: 0.5 | D29: 3403 | E29: =C29*D29 -> 1701.5
A30: ($150.00 each for tank and/or pad) | C30: 150 | D30: 2 | E30: =C30*D30 -> 300
A31: Straw Wattles ($2.00/linear foot installed) | C31: 2 | D31: 208 | E31: =C31*D31 -> 416
A32: or $416/ac based on 208 feet along lowest side) | C32: 416 | E32: =C32*D32 -> 0
A33: Stormwater Inspection, Weed Spraying, Mowing | E33: 2000
A36: Total Direct Costs | E36: =SUM(E6:E35) -> 15817.5
A37: Mobilization/Demobilization | E37: 630
A39: Total Financial Warranty | E39: =SUM(E36:E38) -> 16447.5
A42: Notes:
A43: Road Length (ft): | B43: 3403
A44: Initial Area of Disturbance (ac): | B44: 1.38
A45: Remaining Area of Disturbance (ac): | B45: 0.22
A46: Soil Type: | B46: Wiley Loam
A47: Salt Kill Considerations: | B47: No
A48: High Priority Habitat: | B48: No
A49: Rangeland or Cropland: | B49: Range

Sheet STAVELY #1
A1: Strachan Exploration, Inc. Financial Assurance Warranty Calculation
A2: STAVELY #1
A4: Reclamation Task and Quantity
C5: Unit cost | D5: # of units | E5: Item totals
A6: Equipment Removal (not completed with Plugging and Abandonment) | E6: =C6*D6 -> 0
A7: Tank removal @ $1,500.00/Tank | C7: 1500 | D7: 1 | E7: =C7*D7 -> 1500
A8: Pit reclamation | E8: =C8*D8 -> 0
A9: Liner Removal | E9: =C9*D9 -> 0
A10: Backfilling- Bobcat S86 Skid Steer Loader-$125.00/hr | C10: 125 | E10: =C10*D10 -> 0
A11: Misc | E11: =C11*D11 -> 0
A12: Road Reclamation (Using Road Grader) Total linear feet | C12: 1 | D12: 4170 | E12: =C12*D12 -> 4170
A13: $300/Hour to re-grade and rip road (300 feet/hr or $1.00/linear foot) | E13: =C13*D13 -> 0
A14: Rip and Re-Grade Site (not including roads) Acres Total | D14: 0.2 | E14: =C14*D14 -> 0
A15: Bobcat S86-$125.00/hour @ 1/2 acre/hour=$250/ac | C15: 250 | E15: =C15*D15 -> 0
A16: Topsoil Replacement -Import and re-spread topsoil @ 4 inches deep | E16: =C16*D16 -> 0
A17: Grading cost =$250/ac | C17: 250 | D17: 0.2 | E17: =C17*D17 -> 50
A18: 27 loads (20yds/load) @ $600/load=$16,200.00/Acre | C18: 16200 | D18: 0.2 | E18: =C18*D18 -> 3240
A19: Topsoil Preparation (minimum of 1 acre) | E19: =C19*D19 -> 0
A20: Spread Cow Manure as Soil Amendment (20 Tons/Acre@ $50 acre) | C20: 50 | D20: 1.64 | E20: =C20*D20 -> 82
A21: Disc to incorporate on 1 acres ($50.00/Acre) | C21: 50 | D21: 1.64 | E21: =C21*D21 -> 82
A22: Drag Harrow to firm up seed bed on 1 acres ($50.00/Acre) | C22: 50 | D22: 1.64 | E22: =C22*D22 -> 82
A23: Seeding (minimum of 1 acre which includes road) | E23: =C23*D23 -> 0
A24: Seed Cost $14.00/lb @ 15 lbs/acre ($210/Acre) | C24: 210 | D24: 1.64 | E24: =C24*D24 -> 344.4
A25: Seeding with Grass Drill $232.00/Acre | C25: 232 | D25: 1.64 | E25: =C25*D25 -> 380.48
A26: Mulch and Crimp Straw @ 2 tons/acre $1058/Acre | C26: 1058 | D26: 1.64 | E26: =C26*D26 -> 1735.12
A27: %25 Failure rate replacement seeding $110/Acre (no additional mulch) | C27: 110 | D27: 1.64 | E27: =C27*D27 -> 180.4
A28: Site Soil Testing- $414.00/sample | C28: 414 | D28: 2 | E28: =C28*D28 -> 828
A29: PID Testing ($.50/ft for lines) | C29: 0.5 | D29: 200 | E29: =C29*D29 -> 100
A30: ($150.00 each for tank and/or pad) | C30: 150 | D30: 2 | E30: =C30*D30 -> 300
A31: Straw Wattles ($2.00/linear foot installed) | C31: 2 | D31: 416 | E31: =C31*D31 -> 832
A32: or $416/ac based on 208 feet along lowest side) | C32: 416 | E32: =C32*D32 -> 0
A33: Stormwater Inspection, Weed Spraying, Mowing | E33: 2000
A36: Total Direct Costs | E36: =SUM(E6:E35) -> 15906.4
A37: Mobilization/Demobilization | E37: 630
A39: Total Financial Warranty | E39: =SUM(E36:E38) -> 16536.4
A42: Notes:
A43: Road Length (ft): | B43: 4170 | C43: n/a
A44: Initial Area of Disturbance (ac): | B44: 0.38 | C44: 0.18
A45: Remaining Area of Disturbance (ac): | B45: 0.13 | C45: 0.09
A46: Soil Type: | B46: Stoneham Loam
A47: Salt Kill Considerations: | B47: No
A48: High Priority Habitat: | B48: No
A49: Rangeland or Cropland: | B49: Range

Sheet STAVELY #1-26
A1: Strachan Exploration, Inc. Financial Assurance Warranty Calculation
A2: STAVELY #1-26
A4: Reclamation Task and Quantity
C5: Unit cost | D5: # of units | E5: Item totals
A6: Equipment Removal (not completed with Plugging and Abandonment) | E6: =C6*D6 -> 0
A7: Tank removal @ $1,500.00/Tank | E7: =C7*D7 -> 0
A8: Pit reclamation | E8: =C8*D8 -> 0
A9: Liner Removal | E9: =C9*D9 -> 0
A10: Backfilling- Bobcat S86 Skid Steer Loader-$125.00/hr | C10: 125 | E10: =C10*D10 -> 0
A11: Misc | E11: =C11*D11 -> 0
A12: Road Reclamation (Using Road Grader) Total linear feet | C12: 1 | D12: 848 | E12: =C12*D12 -> 848
A13: $300/Hour to re-grade and rip road (300 feet/hr or $1.00/linear foot) | E13: =C13*D13 -> 0
A14: Rip and Re-Grade Site (not including roads) Acres Total | D14: 0.12 | E14: =C14*D14 -> 0
A15: Bobcat S86-$125.00/hour @ 1/2 acre/hour=$250/ac | C15: 250 | E15: =C15*D15 -> 0
A16: Topsoil Replacement -Import and re-spread topsoil @ 4 inches deep | E16: =C16*D16 -> 0
A17: Grading cost =$250/ac | C17: 250 | D17: 0.12 | E17: =C17*D17 -> 30
A18: 27 loads (20yds/load) @ $600/load=$16,200.00/Acre | C18: 16200 | D18: 0.12 | E18: =C18*D18 -> 1944
A19: Topsoil Preparation (minimum of 1 acre) | E19: =C19*D19 -> 0
A20: Spread Cow Manure as Soil Amendment (20 Tons/Acre@ $50 acre) | C20: 50 | D20: 1 | E20: =C20*D20 -> 50
A21: Disc to incorporate on 1 acres ($50.00/Acre) | C21: 50 | D21: 1 | E21: =C21*D21 -> 50
A22: Drag Harrow to firm up seed bed on 1 acres ($50.00/Acre) | C22: 50 | D22: 1 | E22: =C22*D22 -> 50
A23: Seeding (minimum of 1 acre which includes road) | E23: =C23*D23 -> 0
A24: Seed Cost $14.00/lb @ 15 lbs/acre ($210/Acre) | C24: 210 | D24: 1 | E24: =C24*D24 -> 210
A25: Seeding with Grass Drill $232.00/Acre | C25: 232 | D25: 1 | E25: =C25*D25 -> 232
A26: Mulch and Crimp Straw @ 2 tons/acre $1058/Acre | C26: 1058 | D26: 1 | E26: =C26*D26 -> 1058
A27: %25 Failure rate replacement seeding $110/Acre (no additional mulch) | C27: 110 | D27: 1 | E27: =C27*D27 -> 110
A28: Site Soil Testing- $414.00/sample | C28: 414 | D28: 2 | E28: =C28*D28 -> 828
A29: PID Testing ($.50/ft for lines) | C29: 0.5 | D29: 848 | E29: =C29*D29 -> 424
A30: ($150.00 each for tank and/or pad) | C30: 150 | D30: 1 | E30: =C30*D30 -> 150
A31: Straw Wattles ($2.00/linear foot installed) | C31: 2 | D31: 416 | E31: =C31*D31 -> 832
A32: or $416/ac based on 208 feet along lowest side) | C32: 416 | E32: =C32*D32 -> 0
A33: Stormwater Inspection, Weed Spraying, Mowing | E33: 2000
A36: Total Direct Costs | E36: =SUM(E6:E35) -> 8816
A37: Mobilization/Demobilization | E37: 630
A39: Total Financial Warranty | E39: =SUM(E36:E38) -> 9446
A42: Notes:
A43: Road Length (ft): | B43: 848
A44: Initial Area of Disturbance (ac): | B44: 0.53
A45: Remaining Area of Disturbance (ac): | B45: 0.12 | C45: 0.47
A46: Soil Type: | B46: Baca Loam
A47: Salt Kill Considerations: | B47: No
A48: High Priority Habitat: | B48: No
A49: Rangeland or Cropland: | B49: Range

Sheet STAVELY #1-26 Tank
A1: Strachan Exploration, Inc. Financial Assurance Warranty Calculation
A2: STAVELY #1-26 Tank
A4: Reclamation Task and Quantity
C5: Unit cost | D5: # of units | E5: Item totals
A6: Equipment Removal (not completed with Plugging and Abandonment) | E6: =C6*D6 -> 0
A7: Tank removal @ $1,500.00/Tank | C7: 1500 | D7: 3 | E7: =C7*D7 -> 4500
A8: Pit reclamation | E8: =C8*D8 -> 0
A9: Liner Removal | E9: =C9*D9 -> 0
A10: Backfilling- Bobcat S86 Skid Steer Loader-$125.00/hr | C10: 125 | E10: =C10*D10 -> 0
A11: Misc | E11: =C11*D11 -> 0
A12: Road Reclamation (Using Road Grader) Total linear feet | C12: 1 | E12: =C12*D12 -> 0
A13: $300/Hour to re-grade and rip road (300 feet/hr or $1.00/linear foot) | E13: =C13*D13 -> 0
A14: Rip and Re-Grade Site (not including roads) Acres Total | D14: 0.47 | E14: =C14*D14 -> 0
A15: Bobcat S86-$125.00/hour @ 1/2 acre/hour=$250/ac | C15: 250 | E15: =C15*D15 -> 0
A16: Topsoil Replacement -Import and re-spread topsoil @ 4 inches deep | E16: =C16*D16 -> 0
A17: Grading cost =$250/ac | C17: 250 | D17: 0.47 | E17: =C17*D17 -> 117.5
A18: 27 loads (20yds/load) @ $600/load=$16,200.00/Acre | C18: 16200 | D18: 0.47 | E18: =C18*D18 -> 7614
A19: Topsoil Preparation (minimum of 1 acre) | E19: =C19*D19 -> 0
A20: Spread Cow Manure as Soil Amendment (20 Tons/Acre@ $50 acre) | C20: 50 | D20: 1 | E20: =C20*D20 -> 50
A21: Disc to incorporate on 1 acres ($50.00/Acre) | C21: 50 | D21: 1 | E21: =C21*D21 -> 50
A22: Drag Harrow to firm up seed bed on 1 acres ($50.00/Acre) | C22: 50 | D22: 1 | E22: =C22*D22 -> 50
A23: Seeding (minimum of 1 acre which includes road) | E23: =C23*D23 -> 0
A24: Seed Cost $14.00/lb @ 15 lbs/acre ($210/Acre) | C24: 210 | D24: 1 | E24: =C24*D24 -> 210
A25: Seeding with Grass Drill $232.00/Acre | C25: 232 | D25: 1 | E25: =C25*D25 -> 232
A26: Mulch and Crimp Straw @ 2 tons/acre $1058/Acre | C26: 1058 | D26: 1 | E26: =C26*D26 -> 1058
A27: %25 Failure rate replacement seeding $110/Acre (no additional mulch) | C27: 110 | D27: 1 | E27: =C27*D27 -> 110
A28: Site Soil Testing- $414.00/sample | C28: 414 | D28: 2 | E28: =C28*D28 -> 828
A29: PID Testing ($.50/ft for lines) | C29: 0.5 | E29: =C29*D29 -> 0
A30: ($150.00 each for tank and/or pad) | C30: 150 | D30: 4 | E30: =C30*D30 -> 600
A31: Straw Wattles ($2.00/linear foot installed) | C31: 2 | D31: 416 | E31: =C31*D31 -> 832
A32: or $416/ac based on 208 feet along lowest side) | C32: 416 | E32: =C32*D32 -> 0
A33: Stormwater Inspection, Weed Spraying, Mowing | E33: 2000
A36: Total Direct Costs | E36: =SUM(E6:E35) -> 18251.5
A37: Mobilization/Demobilization | E37: 630
A39: Total Financial Warranty | E39: =SUM(E36:E38) -> 18881.5
A42: Notes:
A43: Road Length (ft): | B43: n/a
A44: Initial Area of Disturbance (ac): | B44: 0.89
A45: Remaining Area of Disturbance (ac): | B45: 0.47
A46: Soil Type: | B46: Baca Loam
A47: Salt Kill Considerations: | B47: No
A48: High Priority Habitat: | B48: No
A49: Rangeland or Cropland: | B49: Range

Sheet HOFFMAN #2-31
A1: Strachan Exploration, Inc. Financial Assurance Warranty Calculation
A2: HOFFMAN #2-31
A4: Reclamation Task and Quantity
C5: Unit cost | D5: # of units | E5: Item totals
A6: Equipment Removal (not completed with Plugging and Abandonment) | E6: =C6*D6 -> 0
A7: Tank removal @ $1,500.00/Tank | C7: 1500 | D7: 1 | E7: =C7*D7 -> 1500
A8: Pit reclamation | E8: =C8*D8 -> 0
A9: Liner Removal | E9: =C9*D9 -> 0
A10: Backfilling- Bobcat S86 Skid Steer Loader-$125.00/hr | C10: 125 | D10: 2 | E10: =C10*D10 -> 250
A11: Misc | E11: =C11*D11 -> 0
A12: Road Reclamation (Using Road Grader) Total linear feet | C12: 1 | D12: 2009 | E12: =C12*D12 -> 2009
A13: $300/Hour to re-grade and rip road (300 feet/hr or $1.00/linear foot) | E13: =C13*D13 -> 0
A14: Rip and Re-Grade Site (not including roads) Acres Total | D14: 0.41 | E14: =C14*D14 -> 0
A15: Bobcat S86-$125.00/hour @ 1/2 acre/hour=$250/ac | C15: 250 | E15: =C15*D15 -> 0
A16: Topsoil Replacement -Import and re-spread topsoil @ 4 inches deep | E16: =C16*D16 -> 0
A17: Grading cost =$250/ac | C17: 250 | D17: 0.41 | E17: =C17*D17 -> 102.5
A18: 27 loads (20yds/load) @ $600/load=$16,200.00/Acre | C18: 16200 | D18: 0.41 | E18: =C18*D18 -> 6642
A19: Topsoil Preparation (minimum of 1 acre) | E19: =C19*D19 -> 0
A20: Spread Cow Manure as Soil Amendment (20 Tons/Acre@ $50 acre) | C20: 50 | D20: 1.1 | E20: =C20*D20 -> 55
A21: Disc to incorporate on 1 acres ($50.00/Acre) | C21: 50 | D21: 1.1 | E21: =C21*D21 -> 55
A22: Drag Harrow to firm up seed bed on 1 acres ($50.00/Acre) | C22: 50 | D22: 1.1 | E22: =C22*D22 -> 55
A23: Seeding (minimum of 1 acre which includes road) | E23: =C23*D23 -> 0
A24: Seed Cost $14.00/lb @ 15 lbs/acre ($210/Acre) | C24: 210 | D24: 1.1 | E24: =C24*D24 -> 231
A25: Seeding with Grass Drill $232.00/Acre | C25: 232 | D25: 1.1 | E25: =C25*D25 -> 255.2
A26: Mulch and Crimp Straw @ 2 tons/acre $1058/Acre | C26: 1058 | D26: 1.1 | E26: =C26*D26 -> 1163.8
A27: %25 Failure rate replacement seeding $110/Acre (no additional mulch) | C27: 110 | D27: 1.1 | E27: =C27*D27 -> 121
A28: Site Soil Testing- $414.00/sample | C28: 414 | D28: 1 | E28: =C28*D28 -> 414
A29: PID Testing ($.50/ft for lines) | C29: 0.5 | D29: 200 | E29: =C29*D29 -> 100
A30: ($150.00 each for tank and/or pad) | C30: 150 | D30: 2 | E30: =C30*D30 -> 300
A31: Straw Wattles ($2.00/linear foot installed) | C31: 2 | D31: 208 | E31: =C31*D31 -> 416
A32: or $416/ac based on 208 feet along lowest side) | C32: 416 | E32: =C32*D32 -> 0
A33: Stormwater Inspection, Weed Spraying, Mowing | E33: 2000
A36: Total Direct Costs | E36: =SUM(E6:E35) -> 15669.5
A37: Mobilization/Demobilization | E37: 630
A39: Total Financial Warranty | E39: =SUM(E36:E38) -> 16299.5
A42: Notes:
A43: Road Length (ft): | B43: 2009
A44: Initial Area of Disturbance (ac): | B44: 1.03
A45: Remaining Area of Disturbance (ac): | B45: 0.41
A46: Soil Type: | B46: Wiley Silt Loam
A47: Salt Kill Considerations: | B47: No
A48: High Priority Habitat: | B48: No
A49: Rangeland or Cropland: | B49: Range

Sheet STATE #3-8
A1: Strachan Exploration, Inc. Financial Assurance Warranty Calculation
A2: STATE #3-8
A4: Reclamation Task and Quantity
C5: Unit cost | D5: # of units | E5: Item totals
A6: Equipment Removal (not completed with Plugging and Abandonment) | E6: =C6*D6 -> 0
A7: Tank removal @ $1,500.00/Tank | E7: =C7*D7 -> 0
A8: Pit reclamation | E8: =C8*D8 -> 0
A9: Liner Removal | E9: =C9*D9 -> 0
A10: Backfilling- Bobcat S86 Skid Steer Loader-$125.00/hr | C10: 125 | E10: =C10*D10 -> 0
A11: Misc | E11: =C11*D11 -> 0
A12: Road Reclamation (Using Road Grader) Total linear feet | C12: 1 | D12: 1900 | E12: =C12*D12 -> 1900
A13: $300/Hour to re-grade and rip road (300 feet/hr or $1.00/linear foot) | E13: =C13*D13 -> 0
A14: Rip and Re-Grade Site (not including roads) Acres Total | D14: 0.1 | E14: =C14*D14 -> 0
A15: Bobcat S86-$125.00/hour @ 1/2 acre/hour=$250/ac | C15: 250 | E15: =C15*D15 -> 0
A16: Topsoil Replacement -Import and re-spread topsoil @ 4 inches deep | E16: =C16*D16 -> 0
A17: Grading cost =$250/ac | C17: 250 | D17: 0.1 | E17: =C17*D17 -> 25
A18: 27 loads (20yds/load) @ $600/load=$16,200.00/Acre | C18: 16200 | D18: 0.1 | E18: =C18*D18 -> 1620
A19: Topsoil Preparation (minimum of 1 acre) | E19: =C19*D19 -> 0
A20: Spread Cow Manure as Soil Amendment (20 Tons/Acre@ $50 acre) | C20: 50 | D20: 1 | E20: =C20*D20 -> 50
A21: Disc to incorporate on 1 acres ($50.00/Acre) | C21: 50 | D21: 1 | E21: =C21*D21 -> 50
A22: Drag Harrow to firm up seed bed on 1 acres ($50.00/Acre) | C22: 50 | D22: 1 | E22: =C22*D22 -> 50
A23: Seeding (minimum of 1 acre which includes road) | E23: =C23*D23 -> 0
A24: Seed Cost $14.00/lb @ 15 lbs/acre ($210/Acre) | C24: 210 | D24: 1 | E24: =C24*D24 -> 210
A25: Seeding with Grass Drill $232.00/Acre | C25: 232 | D25: 1 | E25: =C25*D25 -> 232
A26: Mulch and Crimp Straw @ 2 tons/acre $1058/Acre | C26: 1058 | D26: 1 | E26: =C26*D26 -> 1058
A27: %25 Failure rate replacement seeding $110/Acre (no additional mulch) | C27: 110 | D27: 1 | E27: =C27*D27 -> 110
A28: Site Soil Testing- $414.00/sample | C28: 414 | D28: 1 | E28: =C28*D28 -> 414
A29: PID Testing ($.50/ft for lines) | C29: 0.5 | D29: 75 | E29: =C29*D29 -> 37.5
A30: ($150.00 each for tank and/or pad) | C30: 150 | D30: 1 | E30: =C30*D30 -> 150
A31: Straw Wattles ($2.00/linear foot installed) | C31: 2 | D31: 208 | E31: =C31*D31 -> 416
A32: or $416/ac based on 208 feet along lowest side) | C32: 416 | E32: =C32*D32 -> 0
A33: Stormwater Inspection, Weed Spraying, Mowing | E33: 2000
A36: Total Direct Costs | E36: =SUM(E6:E35) -> 8322.5
A37: Mobilization/Demobilization | E37: 630
A39: Total Financial Warranty | E39: =SUM(E36:E38) -> 8952.5
A42: Notes:
A43: Road Length (ft): | B43: 1900
A44: Initial Area of Disturbance (ac): | B44: 0.63
A45: Remaining Area of Disturbance (ac): | B45: 0.01
A46: Soil Type: | B46: Las Animas Soils
A47: Salt Kill Considerations: | B47: No
A48: High Priority Habitat: | B48: AqNSCW
A49: Rangeland or Cropland: | B49: Range

Sheet STATE #4-8
A1: Strachan Exploration, Inc. Financial Assurance Warranty Calculation
A2: STATE #4-8
A4: Reclamation Task and Quantity
C5: Unit cost | D5: # of units | E5: Item totals
A6: Equipment Removal (not completed with Plugging and Abandonment) | E6: =C6*D6 -> 0
A7: Tank removal @ $1,500.00/Tank | E7: =C7*D7 -> 0
A8: Pit reclamation | E8: =C8*D8 -> 0
A9: Liner Removal | E9: =C9*D9 -> 0
A10: Backfilling- Bobcat S86 Skid Steer Loader-$125.00/hr | C10: 125 | E10: =C10*D10 -> 0
A11: Misc | E11: =C11*D11 -> 0
A12: Road Reclamation (Using Road Grader) Total linear feet | C12: 1 | D12: 7833 | E12: =C12*D12 -> 7833
A13: $300/Hour to re-grade and rip road (300 feet/hr or $1.00/linear foot) | E13: =C13*D13 -> 0
A14: Rip and Re-Grade Site (not including roads) Acres Total | D14: 0.23 | E14: =C14*D14 -> 0
A15: Bobcat S86-$125.00/hour @ 1/2 acre/hour=$250/ac | C15: 250 | E15: =C15*D15 -> 0
A16: Topsoil Replacement -Import and re-spread topsoil @ 4 inches deep | E16: =C16*D16 -> 0
A17: Grading cost =$250/ac | C17: 250 | D17: 0.23 | E17: =C17*D17 -> 57.5
A18: 27 loads (20yds/load) @ $600/load=$16,200.00/Acre | C18: 16200 | D18: 0.23 | E18: =C18*D18 -> 3726
A19: Topsoil Preparation (minimum of 1 acre) | E19: =C19*D19 -> 0
A20: Spread Cow Manure as Soil Amendment (20 Tons/Acre@ $50 acre) | C20: 50 | D20: 2.92 | E20: =C20*D20 -> 146
A21: Disc to incorporate on 1 acres ($50.00/Acre) | C21: 50 | D21: 2.92 | E21: =C21*D21 -> 146
A22: Drag Harrow to firm up seed bed on 1 acres ($50.00/Acre) | C22: 50 | D22: 2.92 | E22: =C22*D22 -> 146
A23: Seeding (minimum of 1 acre which includes road) | E23: =C23*D23 -> 0
A24: Seed Cost $14.00/lb @ 15 lbs/acre ($210/Acre) | C24: 210 | D24: 2.92 | E24: =C24*D24 -> 613.2
A25: Seeding with Grass Drill $232.00/Acre | C25: 232 | D25: 2.92 | E25: =C25*D25 -> 677.44
A26: Mulch and Crimp Straw @ 2 tons/acre $1058/Acre | C26: 1058 | D26: 2.92 | E26: =C26*D26 -> 3089.36
A27: %25 Failure rate replacement seeding $110/Acre (no additional mulch) | C27: 110 | D27: 2.92 | E27: =C27*D27 -> 321.2
A28: Site Soil Testing- $414.00/sample | C28: 414 | D28: 1 | E28: =C28*D28 -> 414
A29: PID Testing ($.50/ft for lines) | C29: 0.5 | D29: 75 | E29: =C29*D29 -> 37.5
A30: ($150.00 each for tank and/or pad) | C30: 150 | D30: 1 | E30: =C30*D30 -> 150
A31: Straw Wattles ($2.00/linear foot installed) | C31: 2 | D31: 208 | E31: =C31*D31 -> 416
A32: or $416/ac based on 208 feet along lowest side) | C32: 416 | E32: =C32*D32 -> 0
A33: Stormwater Inspection, Weed Spraying, Mowing | E33: 2000
A36: Total Direct Costs | E36: =SUM(E6:E35) -> 19773.2
A37: Mobilization/Demobilization | E37: 630
A39: Total Financial Warranty | E39: =SUM(E36:E38) -> 20403.2
A42: Notes:
A43: Road Length (ft): | B43: 7833
A44: Initial Area of Disturbance (ac): | B44: 0.93
A45: Remaining Area of Disturbance (ac): | B45: 0.23
A46: Soil Type: | B46: Pultney Loam
A47: Salt Kill Considerations: | B47: No
A48: High Priority Habitat: | B48: No
A49: Rangeland or Cropland: | B49: Range

Sheet HUMPHREY #1A
A1: Strachan Exploration, Inc. Financial Assurance Warranty Calculation
A2: HUMPHREY #1A
A4: Reclamation Task and Quantity
C5: Unit cost | D5: # of units | E5: Item totals
A6: Equipment Removal (not completed with Plugging and Abandonment) | E6: =C6*D6 -> 0
A7: Tank removal @ $1,500.00/Tank | C7: 1500 | D7: 1 | E7: =C7*D7 -> 1500
A8: Pit reclamation | E8: =C8*D8 -> 0
A9: Liner Removal | E9: =C9*D9 -> 0
A10: Backfilling- Bobcat S86 Skid Steer Loader-$125.00/hr | C10: 125 | E10: =C10*D10 -> 0
A11: Misc | E11: =C11*D11 -> 0
A12: Road Reclamation (Using Road Grader) Total linear feet | C12: 1 | D12: 3549 | E12: =C12*D12 -> 3549
A13: $300/Hour to re-grade and rip road (300 feet/hr or $1.00/linear foot) | E13: =C13*D13 -> 0
A14: Rip and Re-Grade Site (not including roads) Acres Total | D14: 1.44 | E14: =C14*D14 -> 0
A15: Bobcat S86-$125.00/hour @ 1/2 acre/hour=$250/ac | C15: 250 | E15: =C15*D15 -> 0
A16: Topsoil Replacement -Import and re-spread topsoil @ 4 inches deep | E16: =C16*D16 -> 0
A17: Grading cost =$250/ac | C17: 250 | D17: 1.44 | E17: =C17*D17 -> 360
A18: 27 loads (20yds/load) @ $600/load=$16,200.00/Acre | C18: 16200 | D18: 1.44 | E18: =C18*D18 -> 23328
A19: Topsoil Preparation (minimum of 1 acre) | E19: =C19*D19 -> 0
A20: Spread Cow Manure as Soil Amendment (20 Tons/Acre@ $50 acre) | C20: 50 | D20: 2.64 | E20: =C20*D20 -> 132
A21: Disc to incorporate on 1 acres ($50.00/Acre) | C21: 50 | D21: 2.64 | E21: =C21*D21 -> 132
A22: Drag Harrow to firm up seed bed on 1 acres ($50.00/Acre) | C22: 50 | D22: 2.64 | E22: =C22*D22 -> 132
A23: Seeding (minimum of 1 acre which includes road) | E23: =C23*D23 -> 0
A24: Seed Cost $14.00/lb @ 15 lbs/acre ($210/Acre) | C24: 210 | D24: 2.64 | E24: =C24*D24 -> 554.4
A25: Seeding with Grass Drill $232.00/Acre | C25: 232 | D25: 2.64 | E25: =C25*D25 -> 612.48
A26: Mulch and Crimp Straw @ 2 tons/acre $1058/Acre | C26: 1058 | D26: 2.64 | E26: =C26*D26 -> 2793.12
A27: %25 Failure rate replacement seeding $110/Acre (no additional mulch) | C27: 110 | D27: 2.64 | E27: =C27*D27 -> 290.4
A28: Site Soil Testing- $414.00/sample | C28: 414 | D28: 1 | E28: =C28*D28 -> 414
A29: PID Testing ($.50/ft for lines) | C29: 0.5 | D29: 100 | E29: =C29*D29 -> 50
A30: ($150.00 each for tank and/or pad) | C30: 150 | D30: 2 | E30: =C30*D30 -> 300
A31: Straw Wattles ($2.00/linear foot installed) | C31: 2 | D31: 208 | E31: =C31*D31 -> 416
A32: or $416/ac based on 208 feet along lowest side) | C32: 416 | E32: =C32*D32 -> 0
A33: Stormwater Inspection, Weed Spraying, Mowing | E33: 2000
A36: Total Direct Costs | E36: =SUM(E6:E35) -> 36563.4
A37: Mobilization/Demobilization | E37: 630
A39: Total Financial Warranty | E39: =SUM(E36:E38) -> 37193.4
A42: Notes:
A43: Road Length (ft): | B43: 3549
A44: Initial Area of Disturbance (ac): | B44: 3.01
A45: Remaining Area of Disturbance (ac): | B45: 1.44
A46: Soil Type: | B46: Olney Sandy Loam
A47: Salt Kill Considerations: | B47: No
A48: High Priority Habitat: | B48: No
A49: Rangeland or Cropland: | B49: Range

Sheet SPARTAN #1
A1: Strachan Exploration, Inc. Financial Assurance Warranty Calculation
A2: SPARTAN #1
A4: Reclamation Task and Quantity
C5: Unit cost | D5: # of units | E5: Item totals
A6: Equipment Removal (not completed with Plugging and Abandonment) | E6: =C6*D6 -> 0
A7: Tank removal @ $1,500.00/Tank | C7: 1500 | D7: 1 | E7: =C7*D7 -> 1500
A8: Pit reclamation | E8: =C8*D8 -> 0
A9: Liner Removal | E9: =C9*D9 -> 0
A10: Backfilling- Bobcat S86 Skid Steer Loader-$125.00/hr | C10: 125 | E10: =C10*D10 -> 0
A11: Misc | E11: =C11*D11 -> 0
A12: Road Reclamation (Using Road Grader) Total linear feet | C12: 1 | D12: 661 | E12: =C12*D12 -> 661
A13: $300/Hour to re-grade and rip road (300 feet/hr or $1.00/linear foot) | E13: =C13*D13 -> 0
A14: Rip and Re-Grade Site (not including roads) Acres Total | D14: 0.46 | E14: =C14*D14 -> 0
A15: Bobcat S86-$125.00/hour @ 1/2 acre/hour=$250/ac | C15: 250 | E15: =C15*D15 -> 0
A16: Topsoil Replacement -Import and re-spread topsoil @ 4 inches deep | E16: =C16*D16 -> 0
A17: Grading cost =$250/ac | C17: 250 | D17: 0.46 | E17: =C17*D17 -> 115
A18: 27 loads (20yds/load) @ $600/load=$16,200.00/Acre | C18: 16200 | D18: 0.46 | E18: =C18*D18 -> 7452
A19: Topsoil Preparation (minimum of 1 acre) | E19: =C19*D19 -> 0
A20: Spread Cow Manure as Soil Amendment (20 Tons/Acre@ $50 acre) | C20: 50 | D20: 1 | E20: =C20*D20 -> 50
A21: Disc to incorporate on 1 acres ($50.00/Acre) | C21: 50 | D21: 1 | E21: =C21*D21 -> 50
A22: Drag Harrow to firm up seed bed on 1 acres ($50.00/Acre) | C22: 50 | D22: 1 | E22: =C22*D22 -> 50
A23: Seeding (minimum of 1 acre which includes road) | E23: =C23*D23 -> 0
A24: Seed Cost $14.00/lb @ 15 lbs/acre ($210/Acre) | C24: 210 | D24: 1 | E24: =C24*D24 -> 210
A25: Seeding with Grass Drill $232.00/Acre | C25: 232 | D25: 1 | E25: =C25*D25 -> 232
A26: Mulch and Crimp Straw @ 2 tons/acre $1058/Acre | C26: 1058 | D26: 1 | E26: =C26*D26 -> 1058
A27: %25 Failure rate replacement seeding $110/Acre (no additional mulch) | C27: 110 | D27: 1 | E27: =C27*D27 -> 110
A28: Site Soil Testing- $414.00/sample | C28: 414 | D28: 1 | E28: =C28*D28 -> 414
A29: PID Testing ($.50/ft for lines) | C29: 0.5 | D29: 150 | E29: =C29*D29 -> 75
A30: ($150.00 each for tank and/or pad) | C30: 150 | D30: 2 | E30: =C30*D30 -> 300
A31: Straw Wattles ($2.00/linear foot installed) | C31: 2 | D31: 208 | E31: =C31*D31 -> 416
A32: or $416/ac based on 208 feet along lowest side) | C32: 416 | E32: =C32*D32 -> 0
A33: Stormwater Inspection, Weed Spraying, Mowing | E33: 2000
A36: Total Direct Costs | E36: =SUM(E6:E35) -> 14693
A37: Mobilization/Demobilization | E37: 630
A39: Total Financial Warranty | E39: =SUM(E36:E38) -> 15323
A42: Notes:
A43: Road Length (ft): | B43: 661
A44: Initial Area of Disturbance (ac): | B44: 1.78
A45: Remaining Area of Disturbance (ac): | B45: 0.46
A46: Soil Type: | B46: Manvel and Minnequa Loam
A47: Salt Kill Considerations: | B47: No
A48: High Priority Habitat: | B48: No
A49: Rangeland or Cropland: | B49: Range

Sheet WEIMER #1-K24-21-48
A1: Strachan Exploration, Inc. Financial Assurance Warranty Calculation
A2: WEIMER #1-K24-21-48
A4: Reclamation Task and Quantity
C5: Unit cost | D5: # of units | E5: Item totals
A6: Equipment Removal (not completed with Plugging and Abandonment) | E6: =C6*D6 -> 0
A7: Tank removal @ $1,500.00/Tank | E7: =C7*D7 -> 0
A8: Pit reclamation | E8: =C8*D8 -> 0
A9: Liner Removal | E9: =C9*D9 -> 0
A10: Backfilling- Bobcat S86 Skid Steer Loader-$125.00/hr | C10: 125 | E10: =C10*D10 -> 0
A11: Misc | E11: =C11*D11 -> 0
A12: Road Reclamation (Using Road Grader) Total linear feet | C12: 1 | D12: 255 | E12: =C12*D12 -> 255
A13: $300/Hour to re-grade and rip road (300 feet/hr or $1.00/linear foot) | E13: =C13*D13 -> 0
A14: Rip and Re-Grade Site (not including roads) Acres Total | D14: 0.13 | E14: =C14*D14 -> 0
A15: Bobcat S86-$125.00/hour @ 1/2 acre/hour=$250/ac | C15: 250 | E15: =C15*D15 -> 0
A16: Topsoil Replacement -Import and re-spread topsoil @ 4 inches deep | E16: =C16*D16 -> 0
A17: Grading cost =$250/ac | C17: 250 | D17: 0.13 | E17: =C17*D17 -> 32.5
A18: 27 loads (20yds/load) @ $600/load=$16,200.00/Acre | C18: 16200 | D18: 0.13 | E18: =C18*D18 -> 2106
A19: Topsoil Preparation (minimum of 1 acre) | E19: =C19*D19 -> 0
A20: Spread Cow Manure as Soil Amendment (20 Tons/Acre@ $50 acre) | C20: 50 | D20: 1 | E20: =C20*D20 -> 50
A21: Disc to incorporate on 1 acres ($50.00/Acre) | C21: 50 | D21: 1 | E21: =C21*D21 -> 50
A22: Drag Harrow to firm up seed bed on 1 acres ($50.00/Acre) | C22: 50 | D22: 1 | E22: =C22*D22 -> 50
A23: Seeding (minimum of 1 acre which includes road) | E23: =C23*D23 -> 0
A24: Seed Cost $14.00/lb @ 15 lbs/acre ($210/Acre) | C24: 210 | D24: 1 | E24: =C24*D24 -> 210
A25: Seeding with Grass Drill $232.00/Acre | C25: 232 | D25: 1 | E25: =C25*D25 -> 232
A26: Mulch and Crimp Straw @ 2 tons/acre $1058/Acre | C26: 1058 | D26: 1 | E26: =C26*D26 -> 1058
A27: %25 Failure rate replacement seeding $110/Acre (no additional mulch) | C27: 110 | D27: 1 | E27: =C27*D27 -> 110
A28: Site Soil Testing- $414.00/sample | C28: 414 | D28: 1 | E28: =C28*D28 -> 414
A29: PID Testing ($.50/ft for lines) | C29: 0.5 | D29: 75 | E29: =C29*D29 -> 37.5
A30: ($150.00 each for tank and/or pad) | C30: 150 | D30: 1 | E30: =C30*D30 -> 150
A31: Straw Wattles ($2.00/linear foot installed) | C31: 2 | D31: 208 | E31: =C31*D31 -> 416
A32: or $416/ac based on 208 feet along lowest side) | C32: 416 | E32: =C32*D32 -> 0
A33: Stormwater Inspection, Weed Spraying, Mowing | E33: 2000
A36: Total Direct Costs | E36: =SUM(E6:E35) -> 7171
A37: Mobilization/Demobilization | E37: 630
A39: Total Financial Warranty | E39: =SUM(E36:E38) -> 7801
A42: Notes:
A43: Road Length (ft): | B43: 255
A44: Initial Area of Disturbance (ac): | B44: 0.24
A45: Remaining Area of Disturbance (ac): | B45: 0.13
A46: Soil Type: | B46: Rocky Ford Clay Loam
A47: Salt Kill Considerations: | B47: No
A48: High Priority Habitat: | B48: No
A49: Rangeland or Cropland: | B49: Crop

Sheet WEINMAN #1-27
A1: Strachan Exploration, Inc. Financial Assurance Warranty Calculation
A2: WEINMAN #1-27
A4: Reclamation Task and Quantity
C5: Unit cost | D5: # of units | E5: Item totals
A6: Equipment Removal (not completed with Plugging and Abandonment) | E6: =C6*D6 -> 0
A7: Tank removal @ $1,500.00/Tank | E7: =C7*D7 -> 0
A8: Pit reclamation | E8: =C8*D8 -> 0
A9: Liner Removal | E9: =C9*D9 -> 0
A10: Backfilling- Bobcat S86 Skid Steer Loader-$125.00/hr | C10: 125 | E10: =C10*D10 -> 0
A11: Misc | E11: =C11*D11 -> 0
A12: Road Reclamation (Using Road Grader) Total linear feet | C12: 1 | D12: 1239 | E12: =C12*D12 -> 1239
A13: $300/Hour to re-grade and rip road (300 feet/hr or $1.00/linear foot) | E13: =C13*D13 -> 0
A14: Rip and Re-Grade Site (not including roads) Acres Total | D14: 0.46 | E14: =C14*D14 -> 0
A15: Bobcat S86-$125.00/hour @ 1/2 acre/hour=$250/ac | C15: 250 | E15: =C15*D15 -> 0
A16: Topsoil Replacement -Import and re-spread topsoil @ 4 inches deep | E16: =C16*D16 -> 0
A17: Grading cost =$250/ac | C17: 250 | D17: 0.46 | E17: =C17*D17 -> 115
A18: 27 loads (20yds/load) @ $600/load=$16,200.00/Acre | C18: 16200 | D18: 0.46 | E18: =C18*D18 -> 7452
A19: Topsoil Preparation (minimum of 1 acre) | E19: =C19*D19 -> 0
A20: Spread Cow Manure as Soil Amendment (20 Tons/Acre@ $50 acre) | C20: 50 | D20: 1 | E20: =C20*D20 -> 50
A21: Disc to incorporate on 1 acres ($50.00/Acre) | C21: 50 | D21: 1 | E21: =C21*D21 -> 50
A22: Drag Harrow to firm up seed bed on 1 acres ($50.00/Acre) | C22: 50 | D22: 1 | E22: =C22*D22 -> 50
A23: Seeding (minimum of 1 acre which includes road) | E23: =C23*D23 -> 0
A24: Seed Cost $14.00/lb @ 15 lbs/acre ($210/Acre) | C24: 210 | D24: 1 | E24: =C24*D24 -> 210
A25: Seeding with Grass Drill $232.00/Acre | C25: 232 | D25: 1 | E25: =C25*D25 -> 232
A26: Mulch and Crimp Straw @ 2 tons/acre $1058/Acre | C26: 1058 | D26: 1 | E26: =C26*D26 -> 1058
A27: %25 Failure rate replacement seeding $110/Acre (no additional mulch) | C27: 110 | D27: 1 | E27: =C27*D27 -> 110
A28: Site Soil Testing- $414.00/sample | C28: 414 | D28: 1 | E28: =C28*D28 -> 414
A29: PID Testing ($.50/ft for lines) | C29: 0.5 | D29: 60 | E29: =C29*D29 -> 30
A30: ($150.00 each for tank and/or pad) | C30: 150 | D30: 1 | E30: =C30*D30 -> 150
A31: Straw Wattles ($2.00/linear foot installed) | C31: 2 | D31: 208 | E31: =C31*D31 -> 416
A32: or $416/ac based on 208 feet along lowest side) | C32: 416 | E32: =C32*D32 -> 0
A33: Stormwater Inspection, Weed Spraying, Mowing | E33: 2000
A36: Total Direct Costs | E36: =SUM(E6:E35) -> 13576
A37: Mobilization/Demobilization | E37: 630
A39: Total Financial Warranty | E39: =SUM(E36:E38) -> 14206
A42: Notes:
A43: Road Length (ft): | B43: 1239
A44: Initial Area of Disturbance (ac): | B44: 1.01
A45: Remaining Area of Disturbance (ac): | B45: 0.46
A46: Soil Type: | B46: Baca Wiley Complex
A47: Salt Kill Considerations: | B47: No
A48: High Priority Habitat: | B48: No
A49: Rangeland or Cropland: | B49: Crop

Sheet WOOLFOLK-STATE A #1
A1: Strachan Exploration, Inc. Financial Assurance Warranty Calculation
A2: WOOLFOLK-STATE A #1
A4: Reclamation Task and Quantity
C5: Unit cost | D5: # of units | E5: Item totals
A6: Equipment Removal (not completed with Plugging and Abandonment) | E6: =C6*D6 -> 0
A7: Tank removal @ $1,500.00/Tank | E7: =C7*D7 -> 0
A8: Pit reclamation | E8: =C8*D8 -> 0
A9: Liner Removal | E9: =C9*D9 -> 0
A10: Backfilling- Bobcat S86 Skid Steer Loader-$125.00/hr | C10: 125 | E10: =C10*D10 -> 0
A11: Misc | E11: =C11*D11 -> 0
A12: Road Reclamation (Using Road Grader) Total linear feet | C12: 1 | D12: 459 | E12: =C12*D12 -> 459
A13: $300/Hour to re-grade and rip road (300 feet/hr or $1.00/linear foot) | E13: =C13*D13 -> 0
A14: Rip and Re-Grade Site (not including roads) Acres Total | D14: 0.48 | E14: =C14*D14 -> 0
A15: Bobcat S86-$125.00/hour @ 1/2 acre/hour=$250/ac | C15: 250 | E15: =C15*D15 -> 0
A16: Topsoil Replacement -Import and re-spread topsoil @ 4 inches deep | E16: =C16*D16 -> 0
A17: Grading cost =$250/ac | C17: 250 | D17: 0.48 | E17: =C17*D17 -> 120
A18: 27 loads (20yds/load) @ $600/load=$16,200.00/Acre | C18: 16200 | D18: 0.48 | E18: =C18*D18 -> 7776
A19: Topsoil Preparation (minimum of 1 acre) | E19: =C19*D19 -> 0
A20: Spread Cow Manure as Soil Amendment (20 Tons/Acre@ $50 acre) | C20: 50 | D20: 1 | E20: =C20*D20 -> 50
A21: Disc to incorporate on 1 acres ($50.00/Acre) | C21: 50 | D21: 1 | E21: =C21*D21 -> 50
A22: Drag Harrow to firm up seed bed on 1 acres ($50.00/Acre) | C22: 50 | D22: 1 | E22: =C22*D22 -> 50
A23: Seeding (minimum of 1 acre which includes road) | E23: =C23*D23 -> 0
A24: Seed Cost $14.00/lb @ 15 lbs/acre ($210/Acre) | C24: 210 | D24: 1 | E24: =C24*D24 -> 210
A25: Seeding with Grass Drill $232.00/Acre | C25: 232 | D25: 1 | E25: =C25*D25 -> 232
A26: Mulch and Crimp Straw @ 2 tons/acre $1058/Acre | C26: 1058 | D26: 1 | E26: =C26*D26 -> 1058
A27: %25 Failure rate replacement seeding $110/Acre (no additional mulch) | C27: 110 | D27: 1 | E27: =C27*D27 -> 110
A28: Site Soil Testing- $414.00/sample | C28: 414 | D28: 1 | E28: =C28*D28 -> 414
A29: PID Testing ($.50/ft for lines) | C29: 0.5 | D29: 180 | E29: =C29*D29 -> 90
A30: ($150.00 each for tank and/or pad) | C30: 150 | D30: 2 | E30: =C30*D30 -> 300
A31: Straw Wattles ($2.00/linear foot installed) | C31: 2 | D31: 208 | E31: =C31*D31 -> 416
A32: or $416/ac based on 208 feet along lowest side) | C32: 416 | E32: =C32*D32 -> 0
A33: Stormwater Inspection, Weed Spraying, Mowing | E33: 2000
A36: Total Direct Costs | E36: =SUM(E6:E35) -> 13335
A37: Mobilization/Demobilization | E37: 630
A39: Total Financial Warranty | E39: =SUM(E36:E38) -> 13965
A42: Notes:
A43: Road Length (ft): | B43: 459
A44: Initial Area of Disturbance (ac): | B44: 0.87
A45: Remaining Area of Disturbance (ac): | B45: 0.48
A46: Soil Type: | B46: Ft Collins Sandy Loam
A47: Salt Kill Considerations: | B47: No
A48: High Priority Habitat: | B48: No
A49: Rangeland or Cropland: | B49: Range

Sheet WOOLFOLK STATE #2-32
A1: Strachan Exploration, Inc. Financial Assurance Warranty Calculation
A2: WOOLFOLK STATE #2-32
A4: Reclamation Task and Quantity
C5: Unit cost | D5: # of units | E5: Item totals
A6: Equipment Removal (not completed with Plugging and Abandonment) | E6: =C6*D6 -> 0
A7: Tank removal @ $1,500.00/Tank | E7: =C7*D7 -> 0
A8: Pit reclamation | E8: =C8*D8 -> 0
A9: Liner Removal | E9: =C9*D9 -> 0
A10: Backfilling- Bobcat S86 Skid Steer Loader-$125.00/hr | C10: 125 | E10: =C10*D10 -> 0
A11: Misc | E11: =C11*D11 -> 0
A12: Road Reclamation (Using Road Grader) Total linear feet | C12: 1 | D12: 2068 | E12: =C12*D12 -> 2068
A13: $300/Hour to re-grade and rip road (300 feet/hr or $1.00/linear foot) | E13: =C13*D13 -> 0
A14: Rip and Re-Grade Site (not including roads) Acres Total | D14: 0.18 | E14: =C14*D14 -> 0
A15: Bobcat S86-$125.00/hour @ 1/2 acre/hour=$250/ac | C15: 250 | E15: =C15*D15 -> 0
A16: Topsoil Replacement -Import and re-spread topsoil @ 4 inches deep | E16: =C16*D16 -> 0
A17: Grading cost =$250/ac | C17: 250 | D17: 0.18 | E17: =C17*D17 -> 45
A18: 27 loads (20yds/load) @ $600/load=$16,200.00/Acre | C18: 16200 | D18: 0.18 | E18: =C18*D18 -> 2916
A19: Topsoil Preparation (minimum of 1 acre) | E19: =C19*D19 -> 0
A20: Spread Cow Manure as Soil Amendment (20 Tons/Acre@ $50 acre) | C20: 50 | D20: 1 | E20: =C20*D20 -> 50
A21: Disc to incorporate on 1 acres ($50.00/Acre) | C21: 50 | D21: 1 | E21: =C21*D21 -> 50
A22: Drag Harrow to firm up seed bed on 1 acres ($50.00/Acre) | C22: 50 | D22: 1 | E22: =C22*D22 -> 50
A23: Seeding (minimum of 1 acre which includes road) | E23: =C23*D23 -> 0
A24: Seed Cost $14.00/lb @ 15 lbs/acre ($210/Acre) | C24: 210 | D24: 1 | E24: =C24*D24 -> 210
A25: Seeding with Grass Drill $232.00/Acre | C25: 232 | D25: 1 | E25: =C25*D25 -> 232
A26: Mulch and Crimp Straw @ 2 tons/acre $1058/Acre | C26: 1058 | D26: 1 | E26: =C26*D26 -> 1058
A27: %25 Failure rate replacement seeding $110/Acre (no additional mulch) | C27: 110 | D27: 1 | E27: =C27*D27 -> 110
A28: Site Soil Testing- $414.00/sample | C28: 414 | D28: 1 | E28: =C28*D28 -> 414
A29: PID Testing ($.50/ft for lines) | C29: 0.5 | D29: 100 | E29: =C29*D29 -> 50
A30: ($150.00 each for tank and/or pad) | C30: 150 | D30: 1 | E30: =C30*D30 -> 150
A31: Straw Wattles ($2.00/linear foot installed) | C31: 2 | D31: 208 | E31: =C31*D31 -> 416
A32: or $416/ac based on 208 feet along lowest side) | C32: 416 | E32: =C32*D32 -> 0
A33: Stormwater Inspection, Weed Spraying, Mowing | E33: 2000
A36: Total Direct Costs | E36: =SUM(E6:E35) -> 9819
A37: Mobilization/Demobilization | E37: 630
A39: Total Financial Warranty | E39: =SUM(E36:E38) -> 10449
A42: Notes:
A43: Road Length (ft): | B43: 2068
A44: Initial Area of Disturbance (ac): | B44: 0.5
A45: Remaining Area of Disturbance (ac): | B45: 0.18
A46: Soil Type: | B46: Ft Collins Sandy Loam
A47: Salt Kill Considerations: | B47: No
A48: High Priority Habitat: | B48: No
A49: Rangeland or Cropland: | B49: Range

Sheet SEMMENS #1A
A1: Strachan Exploration, Inc. Financial Assurance Warranty Calculation
A2: SEMMENS #1A
A4: Reclamation Task and Quantity
C5: Unit cost | D5: # of units | E5: Item totals
A6: Equipment Removal (not completed with Plugging and Abandonment) | E6: =C6*D6 -> 0
A7: Tank removal @ $1,500.00/Tank | C7: 1500 | D7: 1 | E7: =C7*D7 -> 1500
A8: Pit reclamation | E8: =C8*D8 -> 0
A9: Liner Removal | E9: =C9*D9 -> 0
A10: Backfilling- Bobcat S86 Skid Steer Loader-$125.00/hr | C10: 125 | E10: =C10*D10 -> 0
A11: Misc | E11: =C11*D11 -> 0
A12: Road Reclamation (Using Road Grader) Total linear feet | C12: 1 | D12: 2154 | E12: =C12*D12 -> 2154
A13: $300/Hour to re-grade and rip road (300 feet/hr or $1.00/linear foot) | E13: =C13*D13 -> 0
A14: Rip and Re-Grade Site (not including roads) Acres Total | D14: 0.47 | E14: =C14*D14 -> 0
A15: Bobcat S86-$125.00/hour @ 1/2 acre/hour=$250/ac | C15: 250 | E15: =C15*D15 -> 0
A16: Topsoil Replacement -Import and re-spread topsoil @ 4 inches deep | E16: =C16*D16 -> 0
A17: Grading cost =$250/ac | C17: 250 | D17: 0.47 | E17: =C17*D17 -> 117.5
A18: 27 loads (20yds/load) @ $600/load=$16,200.00/Acre | C18: 16200 | D18: 0.47 | E18: =C18*D18 -> 7614
A19: Topsoil Preparation (minimum of 1 acre) | E19: =C19*D19 -> 0
A20: Spread Cow Manure as Soil Amendment (20 Tons/Acre@ $50 acre) | C20: 50 | D20: 1.2 | E20: =C20*D20 -> 60
A21: Disc to incorporate on 1 acres ($50.00/Acre) | C21: 50 | D21: 1.2 | E21: =C21*D21 -> 60
A22: Drag Harrow to firm up seed bed on 1 acres ($50.00/Acre) | C22: 50 | D22: 1.2 | E22: =C22*D22 -> 60
A23: Seeding (minimum of 1 acre which includes road) | E23: =C23*D23 -> 0
A24: Seed Cost $14.00/lb @ 15 lbs/acre ($210/Acre) | C24: 210 | D24: 1.2 | E24: =C24*D24 -> 252
A25: Seeding with Grass Drill $232.00/Acre | C25: 232 | D25: 1.2 | E25: =C25*D25 -> 278.4
A26: Mulch and Crimp Straw @ 2 tons/acre $1058/Acre | C26: 1058 | D26: 1.2 | E26: =C26*D26 -> 1269.6
A27: %25 Failure rate replacement seeding $110/Acre (no additional mulch) | C27: 110 | D27: 1.2 | E27: =C27*D27 -> 132
A28: Site Soil Testing- $414.00/sample | C28: 414 | D28: 1 | E28: =C28*D28 -> 414
A29: PID Testing ($.50/ft for lines) | C29: 0.5 | D29: 220 | E29: =C29*D29 -> 110
A30: ($150.00 each for tank and/or pad) | C30: 150 | D30: 2 | E30: =C30*D30 -> 300
A31: Straw Wattles ($2.00/linear foot installed) | C31: 2 | D31: 208 | E31: =C31*D31 -> 416
A32: or $416/ac based on 208 feet along lowest side) | C32: 416 | E32: =C32*D32 -> 0
A33: Stormwater Inspection, Weed Spraying, Mowing | E33: 2000
A36: Total Direct Costs | E36: =SUM(E6:E35) -> 16737.5
A37: Mobilization/Demobilization | E37: 630
A39: Total Financial Warranty | E39: =SUM(E36:E38) -> 17367.5
A42: Notes:
A43: Road Length (ft): | B43: 2154
A44: Initial Area of Disturbance (ac): | B44: 2.04
A45: Remaining Area of Disturbance (ac): | B45: 0.53
A46: Soil Type: | B46: Baca Silt Loam
A47: Salt Kill Considerations: | B47: No
A48: High Priority Habitat: | B48: No
A49: Rangeland or Cropland: | B49: Range

Sheet SEMMENS #2
A1: Strachan Exploration, Inc. Financial Assurance Warranty Calculation
A2: SEMMENS #2
A4: Reclamation Task and Quantity
C5: Unit cost | D5: # of units | E5: Item totals
A6: Equipment Removal (not completed with Plugging and Abandonment) | E6: =C6*D6 -> 0
A7: Tank removal @ $1,500.00/Tank | C7: 1500 | E7: =C7*D7 -> 0
A8: Pit reclamation | E8: =C8*D8 -> 0
A9: Liner Removal | E9: =C9*D9 -> 0
A10: Backfilling- Bobcat S86 Skid Steer Loader-$125.00/hr | C10: 125 | E10: =C10*D10 -> 0
A11: Misc | E11: =C11*D11 -> 0
A12: Road Reclamation (Using Road Grader) Total linear feet | C12: 1 | D12: 2995 | E12: =C12*D12 -> 2995
A13: $300/Hour to re-grade and rip road (300 feet/hr or $1.00/linear foot) | E13: =C13*D13 -> 0
A14: Rip and Re-Grade Site (not including roads) Acres Total | D14: 0.08 | E14: =C14*D14 -> 0
A15: Bobcat S86-$125.00/hour @ 1/2 acre/hour=$250/ac | C15: 250 | E15: =C15*D15 -> 0
A16: Topsoil Replacement -Import and re-spread topsoil @ 4 inches deep | E16: =C16*D16 -> 0
A17: Grading cost =$250/ac | C17: 250 | D17: 0.08 | E17: =C17*D17 -> 20
A18: 27 loads (20yds/load) @ $600/load=$16,200.00/Acre | C18: 16200 | D18: 0.08 | E18: =C18*D18 -> 1296
A19: Topsoil Preparation (minimum of 1 acre) | E19: =C19*D19 -> 0
A20: Spread Cow Manure as Soil Amendment (20 Tons/Acre@ $50 acre) | C20: 50 | D20: 1.5 | E20: =C20*D20 -> 75
A21: Disc to incorporate on 1 acres ($50.00/Acre) | C21: 50 | D21: 1.5 | E21: =C21*D21 -> 75
A22: Drag Harrow to firm up seed bed on 1 acres ($50.00/Acre) | C22: 50 | D22: 1.5 | E22: =C22*D22 -> 75
A23: Seeding (minimum of 1 acre which includes road) | E23: =C23*D23 -> 0
A24: Seed Cost $14.00/lb @ 15 lbs/acre ($210/Acre) | C24: 210 | D24: 1.5 | E24: =C24*D24 -> 315
A25: Seeding with Grass Drill $232.00/Acre | C25: 232 | D25: 1.5 | E25: =C25*D25 -> 348
A26: Mulch and Crimp Straw @ 2 tons/acre $1058/Acre | C26: 1058 | D26: 1.5 | E26: =C26*D26 -> 1587
A27: %25 Failure rate replacement seeding $110/Acre (no additional mulch) | C27: 110 | D27: 1.5 | E27: =C27*D27 -> 165
A28: Site Soil Testing- $414.00/sample | C28: 414 | D28: 1 | E28: =C28*D28 -> 414
A29: PID Testing ($.50/ft for lines) | C29: 0.5 | D29: 75 | E29: =C29*D29 -> 37.5
A30: ($150.00 each for tank and/or pad) | C30: 150 | D30: 1 | E30: =C30*D30 -> 150
A31: Straw Wattles ($2.00/linear foot installed) | C31: 2 | D31: 208 | E31: =C31*D31 -> 416
A32: or $416/ac based on 208 feet along lowest side) | C32: 416 | E32: =C32*D32 -> 0
A33: Stormwater Inspection, Weed Spraying, Mowing | E33: 2000
A36: Total Direct Costs | E36: =SUM(E6:E35) -> 9968.5
A37: Mobilization/Demobilization | E37: 630
A39: Total Financial Warranty | E39: =SUM(E36:E38) -> 10598.5
A42: Notes:
A43: Road Length (ft): | B43: 2995
A44: Initial Area of Disturbance (ac): | B44: 1.02
A45: Remaining Area of Disturbance (ac): | B45: 0.08
A46: Soil Type: | B46: Baca Silt Loam
A47: Salt Kill Considerations: | B47: No
A48: High Priority Habitat: | B48: No
A49: Rangeland or Cropland: | B49: Range

Sheet ERRAMUSPE STATE #2-34
A1: Strachan Exploration, Inc. Financial Assurance Warranty Calculation
A2: ERRAMUSPE STATE #2-34
A4: Reclamation Task and Quantity
C5: Unit cost | D5: # of units | E5: Item totals
A6: Equipment Removal (not completed with Plugging and Abandonment) | E6: =C6*D6 -> 0
A7: Tank removal @ $1,500.00/Tank | C7: 1500 | D7: 1 | E7: =C7*D7 -> 1500
A8: Pit reclamation | E8: =C8*D8 -> 0
A9: Liner Removal | E9: =C9*D9 -> 0
A10: Backfilling- Bobcat S86 Skid Steer Loader-$125.00/hr | C10: 125 | E10: =C10*D10 -> 0
A11: Misc | E11: =C11*D11 -> 0
A12: Road Reclamation (Using Road Grader) Total linear feet | C12: 1 | D12: 3285 | E12: =C12*D12 -> 3285
A13: $300/Hour to re-grade and rip road (300 feet/hr or $1.00/linear foot) | E13: =C13*D13 -> 0
A14: Rip and Re-Grade Site (not including roads) Acres Total | D14: 0.47 | E14: =C14*D14 -> 0
A15: Bobcat S86-$125.00/hour @ 1/2 acre/hour=$250/ac | C15: 250 | E15: =C15*D15 -> 0
A16: Topsoil Replacement -Import and re-spread topsoil @ 4 inches deep | E16: =C16*D16 -> 0
A17: Grading cost =$250/ac | C17: 250 | D17: 0.47 | E17: =C17*D17 -> 117.5
A18: 27 loads (20yds/load) @ $600/load=$16,200.00/Acre | C18: 16200 | D18: 0.47 | E18: =C18*D18 -> 7614
A19: Topsoil Preparation (minimum of 1 acre) | E19: =C19*D19 -> 0
A20: Spread Cow Manure as Soil Amendment (20 Tons/Acre@ $50 acre) | C20: 50 | D20: 1.6 | E20: =C20*D20 -> 80
A21: Disc to incorporate on 1 acres ($50.00/Acre) | C21: 50 | D21: 1.6 | E21: =C21*D21 -> 80
A22: Drag Harrow to firm up seed bed on 1 acres ($50.00/Acre) | C22: 50 | D22: 1.6 | E22: =C22*D22 -> 80
A23: Seeding (minimum of 1 acre which includes road) | E23: =C23*D23 -> 0
A24: Seed Cost $14.00/lb @ 15 lbs/acre ($210/Acre) | C24: 210 | D24: 1.6 | E24: =C24*D24 -> 336
A25: Seeding with Grass Drill $232.00/Acre | C25: 232 | D25: 1.6 | E25: =C25*D25 -> 371.2
A26: Mulch and Crimp Straw @ 2 tons/acre $1058/Acre | C26: 1058 | D26: 1.6 | E26: =C26*D26 -> 1692.8
A27: %25 Failure rate replacement seeding $110/Acre (no additional mulch) | C27: 110 | D27: 1.6 | E27: =C27*D27 -> 176
A28: Site Soil Testing- $414.00/sample | C28: 414 | D28: 1 | E28: =C28*D28 -> 414
A29: PID Testing ($.50/ft for lines) | C29: 0.5 | D29: 75 | E29: =C29*D29 -> 37.5
A30: ($150.00 each for tank and/or pad) | C30: 150 | D30: 2 | E30: =C30*D30 -> 300
A31: Straw Wattles ($2.00/linear foot installed) | C31: 2 | D31: 208 | E31: =C31*D31 -> 416
A32: or $416/ac based on 208 feet along lowest side) | C32: 416 | E32: =C32*D32 -> 0
A33: Stormwater Inspection, Weed Spraying, Mowing | E33: 2000
A36: Total Direct Costs | E36: =SUM(E6:E35) -> 18500
A37: Mobilization/Demobilization | E37: 630
A39: Total Financial Warranty | E39: =SUM(E36:E38) -> 19130
A42: Notes:
A43: Road Length (ft): | B43: 3285
A44: Initial Area of Disturbance (ac): | B44: 1.24
A45: Remaining Area of Disturbance (ac): | B45: 0.47
A46: Soil Type: | B46: Wiley Loam
A47: Salt Kill Considerations: | B47: No
A48: High Priority Habitat: | B48: No
A49: Rangeland or Cropland: | B49: Range

Sheet GRUENLOH #2
A1: Strachan Exploration, Inc. Financial Assurance Warranty Calculation
A2: GRUENLOH #2
A4: Reclamation Task and Quantity
C5: Unit cost | D5: # of units | E5: Item totals
A6: Equipment Removal (not completed with Plugging and Abandonment) | E6: =C6*D6 -> 0
A7: Tank removal @ $1,500.00/Tank | C7: 1500 | D7: 1 | E7: =C7*D7 -> 1500
A8: Pit reclamation | E8: =C8*D8 -> 0
A9: Liner Removal | E9: =C9*D9 -> 0
A10: Backfilling- Bobcat S86 Skid Steer Loader-$125.00/hr | C10: 125 | E10: =C10*D10 -> 0
A11: Misc | E11: =C11*D11 -> 0
A12: Road Reclamation (Using Road Grader) Total linear feet | C12: 1 | D12: 412 | E12: =C12*D12 -> 412
A13: $300/Hour to re-grade and rip road (300 feet/hr or $1.00/linear foot) | E13: =C13*D13 -> 0
A14: Rip and Re-Grade Site (not including roads) Acres Total | D14: 0.41 | E14: =C14*D14 -> 0
A15: Bobcat S86-$125.00/hour @ 1/2 acre/hour=$250/ac | C15: 250 | E15: =C15*D15 -> 0
A16: Topsoil Replacement -Import and re-spread topsoil @ 4 inches deep | E16: =C16*D16 -> 0
A17: Grading cost =$250/ac | C17: 250 | D17: 0.41 | E17: =C17*D17 -> 102.5
A18: 27 loads (20yds/load) @ $600/load=$16,200.00/Acre | C18: 16200 | D18: 0.41 | E18: =C18*D18 -> 6642
A19: Topsoil Preparation (minimum of 1 acre) | E19: =C19*D19 -> 0
A20: Spread Cow Manure as Soil Amendment (20 Tons/Acre@ $50 acre) | C20: 50 | D20: 1 | E20: =C20*D20 -> 50
A21: Disc to incorporate on 1 acres ($50.00/Acre) | C21: 50 | D21: 1 | E21: =C21*D21 -> 50
A22: Drag Harrow to firm up seed bed on 1 acres ($50.00/Acre) | C22: 50 | D22: 1 | E22: =C22*D22 -> 50
A23: Seeding (minimum of 1 acre which includes road) | E23: =C23*D23 -> 0
A24: Seed Cost $14.00/lb @ 15 lbs/acre ($210/Acre) | C24: 210 | D24: 1 | E24: =C24*D24 -> 210
A25: Seeding with Grass Drill $232.00/Acre | C25: 232 | D25: 1 | E25: =C25*D25 -> 232
A26: Mulch and Crimp Straw @ 2 tons/acre $1058/Acre | C26: 1058 | D26: 1 | E26: =C26*D26 -> 1058
A27: %25 Failure rate replacement seeding $110/Acre (no additional mulch) | C27: 110 | D27: 1 | E27: =C27*D27 -> 110
A28: Site Soil Testing- $414.00/sample | C28: 414 | D28: 1 | E28: =C28*D28 -> 414
A29: PID Testing ($.50/ft for lines) | C29: 0.5 | D29: 100 | E29: =C29*D29 -> 50
A30: ($150.00 each for tank and/or pad) | C30: 150 | D30: 2 | E30: =C30*D30 -> 300
A31: Straw Wattles ($2.00/linear foot installed) | C31: 2 | D31: 208 | E31: =C31*D31 -> 416
A32: or $416/ac based on 208 feet along lowest side) | C32: 416 | E32: =C32*D32 -> 0
A33: Stormwater Inspection, Weed Spraying, Mowing | E33: 2000
A36: Total Direct Costs | E36: =SUM(E6:E35) -> 13596.5
A37: Mobilization/Demobilization | E37: 630
A39: Total Financial Warranty | E39: =SUM(E36:E38) -> 14226.5
A42: Notes:
A43: Road Length (ft): | B43: 412
A44: Initial Area of Disturbance (ac): | B44: 1.83
A45: Remaining Area of Disturbance (ac): | B45: 0.41
A46: Soil Type: | B46: Wiley Silt Loam
A47: Salt Kill Considerations: | B47: No
A48: High Priority Habitat: | B48: No
A49: Rangeland or Cropland: | B49: Crop

Sheet GREEN #1-1
A1: Strachan Exploration, Inc. Financial Assurance Warranty Calculation
A2: GREEN #1-1 Pit
A4: Reclamation Task and Quantity
C5: Unit cost | D5: # of units | E5: Item totals
A6: Equipment Removal (not completed during Plugging and Abandonment) | E6: =C6*D6 -> 0
A7: Tank removal @ $1,5000.00/Tank | C7: 1500 | E7: =C7*D7 -> 0
A8: Pit reclamation | E8: =C8*D8 -> 0
A9: Liner Removal | E9: =C9*D9 -> 0
A10: Backfilling- Bobcat S86 Skid Steer Loader-$125.00/hr | C10: 125 | E10: =C10*D10 -> 0
A11: Misc | E11: =C11*D11 -> 0
A12: Road Reclamation (Using Road Grader) Total linear feet | C12: 1 | D12: 489 | E12: =C12*D12 -> 489
A13: $300/Hour to re-grade and rip road (300 feet/hr or $1.00/linear foot) | E13: =C13*D13 -> 0
A14: Rip and Re-Grade Site (not including roads) Acres Total | D14: 0.25 | E14: =C14*D14 -> 0
A15: Bobcat S86-$125.00/hour @ 1/2 acre/hour=$250/ac | C15: 250 | E15: =C15*D15 -> 0
A16: Topsoil Replacement -Import and re-spread topsoil @ 4 inches deep | E16: =C16*D16 -> 0
A17: Grading cost =$250/ac | C17: 250 | D17: 0.25 | E17: =C17*D17 -> 62.5
A18: 27 loads (20yds/load) @ $600/load=$16,200.00/Acre | C18: 16200 | D18: 0.25 | E18: =C18*D18 -> 4050
A19: Topsoil Preparation (minimum of 1 acre) | E19: =C19*D19 -> 0
A20: Spread Cow Manure as Soil Amendment (20 Tons/Acre@ $50 acre) | C20: 50 | D20: 1 | E20: =C20*D20 -> 50
A21: Disc to incorporate on 1 acres ($50.00/Acre) | C21: 50 | D21: 1 | E21: =C21*D21 -> 50
A22: Drag Harrow to firm up seed bed on 1 acres ($50.00/Acre) | C22: 50 | D22: 1 | E22: =C22*D22 -> 50
A23: Seeding (minimum of 1 acre which includes road) | E23: =C23*D23 -> 0
A24: Seed Cost $14.00/lb @ 15 lbs/acre ($210/Acre) | C24: 210 | D24: 1 | E24: =C24*D24 -> 210
A25: Seeding with Grass Drill $232.00/Acre | C25: 232 | D25: 1 | E25: =C25*D25 -> 232
A26: Mulch and Crimp Straw @ 2 tons/acre $1058/Acre | C26: 1058 | D26: 1 | E26: =C26*D26 -> 1058
A27: %25 Failure rate replacement seeding $110/Acre (no additional mulch) | C27: 110 | D27: 1 | E27: =C27*D27 -> 110
A28: Site Soil Testing- $414.00/sample | C28: 414 | D28: 1 | E28: =C28*D28 -> 414
A29: PID Testing ($.50/ft for lines) | C29: 0.5 | D29: 489 | E29: =C29*D29 -> 244.5
A30: ($150.00 each for tank and/or pad) | C30: 150 | D30: 1 | E30: =C30*D30 -> 150
A31: Straw Wattles ($2.00/linear foot installed) | C31: 2 | D31: 208 | E31: =C31*D31 -> 416
A32: or $416/ac based on 208 feet along lowest side) | C32: 416 | E32: =C32*D32 -> 0
A33: Stormwater Inspection, Weed Spraying, Mowing | E33: 2000
A36: Total Direct Costs | E36: =SUM(E6:E35) -> 9586
A37: Mobilization/Demobilization | E37: 630
A39: Total Financial Warranty | E39: =SUM(E36:E38) -> 10216
A42: Notes:
A43: Road Length (ft): | B43: 489
A44: Initial Area of Disturbance (ac): | B44: 1.71
A45: Remaining Area of Disturbance (ac): | B45: 0.25
A46: Soil Type: | B46: Olney Fine Sandy Loam
A47: Salt Kill Considerations: | B47: No
A48: High Priority Habitat: | B48: Pronghorn SWR
A49: Rangeland or Cropland: | B49: Crop

Sheet Green #1-1__
A1: Strachan Exploration, Inc. Financial Assurance Warranty Calculation
A2: Green #1-1
A4: Reclamation Task and Quantity
C5: Unit cost | D5: # of units | E5: Item totals
A6: Equipment Removal- Tanks, flow lines, valves, etc | E6: =C6*D6 -> 0
A7: Completed with Plugging and Abandonment | E7: =C7*D7 -> 0
A8: Tank Berms | E8: =C8*D8 -> 0
A9: Berms removed with Plugging and Abandonment | E9: =C9*D9 -> 0
A10: Pits | E10: =C10*D10 -> 0
A11: Pit reclamation | E11: =C11*D11 -> 0
A12: Road Reclamation (Using Road Grader) Total linear feet | E12: =C12*D12 -> 0
A13: $300/Hour to re-grade and rip road (300 feet/hr or $1.00/linear foot) | E13: =C13*D13 -> 0
A14: Rip and Re-Grade Site (not including roads) Acres Total | E14: =C14*D14 -> 0
A15: Road Grader $300.00/hour @ 1/2 acre/hour=$600/ac | E15: =C15*D15 -> 0
A16: Topsoil Replacement | E16: =C16*D16 -> 0
A17: Import and re-spread topsoil @ 4 inches deep over 1.0 acres | E17: =C17*D17 -> 0
... A32: or $416/ac based on 208 feet along lowest side) | E32: =C32*D32 -> 0
A33: Stormwater Inspection, Weed Spraying, Mowing | E33: 4475
A36: Total Direct Costs | E36: =SUM(E6:E35) -> 4475
A37: Mobilization/Demobilization | E37: 2000
A39: Total Financial Warranty | E39: =SUM(E36:E38) -> 6475
A42: Notes:
A43: Initial Area of Disturbance:
A44: Remaining Area of Disturbance:
A45: Wells on Location:
A46: Soil Type:
A47: Salt Kill Considerations:
A48: High Priority Habitat:
A49: Rangeland or Cropland:

Sheet GREEN #1-10 Tank
A1: Strachan Exploration, Inc. Financial Assurance Warranty Calculation
A2: GREEN #1-1 Pit
A4: Reclamation Task and Quantity
C5: Unit cost | D5: # of units | E5: Item totals
A6: Equipment Removal (not completed during Plugging and Abandonment) | E6: =C6*D6 -> 0
A7: Tank removal @ $1,5000.00/Tank | C7: 1500 | D7: 4 | E7: =C7*D7 -> 6000
A8: Pit reclamation | E8: =C8*D8 -> 0
A9: Liner Removal | E9: =C9*D9 -> 0
A10: Backfilling- Bobcat S86 Skid Steer Loader-$125.00/hr | C10: 125 | E10: =C10*D10 -> 0
A11: Misc | E11: =C11*D11 -> 0
A12: Road Reclamation (Using Road Grader) Total linear feet | C12: 1 | E12: =C12*D12 -> 0
A13: $300/Hour to re-grade and rip road (300 feet/hr or $1.00/linear foot) | E13: =C13*D13 -> 0
A14: Rip and Re-Grade Site (not including roads) Acres Total | D14: 1.45 | E14: =C14*D14 -> 0
A15: Bobcat S86-$125.00/hour @ 1/2 acre/hour=$250/ac | C15: 250 | E15: =C15*D15 -> 0
A16: Topsoil Replacement -Import and re-spread topsoil @ 4 inches deep | E16: =C16*D16 -> 0
A17: Grading cost =$250/ac | C17: 250 | D17: 1.45 | E17: =C17*D17 -> 362.5
A18: 27 loads (20yds/load) @ $600/load=$16,200.00/Acre | C18: 16200 | D18: 1.45 | E18: =C18*D18 -> 23490
A19: Topsoil Preparation (minimum of 1 acre) | E19: =C19*D19 -> 0
A20: Spread Cow Manure as Soil Amendment (20 Tons/Acre@ $50 acre) | C20: 50 | D20: 1.45 | E20: =C20*D20 -> 72.5
A21: Disc to incorporate on 1 acres ($50.00/Acre) | C21: 50 | D21: 1.45 | E21: =C21*D21 -> 72.5
A22: Drag Harrow to firm up seed bed on 1 acres ($50.00/Acre) | C22: 50 | D22: 1.45 | E22: =C22*D22 -> 72.5
A23: Seeding (minimum of 1 acre which includes road) | E23: =C23*D23 -> 0
A24: Seed Cost $14.00/lb @ 15 lbs/acre ($210/Acre) | C24: 210 | D24: 1.45 | E24: =C24*D24 -> 304.5
A25: Seeding with Grass Drill $232.00/Acre | C25: 232 | D25: 1.45 | E25: =C25*D25 -> 336.4
A26: Mulch and Crimp Straw @ 2 tons/acre $1058/Acre | C26: 1058 | D26: 1.45 | E26: =C26*D26 -> 1534.1
A27: %25 Failure rate replacement seeding $110/Acre (no additional mulch) | C27: 110 | D27: 1.45 | E27: =C27*D27 -> 159.5
A28: Site Soil Testing- $414.00/sample | C28: 414 | D28: 1.45 | E28: =C28*D28 -> 600.3
A29: PID Testing ($.50/ft for lines) | C29: 0.5 | D29: 100 | E29: =C29*D29 -> 50
A30: ($150.00 each for tank and/or pad) | C30: 150 | D30: 5 | E30: =C30*D30 -> 750
A31: Straw Wattles ($2.00/linear foot installed) | C31: 2 | D31: 208 | E31: =C31*D31 -> 416
A32: or $416/ac based on 208 feet along lowest side) | C32: 416 | E32: =C32*D32 -> 0
A33: Stormwater Inspection, Weed Spraying, Mowing | E33: 2000
A36: Total Direct Costs | E36: =SUM(E6:E35) -> 36220.8
A37: Mobilization/Demobilization | E37: 630
A39: Total Financial Warranty | E39: =SUM(E36:E38) -> 36850.8
A42: Notes:
A43: Road Length (ft): | B43: n/a
A44: Initial Area of Disturbance (ac): | B44: 5.46
A45: Remaining Area of Disturbance (ac): | B45: 1.45
A46: Soil Type: | B46: Olney Fine Sandy Loam
A47: Salt Kill Considerations: | B47: No
A48: High Priority Habitat: | B48: Pronghorn SWR
A49: Rangeland or Cropland: | B49: Crop

Sheet GREEN #1-10
A1: Strachan Exploration, Inc. Financial Assurance Warranty Calculation
A2: GREEN #1-10
A4: Reclamation Task and Quantity
C5: Unit cost | D5: # of units | E5: Item totals
A6: Equipment Removal (not completed during Plugging and Abandonment) | E6: =C6*D6 -> 0
A7: Tank removal @ $1,5000.00/Tank | C7: 1500 | E7: =C7*D7 -> 0
A8: Pit reclamation | E8: =C8*D8 -> 0
A9: Liner Removal | E9: =C9*D9 -> 0
A10: Backfilling- Bobcat S86 Skid Steer Loader-$125.00/hr | C10: 125 | E10: =C10*D10 -> 0
A11: Misc | E11: =C11*D11 -> 0
A12: Road Reclamation (Using Road Grader) Total linear feet | C12: 1 | D12: 6371 | E12: =C12*D12 -> 6371
A13: $300/Hour to re-grade and rip road (300 feet/hr or $1.00/linear foot) | E13: =C13*D13 -> 0
A14: Rip and Re-Grade Site (not including roads) Acres Total | D14: 1.26 | E14: =C14*D14 -> 0
A15: Bobcat S86-$125.00/hour @ 1/2 acre/hour=$250/ac | C15: 250 | E15: =C15*D15 -> 0
A16: Topsoil Replacement -Import and re-spread topsoil @ 4 inches deep | E16: =C16*D16 -> 0
A17: Grading cost =$250/ac | C17: 250 | D17: 1.26 | E17: =C17*D17 -> 315
A18: 27 loads (20yds/load) @ $600/load=$16,200.00/Acre | C18: 16200 | D18: 1.26 | E18: =C18*D18 -> 20412
A19: Topsoil Preparation (minimum of 1 acre) | E19: =C19*D19 -> 0
A20: Spread Cow Manure as Soil Amendment (20 Tons/Acre@ $50 acre) | C20: 50 | D20: 3.45 | E20: =C20*D20 -> 172.5
A21: Disc to incorporate on 1 acres ($50.00/Acre) | C21: 50 | D21: 3.45 | E21: =C21*D21 -> 172.5
A22: Drag Harrow to firm up seed bed on 1 acres ($50.00/Acre) | C22: 50 | D22: 3.45 | E22: =C22*D22 -> 172.5
A23: Seeding (minimum of 1 acre which includes road) | E23: =C23*D23 -> 0
A24: Seed Cost $14.00/lb @ 15 lbs/acre ($210/Acre) | C24: 210 | D24: 3.45 | E24: =C24*D24 -> 724.5
A25: Seeding with Grass Drill $232.00/Acre | C25: 232 | D25: 3.45 | E25: =C25*D25 -> 800.4
A26: Mulch and Crimp Straw @ 2 tons/acre $1058/Acre | C26: 1058 | D26: 3.45 | E26: =C26*D26 -> 3650.1
A27: %25 Failure rate replacement seeding $110/Acre (no additional mulch) | C27: 110 | D27: 3.45 | E27: =C27*D27 -> 379.5
A28: Site Soil Testing- $414.00/sample | C28: 414 | D28: 1 | E28: =C28*D28 -> 414
A29: PID Testing ($.50/ft for lines) | C29: 0.5 | D29: 6371 | E29: =C29*D29 -> 3185.5
A30: ($150.00 each for tank and/or pad) | C30: 150 | D30: 1 | E30: =C30*D30 -> 150
A31: Straw Wattles ($2.00/linear foot installed) | C31: 2 | D31: 208 | E31: =C31*D31 -> 416
A32: or $416/ac based on 208 feet along lowest side) | C32: 416 | E32: =C32*D32 -> 0
A33: Stormwater Inspection, Weed Spraying, Mowing | E33: 2000
A36: Total Direct Costs | E36: =SUM(E6:E35) -> 39335.5
A37: Mobilization/Demobilization | E37: 630
A39: Total Financial Warranty | E39: =SUM(E36:E38) -> 39965.5
A42: Notes:
A43: Road Length (ft): | B43: 6371
A44: Initial Area of Disturbance (ac): | B44: 3.6
A45: Remaining Area of Disturbance (ac): | B45: 1.26
A46: Soil Type: | B46: Olney Fine Sandy Loam
A47: Salt Kill Considerations: | B47: No
A48: High Priority Habitat: | B48: Pronghorn SWR
A49: Rangeland or Cropland: | B49: Crop

Sheet Green #1-7 Facility 
A1: Strachan Exploration, Inc. Financial Assurance Warranty Calculation
A2: Green #1-7 Facility / #1-10 Tank
A4: Reclamation Task and Quantity
C5: Unit cost | D5: # of units | E5: Item totals
A6: Equipment Removal (not completed during Plugging and Abandonment) | E6: =C6*D6 -> 0
A7: Tank removal @ $1,5000.00/Tank | C7: 1500 | D7: 7 | E7: =C7*D7 -> 10500
A8: Pit reclamation | E8: =C8*D8 -> 0
A9: Liner Removal | E9: =C9*D9 -> 0
A10: Backfilling- Bobcat S86 Skid Steer Loader-$125.00/hr | C10: 125 | E10: =C10*D10 -> 0
A11: Misc | E11: =C11*D11 -> 0
A12: Road Reclamation (Using Road Grader) Total linear feet | C12: 1 | D12: 0 | E12: =C12*D12 -> 0
A13: $300/Hour to re-grade and rip road (300 feet/hr or $1.00/linear foot) | E13: =C13*D13 -> 0
A14: Rip and Re-Grade Site (not including roads) Acres Total | D14: 1 | E14: =C14*D14 -> 0
A15: Bobcat S86-$125.00/hour @ 1/2 acre/hour=$250/ac | C15: 250 | E15: =C15*D15 -> 0
A16: Topsoil Replacement -Import and re-spread topsoil @ 4 inches deep | E16: =C16*D16 -> 0
A17: Grading cost =$250/ac | C17: 250 | D17: 1 | E17: =C17*D17 -> 250
A18: 27 loads (20yds/load) @ $600/load=$16,200.00/Acre | C18: 16200 | D18: 1 | E18: =C18*D18 -> 16200
A19: Topsoil Preparation (minimum of 1 acre) | E19: =C19*D19 -> 0
A20: Spread Cow Manure as Soil Amendment (20 Tons/Acre@ $50 acre) | C20: 50 | D20: 1 | E20: =C20*D20 -> 50
A21: Disc to incorporate on 1 acres ($50.00/Acre) | C21: 50 | D21: 1 | E21: =C21*D21 -> 50
A22: Drag Harrow to firm up seed bed on 1 acres ($50.00/Acre) | C22: 50 | D22: 1 | E22: =C22*D22 -> 50
A23: Seeding (minimum of 1 acre which includes road) | E23: =C23*D23 -> 0
A24: Seed Cost $14.00/lb @ 15 lbs/acre ($210/Acre) | C24: 210 | D24: 1 | E24: =C24*D24 -> 210
A25: Seeding with Grass Drill $232.00/Acre | C25: 232 | D25: 1 | E25: =C25*D25 -> 232
A26: Mulch and Crimp Straw @ 2 tons/acre $1058/Acre | C26: 1058 | D26: 1 | E26: =C26*D26 -> 1058
A27: %25 Failure rate replacement seeding $110/Acre (no additional mulch) | C27: 110 | D27: 1 | E27: =C27*D27 -> 110
A28: Site Soil Testing- $414.00/sample | C28: 414 | D28: 1 | E28: =C28*D28 -> 414
A29: PID Testing ($.50/ft for lines) | C29: 0.5 | D29: 0 | E29: =C29*D29 -> 0
A30: ($150.00 each for tank and/or pad) | C30: 150 | D30: 8 | E30: =C30*D30 -> 1200
A31: Straw Wattles ($2.00/linear foot installed) | C31: 2 | D31: 208 | E31: =C31*D31 -> 416
A32: or $416/ac based on 208 feet along lowest side) | C32: 416 | E32: =C32*D32 -> 0
A33: Stormwater Inspection, Weed Spraying, Mowing | E33: 2000
A36: Total Direct Costs | E36: =SUM(E6:E35) -> 32740
A37: Mobilization/Demobilization | E37: 630
A39: Total Financial Warranty | E39: =SUM(E36:E38) -> 33370
A42: Notes:
A43: Road Length (ft): | B43: n/a
A44: Initial Area of Disturbance (ac): | B44: 1.76
A45: Remaining Area of Disturbance (ac): | B45: 0.85
A46: Soil Type: | B46: Olney Fine Sandy Loam
A47: Salt Kill Considerations: | B47: No
A48: High Priority Habitat: | B48: Pronghorn SWR
A49: Rangeland or Cropland: | B49: Crop

Sheet GREEN #1-7 FACILITY
A1: Strachan Exploration, Inc. Financial Assurance Warranty Calculation
A2: GREEN #1-7 FACILITY
A4: Reclamation Task and Quantity
C5: Unit cost | D5: # of units | E5: Item totals
A6: Equipment Removal- Tanks, flow lines, valves, etc | E6: =C6*D6 -> 0
A7: Completed with Plugging and Abandonment | E7: =C7*D7 -> 0
A8: Tank Berms | E8: =C8*D8 -> 0
A9: Berms removed with Plugging and Abandonment | E9: =C9*D9 -> 0
A10: Pits | E10: =C10*D10 -> 0
A11: Pit reclamation | E11: =C11*D11 -> 0
A12: Road Reclamation (Using Road Grader) Total linear feet | E12: =C12*D12 -> 0
A13: $300/Hour to re-grade and rip road (300 feet/hr or $1.00/linear foot) | E13: =C13*D13 -> 0
A14: Rip and Re-Grade Site (not including roads) Acres Total | E14: =C14*D14 -> 0
A15: Road Grader $300.00/hour @ 1/2 acre/hour=$600/ac | E15: =C15*D15 -> 0
A16: Topsoil Replacement | E16: =C16*D16 -> 0
A17: Import and re-spread topsoil @ 4 inches deep over 1.0 acres | E17: =C17*D17 -> 0
... A32: or $416/ac based on 208 feet along lowest side) | E32: =C32*D32 -> 0
A33: Stormwater Inspection, Weed Spraying, Mowing | E33: 4475
A36: Total Direct Costs | E36: =SUM(E6:E35) -> 4475
A37: Mobilization/Demobilization | E37: 2000
A39: Total Financial Warranty | E39: =SUM(E36:E38) -> 6475
A42: Notes:
A43: Initial Area of Disturbance:
A44: Remaining Area of Disturbance:
A45: Wells on Location:
A46: Soil Type:
A47: Salt Kill Considerations:
A48: High Priority Habitat:
A49: Rangeland or Cropland:

Sheet HILL 31-15-8 #
A1: Strachan Exploration, Inc. Financial Assurance Warranty Calculation
A2: HILL 31-15-8 #
A4: Reclamation Task and Quantity
C5: Unit cost | D5: # of units | E5: Item totals
A6: Equipment Removal- Tanks, flow lines, valves, etc | E6: =C6*D6 -> 0
A7: Completed with Plugging and Abandonment | E7: =C7*D7 -> 0
A8: Tank Berms | E8: =C8*D8 -> 0
A9: Berms removed with Plugging and Abandonment | E9: =C9*D9 -> 0
A10: Pits | E10: =C10*D10 -> 0
A11: Pit reclamation | E11: =C11*D11 -> 0
A12: Road Reclamation (Using Road Grader) Total linear feet | E12: =C12*D12 -> 0
A13: $300/Hour to re-grade and rip road (300 feet/hr or $1.00/linear foot) | E13: =C13*D13 -> 0
A14: Rip and Re-Grade Site (not including roads) Acres Total | E14: =C14*D14 -> 0
A15: Road Grader $300.00/hour @ 1/2 acre/hour=$600/ac | E15: =C15*D15 -> 0
A16: Topsoil Replacement | E16: =C16*D16 -> 0
A17: Import and re-spread topsoil @ 4 inches deep over 1.0 acres | E17: =C17*D17 -> 0
... A32: or $416/ac based on 208 feet along lowest side) | E32: =C32*D32 -> 0
A33: Stormwater Inspection, Weed Spraying, Mowing | E33: 4475
A36: Total Direct Costs | E36: =SUM(E6:E35) -> 4475
A37: Mobilization/Demobilization | E37: 2000
A39: Total Financial Warranty | E39: =SUM(E36:E38) -> 6475
A42: Notes:
A43: Initial Area of Disturbance:
A44: Remaining Area of Disturbance:
A45: Wells on Location:
A46: Soil Type:
A47: Salt Kill Considerations:
A48: High Priority Habitat:
A49: Rangeland or Cropland:

Sheet HILL-67N60W #6NENE
A1: Strachan Exploration, Inc. Financial Assurance Warranty Calculation
A2: HILL-67N60W #6NENE
A4: Reclamation Task and Quantity
C5: Unit cost | D5: # of units | E5: Item totals
A6: Equipment Removal- Tanks, flow lines, valves, etc | E6: =C6*D6 -> 0
A7: Completed with Plugging and Abandonment | E7: =C7*D7 -> 0
A8: Tank Berms | E8: =C8*D8 -> 0
A9: Berms removed with Plugging and Abandonment | E9: =C9*D9 -> 0
A10: Pits | E10: =C10*D10 -> 0
A11: Pit reclamation | E11: =C11*D11 -> 0
A12: Road Reclamation (Using Road Grader) Total linear feet | E12: =C12*D12 -> 0
A13: $300/Hour to re-grade and rip road (300 feet/hr or $1.00/linear foot) | E13: =C13*D13 -> 0
A14: Rip and Re-Grade Site (not including roads) Acres Total | E14: =C14*D14 -> 0
A15: Road Grader $300.00/hour @ 1/2 acre/hour=$600/ac | E15: =C15*D15 -> 0
A16: Topsoil Replacement | E16: =C16*D16 -> 0
A17: Import and re-spread topsoil @ 4 inches deep over 1.0 acres | E17: =C17*D17 -> 0
... A32: or $416/ac based on 208 feet along lowest side) | E32: =C32*D32 -> 0
A33: Stormwater Inspection, Weed Spraying, Mowing | E33: 4475
A36: Total Direct Costs | E36: =SUM(E6:E35) -> 4475
A37: Mobilization/Demobilization | E37: 2000
A39: Total Financial Warranty | E39: =SUM(E36:E38) -> 6475
A42: Notes:
A43: Initial Area of Disturbance:
A44: Remaining Area of Disturbance:
A45: Wells on Location:
A46: Soil Type:
A47: Salt Kill Considerations:
A48: High Priority Habitat:
A49: Rangeland or Cropland:

Sheet HILL-68N60W #31NESE
A1: Strachan Exploration, Inc. Financial Assurance Warranty Calculation
A2: HILL-68N60W #31NESE
A4: Reclamation Task and Quantity
C5: Unit cost | D5: # of units | E5: Item totals
A6: Equipment Removal- Tanks, flow lines, valves, etc | E6: =C6*D6 -> 0
A7: Completed with Plugging and Abandonment | E7: =C7*D7 -> 0
A8: Tank Berms | E8: =C8*D8 -> 0
A9: Berms removed with Plugging and Abandonment | E9: =C9*D9 -> 0
A10: Pits | E10: =C10*D10 -> 0
A11: Pit reclamation | E11: =C11*D11 -> 0
A12: Road Reclamation (Using Road Grader) Total linear feet | E12: =C12*D12 -> 0
A13: $300/Hour to re-grade and rip road (300 feet/hr or $1.00/linear foot) | E13: =C13*D13 -> 0
A14: Rip and Re-Grade Site (not including roads) Acres Total | E14: =C14*D14 -> 0
A15: Road Grader $300.00/hour @ 1/2 acre/hour=$600/ac | E15: =C15*D15 -> 0
A16: Topsoil Replacement | E16: =C16*D16 -> 0
A17: Import and re-spread topsoil @ 4 inches deep over 1.0 acres | E17: =C17*D17 -> 0
... A32: or $416/ac based on 208 feet along lowest side) | E32: =C32*D32 -> 0
A33: Stormwater Inspection, Weed Spraying, Mowing | E33: 4475
A36: Total Direct Costs | E36: =SUM(E6:E35) -> 4475
A37: Mobilization/Demobilization | E37: 2000
A39: Total Financial Warranty | E39: =SUM(E36:E38) -> 6475
A42: Notes:
A43: Initial Area of Disturbance:
A44: Remaining Area of Disturbance:
A45: Wells on Location:
A46: Soil Type:
A47: Salt Kill Considerations:
A48: High Priority Habitat:
A49: Rangeland or Cropland:

Sheet HILL-68N60W #31SESW
A1: Strachan Exploration, Inc. Financial Assurance Warranty Calculation
A2: HILL-68N60W #31SESW
A4: Reclamation Task and Quantity
C5: Unit cost | D5: # of units | E5: Item totals
A6: Equipment Removal- Tanks, flow lines, valves, etc | E6: =C6*D6 -> 0
A7: Completed with Plugging and Abandonment | E7: =C7*D7 -> 0
A8: Tank Berms | E8: =C8*D8 -> 0
A9: Berms removed with Plugging and Abandonment | E9: =C9*D9 -> 0
A10: Pits | E10: =C10*D10 -> 0
A11: Pit reclamation | E11: =C11*D11 -> 0
A12: Road Reclamation (Using Road Grader) Total linear feet | E12: =C12*D12 -> 0
A13: $300/Hour to re-grade and rip road (300 feet/hr or $1.00/linear foot) | E13: =C13*D13 -> 0
A14: Rip and Re-Grade Site (not including roads) Acres Total | E14: =C14*D14 -> 0
A15: Road Grader $300.00/hour @ 1/2 acre/hour=$600/ac | E15: =C15*D15 -> 0
A16: Topsoil Replacement | E16: =C16*D16 -> 0
A17: Import and re-spread topsoil @ 4 inches deep over 1.0 acres | E17: =C17*D17 -> 0
... A32: or $416/ac based on 208 feet along lowest side) | E32: =C32*D32 -> 0
A33: Stormwater Inspection, Weed Spraying, Mowing | E33: 4475
A36: Total Direct Costs | E36: =SUM(E6:E35) -> 4475
A37: Mobilization/Demobilization | E37: 2000
A39: Total Financial Warranty | E39: =SUM(E36:E38) -> 6475
A42: Notes:
A43: Initial Area of Disturbance:
A44: Remaining Area of Disturbance:
A45: Wells on Location:
A46: Soil Type:
A47: Salt Kill Considerations:
A48: High Priority Habitat:
A49: Rangeland or Cropland:

Sheet HILL-68N60W #31SWSE
A1: Strachan Exploration, Inc. Financial Assurance Warranty Calculation
A2: HILL-68N60W #31SWSE
A4: Reclamation Task and Quantity
C5: Unit cost | D5: # of units | E5: Item totals
A6: Equipment Removal- Tanks, flow lines, valves, etc | E6: =C6*D6 -> 0
A7: Completed with Plugging and Abandonment | E7: =C7*D7 -> 0
A8: Tank Berms | E8: =C8*D8 -> 0
A9: Berms removed with Plugging and Abandonment | E9: =C9*D9 -> 0
A10: Pits | E10: =C10*D10 -> 0
A11: Pit reclamation | E11: =C11*D11 -> 0
A12: Road Reclamation (Using Road Grader) Total linear feet | E12: =C12*D12 -> 0
A13: $300/Hour to re-grade and rip road (300 feet/hr or $1.00/linear foot) | E13: =C13*D13 -> 0
A14: Rip and Re-Grade Site (not including roads) Acres Total | E14: =C14*D14 -> 0
A15: Road Grader $300.00/hour @ 1/2 acre/hour=$600/ac | E15: =C15*D15 -> 0
A16: Topsoil Replacement | E16: =C16*D16 -> 0
A17: Import and re-spread topsoil @ 4 inches deep over 1.0 acres | E17: =C17*D17 -> 0
... A32: or $416/ac based on 208 feet along lowest side) | E32: =C32*D32 -> 0
A33: Stormwater Inspection, Weed Spraying, Mowing | E33: 4475
A36: Total Direct Costs | E36: =SUM(E6:E35) -> 4475
A37: Mobilization/Demobilization | E37: 2000
A39: Total Financial Warranty | E39: =SUM(E36:E38) -> 6475
A42: Notes:
A43: Initial Area of Disturbance:
A44: Remaining Area of Disturbance:
A45: Wells on Location:
A46: Soil Type:
A47: Salt Kill Considerations:
A48: High Priority Habitat:
A49: Rangeland or Cropland:

Sheet HOFFMAN #34-1
A1: Strachan Exploration, Inc. Financial Assurance Warranty Calculation
A2: HOFFMAN #34-1
A4: Reclamation Task and Quantity
C5: Unit cost | D5: # of units | E5: Item totals
A6: Equipment Removal (not completed during Plugging and Abandonment) | E6: =C6*D6 -> 0
A7: Tank removal @ $1,5000.00/Tank | C7: 1500 | E7: =C7*D7 -> 0
A8: Pit reclamation | E8: =C8*D8 -> 0
A9: Liner Removal | E9: =C9*D9 -> 0
A10: Backfilling- Bobcat S86 Skid Steer Loader-$125.00/hr | C10: 125 | E10: =C10*D10 -> 0
A11: Misc | E11: =C11*D11 -> 0
A12: Road Reclamation (Using Road Grader) Total linear feet | C12: 1 | D12: 528 | E12: =C12*D12 -> 528
A13: $300/Hour to re-grade and rip road (300 feet/hr or $1.00/linear foot) | E13: =C13*D13 -> 0
A14: Rip and Re-Grade Site (not including roads) Acres Total | D14: 0.18 | E14: =C14*D14 -> 0
A15: Bobcat S86-$125.00/hour @ 1/2 acre/hour=$250/ac | C15: 250 | E15: =C15*D15 -> 0
A16: Topsoil Replacement -Import and re-spread topsoil @ 4 inches deep | E16: =C16*D16 -> 0
A17: Grading cost =$250/ac | C17: 250 | D17: 0.18 | E17: =C17*D17 -> 45
A18: 27 loads (20yds/load) @ $600/load=$16,200.00/Acre | C18: 16200 | D18: 0.18 | E18: =C18*D18 -> 2916
A19: Topsoil Preparation (minimum of 1 acre) | E19: =C19*D19 -> 0
A20: Spread Cow Manure as Soil Amendment (20 Tons/Acre@ $50 acre) | C20: 50 | D20: 1 | E20: =C20*D20 -> 50
A21: Disc to incorporate on 1 acres ($50.00/Acre) | C21: 50 | D21: 1 | E21: =C21*D21 -> 50
A22: Drag Harrow to firm up seed bed on 1 acres ($50.00/Acre) | C22: 50 | D22: 1 | E22: =C22*D22 -> 50
A23: Seeding (minimum of 1 acre which includes road) | E23: =C23*D23 -> 0
A24: Seed Cost $14.00/lb @ 15 lbs/acre ($210/Acre) | C24: 210 | D24: 1 | E24: =C24*D24 -> 210
A25: Seeding with Grass Drill $232.00/Acre | C25: 232 | D25: 1 | E25: =C25*D25 -> 232
A26: Mulch and Crimp Straw @ 2 tons/acre $1058/Acre | C26: 1058 | D26: 1 | E26: =C26*D26 -> 1058
A27: %25 Failure rate replacement seeding $110/Acre (no additional mulch) | C27: 110 | D27: 1 | E27: =C27*D27 -> 110
A28: Site Soil Testing- $414.00/sample | C28: 414 | D28: 1 | E28: =C28*D28 -> 414
A29: PID Testing ($.50/ft for lines) | C29: 0.5 | D29: 528 | E29: =C29*D29 -> 264
A30: ($150.00 each for tank and/or pad) | C30: 150 | D30: 1 | E30: =C30*D30 -> 150
A31: Straw Wattles ($2.00/linear foot installed) | C31: 2 | D31: 208 | E31: =C31*D31 -> 416
A32: or $416/ac based on 208 feet along lowest side) | C32: 416 | E32: =C32*D32 -> 0
A33: Stormwater Inspection, Weed Spraying, Mowing | E33: 2000
A36: Total Direct Costs | E36: =SUM(E6:E35) -> 8493
A37: Mobilization/Demobilization | E37: 630
A39: Total Financial Warranty | E39: =SUM(E36:E38) -> 9123
A42: Notes:
A43: Road Length (ft): | B43: 528
A44: Initial Area of Disturbance (ac): | B44: 0.39
A45: Remaining Area of Disturbance (ac): | B45: 0.18
A46: Soil Type: | B46: Platner Loam
A47: Salt Kill Considerations: | B47: No
A48: High Priority Habitat: | B48: Pronghorn SWR
A49: Rangeland or Cropland: | B49: Range

Sheet HOFFMAN #34-10
A1: Strachan Exploration, Inc. Financial Assurance Warranty Calculation
A2: HOFFMAN #34-10
A4: Reclamation Task and Quantity
C5: Unit cost | D5: # of units | E5: Item totals
A6: Equipment Removal (not completed during Plugging and Abandonment) | E6: =C6*D6 -> 0
A7: Tank removal @ $1,5000.00/Tank | C7: 1500 | E7: =C7*D7 -> 0
A8: Pit reclamation | E8: =C8*D8 -> 0
A9: Liner Removal | E9: =C9*D9 -> 0
A10: Backfilling- Bobcat S86 Skid Steer Loader-$125.00/hr | C10: 125 | E10: =C10*D10 -> 0
A11: Misc | E11: =C11*D11 -> 0
A12: Road Reclamation (Using Road Grader) Total linear feet | C12: 1 | D12: 1062 | E12: =C12*D12 -> 1062
A13: $300/Hour to re-grade and rip road (300 feet/hr or $1.00/linear foot) | E13: =C13*D13 -> 0
A14: Rip and Re-Grade Site (not including roads) Acres Total | D14: 0.22 | E14: =C14*D14 -> 0
A15: Bobcat S86-$125.00/hour @ 1/2 acre/hour=$250/ac | C15: 250 | E15: =C15*D15 -> 0
A16: Topsoil Replacement -Import and re-spread topsoil @ 4 inches deep | E16: =C16*D16 -> 0
A17: Grading cost =$250/ac | C17: 250 | D17: 0.22 | E17: =C17*D17 -> 55
A18: 27 loads (20yds/load) @ $600/load=$16,200.00/Acre | C18: 16200 | D18: 0.22 | E18: =C18*D18 -> 3564
A19: Topsoil Preparation (minimum of 1 acre) | E19: =C19*D19 -> 0
A20: Spread Cow Manure as Soil Amendment (20 Tons/Acre@ $50 acre) | C20: 50 | D20: 1 | E20: =C20*D20 -> 50
A21: Disc to incorporate on 1 acres ($50.00/Acre) | C21: 50 | D21: 1 | E21: =C21*D21 -> 50
A22: Drag Harrow to firm up seed bed on 1 acres ($50.00/Acre) | C22: 50 | D22: 1 | E22: =C22*D22 -> 50
A23: Seeding (minimum of 1 acre which includes road) | E23: =C23*D23 -> 0
A24: Seed Cost $14.00/lb @ 15 lbs/acre ($210/Acre) | C24: 210 | D24: 1 | E24: =C24*D24 -> 210
A25: Seeding with Grass Drill $232.00/Acre | C25: 232 | D25: 1 | E25: =C25*D25 -> 232
A26: Mulch and Crimp Straw @ 2 tons/acre $1058/Acre | C26: 1058 | D26: 1 | E26: =C26*D26 -> 1058
A27: %25 Failure rate replacement seeding $110/Acre (no additional mulch) | C27: 110 | D27: 1 | E27: =C27*D27 -> 110
A28: Site Soil Testing- $414.00/sample | C28: 414 | D28: 1 | E28: =C28*D28 -> 414
A29: PID Testing ($.50/ft for lines) | C29: 0.5 | D29: 200 | E29: =C29*D29 -> 100
A30: ($150.00 each for tank and/or pad) | C30: 150 | D30: 1 | E30: =C30*D30 -> 150
A31: Straw Wattles ($2.00/linear foot installed) | C31: 2 | D31: 208 | E31: =C31*D31 -> 416
A32: or $416/ac based on 208 feet along lowest side) | C32: 416 | E32: =C32*D32 -> 0
A33: Stormwater Inspection, Weed Spraying, Mowing | E33: 2000
A36: Total Direct Costs | E36: =SUM(E6:E35) -> 9521
A37: Mobilization/Demobilization | E37: 630
A39: Total Financial Warranty | E39: =SUM(E36:E38) -> 10151
A42: Notes:
A43: Road Length (ft): | B43: 1062
A44: Initial Area of Disturbance (ac): | B44: 0.72
A45: Remaining Area of Disturbance (ac): | B45: 0.22
A46: Soil Type: | B46: Platner Loam
A47: Salt Kill Considerations: | B47: No
A48: High Priority Habitat: | B48: Pronghorn SWR
A49: Rangeland or Cropland: | B49: Crop

Sheet HOFFMAN #34-10 Tank
A1: Strachan Exploration, Inc. Financial Assurance Warranty Calculation
A2: HOFFMAN 34-10 Tank (Pit #1 & 2)
A4: Reclamation Task and Quantity
C5: Unit cost | D5: # of units | E5: Item totals
A6: Equipment Removal (not completed during Plugging and Abandonment) | E6: =C6*D6 -> 0
A7: Tank removal @ $1,5000.00/Tank | C7: 1500 | D7: 3 | E7: =C7*D7 -> 4500
A8: Pit reclamation | E8: =C8*D8 -> 0
A9: Liner Removal | E9: =C9*D9 -> 0
A10: Backfilling- Bobcat S86 Skid Steer Loader-$125.00/hr | C10: 125 | D10: 8 | E10: =C10*D10 -> 1000
A11: Misc | E11: =C11*D11 -> 0
A12: Road Reclamation (Using Road Grader) Total linear feet | C12: 1 | D12: 1529 | E12: =C12*D12 -> 1529
A13: $300/Hour to re-grade and rip road (300 feet/hr or $1.00/linear foot) | E13: =C13*D13 -> 0
A14: Rip and Re-Grade Site (not including roads) Acres Total | D14: 0.79 | E14: =C14*D14 -> 0
A15: Bobcat S86-$125.00/hour @ 1/2 acre/hour=$250/ac | C15: 250 | E15: =C15*D15 -> 0
A16: Topsoil Replacement -Import and re-spread topsoil @ 4 inches deep | E16: =C16*D16 -> 0
A17: Grading cost =$250/ac | C17: 250 | D17: 0.79 | E17: =C17*D17 -> 197.5
A18: 27 loads (20yds/load) @ $600/load=$16,200.00/Acre | C18: 16200 | D18: 0.79 | E18: =C18*D18 -> 12798
A19: Topsoil Preparation (minimum of 1 acre) | E19: =C19*D19 -> 0
A20: Spread Cow Manure as Soil Amendment (20 Tons/Acre@ $50 acre) | C20: 50 | D20: 1 | E20: =C20*D20 -> 50
A21: Disc to incorporate on 1 acres ($50.00/Acre) | C21: 50 | D21: 1 | E21: =C21*D21 -> 50
A22: Drag Harrow to firm up seed bed on 1 acres ($50.00/Acre) | C22: 50 | D22: 1 | E22: =C22*D22 -> 50
A23: Seeding (minimum of 1 acre which includes road) | E23: =C23*D23 -> 0
A24: Seed Cost $14.00/lb @ 15 lbs/acre ($210/Acre) | C24: 210 | D24: 1 | E24: =C24*D24 -> 210
A25: Seeding with Grass Drill $232.00/Acre | C25: 232 | D25: 1 | E25: =C25*D25 -> 232
A26: Mulch and Crimp Straw @ 2 tons/acre $1058/Acre | C26: 1058 | D26: 1 | E26: =C26*D26 -> 1058
A27: %25 Failure rate replacement seeding $110/Acre (no additional mulch) | C27: 110 | D27: 1 | E27: =C27*D27 -> 110
A28: Site Soil Testing- $414.00/sample | C28: 414 | D28: 1 | E28: =C28*D28 -> 414
A29: PID Testing ($.50/ft for lines) | C29: 0.5 | D29: 300 | E29: =C29*D29 -> 150
A30: ($150.00 each for tank and/or pad) | C30: 150 | D30: 4 | E30: =C30*D30 -> 600
A31: Straw Wattles ($2.00/linear foot installed) | C31: 2 | D31: 208 | E31: =C31*D31 -> 416
A32: or $416/ac based on 208 feet along lowest side) | C32: 416 | E32: =C32*D32 -> 0
A33: Stormwater Inspection, Weed Spraying, Mowing | E33: 2000
A36: Total Direct Costs | E36: =SUM(E6:E35) -> 25364.5
A37: Mobilization/Demobilization | E37: 630
A39: Total Financial Warranty | E39: =SUM(E36:E38) -> 25994.5
A42: Notes:
A43: Road Length (ft): | B43: 1529
A44: Initial Area of Disturbance (ac): | B44: 3.73
A45: Remaining Area of Disturbance (ac): | B45: 0.79
A46: Soil Type: | B46: Platner Loam
A47: Salt Kill Considerations: | B47: No
A48: High Priority Habitat: | B48: Pronghorn SWR
A49: Rangeland or Cropland: | B49: Crop

Sheet HOFFMAN-68N60W #34NENE
A1: Strachan Exploration, Inc. Financial Assurance Warranty Calculation
A2: HOFFMAN-68N60W #34NENE
A4: Reclamation Task and Quantity
C5: Unit cost | D5: # of units | E5: Item totals
A6: Equipment Removal- Tanks, flow lines, valves, berms, etc | E6: =C6*D6 -> 0
A7: Completed with Plugging and Abandonment | E7: =C7*D7 -> 0
A8: Pit reclamation | E8: =C8*D8 -> 0
A9: Liner Removal | E9: =C9*D9 -> 0
A10: Backfilling- D-6 Dozer @ $200/hr | E10: =C10*D10 -> 0
A11: Misc | E11: =C11*D11 -> 0
A12: Road Reclamation (Using Road Grader) Total linear feet | C12: 1 | E12: =C12*D12 -> 0
A13: $300/Hour to re-grade and rip road (300 feet/hr or $1.00/linear foot) | E13: =C13*D13 -> 0
A14: Rip and Re-Grade Site (not including roads) Acres Total | C14: 600 | E14: =C14*D14 -> 0
A15: Road Grader $300.00/hour @ 1/2 acre/hour=$600/ac | E15: =C15*D15 -> 0
A16: Topsoil Replacement -Import and re-spread topsoil @ 4 inches deep | E16: =C16*D16 -> 0
A17: Grading cost =$600/ac | C17: 600 | E17: =C17*D17 -> 0
A18: 27 loads (20yds/load) @ $600/load=$16,200.00/Acre | C18: 16200 | E18: =C18*D18 -> 0
A19: Topsoil Preparation (minimum of 1 acre) | E19: =C19*D19 -> 0
A20: Spread Cow Manure as Soil Amendment (20 Tons/Acre@ $50 acre) | C20: 50 | E20: =C20*D20 -> 0
A21: Disc to incorporate on 1 acres ($50.00/Acre) | C21: 50 | E21: =C21*D21 -> 0
A22: Drag Harrow to firm up seed bed on 1 acres ($50.00/Acre) | C22: 50 | E22: =C22*D22 -> 0
A23: Seeding (minimum of 1 acre which includes road) | E23: =C23*D23 -> 0
A24: Seed Cost $14.00/lb @ 15 lbs/acre ($210/Acre) | C24: 210 | E24: =C24*D24 -> 0
A25: Seeding with Grass Drill $232.00/Acre | C25: 232 | E25: =C25*D25 -> 0
A26: Mulch and Crimp Straw @ 2 tons/acre $1058/Acre | C26: 1058 | E26: =C26*D26 -> 0
A27: %25 Failure rate replacement seeding $110/Acre (no additional mulch) | C27: 110 | E27: =C27*D27 -> 0
A28: Site Soil Testing- $414.00/sample | C28: 414 | E28: =C28*D28 -> 0
A29: PID Testing ($.50/ft for lines) | C29: 0.5 | E29: =C29*D29 -> 0
A30: ($150.00 each for tank and/or pad) | C30: 150 | E30: =C30*D30 -> 0
A31: Straw Wattles ($2.00/linear foot installed) | C31: 2 | E31: =C31*D31 -> 0
A32: or $416/ac based on 208 feet along lowest side) | E32: =C32*D32 -> 0
A33: Stormwater Inspection, Weed Spraying, Mowing | E33: 4475
A36: Total Direct Costs | E36: =SUM(E6:E35) -> 4475
A37: Mobilization/Demobilization | E37: 2000
A39: Total Financial Warranty | E39: =SUM(E36:E38) -> 6475
A42: Notes:
A43: Initial Area of Disturbance: | B43: Included with Site
A44: Remaining Area of Disturbance:
A45: Wells on Location:
A46: Soil Type:
A47: Salt Kill Considerations:
A48: High Priority Habitat:
A49: Rangeland or Cropland:

Sheet HOFFMAN-68N60W #34NWSE
A1: Strachan Exploration, Inc. Financial Assurance Warranty Calculation
A2: HOFFMAN-68N60W #34NWSE
A4: Reclamation Task and Quantity
C5: Unit cost | D5: # of units | E5: Item totals
A6: Equipment Removal- Tanks, flow lines, valves, etc | E6: =C6*D6 -> 0
A7: Completed with Plugging and Abandonment | E7: =C7*D7 -> 0
A8: Tank Berms | E8: =C8*D8 -> 0
A9: Berms removed with Plugging and Abandonment | E9: =C9*D9 -> 0
A10: Pits | E10: =C10*D10 -> 0
A11: Pit reclamation | E11: =C11*D11 -> 0
A12: Road Reclamation (Using Road Grader) Total linear feet | E12: =C12*D12 -> 0
A13: $300/Hour to re-grade and rip road (300 feet/hr or $1.00/linear foot) | E13: =C13*D13 -> 0
A14: Rip and Re-Grade Site (not including roads) Acres Total | E14: =C14*D14 -> 0
A15: Road Grader $300.00/hour @ 1/2 acre/hour=$600/ac | E15: =C15*D15 -> 0
A16: Topsoil Replacement | E16: =C16*D16 -> 0
A17: Import and re-spread topsoil @ 4 inches deep over 1.0 acres | E17: =C17*D17 -> 0
... A32: or $416/ac based on 208 feet along lowest side) | E32: =C32*D32 -> 0
A33: Stormwater Inspection, Weed Spraying, Mowing | E33: 4475
A36: Total Direct Costs | E36: =SUM(E6:E35) -> 4475
A37: Mobilization/Demobilization | E37: 2000
A39: Total Financial Warranty | E39: =SUM(E36:E38) -> 6475
A42: Notes:
A43: Initial Area of Disturbance:
A44: Remaining Area of Disturbance:
A45: Wells on Location:
A46: Soil Type:
A47: Salt Kill Considerations:
A48: High Priority Habitat:
A49: Rangeland or Cropland:

Sheet KETTL #23-3
A1: Strachan Exploration, Inc. Financial Assurance Warranty Calculation
A2: KETTL #23-3
A4: Reclamation Task and Quantity
C5: Unit cost | D5: # of units | E5: Item totals
A6: Equipment Removal (not completed during Plugging and Abandonment) | E6: =C6*D6 -> 0
A7: Tank removal @ $1,5000.00/Tank | C7: 1500 | E7: =C7*D7 -> 0
A8: Pit reclamation | E8: =C8*D8 -> 0
A9: Liner Removal | E9: =C9*D9 -> 0
A10: Backfilling- Bobcat S86 Skid Steer Loader-$125.00/hr | C10: 125 | E10: =C10*D10 -> 0
A11: Misc | E11: =C11*D11 -> 0
A12: Road Reclamation (Using Road Grader) Total linear feet | C12: 1 | D12: 1996 | E12: =C12*D12 -> 1996
A13: $300/Hour to re-grade and rip road (300 feet/hr or $1.00/linear foot) | E13: =C13*D13 -> 0
A14: Rip and Re-Grade Site (not including roads) Acres Total | D14: 0.18 | E14: =C14*D14 -> 0
A15: Bobcat S86-$125.00/hour @ 1/2 acre/hour=$250/ac | C15: 250 | E15: =C15*D15 -> 0
A16: Topsoil Replacement -Import and re-spread topsoil @ 4 inches deep | E16: =C16*D16 -> 0
A17: Grading cost =$250/ac | C17: 250 | D17: 0.18 | E17: =C17*D17 -> 45
A18: 27 loads (20yds/load) @ $600/load=$16,200.00/Acre | C18: 16200 | D18: 0.18 | E18: =C18*D18 -> 2916
A19: Topsoil Preparation (minimum of 1 acre) | E19: =C19*D19 -> 0
A20: Spread Cow Manure as Soil Amendment (20 Tons/Acre@ $50 acre) | C20: 50 | D20: 1 | E20: =C20*D20 -> 50
A21: Disc to incorporate on 1 acres ($50.00/Acre) | C21: 50 | D21: 1 | E21: =C21*D21 -> 50
A22: Drag Harrow to firm up seed bed on 1 acres ($50.00/Acre) | C22: 50 | D22: 1 | E22: =C22*D22 -> 50
A23: Seeding (minimum of 1 acre which includes road) | E23: =C23*D23 -> 0
A24: Seed Cost $14.00/lb @ 15 lbs/acre ($210/Acre) | C24: 210 | D24: 1 | E24: =C24*D24 -> 210
A25: Seeding with Grass Drill $232.00/Acre | C25: 232 | D25: 1 | E25: =C25*D25 -> 232
A26: Mulch and Crimp Straw @ 2 tons/acre $1058/Acre | C26: 1058 | D26: 1 | E26: =C26*D26 -> 1058
A27: %25 Failure rate replacement seeding $110/Acre (no additional mulch) | C27: 110 | D27: 1 | E27: =C27*D27 -> 110
A28: Site Soil Testing- $414.00/sample | C28: 414 | D28: 1 | E28: =C28*D28 -> 414
A29: PID Testing ($.50/ft for lines) | C29: 0.5 | D29: 1996 | E29: =C29*D29 -> 998
A30: ($150.00 each for tank and/or pad) | C30: 150 | D30: 1 | E30: =C30*D30 -> 150
A31: Straw Wattles ($2.00/linear foot installed) | C31: 2 | D31: 208 | E31: =C31*D31 -> 416
A32: or $416/ac based on 208 feet along lowest side) | C32: 416 | E32: =C32*D32 -> 0
A33: Stormwater Inspection, Weed Spraying, Mowing | E33: 2000
A36: Total Direct Costs | E36: =SUM(E6:E35) -> 10695
A37: Mobilization/Demobilization | E37: 630
A39: Total Financial Warranty | E39: =SUM(E36:E38) -> 11325
A42: Notes:
A43: Road Length (ft): | B43: 1996
A44: Initial Area of Disturbance (ac): | B44: 0.84
A45: Remaining Area of Disturbance (ac): | B45: 0.18
A46: Soil Type: | B46: Ascelion Sandy Loam
A47: Salt Kill Considerations: | B47: No
A48: High Priority Habitat: | B48: Pronghorn SWR
A49: Rangeland or Cropland: | B49: Range

Sheet KETTL-66N61W #23NENW
A1: Strachan Exploration, Inc. Financial Assurance Warranty Calculation
A2: KETTL-66N61W #23NENW
A4: Reclamation Task and Quantity
C5: Unit cost | D5: # of units | E5: Item totals
A6: Equipment Removal- Tanks, flow lines, valves, etc | E6: =C6*D6 -> 0
A7: Completed with Plugging and Abandonment | E7: =C7*D7 -> 0
A8: Tank Berms | E8: =C8*D8 -> 0
A9: Berms removed with Plugging and Abandonment | E9: =C9*D9 -> 0
A10: Pits | E10: =C10*D10 -> 0
A11: Pit reclamation | E11: =C11*D11 -> 0
A12: Road Reclamation (Using Road Grader) Total linear feet | E12: =C12*D12 -> 0
A13: $300/Hour to re-grade and rip road (300 feet/hr or $1.00/linear foot) | E13: =C13*D13 -> 0
A14: Rip and Re-Grade Site (not including roads) Acres Total | E14: =C14*D14 -> 0
A15: Road Grader $300.00/hour @ 1/2 acre/hour=$600/ac | E15: =C15*D15 -> 0
A16: Topsoil Replacement | E16: =C16*D16 -> 0
A17: Import and re-spread topsoil @ 4 inches deep over 1.0 acres | E17: =C17*D17 -> 0
... A32: or $416/ac based on 208 feet along lowest side) | E32: =C32*D32 -> 0
A33: Stormwater Inspection, Weed Spraying, Mowing | E33: 4475
A36: Total Direct Costs | E36: =SUM(E6:E35) -> 4475
A37: Mobilization/Demobilization | E37: 2000
A39: Total Financial Warranty | E39: =SUM(E36:E38) -> 6475
A42: Notes:
A43: Initial Area of Disturbance:
A44: Remaining Area of Disturbance:
A45: Wells on Location:
A46: Soil Type:
A47: Salt Kill Considerations:
A48: High Priority Habitat:
A49: Rangeland or Cropland:

Sheet OMB GAS GATHERING SYSTEM #
A1: Strachan Exploration, Inc. Financial Assurance Warranty Calculation
A2: OMB GAS GATHERING SYSTEM #
A4: Reclamation Task and Quantity
C5: Unit cost | D5: # of units | E5: Item totals
A6: Equipment Removal (not completed during Plugging and Abandonment) | E6: =C6*D6 -> 0
A7: Tank removal @ $1,5000.00/Tank | C7: 1500 | E7: =C7*D7 -> 0
A8: Pit reclamation | E8: =C8*D8 -> 0
A9: Liner Removal | E9: =C9*D9 -> 0
A10: Backfilling- Bobcat S86 Skid Steer Loader-$125.00/hr | C10: 125 | E10: =C10*D10 -> 0
A11: Misc | E11: =C11*D11 -> 0
A12: Road Reclamation (Using Road Grader) Total linear feet | C12: 1 | E12: =C12*D12 -> 0
A13: $300/Hour to re-grade and rip road (300 feet/hr or $1.00/linear foot) | E13: =C13*D13 -> 0
A14: Rip and Re-Grade Site (not including roads) Acres Total | E14: =C14*D14 -> 0
A15: Bobcat S86-$125.00/hour @ 1/2 acre/hour=$250/ac | C15: 250 | E15: =C15*D15 -> 0
A16: Topsoil Replacement -Import and re-spread topsoil @ 4 inches deep | E16: =C16*D16 -> 0
A17: Grading cost =$250/ac | C17: 250 | E17: =C17*D17 -> 0
A18: 27 loads (20yds/load) @ $600/load=$16,200.00/Acre | C18: 16200 | E18: =C18*D18 -> 0
A19: Topsoil Preparation (minimum of 1 acre) | E19: =C19*D19 -> 0
A20: Spread Cow Manure as Soil Amendment (20 Tons/Acre@ $50 acre) | C20: 50 | E20: =C20*D20 -> 0
A21: Disc to incorporate on 1 acres ($50.00/Acre) | C21: 50 | E21: =C21*D21 -> 0
A22: Drag Harrow to firm up seed bed on 1 acres ($50.00/Acre) | C22: 50 | E22: =C22*D22 -> 0
A23: Seeding (minimum of 1 acre which includes road) | E23: =C23*D23 -> 0
A24: Seed Cost $14.00/lb @ 15 lbs/acre ($210/Acre) | C24: 210 | E24: =C24*D24 -> 0
A25: Seeding with Grass Drill $232.00/Acre | C25: 232 | E25: =C25*D25 -> 0
A26: Mulch and Crimp Straw @ 2 tons/acre $1058/Acre | C26: 1058 | E26: =C26*D26 -> 0
A27: %25 Failure rate replacement seeding $110/Acre (no additional mulch) | C27: 110 | E27: =C27*D27 -> 0
A28: Site Soil Testing- $414.00/sample | C28: 414 | E28: =C28*D28 -> 0
A29: PID Testing ($.50/ft for lines) | C29: 0.5 | E29: =C29*D29 -> 0
A30: ($150.00 each for tank and/or pad) | C30: 150 | E30: =C30*D30 -> 0
A31: Straw Wattles ($2.00/linear foot installed) | C31: 2 | E31: =C31*D31 -> 0
A32: or $416/ac based on 208 feet along lowest side) | C32: 416 | E32: =C32*D32 -> 0
A33: Stormwater Inspection, Weed Spraying, Mowing | E33: 2000
A36: Total Direct Costs | E36: =SUM(E6:E35) -> 2000
A37: Mobilization/Demobilization | E37: 630
A39: Total Financial Warranty | E39: =SUM(E36:E38) -> 2630
A42: Notes: | B42: Flowlines from Babb #14-4
A43: Road Length (ft):
A44: Initial Area of Disturbance (ac): | B44: Included with Site
A45: Remaining Area of Disturbance (ac):
A46: Soil Type: | B46: Ascalon Sandy Loam
A47: Salt Kill Considerations: | B47: No
A48: High Priority Habitat: | B48: Pronghorn Winter Range
A49: Rangeland or Cropland: | B49: Range

Sheet PAUL #6-7
A1: Strachan Exploration, Inc. Financial Assurance Warranty Calculation
A2: PAUL #6-7
A4: Reclamation Task and Quantity
C5: Unit cost | D5: # of units | E5: Item totals
A6: Equipment Removal (not completed during Plugging and Abandonment) | E6: =C6*D6 -> 0
A7: Tank removal @ $1,5000.00/Tank | C7: 1500 | E7: =C7*D7 -> 0
A8: Pit reclamation | E8: =C8*D8 -> 0
A9: Liner Removal | E9: =C9*D9 -> 0
A10: Backfilling- Bobcat S86 Skid Steer Loader-$125.00/hr | C10: 125 | E10: =C10*D10 -> 0
A11: Misc | E11: =C11*D11 -> 0
A12: Road Reclamation (Using Road Grader) Total linear feet | C12: 1 | D12: 3064 | E12: =C12*D12 -> 3064
A13: $300/Hour to re-grade and rip road (300 feet/hr or $1.00/linear foot) | E13: =C13*D13 -> 0
A14: Rip and Re-Grade Site (not including roads) Acres Total | D14: 0.42 | E14: =C14*D14 -> 0
A15: Bobcat S86-$125.00/hour @ 1/2 acre/hour=$250/ac | C15: 250 | E15: =C15*D15 -> 0
