Workbook

Sheet Greasewood North #
A1: Strachan Exploration, Inc. Financial Assurance Warranty Calculation
A2: Greasewood North #
A4: Reclamation Task and Quantity
C5: Unit cost | D5: # of units | E5: Item totals
A6: Equipment Removal- Tanks, flow lines, valves, etc | E6: =C6*D6 -> 0
A7: Completed with Plugging and Abandonment | E7: =C7*D7 -> 0
A8: Tank Berms | E8: =C8*D8 -> 0
A9: Berms removed with Plugging and Abandonment | E9: =C9*D9 -> 0
A10: Pits | E10: =C10*D10 -> 0
A11: Pit reclamation | E11: =C11*D11 -> 0
A12: Road Reclamation (Using Road Grader) Total linear feet | E12: =C12*D12 -> 0
A13: $300/Hour to re-grade and rip road (300 feet/hr or $1.00/linear foot) | E13: =C13*D13 -> 0
A14: Rip and Re-Grade Site (not including roads) Acres Total | E14: =C14*D14 -> 0
A15: Road Grader $300.00/hour @ 1/2 acre/hour=$600/ac | E15: =C15*D15 -> 0
A16: Topsoil Replacement | E16: =C16*D16 -> 0
A17: Import and re-spread topsoil @ 4 inches deep over 1.0 acres | E17: =C17*D17 -> 0
... A32: or $416/ac based on 208 feet along lowest side) | E32: =C32*D32 -> 0
A33: Stormwater Inspection, Weed Spraying, Mowing | E33: 4475
A36: Total Direct Costs | E36: =SUM(E6:E35) -> 4475
A37: Mobilization/Demobilization | E37: 2000
A39: Total Financial Warranty | E39: =SUM(E36:E38) -> 6475
A42: Notes:
A43: Initial Area of Disturbance:
A44: Remaining Area of Disturbance:
A45: Wells on Location:
A46: Soil Type:
A47: Salt Kill Considerations:
A48: High Priority Habitat:
A49: Rangeland or Cropland:

Sheet BABB #14-14
A1: Strachan Exploration, Inc. Financial Assurance Warranty Calculation
A2: BABB #14-14
A3: Includes Facility ID 332405
A4: Reclamation Task and Quantity
C5: Unit cost | D5: # of units | E5: Item totals
A6: Equipment Removal not completed during Plugging and Abandonment | E6: =SUM(C6*D6) -> 0
A7: Tank removal @ $1,500.00/Tank | C7: 1500 | E7: =SUM(C7*D7) -> 0
A8: Pit reclamation | E8: =SUM(C8*D8) -> 0
A9: Liner Removal | E9: =SUM(C9*D9) -> 0
A10: Backfilling- Bobcat S86 Skid Steer Loader-$125.00/hr | C10: 125 | E10: =SUM(C10*D10) -> 0
A11: Misc | E11: =SUM(C11*D11) -> 0
A12: Road Reclamation (Using Road Grader) Total linear feet | E12: =SUM(C12*D12) -> 0
A13: $300/Hour to re-grade and rip road (300 feet/hr or $1.00/linear foot) | C13: 1 | D13: 509 | E13: =SUM(C13*D13) -> 509
A14: Rip and Re-Grade Site (not including roads) Acres Total | E14: =SUM(C14*D14) -> 0
A15: Bobcat S86-$125.00/hour @ 1/2 acre/hour=$250/ac | C15: 250 | D15: 0.02 | E15: =SUM(C15*D15) -> 5
A16: Topsoil Replacement -Import and re-spread topsoil @ 4 inches deep | E16: =SUM(C16*D16) -> 0
A17: Grading cost =$250/ac | C17: 250 | D17: 0.02 | E17: =SUM(C17*D17) -> 5
A18: 27 loads (20yds/load) @ $600/load=$16,200.00/Acre | C18: 16200 | D18: 0.02 | E18: =SUM(C18*D18) -> 324
A19: Topsoil Preparation (minimum of 1 acre) | E19: =SUM(C19*D19) -> 0
A20: Spread Cow Manure as Soil Amendment (20 Tons/Acre@ $50 acre) | C20: 50 | D20: 1 | E20: =SUM(C20*D20) -> 50
A21: Disc to incorporate on 1 acres ($50.00/Acre) | C21: 50 | D21: 1 | E21: =SUM(C21*D21) -> 50
A22: Drag Harrow to firm up seed bed on 1 acres ($50.00/Acre) | C22: 50 | D22: 1 | E22: =SUM(C22*D22) -> 50
A23: Seeding (minimum of 1 acre which includes road) | E23: =SUM(C23*D23) -> 0
A24: Seed Cost $14.00/lb @ 15 lbs/acre ($210/Acre) | C24: 210 | D24: 1 | E24: =SUM(C24*D24) -> 210
A25: Seeding with Grass Drill $232.00/Acre | C25: 232 | D25: 1 | E25: =SUM(C25*D25) -> 232
A26: Mulch and Crimp Straw @ 2 tons/acre $1058/Acre | C26: 1058 | D26: 1 | E26: =SUM(C26*D26) -> 1058
A27: %25 Failure rate replacement seeding $110/Acre (no additional mulch) | C27: 110 | D27: 1 | E27: =SUM(C27*D27) -> 110
A28: Site Soil Testing- $414.00/sample | C28: 414 | D28: 2 | E28: =SUM(C28*D28) -> 828
A29: PID Testing ($.50/ft for lines) | C29: 0.5 | D29: 509 | E29: =SUM(C29*D29) -> 254.5
A30: ($150.00 each for tank and/or pad) | C30: 150 | D30: 1 | E30: =SUM(C30*D30) -> 150
A31: Straw Wattles ($2.00/linear foot installed) | C31: 2 | D31: 208 | E31: =SUM(C31*D31) -> 416
A32: or $416/ac based on 208 feet along lowest side) | C32: 416 | E32: =SUM(C32*D32) -> 0
A33: Stormwater Inspection, Weed Spraying, Mowing | E33: 2000
A36: Total Direct Costs | E36: =SUM(E6:E35) -> 6251.5
A37: Mobilization/Demobilization | E37: 630
A39: Total Financial Warranty | E39: =SUM(E36:E38) -> 6881.5
A42: Notes:
A43: Road Length (ft): | B43: 509
A44: Initial Area of Disturbance (ac): | B44: 1.8
A45: Remaining Area of Disturbance (ac): | B45: 0.02
...

Sheet BABB #14-14 Tank Battery
A1: Strachan Exploration, Inc. Financial Assurance Warranty Calculation
A2: BABB #14-14 Tank Battery
A4: Reclamation Task and Quantity
C5: Unit cost | D5: # of units | E5: Item totals
A6: Equipment Removal not completed during Plugging and Abandonment | E6: =SUM(C6*D6) -> 0
A7: Tank removal @ $1,500.00/Tank | C7: 1500 | D7: 1 | E7: =SUM(C7*D7) -> 1500
A8: Pit reclamation | E8: =SUM(C8*D8) -> 0
A9: Liner Removal | E9: =SUM(C9*D9) -> 0
A10: Backfilling- Bobcat S86 Skid Steer Loader-$125.00/hr | C10: 125 | D10: 3 | E10: =SUM(C10*D10) -> 375
A11: Misc | E11: =SUM(C11*D11) -> 0
A12: Road Reclamation (Using Road Grader) Total linear feet | C12: 1 | E12: =SUM(C12*D12) -> 0
A13: $300/Hour to re-grade and rip road (300 feet/hr or $1.00/linear foot) | E13: =SUM(C13*D13) -> 0
A14: Rip and Re-Grade Site (not including roads) Acres Total | E14: =SUM(C14*D14) -> 0
A15: Bobcat S86-$125.00/hour @ 1/2 acre/hour=$250/ac | C15: 250 | D15: 0.52 | E15: =SUM(C15*D15) -> 130
A16: Topsoil Replacement -Import and re-spread topsoil @ 4 inches deep | E16: =SUM(C16*D16) -> 0
A17: Grading cost =$250/ac | C17: 250 | D17: 0.52 | E17: =SUM(C17*D17) -> 130
A18: 27 loads (20yds/load) @ $600/load=$16,200.00/Acre | C18: 16200 | D18: 0.52 | E18: =SUM(C18*D18) -> 8424
A19: Topsoil Preparation (minimum of 1 acre) | E19: =SUM(C19*D19) -> 0
A20: Spread Cow Manure as Soil Amendment (20 Tons/Acre@ $50 acre) | C20: 50 | D20: 1 | E20: =SUM(C20*D20) -> 50
A21: Disc to incorporate on 1 acres ($50.00/Acre) | C21: 50 | D21: 1 | E21: =SUM(C21*D21) -> 50
A22: Drag Harrow to firm up seed bed on 1 acres ($50.00/Acre) | C22: 50 | D22: 1 | E22: =SUM(C22*D22) -> 50
A23: Seeding (minimum of 1 acre which includes road) | E23: =SUM(C23*D23) -> 0
A24: Seed Cost $14.00/lb @ 15 lbs/acre ($210/Acre) | C24: 210 | D24: 1 | E24: =SUM(C24*D24) -> 210
A25: Seeding with Grass Drill $232.00/Acre | C25: 232 | D25: 1 | E25: =SUM(C25*D25) -> 232
A26: Mulch and Crimp Straw @ 2 tons/acre $1058/Acre | C26: 1058 | D26: 1 | E26: =SUM(C26*D26) -> 1058
A27: %25 Failure rate replacement seeding $110/Acre (no additional mulch) | C27: 110 | D27: 1 | E27: =SUM(C27*D27) -> 110
A28: Site Soil Testing- $414.00/sample | C28: 414 | D28: 1 | E28: =SUM(C28*D28) -> 414
A29: PID Testing ($.50/ft for lines) | C29: 0.5 | D29: 100 | E29: =SUM(C29*D29) -> 50
A30: ($150.00 each for tank and/or pad) | C30: 150 | D30: 2 | E30: =SUM(C30*D30) -> 300
A31: Straw Wattles ($2.00/linear foot installed) | C31: 2 | E31: =SUM(C31*D31) -> 0
A32: or $416/ac based on 208 feet along lowest side) | C32: 416 | D32: 1 | E32: =SUM(C32*D32) -> 416
A33: Stormwater Inspection, Weed Spraying, Mowing | E33: 2000
A36: Total Direct Costs | E36: =SUM(E6:E35) -> 15499
A37: Mobilization/Demobilization | E37: 630
A39: Total Financial Warranty | E39: =SUM(E36:E38) -> 16129
A42: Notes:
A43: Road Length (ft): | B43: n/a
A44: Initial Area of Disturbance (ac): | B44: 1.42
A45: Remaining Area of Disturbance (ac): | B45: 0.52
A46: Soil Type: | B46: Ascelion Sandy Loam
...

Sheet BANEY-STATE #16-2
A1: Strachan Exploration, Inc. Financial Assurance Warranty Calculation
A2: BANEY-STATE #16-2
A3: Includes Facility ID 433737
A4: Reclamation Task and Quantity
C5: Unit cost | D5: # of units | E5: Item totals
A6: Equipment Removal not completed during Plugging and Abandonment | E6: =SUM(C6*D6) -> 0
A7: Tank removal @ $1,500.00/Tank | C7: 1500 | D7: 4 | E7: =SUM(C7*D7) -> 6000
A8: Pit reclamation | E8: =SUM(C8*D8) -> 0
A9: Liner Removal | E9: =SUM(C9*D9) -> 0
A10: Backfilling- Bobcat S86 Skid Steer Loader-$125.00/hr | C10: 125 | D10: 4 | E10: =SUM(C10*D10) -> 500
A11: Misc | E11: =SUM(C11*D11) -> 0
A12: Road Reclamation (Using Road Grader) Total linear feet | E12: =SUM(C12*D12) -> 0
A13: $300/Hour to re-grade and rip road (300 feet/hr or $1.00/linear foot) | C13: 1 | D13: 764 | E13: =SUM(C13*D13) -> 764
A14: Rip and Re-Grade Site (not including roads) Acres Total | E14: =SUM(C14*D14) -> 0
A15: Bobcat S86-$125.00/hour @ 1/2 acre/hour=$250/ac | C15: 250 | D15: 1.03 | E15: =SUM(C15*D15) -> 257.5
A16: Topsoil Replacement -Import and re-spread topsoil @ 4 inches deep | E16: =SUM(C16*D16) -> 0
A17: Grading cost =$250/ac | C17: 250 | D17: 1.03 | E17: =SUM(C17*D17) -> 257.5
A18: 27 loads (20yds/load) @ $600/load=$16,200.00/Acre | C18: 16200 | D18: 1.03 | E18: =SUM(C18*D18) -> 16686
A19: Topsoil Preparation (minimum of 1 acre) | E19: =SUM(C19*D19) -> 0
A20: Spread Cow Manure as Soil Amendment (20 Tons/Acre@ $50 acre) | C20: 50 | D20: 1.03 | E20: =SUM(C20*D20) -> 51.5
A21: Disc to incorporate on 1 acres ($50.00/Acre) | C21: 50 | D21: 1.03 | E21: =SUM(C21*D21) -> 51.5
A22: Drag Harrow to firm up seed bed on 1 acres ($50.00/Acre) | C22: 50 | D22: 1.03 | E22: =SUM(C22*D22) -> 51.5
A23: Seeding (minimum of 1 acre which includes road) | E23: =SUM(C23*D23) -> 0
A24: Seed Cost $14.00/lb @ 15 lbs/acre ($210/Acre) | C24: 210 | D24: 1.03 | E24: =SUM(C24*D24) -> 216.3
A25: Seeding with Grass Drill $232.00/Acre | C25: 232 | D25: 1.03 | E25: =SUM(C25*D25) -> 238.96
A26: Mulch and Crimp Straw @ 2 tons/acre $1058/Acre | C26: 1058 | D26: 1.03 | E26: =SUM(C26*D26) -> 1089.74
A27: %25 Failure rate replacement seeding $110/Acre (no additional mulch) | C27: 110 | D27: 1.03 | E27: =SUM(C27*D27) -> 113.3
A28: Site Soil Testing- $414.00/sample | C28: 414 | D28: 1 | E28: =SUM(C28*D28) -> 414
A29: PID Testing ($.50/ft for lines) | C29: 0.5 | D29: 764 | E29: =SUM(C29*D29) -> 382
A30: ($150.00 each for tank and/or pad) | C30: 150 | D30: 5 | E30: =SUM(C30*D30) -> 750
A31: Straw Wattles ($2.00/linear foot installed) | C31: 2 | E31: =SUM(C31*D31) -> 0
A32: or $416/ac based on 208 feet along lowest side) | C32: 416 | D32: 1.03 | E32: =SUM(C32*D32) -> 428.48
A33: Stormwater Inspection, Weed Spraying, Mowing | E33: 2000
A36: Total Direct Costs | E36: =SUM(E6:E35) -> 30252.28
A37: Mobilization/Demobilization | E37: 630
A39: Total Financial Warranty | E39: =SUM(E36:E38) -> 30882.28
A42: Notes:
A43: Road Length (ft): | B43: 764
A44: Initial Area of Disturbance (ac): | B44: 1.85
A45: Remaining Area of Disturbance (ac): | B45: 1.03
...

Sheet BANEY STATE 16-3
A1: Strachan Exploration, Inc. Financial Assurance Warranty Calculation
A2: BANEY STATE 16-3
A4: Reclamation Task and Quantity
C5: Unit cost | D5: # of units | E5: Item totals
A6: Equipment Removal not completed during Plugging and Abandonment | E6: =SUM(C6*D6) -> 0
A7: Tank removal @ $1,500.00/Tank | C7: 1500 | E7: =SUM(C7*D7) -> 0
A8: Pit reclamation | E8: =SUM(C8*D8) -> 0
A9: Liner Removal | E9: =SUM(C9*D9) -> 0
A10: Backfilling- Bobcat S86 Skid Steer Loader-$125.00/hr | C10: 125 | E10: =SUM(C10*D10) -> 0
A11: Misc | E11: =SUM(C11*D11) -> 0
A12: Road Reclamation (Using Road Grader) Total linear feet | C12: 1 | D12: 2112 | E12: =SUM(C12*D12) -> 2112
A13: $300/Hour to re-grade and rip road (300 feet/hr or $1.00/linear foot) | E13: =SUM(C13*D13) -> 0
A14: Rip and Re-Grade Site (not including roads) Acres Total | E14: =SUM(C14*D14) -> 0
A15: Bobcat S86-$125.00/hour @ 1/2 acre/hour=$250/ac | C15: 250 | D15: 0.14 | E15: =SUM(C15*D15) -> 35
A16: Topsoil Replacement -Import and re-spread topsoil @ 4 inches deep | E16: =SUM(C16*D16) -> 0
A17: Grading cost =$250/ac | C17: 250 | D17: 0.14 | E17: =SUM(C17*D17) -> 35
A18: 27 loads (20yds/load) @ $600/load=$16,200.00/Acre | C18: 16200 | D18: 0.14 | E18: =SUM(C18*D18) -> 2268
A19: Topsoil Preparation (minimum of 1 acre) | E19: =SUM(C19*D19) -> 0
A20: Spread Cow Manure as Soil Amendment (20 Tons/Acre@ $50 acre) | C20: 50 | D20: 1 | E20: =SUM(C20*D20) -> 50
A21: Disc to incorporate on 1 acres ($50.00/Acre) | C21: 50 | D21: 1 | E21: =SUM(C21*D21) -> 50
A22: Drag Harrow to firm up seed bed on 1 acres ($50.00/Acre) | C22: 50 | D22: 1 | E22: =SUM(C22*D22) -> 50
A23: Seeding (minimum of 1 acre which includes road) | E23: =SUM(C23*D23) -> 0
A24: Seed Cost $14.00/lb @ 15 lbs/acre ($210/Acre) | C24: 210 | D24: 1 | E24: =SUM(C24*D24) -> 210
A25: Seeding with Grass Drill $232.00/Acre | C25: 232 | D25: 1 | E25: =SUM(C25*D25) -> 232
A26: Mulch and Crimp Straw @ 2 tons/acre $1058/Acre | C26: 1058 | D26: 1 | E26: =SUM(C26*D26) -> 1058
A27: %25 Failure rate replacement seeding $110/Acre (no additional mulch) | C27: 110 | D27: 1 | E27: =SUM(C27*D27) -> 110
A28: Site Soil Testing- $414.00/sample | C28: 414 | D28: 1 | E28: =SUM(C28*D28) -> 414
A29: PID Testing ($.50/ft for lines) | C29: 0.5 | D29: 2112 | E29: =SUM(C29*D29) -> 1056
A30: ($150.00 each for tank and/or pad) | C30: 150 | D30: 1 | E30: =SUM(C30*D30) -> 150
A31: Straw Wattles ($2.00/linear foot installed) | C31: 2 | E31: =SUM(C31*D31) -> 0
A32: or $416/ac based on 208 feet along lowest side) | C32: 416 | D32: 1 | E32: =SUM(C32*D32) -> 416
A33: Stormwater Inspection, Weed Spraying, Mowing | E33: 2000
A36: Total Direct Costs | E36: =SUM(E6:E35) -> 10246
A37: Mobilization/Demobilization | E37: 630
A39: Total Financial Warranty | E39: =SUM(E36:E38) -> 10876
A42: Notes:
A43: Road Length (ft): | B43: 2112
A44: Initial Area of Disturbance (ac): | B44: 0.53
A45: Remaining Area of Disturbance (ac): | B45: 0.14
A46: Soil Type: | B46: Weld Loam
...

Sheet BANEY STATE 16-5
A1: Strachan Exploration, Inc. Financial Assurance Warranty Calculation
A2: BANEY STATE 16-5
A4: Reclamation Task and Quantity
C5: Unit cost | D5: # of units | E5: Item totals
A6: Equipment Removal not completed during Plugging and Abandonment | E6: =SUM(C6*D6) -> 0
A7: Tank removal @ $1,500.00/Tank | C7: 1500 | E7: =SUM(C7*D7) -> 0
A8: Pit reclamation | E8: =SUM(C8*D8) -> 0
A9: Liner Removal | E9: =SUM(C9*D9) -> 0
A10: Backfilling- Bobcat S86 Skid Steer Loader-$125.00/hr | C10: 125 | E10: =SUM(C10*D10) -> 0
A11: Misc | E11: =SUM(C11*D11) -> 0
A12: Road Reclamation (Using Road Grader) Total linear feet | C12: 1 | D12: 835 | E12: =SUM(C12*D12) -> 835
A13: $300/Hour to re-grade and rip road (300 feet/hr or $1.00/linear foot) | E13: =SUM(C13*D13) -> 0
A14: Rip and Re-Grade Site (not including roads) Acres Total | D14: 0.43 | E14: =SUM(C14*D14) -> 0
A15: Bobcat S86-$125.00/hour @ 1/2 acre/hour=$250/ac | C15: 250 | E15: =SUM(C15*D15) -> 0
A16: Topsoil Replacement -Import and re-spread topsoil @ 4 inches deep | E16: =SUM(C16*D16) -> 0
A17: Grading cost =$250/ac | C17: 250 | D17: 0.43 | E17: =SUM(C17*D17) -> 107.5
A18: 27 loads (20yds/load) @ $600/load=$16,200.00/Acre | C18: 16200 | D18: 0.43 | E18: =SUM(C18*D18) -> 6966
A19: Topsoil Preparation (minimum of 1 acre) | E19: =SUM(C19*D19) -> 0
A20: Spread Cow Manure as Soil Amendment (20 Tons/Acre@ $50 acre) | C20: 50 | D20: 1 | E20: =SUM(C20*D20) -> 50
A21: Disc to incorporate on 1 acres ($50.00/Acre) | C21: 50 | D21: 1 | E21: =SUM(C21*D21) -> 50
A22: Drag Harrow to firm up seed bed on 1 acres ($50.00/Acre) | C22: 50 | D22: 1 | E22: =SUM(C22*D22) -> 50
A23: Seeding (minimum of 1 acre which includes road) | E23: =SUM(C23*D23) -> 0
A24: Seed Cost $14.00/lb @ 15 lbs/acre ($210/Acre) | C24: 210 | D24: 1 | E24: =SUM(C24*D24) -> 210
A25: Seeding with Grass Drill $232.00/Acre | C25: 232 | D25: 1 | E25: =SUM(C25*D25) -> 232
A26: Mulch and Crimp Straw @ 2 tons/acre $1058/Acre | C26: 1058 | D26: 1 | E26: =SUM(C26*D26) -> 1058
A27: %25 Failure rate replacement seeding $110/Acre (no additional mulch) | C27: 110 | D27: 1 | E27: =SUM(C27*D27) -> 110
A28: Site Soil Testing- $414.00/sample | C28: 414 | D28: 1 | E28: =SUM(C28*D28) -> 414
A29: PID Testing ($.50/ft for lines) | C29: 0.5 | D29: 835 | E29: =SUM(C29*D29) -> 417.5
A30: ($150.00 each for tank and/or pad) | C30: 150 | D30: 1 | E30: =SUM(C30*D30) -> 150
A31: Straw Wattles ($2.00/linear foot installed) | C31: 2 | D31: 208 | E31: =SUM(C31*D31) -> 416
A32: or $416/ac based on 208 feet along lowest side) | C32: 416 | E32: =SUM(C32*D32) -> 0
A33: Stormwater Inspection, Weed Spraying, Mowing | E33: 2000
A36: Total Direct Costs | E36: =SUM(E6:E35) -> 13066
A37: Mobilization/Demobilization | E37: 630
A39: Total Financial Warranty | E39: =SUM(E36:E38) -> 13696
A42: Notes:
A43: Road Length (ft): | B43: 835
A44: Initial Area of Disturbance (ac): | B44: 1.04
A45: Remaining Area of Disturbance (ac): | B45: 0.43
A46: Soil Type: | B46: Weld Loam
...

Sheet BEHRING #23-7
A1: Strachan Exploration, Inc. Financial Assurance Warranty Calculation
A2: BEHRING #23-7
A3: Includes Facility ID 274753
A4: Reclamation Task and Quantity
C5: Unit cost | D5: # of units | E5: Item totals
A6: Equipment Removal not completed during Plugging and Abandonment | E6: =SUM(C6*D6) -> 0
A7: Tank removal @ $1,500.00/Tank | C7: 1500 | E7: =SUM(C7*D7) -> 0
A8: Pit reclamation | E8: =SUM(C8*D8) -> 0
A9: Liner Removal | E9: =SUM(C9*D9) -> 0
A10: Backfilling- Bobcat S86 Skid Steer Loader-$125.00/hr | C10: 125 | E10: =SUM(C10*D10) -> 0
A11: Misc | E11: =SUM(C11*D11) -> 0
A12: Road Reclamation (Using Road Grader) Total linear feet | C12: 1 | D12: 1873 | E12: =SUM(C12*D12) -> 1873
A13: $300/Hour to re-grade and rip road (300 feet/hr or $1.00/linear foot) | E13: =SUM(C13*D13) -> 0
A14: Rip and Re-Grade Site (not including roads) Acres Total | D14: 0.59 | E14: =SUM(C14*D14) -> 0
A15: Bobcat S86-$125.00/hour @ 1/2 acre/hour=$250/ac | C15: 250 | E15: =SUM(C15*D15) -> 0
A16: Topsoil Replacement -Import and re-spread topsoil @ 4 inches deep | E16: =SUM(C16*D16) -> 0
A17: Grading cost =$250/ac | C17: 250 | D17: 0.59 | E17: =SUM(C17*D17) -> 147.5
A18: 27 loads (20yds/load) @ $600/load=$16,200.00/Acre | C18: 16200 | D18: 0.59 | E18: =SUM(C18*D18) -> 9558
A19: Topsoil Preparation (minimum of 1 acre) | E19: =SUM(C19*D19) -> 0
A20: Spread Cow Manure as Soil Amendment (20 Tons/Acre@ $50 acre) | C20: 50 | D20: 1 | E20: =SUM(C20*D20) -> 50
A21: Disc to incorporate on 1 acres ($50.00/Acre) | C21: 50 | D21: 1 | E21: =SUM(C21*D21) -> 50
A22: Drag Harrow to firm up seed bed on 1 acres ($50.00/Acre) | C22: 50 | D22: 1 | E22: =SUM(C22*D22) -> 50
A23: Seeding (minimum of 1 acre which includes road) | E23: =SUM(C23*D23) -> 0
A24: Seed Cost $14.00/lb @ 15 lbs/acre ($210/Acre) | C24: 210 | D24: 1 | E24: =SUM(C24*D24) -> 210
A25: Seeding with Grass Drill $232.00/Acre | C25: 232 | D25: 1 | E25: =SUM(C25*D25) -> 232
A26: Mulch and Crimp Straw @ 2 tons/acre $1058/Acre | C26: 1058 | D26: 1 | E26: =SUM(C26*D26) -> 1058
A27: %25 Failure rate replacement seeding $110/Acre (no additional mulch) | C27: 110 | D27: 1 | E27: =SUM(C27*D27) -> 110
A28: Site Soil Testing- $414.00/sample | C28: 414 | D28: 1 | E28: =SUM(C28*D28) -> 414
A29: PID Testing ($.50/ft for lines) | C29: 0.5 | D29: 1873 | E29: =SUM(C29*D29) -> 936.5
A30: ($150.00 each for tank and/or pad) | C30: 150 | D30: 1 | E30: =SUM(C30*D30) -> 150
A31: Straw Wattles ($2.00/linear foot installed) | C31: 2 | D31: 208 | E31: =SUM(C31*D31) -> 416
A32: or $416/ac based on 208 feet along lowest side) | C32: 416 | E32: =SUM(C32*D32) -> 0
A33: Stormwater Inspection, Weed Spraying, Mowing | E33: 2000
A36: Total Direct Costs | E36: =SUM(E6:E35) -> 17255
A37: Mobilization/Demobilization | E37: 630
A39: Total Financial Warranty | E39: =SUM(E36:E38) -> 17885
A42: Notes:
A43: Road Length (ft): | B43: 1873
A44: Initial Area of Disturbance (ac): | B44: 2.11
A45: Remaining Area of Disturbance (ac): | B45: 0.59
...

Sheet BEHRING 23-7 # Tank
A1: Strachan Exploration, Inc. Financial Assurance Warranty Calculation
A2: BEHRING 23-7 # Pit
A4: Reclamation Task and Quantity
C5: Unit cost | D5: # of units | E5: Item totals
A6: Equipment Removal not completed during Plugging and Abandonment | E6: =SUM(C6*D6) -> 0
A7: Tank removal @ $1,500.00/Tank | C7: 1500 | D7: 3 | E7: =SUM(C7*D7) -> 4500
A8: Pit reclamation | E8: =SUM(C8*D8) -> 0
A9: Liner Removal | E9: =SUM(C9*D9) -> 0
A10: Backfilling- Bobcat S86 Skid Steer Loader-$125.00/hr | C10: 125 | D10: 3 | E10: =SUM(C10*D10) -> 375
A11: Misc | E11: =SUM(C11*D11) -> 0
A12: Road Reclamation (Using Road Grader) Total linear feet | C12: 1 | E12: =SUM(C12*D12) -> 0
A13: $300/Hour to re-grade and rip road (300 feet/hr or $1.00/linear foot) | E13: =SUM(C13*D13) -> 0
A14: Rip and Re-Grade Site (not including roads) Acres Total | D14: 0.54 | E14: =SUM(C14*D14) -> 0
A15: Bobcat S86-$125.00/hour @ 1/2 acre/hour=$250/ac | C15: 250 | E15: =SUM(C15*D15) -> 0
A16: Topsoil Replacement -Import and re-spread topsoil @ 4 inches deep | E16: =SUM(C16*D16) -> 0
A17: Grading cost =$250/ac | C17: 250 | D17: 0.54 | E17: =SUM(C17*D17) -> 135
A18: 27 loads (20yds/load) @ $600/load=$16,200.00/Acre | C18: 16200 | D18: 0.54 | E18: =SUM(C18*D18) -> 8748
A19: Topsoil Preparation (minimum of 1 acre) | E19: =SUM(C19*D19) -> 0
A20: Spread Cow Manure as Soil Amendment (20 Tons/Acre@ $50 acre) | C20: 50 | D20: 1 | E20: =SUM(C20*D20) -> 50
A21: Disc to incorporate on 1 acres ($50.00/Acre) | C21: 50 | D21: 1 | E21: =SUM(C21*D21) -> 50
A22: Drag Harrow to firm up seed bed on 1 acres ($50.00/Acre) | C22: 50 | D22: 1 | E22: =SUM(C22*D22) -> 50
A23: Seeding (minimum of 1 acre which includes road) | E23: =SUM(C23*D23) -> 0
A24: Seed Cost $14.00/lb @ 15 lbs/acre ($210/Acre) | C24: 210 | D24: 1 | E24: =SUM(C24*D24) -> 210
A25: Seeding with Grass Drill $232.00/Acre | C25: 232 | D25: 1 | E25: =SUM(C25*D25) -> 232
A26: Mulch and Crimp Straw @ 2 tons/acre $1058/Acre | C26: 1058 | D26: 1 | E26: =SUM(C26*D26) -> 1058
A27: %25 Failure rate replacement seeding $110/Acre (no additional mulch) | C27: 110 | D27: 1 | E27: =SUM(C27*D27) -> 110
A28: Site Soil Testing- $414.00/sample | C28: 414 | D28: 1 | E28: =SUM(C28*D28) -> 414
A29: PID Testing ($.50/ft for lines) | C29: 0.5 | D29: 100 | E29: =SUM(C29*D29) -> 50
A30: ($150.00 each for tank and/or pad) | C30: 150 | D30: 4 | E30: =SUM(C30*D30) -> 600
A31: Straw Wattles ($2.00/linear foot installed) | C31: 2 | D31: 208 | E31: =SUM(C31*D31) -> 416
A32: or $416/ac based on 208 feet along lowest side) | C32: 416 | E32: =SUM(C32*D32) -> 0
A33: Stormwater Inspection, Weed Spraying, Mowing | E33: 2000
A36: Total Direct Costs | E36: =SUM(E6:E35) -> 18998
A37: Mobilization/Demobilization | E37: 630
A39: Total Financial Warranty | E39: =SUM(E36:E38) -> 19628
A42: Notes:
A43: Road Length (ft): | B43: n/a
A44: Initial Area of Disturbance (ac): | B44: 1.06
A45: Remaining Area of Disturbance (ac): | B45: 0.54
A46: Soil Type: | B46: Ascelion Sandy Loam
...

Sheet CHALK #31-13
A1: Strachan Exploration, Inc. Financial Assurance Warranty Calculation
A2: CHALK #31-13
A4: Reclamation Task and Quantity
C5: Unit cost | D5: # of units | E5: Item totals
A6: Equipment Removal not completed during Plugging and Abandonment | E6: =SUM(C6*D6) -> 0
A7: Tank removal @ $1,500.00/Tank | C7: 1500 | E7: =SUM(C7*D7) -> 0
A8: Pit reclamation | E8: =SUM(C8*D8) -> 0
A9: Liner Removal | E9: =SUM(C9*D9) -> 0
A10: Backfilling- Bobcat S86 Skid Steer Loader-$125.00/hr | C10: 125 | E10: =SUM(C10*D10) -> 0
A11: Misc | E11: =SUM(C11*D11) -> 0
A12: Road Reclamation (Using Road Grader) Total linear feet | C12: 1 | D12: 401 | E12: =SUM(C12*D12) -> 401
A13: $300/Hour to re-grade and rip road (300 feet/hr or $1.00/linear foot) | E13: =SUM(C13*D13) -> 0
A14: Rip and Re-Grade Site (not including roads) Acres Total | E14: =SUM(C14*D14) -> 0
A15: Bobcat S86-$125.00/hour @ 1/2 acre/hour=$250/ac | C15: 250 | E15: =SUM(C15*D15) -> 0
A16: Topsoil Replacement -Import and re-spread topsoil @ 4 inches deep | E16: =SUM(C16*D16) -> 0
A17: Grading cost =$250/ac | C17: 250 | D17: 0.2 | E17: =SUM(C17*D17) -> 50
A18: 27 loads (20yds/load) @ $600/load=$16,200.00/Acre | C18: 16200 | D18: 0.2 | E18: =SUM(C18*D18) -> 3240
A19: Topsoil Preparation (minimum of 1 acre) | E19: =SUM(C19*D19) -> 0
A20: Spread Cow Manure as Soil Amendment (20 Tons/Acre@ $50 acre) | C20: 50 | D20: 1 | E20: =SUM(C20*D20) -> 50
A21: Disc to incorporate on 1 acres ($50.00/Acre) | C21: 50 | D21: 1 | E21: =SUM(C21*D21) -> 50
A22: Drag Harrow to firm up seed bed on 1 acres ($50.00/Acre) | C22: 50 | D22: 1 | E22: =SUM(C22*D22) -> 50
A23: Seeding (minimum of 1 acre which includes road) | E23: =SUM(C23*D23) -> 0
A24: Seed Cost $14.00/lb @ 15 lbs/acre ($210/Acre) | C24: 210 | D24: 1 | E24: =SUM(C24*D24) -> 210
A25: Seeding with Grass Drill $232.00/Acre | C25: 232 | D25: 1 | E25: =SUM(C25*D25) -> 232
A26: Mulch and Crimp Straw @ 2 tons/acre $1058/Acre | C26: 1058 | D26: 1 | E26: =SUM(C26*D26) -> 1058
A27: %25 Failure rate replacement seeding $110/Acre (no additional mulch) | C27: 110 | D27: 1 | E27: =SUM(C27*D27) -> 110
A28: Site Soil Testing- $414.00/sample | C28: 414 | D28: 1 | E28: =SUM(C28*D28) -> 414
A29: PID Testing ($.50/ft for lines) | C29: 0.5 | D29: 401 | E29: =SUM(C29*D29) -> 200.5
A30: ($150.00 each for tank and/or pad) | C30: 150 | D30: 1 | E30: =SUM(C30*D30) -> 150
A31: Straw Wattles ($2.00/linear foot installed) | C31: 2 | D31: 208 | E31: =SUM(C31*D31) -> 416
A32: or $416/ac based on 208 feet along lowest side) | C32: 416 | E32: =SUM(C32*D32) -> 0
A33: Stormwater Inspection, Weed Spraying, Mowing | E33: 2000
A36: Total Direct Costs | E36: =SUM(E6:E35) -> 8631.5
A37: Mobilization/Demobilization | E37: 630
A39: Total Financial Warranty | E39: =SUM(E36:E38) -> 9261.5
A42: Notes:
A43: Road Length (ft): | B43: 401
A44: Initial Area of Disturbance (ac): | B44: 0.52
A45: Remaining Area of Disturbance (ac): | B45: 0.2
A46: Soil Type: | B46: Olney Fine Sandy Loam
...

Sheet CHALK #31-13 Tank Battery
A1: Strachan Exploration, Inc. Financial Assurance Warranty Calculation
A2: CHALK #31-13 PIT
A4: Reclamation Task and Quantity
C5: Unit cost | D5: # of units | E5: Item totals
A6: Equipment Removal not completed during Plugging and Abandonment | E6: =SUM(C6*D6) -> 0
A7: Tank removal @ $1,500.00/Tank | C7: 1500 | D7: 3 | E7: =SUM(C7*D7) -> 4500
A8: Pit reclamation | E8: =SUM(C8*D8) -> 0
A9: Liner Removal | E9: =SUM(C9*D9) -> 0
A10: Backfilling- Bobcat S86 Skid Steer Loader-$125.00/hr | C10: 125 | D10: 2 | E10: =SUM(C10*D10) -> 250
A11: Misc | E11: =SUM(C11*D11) -> 0
A12: Road Reclamation (Using Road Grader) Total linear feet | C12: 1 | E12: =SUM(C12*D12) -> 0
A13: $300/Hour to re-grade and rip road (300 feet/hr or $1.00/linear foot) | E13: =SUM(C13*D13) -> 0
A14: Rip and Re-Grade Site (not including roads) Acres Total | D14: 0.88 | E14: =SUM(C14*D14) -> 0
A15: Bobcat S86-$125.00/hour @ 1/2 acre/hour=$250/ac | C15: 250 | E15: =SUM(C15*D15) -> 0
A16: Topsoil Replacement -Import and re-spread topsoil @ 4 inches deep | E16: =SUM(C16*D16) -> 0
A17: Grading cost =$250/ac | C17: 250 | D17: 0.88 | E17: =SUM(C17*D17) -> 220
A18: 27 loads (20yds/load) @ $600/load=$16,200.00/Acre | C18: 16200 | D18: 0.88 | E18: =SUM(C18*D18) -> 14256
A19: Topsoil Preparation (minimum of 1 acre) | E19: =SUM(C19*D19) -> 0
A20: Spread Cow Manure as Soil Amendment (20 Tons/Acre@ $50 acre) | C20: 50 | D20: 1 | E20: =SUM(C20*D20) -> 50
A21: Disc to incorporate on 1 acres ($50.00/Acre) | C21: 50 | D21: 1 | E21: =SUM(C21*D21) -> 50
A22: Drag Harrow to firm up seed bed on 1 acres ($50.00/Acre) | C22: 50 | D22: 1 | E22: =SUM(C22*D22) -> 50
A23: Seeding (minimum of 1 acre which includes road) | E23: =SUM(C23*D23) -> 0
A24: Seed Cost $14.00/lb @ 15 lbs/acre ($210/Acre) | C24: 210 | D24: 1 | E24: =SUM(C24*D24) -> 210
A25: Seeding with Grass Drill $232.00/Acre | C25: 232 | D25: 1 | E25: =SUM(C25*D25) -> 232
A26: Mulch and Crimp Straw @ 2 tons/acre $1058/Acre | C26: 1058 | D26: 1 | E26: =SUM(C26*D26) -> 1058
A27: %25 Failure rate replacement seeding $110/Acre (no additional mulch) | C27: 110 | D27: 1 | E27: =SUM(C27*D27) -> 110
A28: Site Soil Testing- $414.00/sample | C28: 414 | D28: 1 | E28: =SUM(C28*D28) -> 414
A29: PID Testing ($.50/ft for lines) | C29: 0.5 | D29: 100 | E29: =SUM(C29*D29) -> 50
A30: ($150.00 each for tank and/or pad) | C30: 150 | D30: 4 | E30: =SUM(C30*D30) -> 600
A31: Straw Wattles ($2.00/linear foot installed) | C31: 2 | D31: 208 | E31: =SUM(C31*D31) -> 416
A32: or $416/ac based on 208 feet along lowest side) | C32: 416 | E32: =SUM(C32*D32) -> 0
A33: Stormwater Inspection, Weed Spraying, Mowing | E33: 2000
A36: Total Direct Costs | E36: =SUM(E6:E35) -> 24466
A37: Mobilization/Demobilization | E37: 630
A39: Total Financial Warranty | E39: =SUM(E36:E38) -> 25096
A42: Notes:
A43: Road Length (ft): | B43: n/a
A44: Initial Area of Disturbance (ac): | B44: 2.8
A45: Remaining Area of Disturbance (ac): | B45: 0.88
A46: Soil Type: | B46: Olney Fine Sandy Loam
...

Sheet BOURNE #1
A1: Strachan Exploration, Inc. Financial Assurance Warranty Calculation
A2: BOURNE #1 (with Tank)
A4: Reclamation Task and Quantity
C5: Unit cost | D5: # of units | E5: Item totals
A6: Equipment Removal (not completed with Plugging and Abandonment) | E6: =C6*D6 -> 0
A7: Tank removal @ $1,500.00/Tank | C7: 1500 | D7: 1 | E7: =C7*D7 -> 1500
A8: Pit reclamation | E8: =C8*D8 -> 0
A9: Liner Removal | E9: =C9*D9 -> 0
A10: Backfilling- Bobcat S86 Skid Steer Loader-$125.00/hr | C10: 125 | E10: =C10*D10 -> 0
A11: Misc | E11: =C11*D11 -> 0
A12: Road Reclamation (Using Road Grader) Total linear feet | C12: 1 | D12: 564 | E12: =C12*D12 -> 564
A13: $300/Hour to re-grade and rip road (300 feet/hr or $1.00/linear foot) | E13: =C13*D13 -> 0
A14: Rip and Re-Grade Site (not including roads) Acres Total | D14: 0.5 | E14: =C14*D14 -> 0
A15: Bobcat S86-$125.00/hour @ 1/2 acre/hour=$250/ac | C15: 250 | E15: =C15*D15 -> 0
A16: Topsoil Replacement -Import and re-spread topsoil @ 4 inches deep | E16: =C16*D16 -> 0
A17: Grading cost =$250/ac | C17: 250 | D17: 0.5 | E17: =C17*D17 -> 125
A18: 27 loads (20yds/load) @ $600/load=$16,200.00/Acre | C18: 16200 | D18: 0.5 | E18: =C18*D18 -> 8100
A19: Topsoil Preparation (minimum of 1 acre) | E19: =C19*D19 -> 0
A20: Spread Cow Manure as Soil Amendment (20 Tons/Acre@ $50 acre) | C20: 50 | D20: 1 | E20: =C20*D20 -> 50
A21: Disc to incorporate on 1 acres ($50.00/Acre) | C21: 50 | D21: 1 | E21: =C21*D21 -> 50
A22: Drag Harrow to firm up seed bed on 1 acres ($50.00/Acre) | C22: 50 | D22: 1 | E22: =C22*D22 -> 50
A23: Seeding (minimum of 1 acre which includes road) | E23: =C23*D23 -> 0
A24: Seed Cost $14.00/lb @ 15 lbs/acre ($210/Acre) | C24: 210 | D24: 1 | E24: =C24*D24 -> 210
A25: Seeding with Grass Drill $232.00/Acre | C25: 232 | D25: 1 | E25: =C25*D25 -> 232
A26: Mulch and Crimp Straw @ 2 tons/acre $1058/Acre | C26: 1058 | D26: 1 | E26: =C26*D26 -> 1058
A27: %25 Failure rate replacement seeding $110/Acre (no additional mulch) | C27: 110 | D27: 1 | E27: =C27*D27 -> 110
A28: Site Soil Testing- $414.00/sample | C28: 414 | D28: 1 | E28: =C28*D28 -> 414
A29: PID Testing ($.50/ft for lines) | C29: 0.5 | D29: 200 | E29: =C29*D29 -> 100
A30: ($150.00 each for tank and/or pad) | C30: 150 | D30: 2 | E30: =C30*D30 -> 300
A31: Straw Wattles ($2.00/linear foot installed) | C31: 2 | D31: 208 | E31: =C31*D31 -> 416
A32: or $416/ac based on 208 feet along lowest side) | C32: 416 | E32: =C32*D32 -> 0
A33: Stormwater Inspection, Weed Spraying, Mowing | E33: 2000
A36: Total Direct Costs | E36: =SUM(E6:E35) -> 15279
A37: Mobilization/Demobilization | E37: 630
A39: Total Financial Warranty | E39: =SUM(E36:E38) -> 15909
A42: Notes:
A43: Road Length (ft): | B43: 564
A44: Initial Area of Disturbance (ac): | B44: 1.66
A45: Remaining Area of Disturbance (ac): | B45: 0.5
A46: Soil Type: | B46: Rocky Ford Clay Loam
...

Sheet BAILEY #1-26
A1: Strachan Exploration, Inc. Financial Assurance Warranty Calculation
A2: BAILEY #1-26
A4: Reclamation Task and Quantity
C5: Unit cost | D5: # of units | E5: Item totals
A6: Equipment Removal (not completed with Plugging and Abandonment) | E6: =C6*D6 -> 0
A7: Tank removal @ $1,500.00/Tank | C7: 1500 | D7: 2 | E7: =C7*D7 -> 3000
A8: Pit reclamation | E8: =C8*D8 -> 0
A9: Liner Removal | E9: =C9*D9 -> 0
A10: Backfilling- Bobcat S86 Skid Steer Loader-$125.00/hr | C10: 125 | E10: =C10*D10 -> 0
A11: Misc | E11: =C11*D11 -> 0
A12: Road Reclamation (Using Road Grader) Total linear feet | C12: 1 | D12: 4330 | E12: =C12*D12 -> 4330
A13: $300/Hour to re-grade and rip road (300 feet/hr or $1.00/linear foot) | E13: =C13*D13 -> 0
A14: Rip and Re-Grade Site (not including roads) Acres Total | D14: 0.4 | E14: =C14*D14 -> 0
A15: Bobcat S86-$125.00/hour @ 1/2 acre/hour=$250/ac | C15: 250 | E15: =C15*D15 -> 0
A16: Topsoil Replacement -Import and re-spread topsoil @ 4 inches deep | E16: =C16*D16 -> 0
A17: Grading cost =$250/ac | C17: 250 | D17: 0.4 | E17: =C17*D17 -> 100
A18: 27 loads (20yds/load) @ $600/load=$16,200.00/Acre | C18: 16200 | D18: 0.4 | E18: =C18*D18 -> 6480
A19: Topsoil Preparation (minimum of 1 acre) | E19: =C19*D19 -> 0
A20: Spread Cow Manure as Soil Amendment (20 Tons/Acre@ $50 acre) | C20: 50 | D20: 0.4 | E20: =C20*D20 -> 20
A21: Disc to incorporate on 1 acres ($50.00/Acre) | C21: 50 | D21: 0.4 | E21: =C21*D21 -> 20
A22: Drag Harrow to firm up seed bed on 1 acres ($50.00/Acre) | C22: 50 | D22: 0.4 | E22: =C22*D22 -> 20
A23: Seeding (minimum of 1 acre which includes road) | E23: =C23*D23 -> 0
A24: Seed Cost $14.00/lb @ 15 lbs/acre ($210/Acre) | C24: 210 | D24: 1.9 | E24: =C24*D24 -> 399
A25: Seeding with Grass Drill $232.00/Acre | C25: 232 | D25: 1.9 | E25: =C25*D25 -> 440.8
A26: Mulch and Crimp Straw @ 2 tons/acre $1058/Acre | C26: 1058 | D26: 1.9 | E26: =C26*D26 -> 2010.2
A27: %25 Failure rate replacement seeding $110/Acre (no additional mulch) | C27: 110 | D27: 1.9 | E27: =C27*D27 -> 209
A28: Site Soil Testing- $414.00/sample | C28: 414 | D28: 1 | E28: =C28*D28 -> 414
A29: PID Testing ($.50/ft for lines) | C29: 0.5 | D29: 125 | E29: =C29*D29 -> 62.5
A30: ($150.00 each for tank and/or pad) | C30: 150 | D30: 3 | E30: =C30*D30 -> 450
A31: Straw Wattles ($2.00/linear foot installed) | C31: 2 | D31: 208 | E31: =C31*D31 -> 416
A32: or $416/ac based on 208 feet along lowest side) | C32: 416 | E32: =C32*D32 -> 0
A33: Stormwater Inspection, Weed Spraying, Mowing | E33: 2000
A36: Total Direct Costs | E36: =SUM(E6:E35) -> 20371.5
A37: Mobilization/Demobilization | E37: 630
A39: Total Financial Warranty | E39: =SUM(E36:E38) -> 21001.5
A42: Notes:
A43: Road Length (ft): | B43: 4330
A44: Initial Area of Disturbance (ac): | B44: 1.01
A45: Remaining Area of Disturbance (ac): | B45: 0.4
A46: Soil Type: | B46: Baca Clay Loam
...

Sheet CLYDE GAS PLANT #
A1: Strachan Exploration, Inc. Financial Assurance Warranty Calculation
A2: CLYDE GAS PLANT #
A4: Reclamation Task and Quantity
C5: Unit cost | D5: # of units | E5: Item totals
A6: Equipment Removal (not completed with Plugging and Abandonment) | E6: =C6*D6 -> 0
A7: Tank removal @ $1,500.00/Tank | C7: 1500 | D7: 5 | E7: =C7*D7 -> 7500
A8: Pit reclamation | E8: =C8*D8 -> 0
A9: Liner Removal | E9: =C9*D9 -> 0
A10: Backfilling- Bobcat S86 Skid Steer Loader-$125.00/hr | C10: 125 | E10: =C10*D10 -> 0
A11: Misc | E11: =C11*D11 -> 0
A12: Road Reclamation (Using Road Grader) Total linear feet | C12: 1 | E12: =C12*D12 -> 0
A13: $300/Hour to re-grade and rip road (300 feet/hr or $1.00/linear foot) | E13: =C13*D13 -> 0
A14: Rip and Re-Grade Site (not including roads) Acres Total | D14: 0.58 | E14: =C14*D14 -> 0
A15: Bobcat S86-$125.00/hour @ 1/2 acre/hour=$250/ac | C15: 250 | E15: =C15*D15 -> 0
A16: Topsoil Replacement -Import and re-spread topsoil @ 4 inches deep | E16: =C16*D16 -> 0
A17: Grading cost =$250/ac | C17: 250 | D17: 0.58 | E17: =C17*D17 -> 145
A18: 27 loads (20yds/load) @ $600/load=$16,200.00/Acre | C18: 16200 | D18: 0.58 | E18: =C18*D18 -> 9396
A19: Topsoil Preparation (minimum of 1 acre) | E19: =C19*D19 -> 0
A20: Spread Cow Manure as Soil Amendment (20 Tons/Acre@ $50 acre) | C20: 50 | D20: 0.58 | E20: =C20*D20 -> 29
A21: Disc to incorporate on 1 acres ($50.00/Acre) | C21: 50 | D21: 0.58 | E21: =C21*D21 -> 29
A22: Drag Harrow to firm up seed bed on 1 acres ($50.00/Acre) | C22: 50 | D22: 0.58 | E22: =C22*D22 -> 29
A23: Seeding (minimum of 1 acre which includes road) | E23: =C23*D23 -> 0
A24: Seed Cost $14.00/lb @ 15 lbs/acre ($210/Acre) | C24: 210 | D24: 0.58 | E24: =C24*D24 -> 121.8
A25: Seeding with Grass Drill $232.00/Acre | C25: 232 | D25: 0.58 | E25: =C25*D25 -> 134.56
A26: Mulch and Crimp Straw @ 2 tons/acre $1058/Acre | C26: 1058 | D26: 0.58 | E26: =C26*D26 -> 613.64
A27: %25 Failure rate replacement seeding $110/Acre (no additional mulch) | C27: 110 | D27: 0.58 | E27: =C27*D27 -> 63.8
A28: Site Soil Testing- $414.00/sample | C28: 414 | D28: 1 | E28: =C28*D28 -> 414
A29: PID Testing ($.50/ft for lines) | C29: 0.5 | D29: 800 | E29: =C29*D29 -> 400
A30: ($150.00 each for tank and/or pad) | C30: 150 | D30: 4 | E30: =C30*D30 -> 600
A31: Straw Wattles ($2.00/linear foot installed) | C31: 2 | D31: 208 | E31: =C31*D31 -> 416
A32: or $416/ac based on 208 feet along lowest side) | C32: 416 | E32: =C32*D32 -> 0
A33: Stormwater Inspection, Weed Spraying, Mowing | E33: 2000
A36: Total Direct Costs | E36: =SUM(E6:E35) -> 21891.8
A37: Mobilization/Demobilization | E37: 630
A39: Total Financial Warranty | E39: =SUM(E36:E38) -> 22521.8
A42: Notes: | B42: Surrounded by City Road on one side and cultivated field on other sides.
A43: Road Length (ft): | B43: N/A
A44: Initial Area of Disturbance (ac): | B44: 1.14
A45: Remaining Area of Disturbance (ac): | B45: 0.58
A46: Soil Type: | B46: Colby silt loam
...

Sheet HOFFMAN, EARL #1
A1: Strachan Exploration, Inc. Financial Assurance Warranty Calculation
A2: HOFFMAN, EARL #1
A4: Reclamation Task and Quantity
C5: Unit cost | D5: # of units | E5: Item totals
A6: Equipment Removal (not completed with Plugging and Abandonment) | E6: =C6*D6 -> 0
A7: Tank removal @ $1,500.00/Tank | C7: 1500 | D7: 1 | E7: =C7*D7 -> 1500
A8: Pit reclamation | E8: =C8*D8 -> 0
A9: Liner Removal | E9: =C9*D9 -> 0
A10: Backfilling- Bobcat S86 Skid Steer Loader-$125.00/hr | C10: 125 | E10: =C10*D10 -> 0
A11: Misc | E11: =C11*D11 -> 0
A12: Road Reclamation (Using Road Grader) Total linear feet | C12: 1 | D12: 1742 | E12: =C12*D12 -> 1742
A13: $300/Hour to re-grade and rip road (300 feet/hr or $1.00/linear foot) | E13: =C13*D13 -> 0
A14: Rip and Re-Grade Site (not including roads) Acres Total | D14: 0.18 | E14: =C14*D14 -> 0
A15: Bobcat S86-$125.00/hour @ 1/2 acre/hour=$250/ac | C15: 250 | E15: =C15*D15 -> 0
A16: Topsoil Replacement -Import and re-spread topsoil @ 4 inches deep | E16: =C16*D16 -> 0
A17: Grading cost =$250/ac | C17: 250 | D17: 0.18 | E17: =C17*D17 -> 45
A18: 27 loads (20yds/load) @ $600/load=$16,200.00/Acre | C18: 16200 | D18: 0.18 | E18: =C18*D18 -> 2916
A19: Topsoil Preparation (minimum of 1 acre) | E19: =C19*D19 -> 0
A20: Spread Cow Manure as Soil Amendment (20 Tons/Acre@ $50 acre) | C20: 50 | D20: 1 | E20: =C20*D20 -> 50
A21: Disc to incorporate on 1 acres ($50.00/Acre) | C21: 50 | D21: 1 | E21: =C21*D21 -> 50
A22: Drag Harrow to firm up seed bed on 1 acres ($50.00/Acre) | C22: 50 | D22: 1 | E22: =C22*D22 -> 50
A23: Seeding (minimum of 1 acre which includes road) | E23: =C23*D23 -> 0
A24: Seed Cost $14.00/lb @ 15 lbs/acre ($210/Acre) | C24: 210 | D24: 1 | E24: =C24*D24 -> 210
A25: Seeding with Grass Drill $232.00/Acre | C25: 232 | D25: 1 | E25: =C25*D25 -> 232
A26: Mulch and Crimp Straw @ 2 tons/acre $1058/Acre | C26: 1058 | D26: 1 | E26: =C26*D26 -> 1058
A27: %25 Failure rate replacement seeding $110/Acre (no additional mulch) | C27: 110 | D27: 1 | E27: =C27*D27 -> 110
A28: Site Soil Testing- $414.00/sample | C28: 414 | D28: 1 | E28: =C28*D28 -> 414
A29: PID Testing ($.50/ft for lines) | C29: 0.5 | D29: 100 | E29: =C29*D29 -> 50
A30: ($150.00 each for tank and/or pad) | C30: 150 | D30: 2 | E30: =C30*D30 -> 300
A31: Straw Wattles ($2.00/linear foot installed) | C31: 2 | D31: 208 | E31: =C31*D31 -> 416
A32: or $416/ac based on 208 feet along lowest side) | C32: 416 | E32: =C32*D32 -> 0
A33: Stormwater Inspection, Weed Spraying, Mowing | E33: 2000
A36: Total Direct Costs | E36: =SUM(E6:E35) -> 11143
A37: Mobilization/Demobilization | E37: 630
A39: Total Financial Warranty | E39: =SUM(E36:E38) -> 11773
A42: Notes:
A43: Road Length (ft): | B43: 1742
A44: Initial Area of Disturbance (ac): | B44: 0.68
A45: Remaining Area of Disturbance (ac): | B45: 0.18
A46: Soil Type: | B46: Harvey Loam
...

Sheet HUMPHREY #2A
A1: Strachan Exploration, Inc. Financial Assurance Warranty Calculation
A2: HUMPHREY #2A
A4: Reclamation Task and Quantity
C5: Unit cost | D5: # of units | E5: Item totals
A6: Equipment Removal (not completed with Plugging and Abandonment) | E6: =C6*D6 -> 0
A7: Tank removal @ $1,500.00/Tank | C7: 1500 | D7: 1 | E7: =C7*D7 -> 1500
A8: Pit reclamation | E8: =C8*D8 -> 0
A9: Liner Removal | E9: =C9*D9 -> 0
A10: Backfilling- Bobcat S86 Skid Steer Loader-$125.00/hr | C10: 125 | E10: =C10*D10 -> 0
A11: Misc | E11: =C11*D11 -> 0
A12: Road Reclamation (Using Road Grader) Total linear feet | E12: =C12*D12 -> 0
A13: $300/Hour to re-grade and rip road (300 feet/hr or $1.00/linear foot) | E13: =C13*D13 -> 0
A14: Rip and Re-Grade Site (not including roads) Acres Total | D14: 0.77 | E14: =C14*D14 -> 0
A15: Bobcat S86-$125.00/hour @ 1/2 acre/hour=$250/ac | C15: 250 | E15: =C15*D15 -> 0
A16: Topsoil Replacement -Import and re-spread topsoil @ 4 inches deep | E16: =C16*D16 -> 0
A17: Grading cost =$250/ac | C17: 250 | D17: 0.77 | E17: =C17*D17 -> 192.5
A18: 27 loads (20yds/load) @ $600/load=$16,200.00/Acre | C18: 16200 | D18: 0.77 | E18: =C18*D18 -> 12474
A19: Topsoil Preparation (minimum of 1 acre) | E19: =C19*D19 -> 0
A20: Spread Cow Manure as Soil Amendment (20 Tons/Acre@ $50 acre) | C20: 50 | D20: 1 | E20: =C20*D20 -> 50
A21: Disc to incorporate on 1 acres ($50.00/Acre) | C21: 50 | D21: 1 | E21: =C21*D21 -> 50
A22: Drag Harrow to firm up seed bed on 1 acres ($50.00/Acre) | C22: 50 | D22: 1 | E22: =C22*D22 -> 50
A23: Seeding (minimum of 1 acre which includes road) | E23: =C23*D23 -> 0
A24: Seed Cost $14.00/lb @ 15 lbs/acre ($210/Acre) | C24: 210 | D24: 1 | E24: =C24*D24 -> 210
A25: Seeding with Grass Drill $232.00/Acre | C25: 232 | D25: 1 | E25: =C25*D25 -> 232
A26: Mulch and Crimp Straw @ 2 tons/acre $1058/Acre | C26: 1058 | D26: 1 | E26: =C26*D26 -> 1058
A27: %25 Failure rate replacement seeding $110/Acre (no additional mulch) | C27: 110 | D27: 1 | E27: =C27*D27 -> 110
A28: Site Soil Testing- $414.00/sample | C28: 414 | D28: 1 | E28: =C28*D28 -> 414
A29: PID Testing ($.50/ft for lines) | C29: 0.5 | D29: 100 | E29: =C29*D29 -> 50
A30: ($150.00 each for tank and/or pad) | C30: 150 | D30: 2 | E30: =C30*D30 -> 300
A31: Straw Wattles ($2.00/linear foot installed) | C31: 2 | D31: 208 | E31: =C31*D31 -> 416
A32: or $416/ac based on 208 feet along lowest side) | C32: 416 | E32: =C32*D32 -> 0
A33: Stormwater Inspection, Weed Spraying, Mowing | E33: 2000
A36: Total Direct Costs | E36: =SUM(E6:E35) -> 19106.5
A37: Mobilization/Demobilization | E37: 630
A39: Total Financial Warranty | E39: =SUM(E36:E38) -> 19736.5
A42: Notes:
A43: Road Length (ft): | B43: N/A
A44: Initial Area of Disturbance (ac): | B44: 1.11
A45: Remaining Area of Disturbance (ac): | B45: 0.77
A46: Soil Type: | B46: Baca Silt Loam
...

Sheet HUMPHREY-WOLLERT #2
A1: Strachan Exploration, Inc. Financial Assurance Warranty Calculation
A2: HUMPHREY-WOLLERT #2
A4: Reclamation Task and Quantity
C5: Unit cost | D5: # of units | E5: Item totals
A6: Equipment Removal (not completed with Plugging and Abandonment) | E6: =C6*D6 -> 0
A7: Tank removal @ $1,500.00/Tank | E7: =C7*D7 -> 0
A8: Pit reclamation | E8: =C8*D8 -> 0
A9: Liner Removal | E9: =C9*D9 -> 0
A10: Backfilling- Bobcat S86 Skid Steer Loader-$125.00/hr | C10: 125 | E10: =C10*D10 -> 0
A11: Misc | E11: =C11*D11 -> 0
A12: Road Reclamation (Using Road Grader) Total linear feet | C12: 1 | D12: 1368 | E12: =C12*D12 -> 1368
A13: $300/Hour to re-grade and rip road (300 feet/hr or $1.00/linear foot) | E13: =C13*D13 -> 0
A14: Rip and Re-Grade Site (not including roads) Acres Total | D14: 0.19 | E14: =C14*D14 -> 0
A15: Bobcat S86-$125.00/hour @ 1/2 acre/hour=$250/ac | C15: 250 | E15: =C15*D15 -> 0
A16: Topsoil Replacement -Import and re-spread topsoil @ 4 inches deep | E16: =C16*D16 -> 0
A17: Grading cost =$250/ac | C17: 250 | D17: 0.19 | E17: =C17*D17 -> 47.5
A18: 27 loads (20yds/load) @ $600/load=$16,200.00/Acre | C18: 16200 | D18: 0.19 | E18: =C18*D18 -> 3078
A19: Topsoil Preparation (minimum of 1 acre) | E19: =C19*D19 -> 0
A20: Spread Cow Manure as Soil Amendment (20 Tons/Acre@ $50 acre) | C20: 50 | D20: 1 | E20: =C20*D20 -> 50
A21: Disc to incorporate on 1 acres ($50.00/Acre) | C21: 50 | D21: 1 | E21: =C21*D21 -> 50
A22: Drag Harrow to firm up seed bed on 1 acres ($50.00/Acre) | C22: 50 | D22: 1 | E22: =C22*D22 -> 50
A23: Seeding (minimum of 1 acre which includes road) | E23: =C23*D23 -> 0
A24: Seed Cost $14.00/lb @ 15 lbs/acre ($210/Acre) | C24: 210 | D24: 1 | E24: =C24*D24 -> 210
A25: Seeding with Grass Drill $232.00/Acre | C25: 232 | D25: 1 | E25: =C25*D25 -> 232
A26: Mulch and Crimp Straw @ 2 tons/acre $1058/Acre | C26: 1058 | D26: 1 | E26: =C26*D26 -> 1058
A27: %25 Failure rate replacement seeding $110/Acre (no additional mulch) | C27: 110 | D27: 1 | E27: =C27*D27 -> 110
A28: Site Soil Testing- $414.00/sample | C28: 414 | D28: 1 | E28: =C28*D28 -> 414
A29: PID Testing ($.50/ft for lines) | C29: 0.5 | D29: 60 | E29: =C29*D29 -> 30
A30: ($150.00 each for tank and/or pad) | C30: 150 | D30: 1 | E30: =C30*D30 -> 150
A31: Straw Wattles ($2.00/linear foot installed) | C31: 2 | D31: 208 | E31: =C31*D31 -> 416
A32: or $416/ac based on 208 feet along lowest side) | C32: 416 | E32: =C32*D32 -> 0
A33: Stormwater Inspection, Weed Spraying, Mowing | E33: 2000
A36: Total Direct Costs | E36: =SUM(E6:E35) -> 9263.5
A37: Mobilization/Demobilization | E37: 630
A39: Total Financial Warranty | E39: =SUM(E36:E38) -> 9893.5
A42: Notes:
A43: Road Length (ft): | B43: 1368
A44: Initial Area of Disturbance (ac): | B44: 0.39
A45: Remaining Area of Disturbance (ac): | B45: 0.19
A46: Soil Type: | B46: Baca Silt Loam
...

Sheet LAS ANIMAS GATHERING SYSTEM #  
A1: Strachan Exploration, Inc. Financial Assurance Warranty Calculation
A2: LAS ANIMAS GATHERING SYSTEM #
A4: Reclamation Task and Quantity
C5: Unit cost | D5: # of units | E5: Item totals
A6: Equipment Removal (not completed with Plugging and Abandonment) | E6: =C6*D6 -> 0
A7: Tank removal @ $1,500.00/Tank | C7: 1500 | D7: 3 | E7: =C7*D7 -> 4500
A8: Pit reclamation | E8: =C8*D8 -> 0
A9: Liner Removal | E9: =C9*D9 -> 0
A10: Backfilling- Bobcat S86 Skid Steer Loader-$125.00/hr | C10: 125 | E10: =C10*D10 -> 0
A11: Misc | E11: =C11*D11 -> 0
A12: Road Reclamation (Using Road Grader) Total linear feet | C12: 1 | E12: =C12*D12 -> 0
A13: $300/Hour to re-grade and rip road (300 feet/hr or $1.00/linear foot) | E13: =C13*D13 -> 0
A14: Rip and Re-Grade Site (not including roads) Acres Total | D14: 1.37 | E14: =C14*D14 -> 0
A15: Bobcat S86-$125.00/hour @ 1/2 acre/hour=$250/ac | C15: 250 | E15: =C15*D15 -> 0
A16: Topsoil Replacement -Import and re-spread topsoil @ 4 inches deep | E16: =C16*D16 -> 0
A17: Grading cost =$250/ac | C17: 250 | D17: 1.37 | E17: =C17*D17 -> 342.5
A18: 27 loads (20yds/load) @ $600/load=$16,200.00/Acre | C18: 16200 | D18: 1.37 | E18: =C18*D18 -> 22194
A19: Topsoil Preparation (minimum of 1 acre) | E19: =C19*D19 -> 0
A20: Spread Cow Manure as Soil Amendment (20 Tons/Acre@ $50 acre) | C20: 50 | D20: 1.37 | E20: =C20*D20 -> 68.5
A21: Disc to incorporate on 1 acres ($50.00/Acre) | C21: 50 | D21: 1.37 | E21: =C21*D21 -> 68.5
A22: Drag Harrow to firm up seed bed on 1 acres ($50.00/Acre) | C22: 50 | D22: 1.37 | E22: =C22*D22 -> 68.5
A23: Seeding (minimum of 1 acre which includes road) | E23: =C23*D23 -> 0
A24: Seed Cost $14.00/lb @ 15 lbs/acre ($210/Acre) | C24: 210 | D24: 1.37 | E24: =C24*D24 -> 287.7
A25: Seeding with Grass Drill $232.00/Acre | C25: 232 | D25: 1.37 | E25: =C25*D25 -> 317.84
A26: Mulch and Crimp Straw @ 2 tons/acre $1058/Acre | C26: 1058 | D26: 1.37 | E26: =C26*D26 -> 1449.46
A27: %25 Failure rate replacement seeding $110/Acre (no additional mulch) | C27: 110 | D27: 1.37 | E27: =C27*D27 -> 150.7
A28: Site Soil Testing- $414.00/sample | C28: 414 | D28: 1 | E28: =C28*D28 -> 414
A29: PID Testing ($.50/ft for lines) | C29: 0.5 | D29: 400 | E29: =C29*D29 -> 200
A30: ($150.00 each for tank and/or pad) | C30: 150 | D30: 4 | E30: =C30*D30 -> 600
A31: Straw Wattles ($2.00/linear foot installed) | C31: 2 | D31: 208 | E31: =C31*D31 -> 416
A32: or $416/ac based on 208 feet along lowest side) | C32: 416 | E32: =C32*D32 -> 0
A33: Stormwater Inspection, Weed Spraying, Mowing | E33: 2000
A36: Total Direct Costs | E36: =SUM(E6:E35) -> 33077.7
A37: Mobilization/Demobilization | E37: 630
A39: Total Financial Warranty | E39: =SUM(E36:E38) -> 33707.7
A42: Notes:
A43: Road Length (ft): | B43: N/A
A44: Initial Area of Disturbance (ac): | B44: 2.99
A45: Remaining Area of Disturbance (ac): | B45: 1.37
A46: Soil Type: | B46: Stoneham Loam
...

Sheet ROWE  A #1
A1: Strachan Exploration, Inc. Financial Assurance Warranty Calculation
A2: ROWE A #1
A4: Reclamation Task and Quantity
C5: Unit cost | D5: # of units | E5: Item totals
A6: Equipment Removal (not completed with Plugging and Abandonment) | E6: =C6*D6 -> 0
A7: Tank removal @ $1,500.00/Tank | E7: =C7*D7 -> 0
A8: Pit reclamation | E8: =C8*D8 -> 0
A9: Liner Removal | E9: =C9*D9 -> 0
A10: Backfilling- Bobcat S86 Skid Steer Loader-$125.00/hr | C10: 125 | E10: =C10*D10 -> 0
A11: Misc | E11: =C11*D11 -> 0
A12: Road Reclamation (Using Road Grader) Total linear feet | C12: 1 | D12: 927 | E12: =C12*D12 -> 927
A13: $300/Hour to re-grade and rip road (300 feet/hr or $1.00/linear foot) | E13: =C13*D13 -> 0
A14: Rip and Re-Grade Site (not including roads) Acres Total | D14: 0.43 | E14: =C14*D14 -> 0
A15: Bobcat S86-$125.00/hour @ 1/2 acre/hour=$250/ac | C15: 250 | E15: =C15*D15 -> 0
A16: Topsoil Replacement -Import and re-spread topsoil @ 4 inches deep | E16: =C16*D16 -> 0
A17: Grading cost =$250/ac | C17: 250 | D17: 0.43 | E17: =C17*D17 -> 107.5
A18: 27 loads (20yds/load) @ $600/load=$16,200.00/Acre | C18: 16200 | D18: 0.43 | E18: =C18*D18 -> 6966
A19: Topsoil Preparation (minimum of 1 acre) | E19: =C19*D19 -> 0
A20: Spread Cow Manure as Soil Amendment (20 Tons/Acre@ $50 acre) | C20: 50 | D20: 1 | E20: =C20*D20 -> 50
A21: Disc to incorporate on 1 acres ($50.00/Acre) | C21: 50 | D21: 1 | E21: =C21*D21 -> 50
A22: Drag Harrow to firm up seed bed on 1 acres ($50.00/Acre) | C22: 50 | D22: 1 | E22: =C22*D22 -> 50
A23: Seeding (minimum of 1 acre which includes road) | E23: =C23*D23 -> 0
A24: Seed Cost $14.00/lb @ 15 lbs/acre ($210/Acre) | C24: 210 | D24: 1 | E24: =C24*D24 -> 210
A25: Seeding with Grass Drill $232.00/Acre | C25: 232 | D25: 1 | E25: =C25*D25 -> 232
A26: Mulch and Crimp Straw @ 2 tons/acre $1058/Acre | C26: 1058 | D26: 1 | E26: =C26*D26 -> 1058
A27: %25 Failure rate replacement seeding $110/Acre (no additional mulch) | C27: 110 | D27: 1 | E27: =C27*D27 -> 110
A28: Site Soil Testing- $414.00/sample | C28: 414 | D28: 1 | E28: =C28*D28 -> 414
A29: PID Testing ($.50/ft for lines) | C29: 0.5 | D29: 100 | E29: =C29*D29 -> 50
A30: ($150.00 each for tank and/or pad) | C30: 150 | D30: 1 | E30: =C30*D30 -> 150
A31: Straw Wattles ($2.00/linear foot installed) | C31: 2 | D31: 208 | E31: =C31*D31 -> 416
A32: or $416/ac based on 208 feet along lowest side) | C32: 416 | E32: =C32*D32 -> 0
A33: Stormwater Inspection, Weed Spraying, Mowing | E33: 2000
A36: Total Direct Costs | E36: =SUM(E6:E35) -> 12790.5
A37: Mobilization/Demobilization | E37: 630
A39: Total Financial Warranty | E39: =SUM(E36:E38) -> 13420.5
A42: Notes:
A43: Road Length (ft): | B43: 927
A44: Initial Area of Disturbance (ac): | B44: 0.68
A45: Remaining Area of Disturbance (ac): | B45: 0.43
A46: Soil Type: | B46: Rocky Ford Clay Loam
...

Sheet SNIFF #D-1
A1: Strachan Exploration, Inc. Financial Assurance Warranty Calculation
A2: SNIFF #D-1
A4: Reclamation Task and Quantity
C5: Unit cost | D5: # of units | E5: Item totals
A6: Equipment Removal (not completed with Plugging and Abandonment) | E6: =C6*D6 -> 0
A7: Tank removal @ $1,500.00/Tank | C7: 1500 | D7: 1 | E7: =C7*D7 -> 1500
A8: Pit reclamation | E8: =C8*D8 -> 0
A9: Liner Removal | E9: =C9*D9 -> 0
A10: Backfilling- Bobcat S86 Skid Steer Loader-$125.00/hr | C10: 125 | E10: =C10*D10 -> 0
A11: Misc | E11: =C11*D11 -> 0
A12: Road Reclamation (Using Road Grader) Total linear feet | C12: 1 | D12: 6717 | E12: =C12*D12 -> 6717
A13: $300/Hour to re-grade and rip road (300 feet/hr or $1.00/linear foot) | E13: =C13*D13 -> 0
A14: Rip and Re-Grade Site (not including roads) Acres Total | D14: 0.18 | E14: =C14*D14 -> 0
A15: Bobcat S86-$125.00/hour @ 1/2 acre/hour=$250/ac | C15: 250 | E15: =C15*D15 -> 0
A16: Topsoil Replacement -Import and re-spread topsoil @ 4 inches deep | E16: =C16*D16 -> 0
A17: Grading cost =$250/ac | C17: 250 | D17: 0.18 | E17: =C17*D17 -> 45
A18: 27 loads (20yds/load) @ $600/load=$16,200.00/Acre | C18: 16200 | D18: 0.18 | E18: =C18*D18 -> 2916
A19: Topsoil Preparation (minimum of 1 acre) | E19: =C19*D19 -> 0
A20: Spread Cow Manure as Soil Amendment (20 Tons/Acre@ $50 acre) | C20: 50 | D20: 2.5 | E20: =C20*D20 -> 125
A21: Disc to incorporate on 1 acres ($50.00/Acre) | C21: 50 | D21: 2.5 | E21: =C21*D21 -> 125
A22: Drag Harrow to firm up seed bed on 1 acres ($50.00/Acre) | C22: 50 | D22: 2.5 | E22: =C22*D22 -> 125
A23: Seeding (minimum of 1 acre which includes road) | E23: =C23*D23 -> 0
A24: Seed Cost $14.00/lb @ 15 lbs/acre ($210/Acre) | C24: 210 | D24: 2.5 | E24: =C24*D24 -> 525
A25: Seeding with Grass Drill $232.00/Acre | C25: 232 | D25: 2.5 | E25: =C25*D25 -> 580
A26: Mulch and Crimp Straw @ 2 tons/acre $1058/Acre | C26: 1058 | D26: 2.5 | E26: =C26*D26 -> 2645
A27: %25 Failure rate replacement seeding $110/Acre (no additional mulch) | C27: 110 | D27: 2.5 | E27: =C27*D27 -> 275
A28: Site Soil Testing- $414.00/sample | C28: 414 | D28: 1 | E28: =C28*D28 -> 414
A29: PID Testing ($.50/ft for lines) | C29: 0.5 | D29: 6717 | E29: =C29*D29 -> 3358.5
A30: ($150.00 each for tank and/or pad) | C30: 150 | D30: 2 | E30: =C30*D30 -> 300
A31: Straw Wattles ($2.00/linear foot installed) | C31: 2 | D31: 208 | E31: =C31*D31 -> 416
A32: or $416/ac based on 208 feet along lowest side) | C32: 416 | E32: =C32*D32 -> 0
A33: Stormwater Inspection, Weed Spraying, Mowing | E33: 2000
A36: Total Direct Costs | E36: =SUM(E6:E35) -> 22066.5
A37: Mobilization/Demobilization | E37: 630
A39: Total Financial Warranty | E39: =SUM(E36:E38) -> 22696.5
A42: Notes:
A43: Road Length (ft): | B43: 6717
A44: Initial Area of Disturbance (ac): | B44: 0.68
A45: Remaining Area of Disturbance (ac): | B45: 0.18
A46: Soil Type: | B46: Tivoli Dune
...

Sheet STATE G #1
A1: Strachan Exploration, Inc. Financial Assurance Warranty Calculation
A2: STATE G #1 OOS
A4: Reclamation Task and Quantity
C5: Unit cost | D5: # of units | E5: Item totals
A6: Equipment Removal (not completed with Plugging and Abandonment) | E6: =C6*D6 -> 0
A7: Tank removal @ $1,500.00/Tank | E7: =C7*D7 -> 0
A8: Pit reclamation | E8: =C8*D8 -> 0
A9: Liner Removal | E9: =C9*D9 -> 0
A10: Backfilling- Bobcat S86 Skid Steer Loader-$125.00/hr | C10: 125 | E10: =C10*D10 -> 0
A11: Misc | E11: =C11*D11 -> 0
A12: Road Reclamation (Using Road Grader) Total linear feet | C12: 1 | D12: 1299 | E12: =C12*D12 -> 1299
A13: $300/Hour to re-grade and rip road (300 feet/hr or $1.00/linear foot) | E13: =C13*D13 -> 0
A14: Rip and Re-Grade Site (not including roads) Acres Total | D14: 0.1 | E14: =C14*D14 -> 0
A15: Bobcat S86-$125.00/hour @ 1/2 acre/hour=$250/ac | C15: 250 | E15: =C15*D15 -> 0
A16: Topsoil Replacement -Import and re-spread topsoil @ 4 inches deep | E16: =C16*D16 -> 0
A17: Grading cost =$250/ac | C17: 250 | D17: 0.1 | E17: =C17*D17 -> 25
A18: 27 loads (20yds/load) @ $600/load=$16,200.00/Acre | C18: 16200 | D18: 0.1 | E18: =C18*D18 -> 1620
A19: Topsoil Preparation (minimum of 1 acre) | E19: =C19*D19 -> 0
A20: Spread Cow Manure as Soil Amendment (20 Tons/Acre@ $50 acre) | C20: 50 | D20: 1 | E20: =C20*D20 -> 50
A21: Disc to incorporate on 1 acres ($50.00/Acre) | C21: 50 | D21: 1 | E21: =C21*D21 -> 50
A22: Drag Harrow to firm up seed bed on 1 acres ($50.00/Acre) | C22: 50 | D22: 1 | E22: =C22*D22 -> 50
A23: Seeding (minimum of 1 acre which includes road) | E23: =C23*D23 -> 0
A24: Seed Cost $14.00/lb @ 15 lbs/acre ($210/Acre) | C24: 210 | D24: 1 | E24: =C24*D24 -> 210
A25: Seeding with Grass Drill $232.00/Acre | C25: 232 | D25: 1 | E25: =C25*D25 -> 232
A26: Mulch and Crimp Straw @ 2 tons/acre $1058/Acre | C26: 1058 | D26: 1 | E26: =C26*D26 -> 1058
A27: %25 Failure rate replacement seeding $110/Acre (no additional mulch) | C27: 110 | D27: 1 | E27: =C27*D27 -> 110
A28: Site Soil Testing- $414.00/sample | C28: 414 | D28: 1 | E28: =C28*D28 -> 414
A29: PID Testing ($.50/ft for lines) | C29: 0.5 | D29: 1299 | E29: =C29*D29 -> 649.5
A30: ($150.00 each for tank and/or pad) | C30: 150 | D30: 1 | E30: =C30*D30 -> 150
A31: Straw Wattles ($2.00/linear foot installed) | C31: 2 | D31: 208 | E31: =C31*D31 -> 416
A32: or $416/ac based on 208 feet along lowest side) | C32: 416 | E32: =C32*D32 -> 0
A33: Stormwater Inspection, Weed Spraying, Mowing | E33: 2000
A36: Total Direct Costs | E36: =SUM(E6:E35) -> 8333.5
A37: Mobilization/Demobilization | E37: 630
A39: Total Financial Warranty | E39: =SUM(E36:E38) -> 8963.5
A42: Notes:
A43: Road Length (ft): | B43: 1299
A44: Initial Area of Disturbance (ac): | B44: 0.35
A45: Remaining Area of Disturbance (ac): | B45: 0.1
A46: Soil Type: | B46: Rocky Ford Clay Loam
...

Sheet STATE #1-14
A1: Strachan Exploration, Inc. Financial Assurance Warranty Calculation
A2: STATE #1-14
A4: Reclamation Task and Quantity
C5: Unit cost | D5: # of units | E5: Item totals
A6: Equipment Removal (not completed with Plugging and Abandonment) | E6: =C6*D6 -> 0
A7: Tank removal @ $1,500.00/Tank | C7: 1500 | D7: 1 | E7: =C7*D7 -> 1500
A8: Pit reclamation | E8: =C8*D8 -> 0
A9: Liner Removal | E9: =C9*D9 -> 0
A10: Backfilling- Bobcat S86 Skid Steer Loader-$125.00/hr | C10: 125 | E10: =C10*D10 -> 0
A11: Misc | E11: =C11*D11 -> 0
A12: Road Reclamation (Using Road Grader) Total linear feet | C12: 1 | D12: 5870 | E12: =C12*D12 -> 5870
A13: $300/Hour to re-grade and rip road (300 feet/hr or $1.00/linear foot) | E13: =C13*D13 -> 0
A14: Rip and Re-Grade Site (not including roads) Acres Total | D14: 0.46 | E14: =C14*D14 -> 0
A15: Bobcat S86-$125.00/hour @ 1/2 acre/hour=$250/ac | C15: 250 | E15: =C15*D15 -> 0
A16: Topsoil Replacement -Import and re-spread topsoil @ 4 inches deep | E16: =C16*D16 -> 0
A17: Grading cost =$250/ac | C17: 250 | D17: 0.46 | E17: =C17*D17 -> 115
A18: 27 loads (20yds/load) @ $600/load=$16,200.00/Acre | C18: 16200 | D18: 0.46 | E18: =C18*D18 -> 7452
A19: Topsoil Preparation (minimum of 1 acre) | E19: =C19*D19 -> 0
A20: Spread Cow Manure as Soil Amendment (20 Tons/Acre@ $50 acre) | C20: 50 | D20: 2.48 | E20: =C20*D20 -> 124
A21: Disc to incorporate on 1 acres ($50.00/Acre) | C21: 50 | D21: 2.48 | E21: =C21*D21 -> 124
A22: Drag Harrow to firm up seed bed on 1 acres ($50.00/Acre) | C22: 50 | D22: 2.48 | E22: =C22*D22 -> 124
A23: Seeding (minimum of 1 acre which includes road) | E23: =C23*D23 -> 0
A24: Seed Cost $14.00/lb @ 15 lbs/acre ($210/Acre) | C24: 210 | D24: 2.48 | E24: =C24*D24 -> 520.8
A25: Seeding with Grass Drill $232.00/Acre | C25: 232 | D25: 2.48 | E25: =C25*D25 -> 575.36
A26: Mulch and Crimp Straw @ 2 tons/acre $1058/Acre | C26: 1058 | D26: 2.48 | E26: =C26*D26 -> 2623.84
A27: %25 Failure rate replacement seeding $110/Acre (no additional mulch) | C27: 110 | D27: 2.48 | E27: =C27*D27 -> 272.8
A28: Site Soil Testing- $414.00/sample | C28: 414 | D28: 1 | E28: =C28*D28 -> 414
A29: PID Testing ($.50/ft for lines) | C29: 0.5 | D29: 150 | E29: =C29*D29 -> 75
A30: ($150.00 each for tank and/or pad) | C30: 150 | D30: 2 | E30: =C30*D30 -> 300
A31: Straw Wattles ($2.00/linear foot installed) | C31: 2 | D31: 208 | E31: =C31*D31 -> 416
A32: or $416/ac based on 208 feet along lowest side) | C32: 416 | E32: =C32*D32 -> 0
A33: Stormwater Inspection, Weed Spraying, Mowing | E33: 2000
A36: Total Direct Costs | E36: =SUM(E6:E35) -> 22506.8
