Workbook

Sheet Cover
B18: Hydrocarbon Gas Composition and Stable Isotopes
B19: Data and Interpretation
B21: Job #: | D21: 21035486
B22: Lab #: | D22: DIG-025001 - DIG-025002
B23: Client: | D23: WSP
B24: Well Name: | D24: PIGEON 1-6B
B25: API #: | D25: 05-123-24855

Sheet Data Summary
A4: Client/Well Name: | C4: =CONCATENATE(Cover!D23," / ",Cover!D24) -> WSP / PIGEON 1-6B
A5: Job #: | C5: =Cover!D21 -> 21035486
A6: Lab #: | C6: =Cover!D22 -> DIG-025001 - DIG-025002
A8: SAMPLE INFORMATION | J8: COMPLETE GAS ANALYSIS | Y8: HYDROCARBON GAS ANALYSIS (normalized to total HC content) | AG8: BTU CONTENT*
A9: Job | B9: Lab | C9: Well | D9: Sample | E9: Sample | F9: Sample | G9: Fm | H9: Formation | I9: Fm-Depth | J9: GC | K9: N2 | L9: O2 + Ar | M9: CO2 | N9: C1 | O9: C2 | P9: C3 | Q9: iC4 | R9: nC4 | S9: iC5 | T9: nC5 | U9: C6+ | V9: C2H4 | W9: He | X9: H2 | Y9: C1 | Z9: C2 | AA9: C3 | AB9: iC4 | AC9: nC4 | AD9: iC5 | AE9: nC5 | AF9: C6+ | AG9: Total Gas | AH9: HCs only | AS9: METHANE ISOTOPE DATA CATEGORIZED BY FORMATION | BM9: PROPANE ISOTOPE DATA CATEGORIZED BY FORMATION
A10: Number | B10: Number | C10: Name | D10: Type | E10: Date | F10: Time | G10: Code | H10: Name | J10: Date | K10: ppm | L10: ppm | M10: ppm | N10: ppm | O10: ppm | P10: ppm | Q10: ppm | R10: ppm | S10: ppm | T10: ppm | U10: ppm | V10: ppm | W10: ppm | X10: ppm | Y10: mol% | Z10: mol% | AA10: mol% | AB10: mol% | AC10: mol% | AD10: mol% | AE10: mol% | AF10: mol% | AG10: BTU/ft3 | AH10: BTU/ft3 | AS10: 1 | AT10: 2 | AU10: 3 | AV10: 4 | AW10: 5 | AX10: 6 | AY10: 7 | AZ10: 8 | BA10: 9 | BB10: 10 | BC10: 11 | BD10: 12 | BE10: 13 | BF10: 14 | BG10: 15 | BH10: 16 | BI10: 17 | BJ10: 18 | BK10: 19 | BL10: 20 | BM10: 1 | BN10: 2 | BO10: 3 | BP10: 4 | BQ10: 5 | BR10: 6 | BS10: 7 | BT10: 8 | BU10: 9 | BV10: 10 | BW10: 11 | BX10: 12 | BY10: 13 | BZ10: 14 | CA10: 15 | CB10: 16 | CC10: 17 | CD10: 18 | CE10: 19 | CF10: 20
N11: C1 | O11: C2 | P11: C3 | Q11: iC4 | R11: nC4 | S11: iC5 | T11: nC5 | U11: C6+ | V11: C6+ | Y11: C1 | Z11: C2 | AA11: C3 | AB11: iC4 | AC11: nC4 | AD11: iC5 | AE11: nC5 | AF11: C6+
A12: =C5 -> 21035486 | B12: DIG-025001 | C12: =Cover!D24&" "&D12 -> PIGEON 1-6B Bradenhead gas | D12: Bradenhead gas | E12: 44278 | F12: 0.60416667 | J12: 44279 | K12: 13814.86 | L12: 2076.56 | M12: nd | N12: 774249.74 | O12: 105741.59 | P12: 50685.31 | Q12: 6360.89 | R12: 13127.69 | S12: 4008.33 | T12: 3844.93 | U12: 4367.39 | V12: nd | W12: nd | X12: 124.99 | Y12: 80.451087 | Z12: 10.987483 | AA12: 5.2665978 | AB12: 0.6609614 | AC12: 1.3641096 | AD12: 0.41646491 | AE12: 0.39952784 | AF12: 0.45376803 | AG12: 1239.3199 | AH12: 1259.7685
A13: =A12 -> 21035486 | B13: DIG-025002 | C13: =Cover!D24&" "& D13 -> PIGEON 1-6B Production gas | D13: Production gas | E13: 44278 | F13: 0.59722222 | J13: 44279 | K13: 7143.72 | L13: 1496.57 | M13: 25278.41 | N13: 432727.57 | O13: 237809.93 | P13: 193190.32 | Q13: 23669.56 | R13: 42558.08 | S13: 6800.75 | T13: 6622.29 | U13: 2983.72 | V13: nd | W13: nd | X13: nd | Y13: 45.725372 | Z13: 25.128835 | AA13: 20.413943 | AB13: 2.5011544 | AC13: 4.4970059 | AD13: 0.71864602 | AE13: 0.6997315 | AF13: 0.31531241 | AG13: 1660.5259 | AH13: 1720.0057
A15: SAMPLE INFORMATION | J15: HYDROCARBON RATIOS | N15: STABLE ISOTOPE ANALYSIS | AF15: SPECIFIC GRAVITY*
A16: Job | B16: Lab | C16: Well | D16: Sample | E16: Sample | F16: Sample | J16: Total HC | K16: Wetness | L16: C1/C2+C3 | M16: Balance Ratio | N16: Mass Spec | O16: d13C1 | P16: d13C2 | Q16: d13C3 | R16: d13iC4 | S16: d13nC4 | T16: d13iC5 | U16: d13nC5 | V16: d13CO2 | W16: dD | X16: Comments | AC16: Stable isotope results based on multi-point laboratory calibration | AF16: Total Gas | AG16: HCs only
A17: Number | B17: Number | C17: Name | D17: Type | E17: Date | F17: Time | J17: ppm | K17: % C2 to C6 | L17: mol/mol | M17: C1+C2/C3-C5 | N17: Date | O17: ‰ VPDB | P17: ‰ VPDB | Q17: ‰ VPDB | R17: ‰ VPDB | S17: ‰ VPDB | T17: ‰ VPDB | U17: ‰ VPDB | V17: ‰ VPDB | W17: ‰ VSMOW | AC17: low signal; interpret with caution | AF17: Spec Grav | AG17: Spec Grav
O18: 1 | P18: 0.5 | Q18: 0.33 | S18: 0.25 | U18: 0.2 | V18: 0.2
A19: =A12 -> 21035486 | B19: =B12 -> DIG-025001 | C19: =C12 -> PIGEON 1-6B Bradenhead gas | D19: =D12 -> Bradenhead gas | E19: =E12 -> 44278 | F19: =F12 -> 0.60416667 | J19: 962386 | K19: 19.548913 | L19: 4.9495931 | M19: 11.278045 | N19: 44281 | O19: -48.6 | P19: -33.8 | Q19: -29.7 | R19: -31.9 | S19: -28.3 | T19: -28.1 | U19: -28 | W19: -250 | AC19: Precision d13C <0.5 ‰ | AF19: 0.71863678 | AG19: 0.71423727
A20: =A13 -> 21035486 | B20: =B13 -> DIG-025002 | C20: =C13 -> PIGEON 1-6B Production gas | D20: =D13 -> Production gas | E20: =E13 -> 44278 | F20: =F13 -> 0.59722222 | J20: 946363 | K20: 54.274628 | L20: 1.0040093 | M20: 2.4576145 | N20: 44281 | O20: -44.9 | P20: -30.8 | Q20: -27.3 | R20: -29.4 | S20: -26.6 | T20: -27 | U20: -27 | V20: 2 | W20: -245 | AC20: Precision dD < 5 ‰ | AF20: 1.0229318 | AG20: 1.0099659
AC21: * As ideal gas, with gas concentrations normalized to 100%;
AC22: caculations based on GPA 2145-09 physical constants.
AH23: Page 2

Sheet InterpretivePlots
A3: INTERPRETIVE PLOTS | M3: INTERPRETIVE PLOTS
A5: Methane d13C vs Wetness Genetic Classification Plot | G5: Hydrocarbon Composition Plot | M5: Mixing Plot | S5: Ethane - Propane Maturity Plot
L38: Page 3 | X38: Page 4
A41: INTERPRETIVE PLOTS | M41: INTERPRETIVE PLOTS
A43: Haworth Ratio Plot - Characterization of Hydrocarbon Type | G43: Methane d13C vs dD Genetic Classification Plot | M43: Methane d13C vs C1/(C2+C3) Genetic Classification Plot
L76: Page 5 | X76: Page 6

Sheet EDD 1
A1: Organization | B1: Reporting Organization | C1: Reporting Organization Name | D1: Order Number | E1: Entity Requesting Analysis | F1: Purpose | G1: Project
B2: 10206 | C2: Dolan Integration Group | E2: =Cover!D23 -> WSP
A3: Sample | B3: COGCC Facility No. | C3: Sample Date and Time | D3: API # | E3: LAB Sample ID | F3: Sample Type | G3: Matrix | H3: Comments | I3: Project Number | J3: Chain of Custody ID | K3: Date Received by Lab
C4: ='Data Summary'!E12+'Data Summary'!F12 -> 44278.604 | D4: 123-24855 | E4: ='Data Summary'!B12 -> DIG-025001 | F4: BDH | G4: GAS | J4: PIGEON 1-6B | K4: 44278
A5: Batch | B5: LabID | C5: Lab Batch Identifier | D5: Leach Date | E5: Extract Date and Time | F5: Extract Method | G5: Start Date and Time | H5: Conc Method | I5: Init Vol | J5: Final Vol | K5: Init Vol Units | L5: Final Vol Units | M5: Analysis Date and Time | N5: Report Basis | O5: Comments | P5: File Name | Q5: Column #
B6: 10206 | C6: =Cover!D21 -> 21035486
A7: Result | B7: CAS Number | C7: Analysis Name | D7: Analysis Method | E7: Analytical Method Modifier | F7: Unit | G7: Result Value | H7: Qualifier | I7: Test Type | J7: Result Text | K7: Data Flag | L7: Dilution | M7: Fraction Type | N7: MDC | O7: Requested MDC | P7: Detection Limit | Q7: Instrument Detection Limit | R7: Method Detection Limit | S7: Comments | T7: AnalyticalBatchID
B8: O2+AR | C8: OXYGEN + ARGON | D8: SOP | F8: MOL % | G8: =IF('Data Summary'!L12="nd",'EDD 1'!P8,ROUND((100*'Data Summary'!L12/SUM('Data Summary'!$K$12:$X$12)),3)) -> 0.212 | H8: =IF(G8=0.005,"ND","") | P8: 0.005 | Q8: 0.005 | R8: 0.005 | T8: =$C$6 -> 21035486
B9: 124-38-9 | C9: CARBON DIOXIDE | D9: SOP | F9: MOL % | G9: =IF('Data Summary'!M12="nd",'EDD 1'!P9,ROUND((100*'Data Summary'!M12/SUM('Data Summary'!$K$12:$X$12)),3)) -> 0.005 | H9: =IF(G9=0.005,"ND","") -> ND | P9: 0.005 | Q9: 0.005 | R9: 0.005 | T9: =$C$6 -> 21035486
B10: 7727-37-9 | C10: NITROGEN (N2) | D10: SOP | F10: MOL % | G10: =IF('Data Summary'!K12="nd",'EDD 1'!P10,ROUND((100*'Data Summary'!K12/SUM('Data Summary'!$K$12:$X$12)),3)) -> 1.412 | H10: =IF(G10=0.005,"ND","") | P10: 0.005 | Q10: 0.005 | R10: 0.005 | T10: =$C$6 -> 21035486
B11: 7440-59-7 | C11: Helium | D11: SOP | F11: MOL % | G11: =IF('Data Summary'!W12="nd",'EDD 1'!P11,ROUND((100*'Data Summary'!W12/SUM('Data Summary'!$K$12:$X$12)),3)) -> 0.005 | H11: =IF(G11=0.005,"ND","") -> ND | P11: 0.005 | Q11: 0.005 | R11: 0.005 | T11: =$C$6 -> 21035486
B12: 1333-74-0 | C12: HYDROGEN | D12: SOP | F12: MOL % | G12: =IF('Data Summary'!X12="nd",'EDD 1'!P12,ROUND((100*'Data Summary'!X12/SUM('Data Summary'!$K$12:$X$12)),3)) -> 0.013 | H12: =IF(G12=0.005,"ND","") | P12: 0.005 | Q12: 0.005 | R12: 0.005 | T12: =$C$6 -> 21035486
B13: 74-82-8 | C13: METHANE | D13: SOP | F13: MOL % | G13: =IF('Data Summary'!N12="nd",'EDD 1'!P13,ROUND((100*'Data Summary'!N12/SUM('Data Summary'!$K$12:$X$12)),3)) -> 79.134 | H13: =IF(G13=0.005,"ND","") | P13: 0.005 | Q13: 0.005 | R13: 0.005 | T13: =$C$6 -> 21035486
B14: 74-84-0 | C14: ETHANE | D14: SOP | F14: MOL % | G14: =IF('Data Summary'!O12="nd",'EDD 1'!P14,ROUND((100*'Data Summary'!O12/SUM('Data Summary'!$K$12:$X$12)),3)) -> 10.808 | H14: =IF(G14=0.005,"ND","") | P14: 0.005 | Q14: 0.005 | R14: 0.005 | T14: =$C$6 -> 21035486
B15: 74-85-1 | C15: ETHENE | D15: SOP | F15: MOL % | G15: =IF('Data Summary'!V12="nd",'EDD 1'!P15,ROUND((100*'Data Summary'!V12/SUM('Data Summary'!$K$12:$X$12)),3)) -> 0.005 | H15: =IF(G15=0.005,"ND","") -> ND | P15: 0.005 | Q15: 0.005 | R15: 0.005 | T15: =$C$6 -> 21035486
B16: 74-98-6 | C16: PROPANE | D16: SOP | F16: MOL % | G16: =IF('Data Summary'!P12="nd",'EDD 1'!P16,ROUND((100*'Data Summary'!P12/SUM('Data Summary'!$K$12:$X$12)),3)) -> 5.18 | H16: =IF(G16=0.005,"ND","") | P16: 0.005 | Q16: 0.005 | R16: 0.005 | T16: =$C$6 -> 21035486
B17: 75-28-5 | C17: ISOBUTANE | D17: SOP | F17: MOL % | G17: =IF('Data Summary'!Q12="nd",'EDD 1'!P17,ROUND((100*'Data Summary'!Q12/SUM('Data Summary'!$K$12:$X$12)),3)) -> 0.65 | H17: =IF(G17=0.005,"ND","") | P17: 0.005 | Q17: 0.005 | R17: 0.005 | T17: =$C$6 -> 21035486
B18: 106-97-8 | C18: N-BUTANE | D18: SOP | F18: MOL % | G18: =IF('Data Summary'!R12="nd",'EDD 1'!P18,ROUND((100*'Data Summary'!R12/SUM('Data Summary'!$K$12:$X$12)),3)) -> 1.342 | H18: =IF(G18=0.005,"ND","") | P18: 0.005 | Q18: 0.005 | R18: 0.005 | T18: =$C$6 -> 21035486
B19: iC5 | C19: ISOPENTANE | D19: SOP | F19: MOL % | G19: =IF('Data Summary'!S12="nd",'EDD 1'!P19,ROUND((100*'Data Summary'!S12/SUM('Data Summary'!$K$12:$X$12)),3)) -> 0.41 | H19: =IF(G19=0.005,"ND","") | P19: 0.005 | Q19: 0.005 | R19: 0.005 | T19: =$C$6 -> 21035486
B20: 109-66-0 | C20: N-PENTANE | D20: SOP | F20: MOL % | G20: =IF('Data Summary'!T12="nd",'EDD 1'!P20,ROUND((100*'Data Summary'!T12/SUM('Data Summary'!$K$12:$X$12)),3)) -> 0.393 | H20: =IF(G20=0.005,"ND","") | P20: 0.005 | Q20: 0.005 | R20: 0.005 | T20: =$C$6 -> 21035486
B21: 92112-69-1+ | C21: C6+ (hexanes +) | D21: SOP | F21: MOL % | G21: =IF('Data Summary'!U12="nd",'EDD 1'!P21,ROUND((100*'Data Summary'!U12/SUM('Data Summary'!$K$12:$X$12)),3)) -> 0.446 | H21: =IF(G21=0.005,"ND","") | P21: 0.005 | Q21: 0.005 | R21: 0.005 | T21: =$C$6 -> 21035486
B22: delta13C_C1 | C22: DELTA 13C C1 | D22: SOP | F22: per mil | G22: ='Data Summary'!O19 -> -48.6 | T22: =$C$6 -> 21035486
B23: deltaD_C1 | C23: DELTA D C1 | D23: SOP | F23: per mil | G23: ='Data Summary'!W19 -> -250 | T23: =$C$6 -> 21035486
B24: delta13C_C2 | C24: DELTA 13C C2 | D24: SOP | F24: per mil | G24: ='Data Summary'!P19 -> -33.8 | T24: =$C$6 -> 21035486
B25: delta13C_C3 | C25: DELTA 13C C3 | D25: SOP | F25: per mil | G25: ='Data Summary'!Q19 -> -29.7 | T25: =$C$6 -> 21035486
B26: delta13C_iC4 | C26: DELTA 13C iC4 | D26: SOP | F26: per mil | G26: ='Data Summary'!R19 -> -31.9 | K26: Low Signal | T26: =$C$6 -> 21035486
B27: delta13C_nC4 | C27: DELTA 13C nC4 | D27: SOP | F27: per mil | G27: ='Data Summary'!S19 -> -28.3 | T27: =$C$6 -> 21035486
B28: delta13C_iC5 | C28: Delta 13C iC5 | D28: SOP | F28: per mil | G28: ='Data Summary'!T19 -> -28.1 | K28: Low Signal | T28: =$C$6 -> 21035486
B29: delta13C_nC5 | C29: Delta 13C nC5 | D29: SOP | F29: per mil | G29: ='Data Summary'!U19 -> -28 | K29: Low Signal | T29: =$C$6 -> 21035486
B30: BTU | C30: BRITISH THERMAL UNITS | D30: SOP | F30: BTU/cuft | G30: ='Data Summary'!AG12 -> 1239.3199 | T30: =$C$6 -> 21035486
B31: SpGrav | C31: SPECIFIC GRAVITY | D31: SOP | F31: No Unit | G31: ='Data Summary'!AF19 -> 0.71863678 | T31: =$C$6 -> 21035486

Sheet EDD 2
A1: Organization | B1: Reporting Organization | C1: Reporting Organization Name | D1: Order Number | E1: Entity Requesting Analysis | F1: Purpose | G1: Project
B2: 10206 | C2: Dolan Integration Group | E2: WSP
A3: Sample | B3: COGCC Facility No. | C3: Sample Date and Time | D3: API # | E3: LAB Sample ID | F3: Sample Type | G3: Matrix | H3: Comments | I3: Project Number | J3: Chain of Custody ID | K3: Date Received by Lab
C4: 44278.597 | D4: 123-24855 | E4: DIG-025002 | F4: PRDG | G4: GAS | J4: PIGEON 1-6B | K4: 44278
A5: Batch | B5: LabID | C5: Lab Batch Identifier | D5: Leach Date | E5: Extract Date and Time | F5: Extract Method | G5: Start Date and Time | H5: Conc Method | I5: Init Vol | J5: Final Vol | K5: Init Vol Units | L5: Final Vol Units | M5: Analysis Date and Time | N5: Report Basis | O5: Comments | P5: File Name | Q5: Column #
B6: 10206 | C6: 21035486
A7: Result | B7: CAS Number | C7: Analysis Name | D7: Analysis Method | E7: Analytical Method Modifier | F7: Unit | G7: Result Value | H7: Qualifier | I7: Test Type | J7: Result Text | K7: Data Flag | L7: Dilution | M7: Fraction Type | N7: MDC | O7: Requested MDC | P7: Detection Limit | Q7: Instrument Detection Limit | R7: Method Detection Limit | S7: Comments | T7: AnalyticalBatchID
B8: O2+AR | C8: OXYGEN + ARGON | D8: SOP | F8: MOL % | G8: 0.153 | P8: 0.005 | Q8: 0.005 | R8: 0.005 | T8: 21035486
B9: 124-38-9 | C9: CARBON DIOXIDE | D9: SOP | F9: MOL % | G9: 2.579 | P9: 0.005 | Q9: 0.005 | R9: 0.005 | T9: 21035486
B10: 7727-37-9 | C10: NITROGEN (N2) | D10: SOP | F10: MOL % | G10: 0.729 | P10: 0.005 | Q10: 0.005 | R10: 0.005 | T10: 21035486
B11: 7440-59-7 | C11: Helium | D11: SOP | F11: MOL % | G11: 0.005 | H11: ND | P11: 0.005 | Q11: 0.005 | R11: 0.005 | T11: 21035486
B12: 1333-74-0 | C12: HYDROGEN | D12: SOP | F12: MOL % | G12: 0.005 | H12: ND | P12: 0.005 | Q12: 0.005 | R12: 0.005 | T12: 21035486
B13: 74-82-8 | C13: METHANE | D13: SOP | F13: MOL % | G13: 44.143 | P13: 0.005 | Q13: 0.005 | R13: 0.005 | T13: 21035486
B14: 74-84-0 | C14: ETHANE | D14: SOP | F14: MOL % | G14: 24.259 | P14: 0.005 | Q14: 0.005 | R14: 0.005 | T14: 21035486
B15: 74-85-1 | C15: ETHENE | D15: SOP | F15: MOL % | G15: 0.005 | H15: ND | P15: 0.005 | Q15: 0.005 | R15: 0.005 | T15: 21035486
B16: 74-98-6 | C16: PROPANE | D16: SOP | F16: MOL % | G16: 19.708 | P16: 0.005 | Q16: 0.005 | R16: 0.005 | T16: 21035486
B17: 75-28-5 | C17: ISOBUTANE | D17: SOP | F17: MOL % | G17: 2.415 | P17: 0.005 | Q17: 0.005 | R17: 0.005 | T17: 21035486
B18: 106-97-8 | C18: N-BUTANE | D18: SOP | F18: MOL % | G18: 4.341 | P18: 0.005 | Q18: 0.005 | R18: 0.005 | T18: 21035486
B19: iC5 | C19: ISOPENTANE | D19: SOP | F19: MOL % | G19: 0.694 | P19: 0.005 | Q19: 0.005 | R19: 0.005 | T19: 21035486
B20: 109-66-0 | C20: N-PENTANE | D20: SOP | F20: MOL % | G20: 0.676 | P20: 0.005 | Q20: 0.005 | R20: 0.005 | T20: 21035486
B21: 92112-69-1+ | C21: C6+ (hexanes +) | D21: SOP | F21: MOL % | G21: 0.304 | P21: 0.005 | Q21: 0.005 | R21: 0.005 | T21: 21035486
B22: delta13C_C1 | C22: DELTA 13C C1 | D22: SOP | F22: per mil | G22: -44.9 | T22: 21035486
B23: deltaD_C1 | C23: DELTA D C1 | D23: SOP | F23: per mil | G23: -245 | T23: 21035486
B24: delta13C_C2 | C24: DELTA 13C C2 | D24: SOP | F24: per mil | G24: -30.8 | T24: 21035486
B25: delta13C_C3 | C25: DELTA 13C C3 | D25: SOP | F25: per mil | G25: -27.3 | T25: 21035486
B26: delta13C_iC4 | C26: DELTA 13C iC4 | D26: SOP | F26: per mil | G26: -29.4 | T26: 21035486
B27: delta13C_nC4 | C27: DELTA 13C nC4 | D27: SOP | F27: per mil | G27: -26.6 | T27: 21035486
B28: delta13C_iC5 | C28: Delta 13C iC5 | D28: SOP | F28: per mil | G28: -27 | T28: 21035486
B29: delta13C_nC5 | C29: Delta 13C nC5 | D29: SOP | F29: per mil | G29: -27 | T29: 21035486
B30: delta13C_CO2 | C30: DELTA 13C CO2 | D30: SOP | F30: per mil | G30: 2 | K30: Low Signal | T30: 21035486
B31: BTU | C31: BRITISH THERMAL UNITS | D31: SOP | F31: BTU/cuft | G31: 1660.5259 | T31: 21035486
B32: SpGrav | C32: SPECIFIC GRAVITY | D32: SOP | F32: No Unit | G32: 1.0229318 | T32: 21035486

Sheet COC
