Workbook

Sheet Cover
B18: Quantitative High Resolution Whole Oil Gas Chromatography
B19: Analytical Results
C21: Job #: | D21: 21106444 & 21106445
C22: Lab #: | D22: DIG-026321 & DIG-026322
C23: Client: | D23: Great Western Oil and Gas
C24: Project/ Well Name: | D24: IVEY LC 26-365HC
C25: Sample Types: | D25: =IF('WOGC Results'!C4="Production",'WOGC Results'!B4 &" Oil" & " / " & 'WOGC Results'!C4 & " Oil","Bradenhead Oil") -> Bradenhead Oil / Production Oil

Sheet WOGC Results
A4: Types | B4: Bradenhead | C4: Production | L4: THOMPSON RATIOS1 | V4: HALPERN TRANSFORMATION/ CORRELATION RATIOS3 | AJ4: MANGO RATIOS 2
A5: SAMPLE INFORMATION | F5: ALKANE AND ISOPRENOID RATIOS | L5: 1 Thompson, K.F.M.,1983.GCA:V.47, p.303. | V5: 3 Halpern,H.I.,1995,AAPG Bull.: V.79, p.801. | AJ5: 2 Mango, F.D.,1994.GCA: V.58, p.895. | AT5: QUANTITATIVE WOGC CONCENTRATION DATA (mg/g)
L6: A | M6: B | N6: X | O6: C | P6: Isoheptane Value | Q6: F | R6: Heptane Value | S6: U | T6: R | U6: S | V6: Tr1 | W6: Tr2 | X6: Tr3 | Y6: Tr4 | Z6: Tr5 | AA6: Tr6 | AB6: Tr7 | AC6: Tr8 | AD6: P3 | AE6: C1 | AF6: C2 | AG6: C3 | AH6: C4 | AI6: C5 | AJ6: SumP | AK6: P1 | AL6: P2 | AM6: P3 | AN6: 5N1 | AO6: N2 | AP6: 6N1 | AQ6: K1 | AR6: K2 | AS6: 5N1/6N1 | AT6: Normal Alkane C3 | AU6: Iso-alkane C4 | AV6: Normal Alkane C4 | AW6: Iso-alkane C5 | AX6: Normal Alkane C5 | AY6: 2,2-Dimethylbutane | AZ6: Cyclopentane | BA6: 2,3-Dimethylbutane | BB6: 2-Methylpentane | BC6: 3-Methylpentane | BD6: Normal Alkane C6 | BE6: 2,2-Dimethylpentane | BF6: Methylcyclopentane | BG6: 2,4-Dimethylpentane | BH6: 2,2,3-Trimethylbutane | BI6: Benzene | BJ6: 3,3-Dimethylpentane | BK6: Cyclohexane | BL6: 2-Methylhexane | BM6: 2,3-Dimethylpentane | BN6: 1,1-Dimethylcyclopentane | BO6: 3-Methylhexane | BP6: 1-cis-3-Dimethylcyclopentane | BQ6: 1-trans-3-Dimethylcyclopentane | BR6: 3-Ethylpentane | BS6: 1-trans-2-Dimethylcyclopentane | BT6: Normal Alkane C7 | BU6: Internal Standard | BV6: Methylcyclohexane | BW6: 1,1,3,-Trimethylcyclopentane | BX6: 2,5-Dimethylhexane | BY6: Ethylcyclopentane | BZ6: 2,2,3-Trimethylpentane / 2,4-Dimethylhexane | CA6: 1,2,4-Trimethylcyclopentane | CB6: 3,3-Dimethylhexane | CC6: 1,2,3-Trimethylcyclopentane | CD6: 2,3,4-Trimethylpentane | CE6: Toluene | CF6: 2,3-Dimethylhexane | CG6: 2-Methylheptane | CH6: 4-Methylheptane | CI6: 3-Methylheptane / 1-cis-3-Dimethylcyclohexane | CJ6: 1-trans-4-Dimethylcyclohexane | CK6: 1,1-Dimethylcyclohexane | CL6: 1-trans-2-Dimethylcyclohexane | CM6: Normal Alkane C8 | CN6: Ethylcyclohexane | CO6: Isoprenoid C9 | CP6: Ethyl-benzene | CQ6: m-xylene | CR6: p-xylene | CS6: 4-Methyloctane | CT6: 2-Methyloctane | CU6: 3-Methyloctane | CV6: o-xylene | CW6: Normal Alkane C9 | CX6: Isoprenoid C10 | CY6: Normal Alkane C10 | CZ6: Isoprenoid C11 | DA6: Normal Alkane C11 | DB6: Normal Alkane C12 | DC6: Isoprenoid C13 | DD6: Isoprenoid C14 | DE6: Normal Alkane C13 | DF6: Isoprenoid C15 | DG6: Normal Alkane C14 | DH6: Isoprenoid C16 | DI6: Normal Alkane C15 | DJ6: Normal Alkane C16 | DK6: Isoprenoid C18 | DL6: Normal Alkane C17 | DM6: Isoprenoid C19 (Pristane) | DN6: Phenanthrene | DO6: Normal Alkane C18 | DP6: Isoprenoid C20 (Phytane) | DQ6: Normal Alkane C19 | DR6: Normal Alkane C20 | DS6: Normal Alkane C21 | DT6: Highly Branch Isoprenoid C25 | DU6: Normal Alkane C22 | DV6: Normal Alkane C23 | DW6: Normal Alkane C24 | DX6: Normal Alkane C25 | DY6: Normal Alkane C26 | DZ6: Normal Alkane C27 | EA6: Normal Alkane C28 | EB6: Normal Alkane C29 | EC6: Normal Alkane C30 | ED6: Normal Alkane C31 | EE6: Normal Alkane C32 | EF6: Normal Alkane C33 | EG6: Normal Alkane C34 | EH6: Normal Alkane C35 | EI6: Normal Alkane C36 | EJ6: Normal Alkane C37 | EK6: Normal Alkane C38 | EL6: Normal Alkane C39 | EM6: Normal Alkane C40 | EN6: Normal Alkane C41
A7: DIG Lab Number | B7: Well ID | C7: Sample Medium | D7: Sample Date | E7: Sample Time | F7: Pr/Ph | G7: Pr/nC17 | H7: Ph/nC18 | I7: nC18/(nC18+nC19) | J7: nC17/(nC17+nC29) | K7: CPI (Hunt, 1979) | L7: Benzene/nC6 | M7: Toluene/nC7 | N7: m+p-Xyl/nC8 | O7: (nC6+nC7)/(CyC6+MCyC6) | P7: (2-MC6+3-MC6)/(c1,3-DMCyC5+t1,3-DMCyC5+t1,2DMCyC5) | Q7: nC7/MCyC6 | R7: nC7*100/(CyC6+2-MC6+2,3-DMC5+1,1-DMCyC5+3-MC6+c1,3-DMCyC5+t1,3-DMCyC5+t1,2-DMCyC5+3-EP+n-C7+MCyC6) | S7: CyC6/MCyC5 | T7: nC7/2-MC6 | U7: n-C6/2,2-DMC4 | V7: Tol/1,1-DMCyC5 | W7: nC7/1,1-DMCyC5 | X7: 3-MC6/1,1-DMCyC5 | Y7: 2-MC6/1,1-DMCyC5 | Z7: (2-MC6+3-MC6)/1,1-DMCyC5 | AA7: c1,2-DMCyC5/1,1-DMCyC5 | AB7: t-1,3-DMCyC5/1,1-DMCyC5 | AC7: (2-MC6+3-MC6)/(2,2-DMC5+2,3-DMC5+2,4-DMC5+3,3-DMC5+3-EC5) | AD7: 2,2-DMC5+2,3-DMC5+2,4-DMC5+3,3-DMC5+3-EC5 | AE7: 2,2-DMC5/(2,2-DMC5+2,3-DMC5+2,4-DMC5+3,3-DMC5+3-EC5) | AF7: 2,3-DMC5/(2,2-DMC5+2,3-DMC5+2,4-DMC5+3,3-DMC5+3-EC5) | AG7: 2,4-DMC5/(2,2-DMC5+2,3-DMC5+2,4-DMC5+3,3-DMC5+3-EC5) | AH7: 3,3-DMC5/(2,2-DMC5+2,3-DMC5+2,4-DMC5+3,3-DMC5+3-EC5) | AI7: 3-EC5/(2,2-DMC5+2,3-DMC5+2,4-DMC5+3,3-DMC5+3-EC5) | AJ7: 2,2-DMC5+2,4-DMC5+2,2,3-TMC4+3,3-DMC5+2-MC6+2,3-DMC5+1,1-DMCyC5+3-MC6+c-1,3-DMCyC5+t-1,3-DMCyC5+3-EC5+t-1,2-DMCyC5+n-C7+MCyC6+ECyC5+Tol | AK7: 100*n-C7/SumP | AL7: 100*(2-MC6+3-MC6)/SumP | AM7: 100*(3-EC5+3,3-DMC5+2,3-DMC5+2,4-DMC5+2,2-DMC5+2,2,3-TMC4)/SumP | AN7: 100*(ECyC5+t-1,2-DMCyC5)/SumP | AO7: 100*(1,1-DMCyC5+c-1,3-DMCyC5+t-1,3-DMCyC5)/SumP | AP7: 100*(MCyC6+Tol)/SumP | AQ7: (2-MC6+2,3-DMC5)/(3-MC6+2,4-DMC5) | AR7: (3-EC5+3,3-DMC5+2,3-DMC5+2,4-DMC5+2,2-DMC5+2,2,3-TMC4)/(2-MC6+3-MC6+1,1-DMCyC5+c-1,3-DMCyC5+t-1,3-DMCyC5) | AS7: (ECyC5+t-1,2-DMCyC5)/(MCyC6+Tol) | AT7: nC3 | AU7: iC4 | AV7: nC4 | AW7: iC5 | AX7: nC5 | AY7: 2,2-DMC4 | AZ7: CyC5 | BA7: 2,3-DMC4 | BB7: 2-MC5 | BC7: 3-MC5 | BD7: nC6 | BE7: 2,2-DMC5 | BF7: MCyC5 | BG7: 2,4-DMC5 | BH7: 2,2,3-TMC4 | BI7: Benzene | BJ7: 3,3-DMC5 | BK7: CyC6 | BL7: 2-MC6 | BM7: 2,3-DMC5 | BN7: 1,1-DMCyC5 | BO7: 3-MC6 | BP7: c-1,3-DMCyC5 | BQ7: t-1,3-DMCyC5 | BR7: 3-EC5 | BS7: t-1,2-DMCyC5 | BT7: nC7 | BU7: INTERNAL STANDARD | BV7: mCyC6 | BW7: 1,1,3-TMCyC5 | BX7: 2,5-DMC6 | BY7: ECyC5 | BZ7: 2,2,3-TMC5 / 2,4-DMC6 | CA7: c,t-1,2,4-TMCyC5 | CB7: 3,3-DMC6 | CC7: c,t -1,2,3-TMCyC5 | CD7: 2,3,4-TMC5 | CE7: Toluene | CF7: 2,3-DMC6 | CG7: 2-MC7 | CH7: 4-MC7 | CI7: 3-MC7 / c-1,3-DMCyC6 | CJ7: t-1,4-DMCyC6 | CK7: 1,1-DMCyC6 | CL7: t-1,2-DMCyC6 | CM7: nC8 | CN7: ECyC6 | CO7: iC9 | CP7: E-Benzene | CQ7: m-Xylene | CR7: p-Xylene | CS7: 4-MC8 | CT7: 2-MC8 | CU7: 3-MC8 | CV7: o-Xylene | CW7: nC9 | CX7: ipC10 | CY7: nC10 | CZ7: ipC11 | DA7: nC11 | DB7: nC12 | DC7: iC13 | DD7: iC14 | DE7: nC13 | DF7: iC15 | DG7: nC14 | DH7: iC16 | DI7: nC15 | DJ7: nC16 | DK7: iC18 | DL7: nC17 | DM7: Pristane | DN7: PHEN | DO7: nC18 | DP7: Phytane | DQ7: nC19 | DR7: nC20 | DS7: nC21 | DT7: C25HBI | DU7: nC22 | DV7: nC23 | DW7: nC24 | DX7: nC25 | DY7: nC26 | DZ7: nC27 | EA7: nC28 | EB7: nC29 | EC7: nC30 | ED7: nC31 | EE7: nC32 | EF7: nC33 | EG7: nC34 | EH7: nC35 | EI7: nC36 | EJ7: nC37 | EK7: nC38 | EL7: nC39 | EM7: nC40 | EN7: nC41
A8: DIG-026321 | B8: =Cover!D24 & " " & B4 -> IVEY LC 26-365HC Bradenhead | C8: 40 ml vial | D8: 44474 | E8: 0.54513889 | F8: =DM8/DP8 -> 1.382564 | G8: =DM8/DL8 -> 0.51863406 | H8: =DP8/DO8 -> 0.51604319 | I8: =DO8/(DO8+DQ8) -> 0.57859356 | J8: =DL8/(DL8+EB8) -> 1 | K8: =((DV8+DX8+DZ8+EB8+ED8)+(DX8+DZ8+EB8+ED8+EF8))/(2*(DW8+DY8+EA8+EC8+EE8)) -> 1.2541973 | L8: =BI8/BD8 -> #DIV/0! | M8: =CE8/BT8 -> 0.97899961 | N8: =(CQ8+CR8)/CM8 -> 0.87438892 | O8: =(BD8+BT8)/(BK8+BV8) -> 0.3728696 | P8: =(BL8+BO8)/(BP8+BQ8+BS8) -> 2.0881818 | Q8: =BT8/BV8 -> 0.44353559 | R8: =(BT8*100)/(BK8+BL8+BM8+BN8+BO8+BP8+BQ8+BS8+BR8+BT8+BV8) -> 20.596523 | S8: =BK8/BF8 -> #DIV/0! | T8: =BT8/BL8 -> 3.6974249 | U8: =BD8/AY8 -> #DIV/0! | V8: =CE8/BN8 -> 16.286502 | W8: =BT8/BN8 -> 16.635862 | X8: =BO8/BN8 -> 6.5896552 | Y8: =BL8/BN8 -> 4.4993103 | Z8: =(BL8+BO8)/BN8 -> 11.088966 | AB8: =BQ8/BN8 -> 0 | AC8: =(BL8+BO8)/AD8 -> 5.2323462 | AD8: =BE8+BM8+BG8+BJ8+BR8 -> 0.039095566 | AE8: =BE8/AD8 -> 0 | AF8: =BM8/AD8 -> 1 | AG8: =BG8/AD8 -> 0 | AH8: =BJ8/AD8 -> 0 | AI8: =BR8/AD8 -> 0 | AJ8: =BE8+BG8+BH8+BJ8+BL8+BM8+BN8+BO8+BP8+BQ8+BR8+BS8+BT8+BV8+BY8+CE8 -> 1.6593052 | AK8: =(100*BT8)/AJ8 -> 18.4949 | AL8: =(100*(BL8+BO8))/AJ8 -> 12.328144 | AM8: =(100*(BR8+BJ8+BM8+BG8+BE8+BH8))/AJ8 -> 2.3561408 | AN8: =(100*(BY8+BS8))/AJ8 -> 5.9037697 | AO8: =(100*(BN8+BP8+BQ8))/AJ8 -> 1.1117488 | AP8: =(100*(BV8+CE8))/AJ8 -> 59.805296 | AQ8: =(BL8+BM8)/(BO8+BG8) -> 1.0043956 | AR8: =(BR8+BJ8+BM8+BG8+BE8+BH8)/(BL8+BO8+BN8+BP8+BQ8) -> 0.17530949 | AS8: =(BY8+BS8)/(BV8+CE8) -> 0.098716502 | AV8: 0.15004248 | BK8: 0.13113036 | BL8: 0.083000154 | BM8: 0.039095566 | BN8: 0.018447306 | BO8: 0.12156138 | BS8: 0.097961555 | BT8: 0.30688684 | BU8: 18.3 | BV8: 0.69191028 | CE8: 0.30044209 | CG8: 0.34472526 | CH8: 0.11333189 | CI8: 0.62207605 | CJ8: 0.15802889 | CK8: 0.11977118 | CL8: 0.2585349 | CM8: 1.0446166 | CN8: 1.529218 | CO8: 0.48966092 | CP8: 0.67334493 | CQ8: 0.69394184 | CR8: 0.21945933 | CS8: 0.34462257 | CT8: 0.55905042 | CU8: 0.73529616 | CV8: 0.60184017 | CW8: 4.433953 | CX8: 2.0427282 | CY8: 13.062959 | CZ8: 4.8372729 | DA8: 31.6822 | DB8: 35.12237 | DC8: 11.207984 | DD8: 8.4639683 | DE8: 29.77996 | DF8: 5.5810136 | DG8: 17.209346 | DH8: 4.9440506 | DI8: 10.920138 | DJ8: 7.463175 | DK8: 3.2774541 | DL8: 6.4148207 | DM8: 3.3269445 | DO8: 4.6630951 | DP8: 2.4063584 | DQ8: 3.3962671 | DR8: 2.6255492 | DS8: 1.5431021 | DU8: 1.016413 | DV8: 0.59522729 | DW8: 0.35753594 | DX8: 0.30630003 | DY8: 0.22819399 | DZ8: 0.13070721
A9: DIG-026322 | B9: =Cover!D24 & " " & C4 -> IVEY LC 26-365HC Production | C9: 40 ml vial | D9: 44474 | E9: 0.58680556 | F9: =DM9/DP9 -> 1.9124105 | G9: =DM9/DL9 -> 0.58888317 | H9: =DP9/DO9 -> 0.36430325 | I9: =DO9/(DO9+DQ9) -> 0.53986746 | J9: =DL9/(DL9+EB9) -> 0.83326224 | K9: =((DV9+DX9+DZ9+EB9+ED9)+(DX9+DZ9+EB9+ED9+EF9))/(2*(DW9+DY9+EA9+EC9+EE9)) -> 1.0412871 | L9: =BI9/BD9 -> 0.14932457 | M9: =CE9/BT9 -> 0.58010818 | N9: =(CQ9+CR9)/CM9 -> 0.75049184 | O9: =(BD9+BT9)/(BK9+BV9) -> 0.94943083 | P9: =(BL9+BO9)/(BP9+BQ9+BS9) -> 1.1931007 | Q9: =BT9/BV9 -> 0.68844934 | R9: =(BT9*100)/(BK9+BL9+BM9+BN9+BO9+BP9+BQ9+BS9+BR9+BT9+BV9) -> 22.551707 | S9: =BK9/BF9 -> 0.97987215 | T9: =BT9/BL9 -> 3.0689125 | U9: =BD9/AY9 -> 96.75 | V9: =CE9/BN9 -> 5.4682776 | W9: =BT9/BN9 -> 9.4263067 | X9: =BO9/BN9 -> 3.3455687 | Y9: =BL9/BN9 -> 3.0715462 | Z9: =(BL9+BO9)/BN9 -> 6.4171149 | AB9: =BQ9/BN9 -> 1.4238687 | AC9: =(BL9+BO9)/AD9 -> 3.5583115 | AD9: =BE9+BM9+BG9+BJ9+BR9 -> 3.3134321 | AE9: =BE9/AD9 -> 0.088855663 | AF9: =BM9/AD9 -> 0.56530678 | AG9: =BG9/AD9 -> 0.29107705 | AH9: =BJ9/AD9 -> 0.054760506 | AI9: =BR9/AD9 -> 0 | AJ9: =BE9+BG9+BH9+BJ9+BL9+BM9+BN9+BO9+BP9+BQ9+BR9+BS9+BT9+BV9+BY9+CE9 -> 80.300527 | AK9: =(100*BT9)/AJ9 -> 21.567778 | AL9: =(100*(BL9+BO9))/AJ9 -> 14.682623 | AM9: =(100*(BR9+BJ9+BM9+BG9+BE9+BH9))/AJ9 -> 4.2019758 | AN9: =(100*(BY9+BS9))/AJ9 -> 6.715507 | AO9: =(100*(BN9+BP9+BQ9))/AJ9 -> 8.9924188 | AP9: =(100*(BV9+CE9))/AJ9 -> 43.839698 | AQ9: =(BL9+BM9)/(BO9+BG9) -> 1.0569765 | AR9: =(BR9+BJ9+BM9+BG9+BE9+BH9)/(BL9+BO9+BN9+BP9+BQ9) -> 0.17748547 | AS9: =(BY9+BS9)/(BV9+CE9) -> 0.15318324 | AT9: 1.508127 | AU9: 1.3104399 | AV9: 6.5851047 | AW9: 7.2493046 | AX9: 11.620886 | AY9: 0.15557755 | AZ9: 1.6633547 | BA9: 1.0365048 | BB9: 7.6517874 | BC9: 4.8373683 | BD9: 15.052128 | BE9: 0.29441721 | BF9: 9.122362 | BG9: 0.96446406 | BH9: 0.060776629 | BI9: 2.2476525 | BJ9: 0.18144522 | BK9: 8.9387484 | BL9: 5.6433798 | BM9: 1.8731056 | BN9: 1.8373091 | BO9: 6.1468438 | BP9: 2.7675636 | BQ9: 2.6160869 | BS9: 4.4983516 | BT9: 17.319039 | BU9: 39.22 | BV9: 25.156592 | BW9: 2.104966 | BX9: 0.9905444 | BY9: 0.89423593 | BZ9: 1.3414989 | CA9: 2.0053958 | CB9: 0.26009104 | CC9: 1.584186 | CD9: 0.20131791 | CE9: 10.046916 | CF9: 1.756368 | CG9: 7.511259 | CH9: 2.4350514 | CI9: 13.138941 | CJ9: 4.1767119 | CK9: 0.60328879 | CL9: 3.9329771 | CM9: 16.471989 | CN9: 6.8898414 | CO9: 2.9378017 | CP9: 1.8348666 | CQ9: 9.1172611 | CR9: 3.2448325 | CS9: 2.4002159 | CT9: 3.1471688 | CU9: 3.2271139 | CV9: 4.3352226 | CW9: 17.128753 | CX9: 3.819615 | CY9: 13.448537 | CZ9: 2.9488968 | DA9: 13.54789 | DB9: 11.694982 | DC9: 2.8068474 | DD9: 2.6974375 | DE9: 11.43916 | DF9: 2.2805962 | DG9: 10.193298 | DH9: 3.719645 | DI9: 10.456139 | DJ9: 8.8798595 | DK9: 3.9250649 | DL9: 8.69978 | DM9: 5.123154 | DO9: 7.3534857 | DP9: 2.6788988 | DQ9: 6.2674236 | DR9: 6.1741193 | DS9: 5.2342652 | DU9: 4.6985726 | DV9: 4.3753225 | DW9: 3.9637647 | DX9: 3.7091729 | DY9: 2.9829834 | DZ9: 2.5668562 | EA9: 2.2440215 | EB9: 1.7408467 | EC9: 1.4996383 | ED9: 1.5093937 | EE9: 1.0404977 | EF9: 1.0026192 | EG9: 0.82224363 | EH9: 0.56926565 | EI9: 0.31796018 | EJ9: 0.22757248 | EK9: 0.17219593
AT11: Compounds not detected or not resolved shown in red cells
AT12: Limit of detection = 0.01 mg/g

Sheet DIG-026321
A3: CHROMATOGRAMS
A51: HYDROCARBON DISTRIBUTION
A97: LABEL | B97: ='WOGC Results'!AT7 -> nC3 | C97: ='WOGC Results'!AU7 -> iC4 | D97: ='WOGC Results'!AV7 -> nC4 | E97: ='WOGC Results'!AW7 -> iC5 | F97: ='WOGC Results'!AX7 -> nC5 | G97: ='WOGC Results'!AY7 -> 2,2-DMC4 | H97: ='WOGC Results'!AZ7 -> CyC5 | I97: ='WOGC Results'!BA7 -> 2,3-DMC4 | ... CV97: ='WOGC Results'!EN7 -> nC41
A98: DESC | B98: ='WOGC Results'!AT6 -> Normal Alkane C3 | C98: ='WOGC Results'!AU6 -> Iso-alkane C4 | D98: ='WOGC Results'!AV6 -> Normal Alkane C4 | E98: ='WOGC Results'!AW6 -> Iso-alkane C5 | F98: ='WOGC Results'!AX6 -> Normal Alkane C5 | G98: ='WOGC Results'!AY6 -> 2,2-Dimethylbutane | H98: ='WOGC Results'!AZ6 -> Cyclopentane | I98: ='WOGC Results'!BA6 -> 2,3-Dimethylbutane | ... CV98: ='WOGC Results'!EN6 -> Normal Alkane C41
A99: CONC [mg/g] | B99: ='WOGC Results'!AT8 -> 0 | C99: ='WOGC Results'!AU8 -> 0 | D99: ='WOGC Results'!AV8 -> 0.15004248 | E99: ='WOGC Results'!AW8 -> 0 | F99: ='WOGC Results'!AX8 -> 0 | G99: ='WOGC Results'!AY8 -> 0 | H99: ='WOGC Results'!AZ8 -> 0 | I99: ='WOGC Results'!BA8 -> 0 | ... CV99: ='WOGC Results'!EN8 -> 0
A100: CATEGORY | B100: Normal Alkane | C100: IsoAlkane | D100: Normal Alkane | E100: IsoAlkane | F100: Normal Alkane | G100: IsoAlkane | H100: Cycloalkane | I100: IsoAlkane | J100: IsoAlkane | K100: IsoAlkane | L100: Normal Alkane | M100: IsoAlkane | N100: Cycloalkane | O100: IsoAlkane | P100: IsoAlkane | Q100: Aromatics | R100: IsoAlkane | S100: Cycloalkane | T100: IsoAlkane | U100: IsoAlkane | V100: Cycloalkane | W100: IsoAlkane | X100: Cycloalkane | Y100: Cycloalkane | Z100: IsoAlkane | AA100: Cycloalkane | AB100: Normal Alkane | AC100: Internal Standard | AD100: Cycloalkane | AE100: Cycloalkane | AF100: IsoAlkane | AG100: Cycloalkane | AH100: IsoAlkane | AI100: Cycloalkane | AJ100: IsoAlkane | AK100: Cycloalkane | AL100: IsoAlkane | AM100: Aromatics | AN100: IsoAlkane | AO100: IsoAlkane | AP100: IsoAlkane | AQ100: Cycloalkane | AR100: Cycloalkane | AS100: Cycloalkane | AT100: Cycloalkane | AU100: Normal Alkane | AV100: Cycloalkane | AW100: IsoAlkane | AX100: Aromatics | AY100: Aromatics | AZ100: Aromatics | BA100: IsoAlkane | BB100: IsoAlkane | BC100: IsoAlkane | BD100: Aromatics | BE100: Normal Alkane | BF100: IsoAlkane | BG100: Normal Alkane | BH100: IsoAlkane | BI100: Normal Alkane | BJ100: Normal Alkane | BK100: IsoAlkane | BL100: IsoAlkane | BM100: Normal Alkane | BN100: IsoAlkane | BO100: Normal Alkane | BP100: IsoAlkane | BQ100: Normal Alkane | BR100: Normal Alkane | BS100: IsoAlkane | BT100: Normal Alkane | BU100: IsoAlkane | BV100: Aromatics | BW100: Normal Alkane | BX100: IsoAlkane | BY100: Normal Alkane | BZ100: Normal Alkane | CA100: Normal Alkane | CB100: IsoAlkane | CC100: Normal Alkane | CD100: Normal Alkane | CE100: Normal Alkane | CF100: Normal Alkane | CG100: Normal Alkane | CH100: Normal Alkane | CI100: Normal Alkane | CJ100: Normal Alkane | CK100: Normal Alkane | CL100: Normal Alkane | CM100: Normal Alkane | CN100: Normal Alkane | CO100: Normal Alkane | CP100: Normal Alkane | CQ100: Normal Alkane | CR100: Normal Alkane | CS100: Normal Alkane | CT100: Normal Alkane | CU100: Normal Alkane | CV100: Normal Alkane
A101: Normal Alkane | B101: =IF(B$100=$A101,B$99,"") -> 0 | C101: =IF(C$100=$A101,C$99,"") | D101: =IF(D$100=$A101,D$99,"") -> 0.15004248 | E101: =IF(E$100=$A101,E$99,"") | F101: =IF(F$100=$A101,F$99,"") -> 0 | G101: =IF(G$100=$A101,G$99,"") | H101: =IF(H$100=$A101,H$99,"") | I101: =IF(I$100=$A101,I$99,"") | ... CV101: =IF(CV$100=$A101,CV$99,"") -> 0
A102: IsoAlkane | B102: =IF(B$100=$A102,B$99,"") | C102: =IF(C$100=$A102,C$99,"") -> 0 | D102: =IF(D$100=$A102,D$99,"") | E102: =IF(E$100=$A102,E$99,"") -> 0 | F102: =IF(F$100=$A102,F$99,"") | G102: =IF(G$100=$A102,G$99,"") -> 0 | H102: =IF(H$100=$A102,H$99,"") | I102: =IF(I$100=$A102,I$99,"") -> 0 | ... CV102: =IF(CV$100=$A102,CV$99,"")
A103: Cycloalkane | B103: =IF(B$100=$A103,B$99,"") | C103: =IF(C$100=$A103,C$99,"") | D103: =IF(D$100=$A103,D$99,"") | E103: =IF(E$100=$A103,E$99,"") | F103: =IF(F$100=$A103,F$99,"") | G103: =IF(G$100=$A103,G$99,"") | H103: =IF(H$100=$A103,H$99,"") -> 0 | I103: =IF(I$100=$A103,I$99,"") | ... CV103: =IF(CV$100=$A103,CV$99,"")
A104: Aromatics | B104: =IF(B$100=$A104,B$99,"") | C104: =IF(C$100=$A104,C$99,"") | D104: =IF(D$100=$A104,D$99,"") | E104: =IF(E$100=$A104,E$99,"") | F104: =IF(F$100=$A104,F$99,"") | G104: =IF(G$100=$A104,G$99,"") | H104: =IF(H$100=$A104,H$99,"") | I104: =IF(I$100=$A104,I$99,"") | ... CV104: =IF(CV$100=$A104,CV$99,"")
A105: Internal Standard | B105: =IF(B$100=$A105,B$99,"") | C105: =IF(C$100=$A105,C$99,"") | D105: =IF(D$100=$A105,D$99,"") | E105: =IF(E$100=$A105,E$99,"") | F105: =IF(F$100=$A105,F$99,"") | G105: =IF(G$100=$A105,G$99,"") | H105: =IF(H$100=$A105,H$99,"") | I105: =IF(I$100=$A105,I$99,"") | ... CV105: =IF(CV$100=$A105,CV$99,"")
A106: Carbon# | B106: 3 | C106: 4 | D106: 4 | E106: 5 | F106: 5 | G106: 6 | H106: 5 | I106: 6 | J106: 6 | K106: 6 | L106: 6 | M106: 7 | N106: 6 | O106: 7 | P106: 7 | Q106: 6 | R106: 7 | S106: 6 | T106: 7 | U106: 7 | V106: 7 | W106: 7 | X106: 7 | Y106: 7 | Z106: 6 | AA106: 7 | AB106: 7 | AC106: 0 | AD106: 7 | AE106: 8 | AF106: 8 | AG106: 7 | AH106: 8 | AI106: 8 | AJ106: 8 | AK106: 8 | AL106: 8 | AM106: 7 | AN106: 8 | AO106: 8 | AP106: 8 | AQ106: 8 | AR106: 8 | AS106: 8 | AT106: 8 | AU106: 8 | AV106: 8 | AW106: 9 | AX106: 8 | AY106: 8 | AZ106: 8 | BA106: 9 | BB106: 9 | BC106: 9 | BD106: 8 | BE106: 9 | BF106: 10 | BG106: 10 | BH106: 11 | BI106: 11 | BJ106: 12 | BK106: 13 | BL106: 14 | BM106: 13 | BN106: 15 | BO106: 14 | BP106: 16 | BQ106: 15 | BR106: 16 | BS106: 18 | BT106: 17 | BU106: 19 | BV106: 14 | BW106: 18 | BX106: 20 | BY106: 19 | BZ106: 20 | CA106: 21 | CB106: 25 | CC106: 22 | CD106: 23 | CE106: 24 | CF106: 25 | CG106: 26 | CH106: 27 | CI106: 28 | CJ106: 29 | CK106: 30 | CL106: 31 | CM106: 32 | CN106: 33 | CO106: 34 | CP106: 35 | CQ106: 36 | CR106: 37 | CS106: 38 | CT106: 39 | CU106: 40 | CV106: 41

Sheet DIG-026322
A3: CHROMATOGRAMS
A51: HYDROCARBON DISTRIBUTION
A97: LABEL | B97: ='WOGC Results'!AT7 -> nC3 | C97: ='WOGC Results'!AU7 -> iC4 | D97: ='WOGC Results'!AV7 -> nC4 | E97: ='WOGC Results'!AW7 -> iC5 | F97: ='WOGC Results'!AX7 -> nC5 | G97: ='WOGC Results'!AY7 -> 2,2-DMC4 | H97: ='WOGC Results'!AZ7 -> CyC5 | I97: ='WOGC Results'!BA7 -> 2,3-DMC4 | ... CV97: ='WOGC Results'!EN7 -> nC41
A98: DESC | B98: ='WOGC Results'!AT6 -> Normal Alkane C3 | C98: ='WOGC Results'!AU6 -> Iso-alkane C4 | D98: ='WOGC Results'!AV6 -> Normal Alkane C4 | E98: ='WOGC Results'!AW6 -> Iso-alkane C5 | F98: ='WOGC Results'!AX6 -> Normal Alkane C5 | G98: ='WOGC Results'!AY6 -> 2,2-Dimethylbutane | H98: ='WOGC Results'!AZ6 -> Cyclopentane | I98: ='WOGC Results'!BA6 -> 2,3-Dimethylbutane | ... CV98: ='WOGC Results'!EN6 -> Normal Alkane C41
A99: CONC [mg/g] | B99: ='WOGC Results'!AT9 -> 1.508127 | C99: ='WOGC Results'!AU9 -> 1.3104399 | D99: ='WOGC Results'!AV9 -> 6.5851047 | E99: ='WOGC Results'!AW9 -> 7.2493046 | F99: ='WOGC Results'!AX9 -> 11.620886 | G99: ='WOGC Results'!AY9 -> 0.15557755 | H99: ='WOGC Results'!AZ9 -> 1.6633547 | I99: ='WOGC Results'!BA9 -> 1.0365048 | ... CV99: ='WOGC Results'!EN9 -> 0
A100: CATEGORY | B100: Normal Alkane | C100: IsoAlkane | D100: Normal Alkane | E100: IsoAlkane | F100: Normal Alkane | G100: IsoAlkane | H100: Cycloalkane | I100: IsoAlkane | J100: IsoAlkane | K100: IsoAlkane | L100: Normal Alkane | M100: IsoAlkane | N100: Cycloalkane | O100: IsoAlkane | P100: IsoAlkane | Q100: Aromatics | R100: IsoAlkane | S100: Cycloalkane | T100: IsoAlkane | U100: IsoAlkane | V100: Cycloalkane | W100: IsoAlkane | X100: Cycloalkane | Y100: Cycloalkane | Z100: IsoAlkane | AA100: Cycloalkane | AB100: Normal Alkane | AC100: Internal Standard | AD100: Cycloalkane | AE100: Cycloalkane | AF100: IsoAlkane | AG100: Cycloalkane | AH100: IsoAlkane | AI100: Cycloalkane | AJ100: IsoAlkane | AK100: Cycloalkane | AL100: IsoAlkane | AM100: Aromatics | AN100: IsoAlkane | AO100: IsoAlkane | AP100: IsoAlkane | AQ100: Cycloalkane | AR100: Cycloalkane | AS100: Cycloalkane | AT100: Cycloalkane | AU100: Normal Alkane | AV100: Cycloalkane | AW100: IsoAlkane | AX100: Aromatics | AY100: Aromatics | AZ100: Aromatics | BA100: IsoAlkane | BB100: IsoAlkane | BC100: IsoAlkane | BD100: Aromatics | BE100: Normal Alkane | BF100: IsoAlkane | BG100: Normal Alkane | BH100: IsoAlkane | BI100: Normal Alkane | BJ100: Normal Alkane | BK100: IsoAlkane | BL100: IsoAlkane | BM100: Normal Alkane | BN100: IsoAlkane | BO100: Normal Alkane | BP100: IsoAlkane | BQ100: Normal Alkane | BR100: Normal Alkane | BS100: IsoAlkane | BT100: Normal Alkane | BU100: IsoAlkane | BV100: Aromatics | BW100: Normal Alkane | BX100: IsoAlkane | BY100: Normal Alkane | BZ100: Normal Alkane | CA100: Normal Alkane | CB100: IsoAlkane | CC100: Normal Alkane | CD100: Normal Alkane | CE100: Normal Alkane | CF100: Normal Alkane | CG100: Normal Alkane | CH100: Normal Alkane | CI100: Normal Alkane | CJ100: Normal Alkane | CK100: Normal Alkane | CL100: Normal Alkane | CM100: Normal Alkane | CN100: Normal Alkane | CO100: Normal Alkane | CP100: Normal Alkane | CQ100: Normal Alkane | CR100: Normal Alkane | CS100: Normal Alkane | CT100: Normal Alkane | CU100: Normal Alkane | CV100: Normal Alkane
A101: Normal Alkane | B101: =IF(B$100=$A101,B$99,"") -> 1.508127 | C101: =IF(C$100=$A101,C$99,"") | D101: =IF(D$100=$A101,D$99,"") -> 6.5851047 | E101: =IF(E$100=$A101,E$99,"") | F101: =IF(F$100=$A101,F$99,"") -> 11.620886 | G101: =IF(G$100=$A101,G$99,"") | H101: =IF(H$100=$A101,H$99,"") | I101: =IF(I$100=$A101,I$99,"") | ... CV101: =IF(CV$100=$A101,CV$99,"") -> 0
A102: IsoAlkane | B102: =IF(B$100=$A102,B$99,"") | C102: =IF(C$100=$A102,C$99,"") -> 1.3104399 | D102: =IF(D$100=$A102,D$99,"") | E102: =IF(E$100=$A102,E$99,"") -> 7.2493046 | F102: =IF(F$100=$A102,F$99,"") | G102: =IF(G$100=$A102,G$99,"") -> 0.15557755 | H102: =IF(H$100=$A102,H$99,"") | I102: =IF(I$100=$A102,I$99,"") -> 1.0365048 | ... CV102: =IF(CV$100=$A102,CV$99,"")
A103: Cycloalkane | B103: =IF(B$100=$A103,B$99,"") | C103: =IF(C$100=$A103,C$99,"") | D103: =IF(D$100=$A103,D$99,"") | E103: =IF(E$100=$A103,E$99,"") | F103: =IF(F$100=$A103,F$99,"") | G103: =IF(G$100=$A103,G$99,"") | H103: =IF(H$100=$A103,H$99,"") -> 1.6633547 | I103: =IF(I$100=$A103,I$99,"") | ... CV103: =IF(CV$100=$A103,CV$99,"")
A104: Aromatics | B104: =IF(B$100=$A104,B$99,"") | C104: =IF(C$100=$A104,C$99,"") | D104: =IF(D$100=$A104,D$99,"") | E104: =IF(E$100=$A104,E$99,"") | F104: =IF(F$100=$A104,F$99,"") | G104: =IF(G$100=$A104,G$99,"") | H104: =IF(H$100=$A104,H$99,"") | I104: =IF(I$100=$A104,I$99,"") | ... CV104: =IF(CV$100=$A104,CV$99,"")
A105: Internal Standard | B105: =IF(B$100=$A105,B$99,"") | C105: =IF(C$100=$A105,C$99,"") | D105: =IF(D$100=$A105,D$99,"") | E105: =IF(E$100=$A105,E$99,"") | F105: =IF(F$100=$A105,F$99,"") | G105: =IF(G$100=$A105,G$99,"") | H105: =IF(H$100=$A105,H$99,"") | I105: =IF(I$100=$A105,I$99,"") | ... CV105: =IF(CV$100=$A105,CV$99,"")
A106: Carbon# | B106: 3 | C106: 4 | D106: 4 | E106: 5 | F106: 5 | G106: 6 | H106: 5 | I106: 6 | J106: 6 | K106: 6 | L106: 6 | M106: 7 | N106: 6 | O106: 7 | P106: 7 | Q106: 6 | R106: 7 | S106: 6 | T106: 7 | U106: 7 | V106: 7 | W106: 7 | X106: 7 | Y106: 7 | Z106: 6 | AA106: 7 | AB106: 7 | AC106: 0 | AD106: 7 | AE106: 8 | AF106: 8 | AG106: 7 | AH106: 8 | AI106: 8 | AJ106: 8 | AK106: 8 | AL106: 8 | AM106: 7 | AN106: 8 | AO106: 8 | AP106: 8 | AQ106: 8 | AR106: 8 | AS106: 8 | AT106: 8 | AU106: 8 | AV106: 8 | AW106: 9 | AX106: 8 | AY106: 8 | AZ106: 8 | BA106: 9 | BB106: 9 | BC106: 9 | BD106: 8 | BE106: 9 | BF106: 10 | BG106: 10 | BH106: 11 | BI106: 11 | BJ106: 12 | BK106: 13 | BL106: 14 | BM106: 13 | BN106: 15 | BO106: 14 | BP106: 16 | BQ106: 15 | BR106: 16 | BS106: 18 | BT106: 17 | BU106: 19 | BV106: 14 | BW106: 18 | BX106: 20 | BY106: 19 | BZ106: 20 | CA106: 21 | CB106: 25 | CC106: 22 | CD106: 23 | CE106: 24 | CF106: 25 | CG106: 26 | CH106: 27 | CI106: 28 | CJ106: 29 | CK106: 30 | CL106: 31 | CM106: 32 | CN106: 33 | CO106: 34 | CP106: 35 | CQ106: 36 | CR106: 37 | CS106: 38 | CT106: 39 | CU106: 40 | CV106: 41

Sheet Thompson Plots
A3: THOMPSON PLOTS | M3: THOMPSON PLOTS
A5: Definitions & Interpretations | M5: Thompson Ratios
L37: Page 3 | Y37: Page 4
A43: THOMPSON PLOTS | M43: THOMPSON PLOTS
A45: Heptane Plot - Light Hydrocarbon Maturity | M45: Oil Alteration Vectors
B49: Type II | D49: Type III
B50: y | C50: x | D50: y | E50: x
B51: =19.07+24.7*LOG(C51) -> -5.63 | C51: 0.1 | D51: =-0.6964*E51^2+8.301*E51+3.1024 -> 3.925536 | E51: 0.1
B52: =19.07+24.7*LOG(C52) -> 4.1991182 | C52: 0.25 | D52: =-0.6964*E52^2+8.301*E52+3.1024 -> 5.134125 | E52: 0.25
B53: =19.07+24.7*LOG(C53) -> 11.634559 | C53: 0.5 | D53: =-0.6964*E53^2+8.301*E53+3.1024 -> 7.0788 | E53: 0.5
B54: =19.07+24.7*LOG(C54) -> 15.984013 | C54: 0.75 | D54: =-0.6964*E54^2+8.301*E54+3.1024 -> 8.936425 | E54: 0.75
B55: =19.07+24.7*LOG(C55) -> 19.07 | C55: 1 | D55: =-0.6964*E55^2+8.301*E55+3.1024 -> 10.707 | E55: 1
B56: =19.07+24.7*LOG(C56) -> 21.463677 | C56: 1.25 | D56: =-0.6964*E56^2+8.301*E56+3.1024 -> 12.390525 | E56: 1.25
B57: =19.07+24.7*LOG(C57) -> 23.419454 | C57: 1.5 | D57: =-0.6964*E57^2+8.301*E57+3.1024 -> 13.987 | E57: 1.5
B58: =19.07+24.7*LOG(C58) -> 25.07304 | C58: 1.75 | D58: =-0.6964*E58^2+8.301*E58+3.1024 -> 15.496425 | E58: 1.75
B59: =19.07+24.7*LOG(C59) -> 26.505441 | C59: 2 | D59: =-0.6964*E59^2+8.301*E59+3.1024 -> 16.9188 | E59: 2
B60: =19.07+24.7*LOG(C60) -> 27.768908 | C60: 2.25 | D60: =-0.6964*E60^2+8.301*E60+3.1024 -> 18.254125 | E60: 2.25
B61: =19.07+24.7*LOG(C61) -> 28.899118 | C61: 2.5 | D61: =-0.6964*E61^2+8.301*E61+3.1024 -> 19.5024 | E61: 2.5
B62: =19.07+24.7*LOG(C62) -> 29.921518 | C62: 2.75 | D62: =-0.6964*E62^2+8.301*E62+3.1024 -> 20.663625 | E62: 2.75
... B64: =19.07+24.7*LOG(C64) -> 31.713519 | C64: 3.25 | D64: =-0.6964*E64^2+8.301*E64+3.1024 -> 22.724925 | E64: 3.25
B65: =19.07+24.7*LOG(C65) -> 32.508481 | C65: 3.5 | D65: =-0.6964*E65^2+8.301*E65+3.1024 -> 23.625 | E65: 3.5 | H65: Thompson K F M. Classification and thermal history of petroleum based on light hydrocarbons. Geochimica et Cosmochimica Acta, 1983, 47(2): 303−316.
B66: =19.07+24.7*LOG(C66) -> 33.248572 | C66: 3.75 | D66: =-0.6964*E66^2+8.301*E66+3.1024 -> 24.438025 | E66: 3.75
B67: =19.07+24.7*LOG(C67) -> 33.940882 | C67: 4 | D67: =-0.6964*E67^2+8.301*E67+3.1024 -> 25.164 | E67: 4
U68: Peters & Fowler, Organic Geochemistry 33 (2002) pp 5-36
L76: Page 5 | Y76: Page 6

Sheet Connan Plot
A5: CONNAN PLOT - SOURCE ROCK DEPOSITION/MATURATION CHARACTERIZATION

Sheet Halpern Ratios (Star Plots)
A3: HALPERN TRANSFORMATION & CORRELATION RATIOS

Sheet COGCC EDD 1
A1: Organization | B1: Reporting Organization | C1: Reporting Organization Name | D1: Order Number | E1: Entity Requesting Analysis | F1: Purpose | G1: Project
B2: 10206 | C2: Dolan Integration Group | E2: Great Western Oil and Gas
A3: Sample | B3: COGCC Facility No. | C3: Sample Date and Time | D3: API # | E3: LAB Sample ID | F3: Sample Type | G3: Matrix | H3: Comments | I3: Project Number | J3: Chain of Custody ID | K3: Date Received by Lab
B4: 444005 | C4: 44474.545 | E4: DIG-026321 | F4: BDH | G4: LIQUID | K4: 44475
A5: Batch | B5: LabID | C5: Lab Batch Identifier | D5: Leach Date | E5: Extract Date and Time | F5: Extract Method | G5: Start Date and Time | H5: Conc Method | I5: Init Vol | J5: Final Vol | K5: Init Vol Units | L5: Final Vol Units | M5: Analysis Date and Time | N5: Report Basis | O5: Comments | P5: File Name | Q5: Column #
B6: 10206
A7: Result | B7: CAS Number | C7: Analysis Name | D7: Analysis Method | E7: Analytical Method Modifier | F7: Unit | G7: Result Value | H7: Qualifier | I7: Test Type | J7: Result Text | K7: Data Flag | L7: Dilution | M7: Fraction Type | N7: MDC | O7: Requested MDC | P7: Detection Limit | Q7: Instrument Detection Limit | R7: Method Detection Limit | S7: Comments | T7: AnalyticalBatchID
B8: 75-28-5 | C8: ISOBUTANE | D8: G02G | F8: PPM | G8: 10 | H8: ND | P8: 10 | T8: 21106444 & 6445
B9: 106-97-8 | C9: BUTANE | D9: G02G | F9: PPM | G9: 150 | P9: 10 | T9: 21106444 & 6445
B10: IC5 | C10: ISOPENTANE | D10: G02G | F10: PPM | G10: 10 | H10: ND | P10: 10 | T10: 21106444 & 6445
B11: 109-66-0 | C11: PENTANE | D11: G02G | F11: PPM | G11: 10 | H11: ND | P11: 10 | T11: 21106444 & 6445
B12: 75-83-2 | C12: 2,2-DIMETHYLBUTANE | D12: G02G | F12: PPM | G12: 10 | H12: ND | P12: 10 | T12: 21106444 & 6445
B13: 287-92-3 | C13: CYCLOPENTANE | D13: G02G | F13: PPM | G13: 10 | H13: ND | P13: 10 | T13: 21106444 & 6445
B14: 79-29-8 | C14: 2,3-DIMETHYLBUTANE | D14: G02G | F14: PPM | G14: 10 | H14: ND | P14: 10 | T14: 21106444 & 6445
B15: 107-83-5 | C15: 2-METHYLPENTANE | D15: G02G | F15: PPM | G15: 10 | H15: ND | P15: 10 | T15: 21106444 & 6445
B16: 96-14-0 | C16: 3-METHYLPENTANE | D16: G02G | F16: PPM | G16: 10 | H16: ND | P16: 10 | T16: 21106444 & 6445
B17: 92112-69-1 | C17: HEXANEs | D17: G02G | F17: PPM | G17: 10 | H17: ND | P17: 10 | T17: 21106444 & 6445
B18: 590-35-2 | C18: 2,2-dimethylpentane | D18: G02G | F18: PPM | G18: 10 | H18: ND | P18: 10 | T18: 21106444 & 6445
B19: 96-37-7 | C19: METHYLCYCLOPENTANE | D19: G02G | F19: PPM | G19: 10 | H19: ND | P19: 10 | T19: 21106444 & 6445
B20: 108-08-7 | C20: 2,4-dimethylpentane | D20: G02G | F20: PPM | G20: 10 | H20: ND | P20: 10 | T20: 21106444 & 6445
B21: 464-06-2 | C21: 2,2,3-trimethylbutane | D21: G02G | F21: PPM | G21: 10 | H21: ND | P21: 10 | T21: 21106444 & 6445
B22: 71-43-2 | C22: BENZENE | D22: G02G | F22: PPM | G22: 10 | H22: ND | P22: 10 | T22: 21106444 & 6445
B23: 565-59-3 | C23: 2,3-dimethylpentane | D23: G02G | F23: PPM | G23: 39 | P23: 10 | T23: 21106444 & 6445
B24: 110-82-7 | C24: CYCLOHEXANE | D24: G02G | F24: PPM | G24: 131 | P24: 10 | T24: 21106444 & 6445
B25: 591-76-4 | C25: 2-Methylhexane | D25: G02G | F25: PPM | G25: 83 | P25: 10 | T25: 21106444 & 6445
B26: 565-59-3 | C26: 2,3-dimethylpentane | D26: G02G | F26: PPM | G26: 39 | P26: 10 | T26: 21106444 & 6445
B27: 1638-26-2 | C27: 1,1-dimethylcyclopentane | D27: G02G | F27: PPM | G27: 18 | P27: 10 | T27: 21106444 & 6445
B28: 589-34-4 | C28: 3-methylhexane | D28: G02G | F28: PPM | G28: 122 | P28: 10 | T28: 21106444 & 6445
B29: 2453-00-1 | C29: cis-1,3-dimethylcyclopentane | D29: G02G | F29: PPM | G29: 10 | H29: ND | P29: 10 | T29: 21106444 & 6445
B30: 1759-58-6 | C30: trans-1,3-dimethylcyclopentane | D30: G02G | F30: PPM | G30: 10 | H30: ND | P30: 10 | T30: 21106444 & 6445
B31: 617-78-7 | C31: 3-ethylpentane | D31: G02G | F31: PPM | G31: 10 | H31: ND | P31: 10 | T31: 21106444 & 6445
B32: 28729-52-4 | C32: trans-1,2-dimethylcyclopentane | D32: G02G | F32: PPM | G32: 98 | P32: 10 | T32: 21106444 & 6445
B33: 142-82-5 | C33: HEPTANES, MIXED ISOMERS | D33: G02G | F33: PPM | G33: 307 | P33: 10 | T33: 21106444 & 6445
B34: 108-87-2 | C34: METHYL CYCLOHEXANE | D34: G02G | F34: PPM | G34: 692 | P34: 10 | T34: 21106444 & 6445
B35: 4516-69-2 | C35: 1,1,3-Trimethylcyclopentane | D35: G02G | F35: PPM | G35: 10 | H35: ND | P35: 10 | T35: 21106444 & 6445
B36: 1640-89-7 | C36: ethylcyclopentane | D36: G02G | F36: PPM | G36: 10 | H36: ND | P36: 10 | T36: 21106444 & 6445
B37: 4850-28-6 | C37: 1,2,4-trimethylcyclopentane | D37: G02G | F37: PPM | G37: 10 | H37: ND | P37: 10 | T37: 21106444 & 6445
B38: 2815-57-8 | C38: 1,2,3-trimethylcyclopentane | D38: G02G | F38: PPM | G38: 10 | H38: ND | P38: 10 | T38: 21106444 & 6445
B39: 108-88-3 | C39: TOLUENE | D39: G02G | F39: PPM | G39: 300 | P39: 10 | T39: 21106444 & 6445
B40: 111-65-9 | C40: n-octane | D40: G02G | F40: PPM | G40: 1045 | P40: 10 | T40: 21106444 & 6445
B41: 1072-05-5 | C41: isoprenoid C9 | D41: G02G | F41: PPM | G41: 490 | P41: 10 | T41: 21106444 & 6445
B42: 100-41-4 | C42: ETHYLBENZENE | D42: G02G | F42: PPM | G42: 673 | P42: 10 | T42: 21106444 & 6445
B43: 108-38-3 | C43: m-XYLENE | D43: G02G | F43: PPM | G43: 694 | P43: 10 | T43: 21106444 & 6445
B44: 106-42-3 | C44: p-XYLENE | D44: G02G | F44: PPM | G44: 219 | P44: 10 | T44: 21106444 & 6445
B45: 95-47-6 | C45: o-XYLENE | D45: G02G | F45: PPM | G45: 602 | P45: 10 | T45: 21106444 & 6445
B46: 61193-19-9 | C46: Normal Alkane C9 | D46: G02G | F46: PPM | G46: 4434 | P46: 10 | T46: 21106444 & 6445
B47: 2051-30-1 | C47: isoprenoid C10 | D47: G02G | F47: PPM | G47: 2043 | P47: 10 | T47: 21106444 & 6445
B48: 74296-31-4 | C48: Propyl-benzene | D48: G02G | F48: PPM | G48: 10 | H48: ND | P48: 10 | T48: 21106444 & 6445
B49: 124-18-5 | C49: Decane | D49: G02G | F49: PPM | G49: 13063 | P49: 10 | T49: 21106444 & 6445
B50: 17302-28-2 | C50: isoprenoid C11 | D50: G02G | F50: PPM | G50: 4837 | P50: 10 | T50: 21106444 & 6445
B51: 1120-21-4 | C51: n-C11 | D51: G02G | F51: PPM | G51: 31682 | P51: 10 | T51: 21106444 & 6445
B52: 112-40-3 | C52: n-C12 | D52: G02G | F52: PPM | G52: 35122 | P52: 10 | T52: 21106444 & 6445
B53: 17301-23-4 | C53: isoprenoid C13 | D53: G02G | F53: PPM | G53: 11208 | P53: 10 | T53: 21106444 & 6445
B54: 6864-53-5 | C54: isoprenoid C14 | D54: G02G | F54: PPM | G54: 8464 | P54: 10 | T54: 21106444 & 6445
B55: 629-50-5 | C55: n-C13 | D55: G02G | F55: PPM | G55: 29780 | P55: 10 | T55: 21106444 & 6445
B56: 3891-98-3 | C56: isoprenoid C15 | D56: G02G | F56: PPM | G56: 5581 | P56: 10 | T56: 21106444 & 6445
B57: 629-59-4 | C57: n-C14 | D57: G02G | F57: PPM | G57: 17209 | P57: 10 | T57: 21106444 & 6445
B58: 3891-99-4 | C58: isoprenoid C16 | D58: G02G | F58: PPM | G58: 4944 | P58: 10 | T58: 21106444 & 6445
B59: 629-62-9 | C59: n-C15 | D59: G02G | F59: PPM | G59: 10920 | P59: 10 | T59: 21106444 & 6445
B60: 544-76-3 | C60: n-C16 | D60: G02G | F60: PPM | G60: 7463 | P60: 10 | T60: 21106444 & 6445
... B63: 1921-70-6 | C63: pristane | D63: G02G | F63: PPM | G63: 3327 | P63: 10 | T63: 21106444 & 6445
B64: 85-01-8 | C64: PHENANTHRENE | D64: G02G | F64: PPM | G64: 10 | H64: ND | P64: 10 | T64: 21106444 & 6445
B65: 593-45-3 | C65: n-C18 | D65: G02G | F65: PPM | G65: 4663 | P65: 10 | T65: 21106444 & 6445
B66: 638-36-8 | C66: phytane | D66: G02G | F66: PPM | G66: 2406 | P66: 10 | T66: 21106444 & 6445
B67: 629-92-5 | C67: n-C19 | D67: G02G | F67: PPM | G67: 3396 | P67: 10 | T67: 21106444 & 6445
B68: 112-95-8 | C68: n-C20 | D68: G02G | F68: PPM | G68: 2626 | P68: 10 | T68: 21106444 & 6445
B69: 629-94-7 | C69: n-C21 | D69: G02G | F69: PPM | G69: 1543 | P69: 10 | T69: 21106444 & 6445
B70: 73303-36-3 | C70: highly branched C25 isoprenoid | D70: G02G | F70: PPM | G70: 10 | H70: ND | P70: 10 | T70: 21106444 & 6445
B71: 629-97-0 | C71: n-C22 | D71: G02G | F71: PPM | G71: 1016 | P71: 10 | T71: 21106444 & 6445
B72: 638-67-5 | C72: n-C23 | D72: G02G | F72: PPM | G72: 595 | P72: 10 | T72: 21106444 & 6445
B73: 646-31-1 | C73: n-C24 | D73: G02G | F73: PPM | G73: 358 | P73: 10 | T73: 21106444 & 6445
B74: 629-99-2 | C74: n-C25 | D74: G02G | F74: PPM | G74: 306 | P74: 10 | T74: 21106444 & 6445
B75: 630-01-3 | C75: n-C26 | D75: G02G | F75: PPM | G75: 228 | P75: 10 | T75: 21106444 & 6445
B76: 593-49-7 | C76: n-C27 | D76: G02G | F76: PPM | G76: 131 | P76: 10 | T76: 21106444 & 6445
B77: 630-02-4 | C77: n-C28 | D77: G02G | F77: PPM | G77: 10 | H77: ND | P77: 10 | T77: 21106444 & 6445
B78: 630-03-5 | C78: n-C29 | D78: G02G | F78: PPM | G78: 10 | H78: ND | P78: 10 | T78: 21106444 & 6445
B79: 638-68-6 | C79: n-C30 | D79: G02G | F79: PPM | G79: 10 | H79: ND | P79: 10 | T79: 21106444 & 6445
B80: 630-04-6 | C80: n-C31 | D80: G02G | F80: PPM | G80: 10 | H80: ND | P80: 10 | T80: 21106444 & 6445
B81: 544-85-4 | C81: n-c32 | D81: G02G | F81: PPM | G81: 10 | H81: ND | P81: 10 | T81: 21106444 & 6445
B82: 630-05-7 | C82: n-C33 | D82: G02G | F82: PPM | G82: 10 | H82: ND | P82: 10 | T82: 21106444 & 6445
B83: 14167-59-0 | C83: n-C34 | D83: G02G | F83: PPM | G83: 10 | H83: ND | P83: 10 | T83: 21106444 & 6445
B84: 630-07-9 | C84: n-C35 | D84: G02G | F84: PPM | G84: 10 | H84: ND | P84: 10 | T84: 21106444 & 6445
B85: 630-06-8 | C85: n-C36 | D85: G02G | F85: PPM | G85: 10 | H85: ND | P85: 10 | T85: 21106444 & 6445
B86: 7194-84-5 | C86: n-C37 | D86: G02G | F86: PPM | G86: 10 | H86: ND | P86: 10 | T86: 21106444 & 6445
B87: 7194-85-6 | C87: n-C38 | D87: G02G | F87: PPM | G87: 10 | H87: ND | P87: 10 | T87: 21106444 & 6445
B88: 7194-86-7 | C88: n-C39 | D88: G02G | F88: PPM | G88: 10 | H88: ND | P88: 10 | T88: 21106444 & 6445
... B91: 75-28-5 | C91: ISOBUTANE | D91: G02G | F91: AREA COUNT | G91: 1 | H91: ND | P91: 1 | T91: 21106444 & 6445
B92: 106-97-8 | C92: BUTANE | D92: G02G | F92: AREA COUNT | G92: 1.711 | P92: 1 | T92: 21106444 & 6445
B93: IC5 | C93: ISOPENTANE | D93: G02G | F93: AREA COUNT | G93: 1 | H93: ND | P93: 1 | T93: 21106444 & 6445
B94: 109-66-0 | C94: PENTANE | D94: G02G | F94: AREA COUNT | G94: 1 | H94: ND | P94: 1 | T94: 21106444 & 6445
B95: 75-83-2 | C95: 2,2-DIMETHYLBUTANE | D95: G02G | F95: AREA COUNT | G95: 1 | H95: ND | P95: 1 | T95: 21106444 & 6445
B96: 287-92-3 | C96: CYCLOPENTANE | D96: G02G | F96: AREA COUNT | G96: 1 | H96: ND | P96: 1 | T96: 21106444 & 6445
B97: 79-29-8 | C97: 2,3-DIMETHYLBUTANE | D97: G02G | F97: AREA COUNT | G97: 1 | H97: ND | P97: 1 | T97: 21106444 & 6445
B98: 107-83-5 | C98: 2-METHYLPENTANE | D98: G02G | F98: AREA COUNT | G98: 1 | H98: ND | P98: 1 | T98: 21106444 & 6445
B99: 96-14-0 | C99: 3-METHYLPENTANE | D99: G02G | F99: AREA COUNT | G99: 1 | H99: ND | P99: 1 | T99: 21106444 & 6445
B100: 92112-69-1 | C100: HEXANEs | D100: G02G | F100: AREA COUNT | G100: 1 | H100: ND | P100: 1 | T100: 21106444 & 6445
B101: 590-35-2 | C101: 2,2-dimethylpentane | D101: G02G | F101: AREA COUNT | G101: 1 | H101: ND | P101: 1 | T101: 21106444 & 6445
B102: 96-37-7 | C102: METHYLCYCLOPENTANE | D102: G02G | F102: AREA COUNT | G102: 1 | H102: ND | P102: 1 | T102: 21106444 & 6445
B103: 108-08-7 | C103: 2,4-dimethylpentane | D103: G02G | F103: AREA COUNT | G103: 1 | H103: ND | P103: 1 | T103: 21106444 & 6445
B104: 464-06-2 | C104: 2,2,3-trimethylbutane | D104: G02G | F104: AREA COUNT | G104: 1 | H104: ND | P104: 1 | T104: 21106444 & 6445
...

Sheet COGCC EDD 2
A1: Organization | B1: Reporting Organization | C1: Reporting Organization Name | D1: Order Number | E1: Entity Requesting Analysis | F1: Purpose | G1: Project
B2: 10206 | C2: Dolan Integration Group | E2: Great Western Oil and Gas
A3: Sample | B3: COGCC Facility No. | C3: Sample Date and Time | D3: API # | E3: LAB Sample ID | F3: Sample Type | G3: Matrix | H3: Comments | I3: Project Number | J3: Chain of Custody ID | K3: Date Received by Lab
B4: 444005 | C4: 44474.545 | E4: DIG-026322 | F4: PRDL | G4: LIQUID | K4: 44475
A5: Batch | B5: LabID | C5: Lab Batch Identifier | D5: Leach Date | E5: Extract Date and Time | F5: Extract Method | G5: Start Date and Time | H5: Conc Method | I5: Init Vol | J5: Final Vol | K5: Init Vol Units | L5: Final Vol Units | M5: Analysis Date and Time | N5: Report Basis | O5: Comments | P5: File Name | Q5: Column #
B6: 10206
A7: Result | B7: CAS Number | C7: Analysis Name | D7: Analysis Method | E7: Analytical Method Modifier | F7: Unit | G7: Result Value | H7: Qualifier | I7: Test Type | J7: Result Text | K7: Data Flag | L7: Dilution | M7: Fraction Type | N7: MDC | O7: Requested MDC | P7: Detection Limit | Q7: Instrument Detection Limit | R7: Method Detection Limit | S7: Comments | T7: AnalyticalBatchID
B8: 75-28-5 | C8: ISOBUTANE | D8: G02G | F8: PPM | G8: 1310 | P8: 10 | T8: 21106444 & 6445
B9: 106-97-8 | C9: BUTANE | D9: G02G | F9: PPM | G9: 6585 | P9: 10 | T9: 21106444 & 6445
B10: IC5 | C10: ISOPENTANE | D10: G02G | F10: PPM | G10: 7249 | P10: 10 | T10: 21106444 & 6445
B11: 109-66-0 | C11: PENTANE | D11: G02G | F11: PPM | G11: 11621 | P11: 10 | T11: 21106444 & 6445
B12: 75-83-2 | C12: 2,2-DIMETHYLBUTANE | D12: G02G | F12: PPM | G12: 156 | P12: 10 | T12: 21106444 & 6445
B13: 287-92-3 | C13: CYCLOPENTANE | D13: G02G | F13: PPM | G13: 1663 | P13: 10 | T13: 21106444 & 6445
B14: 79-29-8 | C14: 2,3-DIMETHYLBUTANE | D14: G02G | F14: PPM | G14: 1037 | P14: 10 | T14: 21106444 & 6445
B15: 107-83-5 | C15: 2-METHYLPENTANE | D15: G02G | F15: PPM | G15: 7652 | P15: 10 | T15: 21106444 & 6445
B16: 96-14-0 | C16: 3-METHYLPENTANE | D16: G02G | F16: PPM | G16: 4837 | P16: 10 | T16: 21106444 & 6445
B17: 92112-69-1 | C17: HEXANEs | D17: G02G | F17: PPM | G17: 15052 | P17: 10 | T17: 21106444 & 6445
B18: 590-35-2 | C18: 2,2-dimethylpentane | D18: G02G | F18: PPM | G18: 294 | P18: 10 | T18: 21106444 & 6445
B19: 96-37-7 | C19: METHYLCYCLOPENTANE | D19: G02G | F19: PPM | G19: 9122 | P19: 10 | T19: 21106444 & 6445
... B30: 1759-58-6 | C30: trans-1,3-dimethylcyclopentane | D30: G02G | F30: PPM | G30: 2616 | P30: 10 | T30: 21106444 & 6445
B31: 617-78-7 | C31: 3-ethylpentane | D31: G02G | F31: PPM | G31: 10 | H31: ND | P31: 10 | T31: 21106444 & 6445
B32: 28729-52-4 | C32: trans-1,2-dimethylcyclopentane | D32: G02G | F32: PPM | G32: 4498 | P32: 10 | T32: 21106444 & 6445
B33: 142-82-5 | C33: HEPTANES, MIXED ISOMERS | D33: G02G | F33: PPM | G33: 17319 | P33: 10 | T33: 21106444 & 6445
B34: 108-87-2 | C34: METHYL CYCLOHEXANE | D34: G02G | F34: PPM | G34: 25157 | P34: 10 | T34: 21106444 & 6445
B35: 4516-69-2 | C35: 1,1,3-Trimethylcyclopentane | D35: G02G | F35: PPM | G35: 2105 | P35: 10 | T35: 21106444 & 6445
B36: 1640-89-7 | C36: ethylcyclopentane | D36: G02G | F36: PPM | G36: 894 | P36: 10 | T36: 21106444 & 6445
B37: 4850-28-6 | C37: 1,2,4-trimethylcyclopentane | D37: G02G | F37: PPM | G37: 2005 | P37: 10 | T37: 21106444 & 6445
B38: 2815-57-8 | C38: 1,2,3-trimethylcyclopentane | D38: G02G | F38: PPM | G38: 1584 | P38: 10 | T38: 21106444 & 6445
B39: 108-88-3 | C39: TOLUENE | D39: G02G | F39: PPM | G39: 10047 | P39: 10 | T39: 21106444 & 6445
B40: 111-65-9 | C40: n-octane | D40: G02G | F40: PPM | G40: 16472 | P40: 10 | T40: 21106444 & 6445
B41: 1072-05-5 | C41: isoprenoid C9 | D41: G02G | F41: PPM | G41: 2938 | P41: 10 | T41: 21106444 & 6445
B42: 100-41-4 | C42: ETHYLBENZENE | D42: G02G | F42: PPM | G42: 1835 | P42: 10 | T42: 21106444 & 6445
B43: 108-38-3 | C43: m-XYLENE | D43: G02G | F43: PPM | G43: 9117 | P43: 10 | T43: 21106444 & 6445
... B47: 2051-30-1 | C47: isoprenoid C10 | D47: G02G | F47: PPM | G47: 3820 | P47: 10 | T47: 21106444 & 6445
B48: 74296-31-4 | C48: Propyl-benzene | D48: G02G | F48: PPM | G48: 10 | H48: ND | P48: 10 | T48: 21106444 & 6445
B49: 124-18-5 | C49: Decane | D49: G02G | F49: PPM | G49: 13449 | P49: 10 | T49: 21106444 & 6445
B50: 17302-28-2 | C50: isoprenoid C11 | D50: G02G | F50: PPM | G50: 2949 | P50: 10 | T50: 21106444 & 6445
B51: 1120-21-4 | C51: n-C11 | D51: G02G | F51: PPM | G51: 13548 | P51: 10 | T51: 21106444 & 6445
B52: 112-40-3 | C52: n-C12 | D52: G02G | F52: PPM | G52: 11695 | P52: 10 | T52: 21106444 & 6445
B53: 17301-23-4 | C53: isoprenoid C13 | D53: G02G | F53: PPM | G53: 2807 | P53: 10 | T53: 21106444 & 6445
B54: 6864-53-5 | C54: isoprenoid C14 | D54: G02G | F54: PPM | G54: 2697 | P54: 10 | T54: 21106444 & 6445
B55: 629-50-5 | C55: n-C13 | D55: G02G | F55: PPM | G55: 11439 | P55: 10 | T55: 21106444 & 6445
B56: 3891-98-3 | C56: isoprenoid C15 | D56: G02G | F56: PPM | G56: 2281 | P56: 10 | T56: 21106444 & 6445
B57: 629-59-4 | C57: n-C14 | D57: G02G | F57: PPM | G57: 10193 | P57: 10 | T57: 21106444 & 6445
B58: 3891-99-4 | C58: isoprenoid C16 | D58: G02G | F58: PPM | G58: 3720 | P58: 10 | T58: 21106444 & 6445
B59: 629-62-9 | C59: n-C15 | D59: G02G | F59: PPM | G59: 10456 | P59: 10 | T59: 21106444 & 6445
B60: 544-76-3 | C60: n-C16 | D60: G02G | F60: PPM | G60: 8880 | P60: 10 | T60: 21106444 & 6445
... B63: 1921-70-6 | C63: pristane | D63: G02G | F63: PPM | G63: 5123 | P63: 10 | T63: 21106444 & 6445
B64: 85-01-8 | C64: PHENANTHRENE | D64: G02G | F64: PPM | G64: 10 | H64: ND | P64: 10 | T64: 21106444 & 6445
B65: 593-45-3 | C65: n-C18 | D65: G02G | F65: PPM | G65: 7353 | P65: 10 | T65: 21106444 & 6445
B66: 638-36-8 | C66: phytane | D66: G02G | F66: PPM | G66: 2679 | P66: 10 | T66: 21106444 & 6445
B67: 629-92-5 | C67: n-C19 | D67: G02G | F67: PPM | G67: 6267 | P67: 10 | T67: 21106444 & 6445
B68: 112-95-8 | C68: n-C20 | D68: G02G | F68: PPM | G68: 6174 | P68: 10 | T68: 21106444 & 6445
B69: 629-94-7 | C69: n-C21 | D69: G02G | F69: PPM | G69: 5234 | P69: 10 | T69: 21106444 & 6445
B70: 73303-36-3 | C70: highly branched C25 isoprenoid | D70: G02G | F70: PPM | G70: 10 | H70: ND | P70: 10 | T70: 21106444 & 6445
B71: 629-97-0 | C71: n-C22 | D71: G02G | F71: PPM | G71: 4699 | P71: 10 | T71: 21106444 & 6445
B72: 638-67-5 | C72: n-C23 | D72: G02G | F72: PPM | G72: 4375 | P72: 10 | T72: 21106444 & 6445
B73: 646-31-1 | C73: n-C24 | D73: G02G | F73: PPM | G73: 3964 | P73: 10 | T73: 21106444 & 6445
B74: 629-99-2 | C74: n-C25 | D74: G02G | F74: PPM | G74: 3709 | P74: 10 | T74: 21106444 & 6445
B75: 630-01-3 | C75: n-C26 | D75: G02G | F75: PPM | G75: 2983 | P75: 10 | T75: 21106444 & 6445
B76: 593-49-7 | C76: n-C27 | D76: G02G | F76: PPM | G76: 2567 | P76: 10 | T76: 21106444 & 6445
B77: 630-02-4 | C77: n-C28 | D77: G02G | F77: PPM | G77: 2244 | P77: 10 | T77: 21106444 & 6445
B78: 630-03-5 | C78: n-C29 | D78: G02G | F78: PPM | G78: 1741 | P78: 10 | T78: 21106444 & 6445
B79: 638-68-6 | C79: n-C30 | D79: G02G | F79: PPM | G79: 1500 | P79: 10 | T79: 21106444 & 6445
B80: 630-04-6 | C80: n-C31 | D80: G02G | F80: PPM | G80: 1509 | P80: 10 | T80: 21106444 & 6445
B81: 544-85-4 | C81: n-c32 | D81: G02G | F81: PPM | G81: 1040 | P81: 10 | T81: 21106444 & 6445
B82: 630-05-7 | C82: n-C33 | D82: G02G | F82: PPM | G82: 1003 | P82: 10 | T82: 21106444 & 6445
... B87: 7194-85-6 | C87: n-C38 | D87: G02G | F87: PPM | G87: 172 | P87: 10 | T87: 21106444 & 6445
B88: 7194-86-7 | C88: n-C39 | D88: G02G | F88: PPM | G88: 10 | H88: ND | P88: 10 | T88: 21106444 & 6445
B89: 4181-95-7 | C89: n-C40 | D89: G02G | F89: PPM | G89: 10 | H89: ND | P89: 10 | T89: 21106444 & 6445
B90: 7194-87-8 | C90: n-C41 | D90: G02G | F90: PPM | G90: 10 | H90: ND | P90: 10 | T90: 21106444 & 6445
B91: 75-28-5 | C91: ISOBUTANE | D91: G02G | F91: AREA COUNT | G91: 15.559 | P91: 1 | T91: 21106444 & 6445
B92: 106-97-8 | C92: BUTANE | D92: G02G | F92: AREA COUNT | G92: 75.593 | P92: 1 | T92: 21106444 & 6445
B93: IC5 | C93: ISOPENTANE | D93: G02G | F93: AREA COUNT | G93: 84.889 | P93: 1 | T93: 21106444 & 6445
B94: 109-66-0 | C94: PENTANE | D94: G02G | F94: AREA COUNT | G94: 132.44 | P94: 1 | T94: 21106444 & 6445
B95: 75-83-2 | C95: 2,2-DIMETHYLBUTANE | D95: G02G | F95: AREA COUNT | G95: 1.764 | P95: 1 | T95: 21106444 & 6445
B96: 287-92-3 | C96: CYCLOPENTANE | D96: G02G | F96: AREA COUNT | G96: 18.426 | P96: 1 | T96: 21106444 & 6445
B97: 79-29-8 | C97: 2,3-DIMETHYLBUTANE | D97: G02G | F97: AREA COUNT | G97: 11.482 | P97: 1 | T97: 21106444 & 6445
B98: 107-83-5 | C98: 2-METHYLPENTANE | D98: G02G | F98: AREA COUNT | G98: 86.759 | P98: 1 | T98: 21106444 & 6445
B99: 96-14-0 | C99: 3-METHYLPENTANE | D99: G02G | F99: AREA COUNT | G99: 54.848 | P99: 1 | T99: 21106444 & 6445
B100: 92112-69-1 | C100: HEXANEs | D100: G02G | F100: AREA COUNT | G100: 170.667 | P100: 1 | T100: 21106444 & 6445
B101: 590-35-2 | C101: 2,2-dimethylpentane | D101: G02G | F101: AREA COUNT | G101: 3.328 | P101: 1 | T101: 21106444 & 6445
B102: 96-37-7 | C102: METHYLCYCLOPENTANE | D102: G02G | F102: AREA COUNT | G102: 101.054 | P102: 1 | T102: 21106444 & 6445
... B113: 1759-58-6 | C113: trans-1,3-dimethylcyclopentane | D113: G02G | F113: AREA COUNT | G113: 28.98 | P113: 1 | T113: 21106444 & 6445
B114: 617-78-7 | C114: 3-ethylpentane | D114: G02G | F114: AREA COUNT | G114: 1 | H114: ND | P114: 1 | T114: 21106444 & 6445
B115: 28729-52-4 | C115: trans-1,2-dimethylcyclopentane | D115: G02G | F115: AREA COUNT | G115: 49.831 | P115: 1 | T115: 21106444 & 6445
B116: 142-82-5 | C116: HEPTANES, MIXED ISOMERS | D116: G02G | F116: AREA COUNT | G116: 195.769 | P116: 1 | T116: 21106444 & 6445
B117: 108-87-2 | C117: METHYL CYCLOHEXANE | D117: G02G | F117: AREA COUNT | G117: 278.675 | P117: 1 | T117: 21106444 & 6445
B118: 4516-69-2 | C118: 1,1,3-Trimethylcyclopentane | D118: G02G | F118: AREA COUNT | G118: 23.318 | P118: 1 | T118: 21106444 & 6445
B119: 1640-89-7 | C119: ethylcyclopentane | D119: G02G | F119: AREA COUNT | G119: 9.906 | P119: 1 | T119: 21106444 & 6445
B120: 4850-28-6 | C120: 1,2,4-trimethylcyclopentane | D120: G02G | F120: AREA COUNT | G120: 22.215 | P120: 1 | T120: 21106444 & 6445
B121: 2815-57-8 | C121: 1,2,3-trimethylcyclopentane | D121: G02G | F121: AREA COUNT | G121: 17.549 | P121: 1 | T121: 21106444 & 6445
B122: 108-88-3 | C122: TOLUENE | D122: G02G | F122: AREA COUNT | G122: 119.033 | P122: 1 | T122: 21106444 & 6445
B123: 111-65-9 | C123: n-octane | D123: G02G | F123: AREA COUNT | G123: 185.815 | P123: 1 | T123: 21106444 & 6445
B124: 1072-05-5 | C124: isoprenoid C9 | D124: G02G | F124: AREA COUNT | G124: 33.073 | P124: 1 | T124: 21106444 & 6445
B125: 100-41-4 | C125: ETHYLBENZENE | D125: G02G | F125: AREA COUNT | G125: 20.933 | P125: 1 | T125: 21106444 & 6445
B126: 108-38-3 | C126: m-XYLENE | D126: G02G | F126: AREA COUNT | G126: 104.987 | P126: 1 | T126: 21106444 & 6445
... B130: 2051-30-1 | C130: isoprenoid C10 | D130: G02G | F130: AREA COUNT | G130: 42.913 | P130: 1 | T130: 21106444 & 6445
B131: 74296-31-4 | C131: Propyl-benzene | D131: G02G | F131: AREA COUNT | G131: 1 | H131: ND | P131: 1 | T131: 21106444 & 6445
B132: 124-18-5 | C132: Decane | D132: G02G | F132: AREA COUNT | G132: 151.093 | P132: 1 | T132: 21106444 & 6445
...

Sheet CoC

Sheet PCA_HID21
A1: 0.66450103 | B1: -0.57676505
A2: 0.77158038 | B2: -0.44536204
A3: 0.77008977 | B3: -0.48176313
A4: 0.83331829 | B4: -0.41981907
A5: 0.86403599 | B5: -0.35500641
A6: 0.87584247 | B6: -0.30309147
A7: 0.83058519 | B7: -0.42882209
A8: 0.90796609 | B8: -0.26268724
A9: 0.92775898 | B9: -0.21469321
A10: 0.40780717 | B10: -0.59677043
A11: 0.94395171 | B11: -0.19772453
A12: 0.94006558 | B12: -0.21154502
... A46: 0.85955502 | B46: 0.25124862

Sheet PCA_HID22
A1: 7.6043707 | B1: -2.8339872
A2: 9.401236 | B2: -2.5737866
A3: 7.5252919 | B3: 2.742801
A4: 3.0769693 | B4: -1.7954821
A5: -3.3257303 | B5: -2.3127986
A6: -3.0457633 | B6: -4.6152228
A7: -10.868668 | B7: -0.78641294
A8: 2.7832627 | B8: -1.1383598
A9: -8.2065605 | B9: -2.5470981
A10: 4.9016117 | B10: 2.4181135
A11: 8.0378628 | B11: 3.0344854
A12: 1.3045223 | B12: -2.689755
... A32: -4.3396131 | B32: 3.1787405

Sheet PCA_HID23
A1: 5.9356088 | B1: -9.6049448
A2: 6.8920876 | B2: -7.4166731
A3: 6.8787729 | B3: -8.0228652
A4: 7.4435572 | B4: -6.9913027
A5: 7.7179409 | B5: -5.9119688
A6: 7.8234014 | B6: -5.0474224
A7: 7.419144 | B7: -7.1412311
A8: 8.1103435 | B8: -4.3745654
A9: 8.287142 | B9: -3.5753145
A10: 3.642709 | B10: -9.9380971
A11: 8.4317824 | B11: -3.2927328
A12: 8.3970699 | B12: -3.5228872
... A78: -4.3396131 | B78: 3.1787405

Sheet PCA_HID18
A1: 0.77744938 | B1: 0.49122747
A2: 0.77043315 | B2: 0.42493746
A3: 0.79415075 | B3: 0.56199472
A4: 0.67054274 | B4: 0.64145907
A5: 0.57318414 | B5: 0.69898378
A6: 0.86252164 | B6: 0.44243039
A7: 0.0071973372 | B7: 0.36360133
A8: 0.58865667 | B8: 0.66491092
A9: 0.89433018 | B9: 0.40069237
A10: 0.89015439 | B10: 0.4270918
A11: 0.91592693 | B11: 0.33553051
A12: 0.75701329 | B12: 0.4069877
... A33: 0.67559453 | B33: -0.55261524

Sheet PCA_HID19
A1: 4.085785 | B1: -0.26503556
A2: 4.5681235 | B2: -0.68450253
A3: 6.338348 | B3: -3.0333605
A4: 2.6213352 | B4: -1.9730015
A5: -1.1004998 | B5: -4.5985567
A6: -1.7402415 | B6: -4.4935885
A7: -6.2300594 | B7: -3.999572
A8: 5.950606 | B8: -0.15142577
A9: -4.1836261 | B9: -4.1608376
A10: 7.0155685 | B10: -0.32911532
A11: 9.0154948 | B11: 0.017267707
A12: -5.6925955 | B12: 2.014081
... A32: 4.3174534 | B32: -2.1541059

Sheet PCA_HID20
A1: 5.7255907 | B1: 6.7964141
A2: 5.6739191 | B2: 5.8792538
A3: 5.8485893 | B3: 7.7755198
A4: 4.9382678 | B4: 8.8749547
A5: 4.2212623 | B5: 9.670842
A6: 6.3521124 | B6: 6.1212785
A7: 0.053005389 | B7: 5.0306332
A8: 4.335211 | B8: 9.1994244
A9: 6.586369 | B9: 5.5438091
A10: 6.5556161 | B10: 5.9090604
A11: 6.7454201 | B11: 4.6422573
A12: 5.5750874 | B12: 5.6309086
... A65: 4.3174534 | B65: -2.1541059

Sheet AHC_HID10
A1: 13.518066 | B1: 0.79311236 | C1: 1 | D1: 1 | I1: 1.75 | J1: 0.79311236 | K1: 1 | L1: 1
A2: 5.8183594 | B2: 0.79311236 | C2: 2 | D2: 1 | I2: 1 | J2: 0.79311236 | K2: 2 | L2: 1
A3: 5.8183594 | B3: 0.98798291 | C3: 3 | D3: 1 | I3: 1 | J3: 1 | K3: 3 | L3: 1
A4: 3.25 | B4: 0.98798291 | C4: 4 | D4: 1 | I4: 1 | J4: 0.79311236
A5: 3.25 | B5: 0.99540172 | C5: 5 | D5: 1 | I5: 2.5 | J5: 0.79311236
A6: 1.75 | B6: 0.99540172 | C6: 6 | D6: 1 | I6: 2.5 | J6: 0.87028496
A7: 1.75 | B7: 0.9992076 | C7: 7 | D7: 1 | I7: 2 | J7: 0.87028496
A8: 1 | B8: 0.9992076 | C8: 8 | D8: 1 | I8: 2 | J8: 1
A9: 1 | B9: 1 | C9: 9 | D9: 1 | I9: 2 | J9: 0.87028496
A10: 1 | B10: 0.9992076 | C10: 10 | D10: 1 | I10: 3 | J10: 0.87028496
A11: 2.5 | B11: 0.9992076 | C11: 11 | D11: 1 | I11: 3 | J11: 1
A12: 2.5 | B12: 0.99970765 | C12: 12 | D12: 1 | I12: 3 | J12: 0.87028496
A13: 2 | B13: 0.99970765 | C13: 13 | D13: 1 | I13: 2.5 | J13: 0.87028496
A14: 2 | B14: 1 | C14: 14 | D14: 1 | I14: 2.5 | J14: 0.79311236
A15: 2 | B15: 0.99970765 | C15: 15 | D15: 1 | I15: 1.75 | J15: 0.79311236
A16: 3 | B16: 0.99970765 | C16: 16 | D16: 1
A17: 3 | B17: 1 | C17: 17 | D17: 1
A18: 3 | B18: 0.99970765 | C18: 18 | D18: 1
A19: 2.5 | B19: 0.99970765 | C19: 19 | D19: 1
A20: 2.5 | B20: 0.9992076 | C20: 20 | D20: 1
A21: 1.75 | B21: 0.9992076 | C21: 21 | D21: 1
A22: 1.75 | B22: 0.99540172 | C22: 22 | D22: 1
A23: 4.75 | B23: 0.99540172 | C23: 23 | D23: 1
A24: 4.75 | B24: 0.99791528 | C24: 24 | D24: 1
A25: 4 | B25: 0.99791528 | C25: 25 | D25: 1
A26: 4 | B26: 1 | C26: 26 | D26: 1
A27: 4 | B27: 0.99791528 | C27: 27 | D27: 1
... A32: 5 | B32: 0.99887502 | C32: 32 | D32: 1
A33: 6 | B33: 0.99887502
A34: 6 | B34: 1
A35: 6 | B35: 0.99887502
A36: 5.5 | B36: 0.99887502
A37: 5.5 | B37: 0.99791528
A38: 4.75 | B38: 0.99791528
A39: 4.75 | B39: 0.99540172
A40: 3.25 | B40: 0.99540172
A41: 3.25 | B41: 0.98798291
A42: 8.3867188 | B42: 0.98798291
A43: 8.3867188 | B43: 0.99254845
A44: 7 | B44: 0.99254845
... A218: 13.518066 | B218: 0.79311236

Sheet AHC_HID11
A1: 13.25293 | B1: 0.66091184 | C1: 1 | D1: 1 | I1: 1.75 | J1: 0.66091184 | K1: 1 | L1: 1
A2: 5.2109375 | B2: 0.66091184 | C2: 2 | D2: 1 | I2: 1 | J2: 0.66091184 | K2: 2 | L2: 1
A3: 5.2109375 | B3: 0.976657 | C3: 3 | D3: 1 | I3: 1 | J3: 1 | K3: 3 | L3: 1
A4: 1.875 | B4: 0.976657 | C4: 4 | D4: 1 | I4: 1 | J4: 0.66091184
A5: 1.875 | B5: 0.99338189 | C5: 5 | D5: 1 | I5: 2.5 | J5: 0.66091184
A6: 1 | B6: 0.99338189 | C6: 6 | D6: 1 | I6: 2.5 | J6: 0.83262365
A7: 1 | B7: 1 | C7: 7 | D7: 1 | I7: 2 | J7: 0.83262365
A8: 1 | B8: 0.99338189 | C8: 8 | D8: 1 | I8: 2 | J8: 1
A9: 2.75 | B9: 0.99338189 | C9: 9 | D9: 1 | I9: 2 | J9: 0.83262365
A10: 2.75 | B10: 0.99470397 | C10: 10 | D10: 1 | I10: 3 | J10: 0.83262365
A11: 2 | B11: 0.99470397 | C11: 11 | D11: 1 | I11: 3 | J11: 1
A12: 2 | B12: 1 | C12: 12 | D12: 1 | I12: 3 | J12: 0.83262365
A13: 2 | B13: 0.99470397 | C13: 13 | D13: 1 | I13: 2.5 | J13: 0.83262365
A14: 3.5 | B14: 0.99470397 | C14: 14 | D14: 1 | I14: 2.5 | J14: 0.66091184
A15: 3.5 | B15: 0.99947589 | C15: 15 | D15: 1 | I15: 1.75 | J15: 0.66091184
A16: 3 | B16: 0.99947589 | C16: 16 | D16: 1
A17: 3 | B17: 1 | C17: 17 | D17: 1
A18: 3 | B18: 0.99947589 | C18: 18 | D18: 1
A19: 4 | B19: 0.99947589 | C19: 19 | D19: 1
A20: 4 | B20: 1 | C20: 20 | D20: 1
A21: 4 | B21: 0.99947589 | C21: 21 | D21: 1
A22: 3.5 | B22: 0.99947589 | C22: 22 | D22: 1
A23: 3.5 | B23: 0.99470397 | C23: 23 | D23: 1
A24: 2.75 | B24: 0.99470397 | C24: 24 | D24: 1
A25: 2.75 | B25: 0.99338189 | C25: 25 | D25: 1
A26: 1.875 | B26: 0.99338189 | C26: 26 | D26: 1
A27: 1.875 | B27: 0.976657 | C27: 27 | D27: 1
... A32: 5 | B32: 0.99755476 | C32: 32 | D32: 1
A33: 5 | B33: 1
A34: 5 | B34: 0.99755476
A35: 6.5 | B35: 0.99755476
A36: 6.5 | B36: 0.99887502
A37: 6 | B37: 0.99887502
A38: 6 | B38: 1
A39: 6 | B39: 0.99887502
A40: 7 | B40: 0.99887502
A41: 7 | B41: 1
A42: 7 | B42: 0.99887502
A43: 6.5 | B43: 0.99887502
A44: 6.5 | B44: 0.99755476
... A218: 13.25293 | B218: 0.66091184

Sheet AHC1_HID2
A1: 18.371094 | B1: 0 | C1: 1 | D1: 1 | I1: 18.371094 | J1: 0 | K1: 1 | L1: 1
A2: 8.0546875 | B2: 0 | C2: 2 | D2: 1 | I2: 8.0546875 | J2: 0 | K2: 2 | L2: 1
A3: 8.0546875 | B3: 0.00025252528 | C3: 3 | D3: 1 | I3: 8.0546875 | J3: 0.00025252528 | K3: 3 | L3: 1
A4: 3 | B4: 0.00025252528 | C4: 4 | D4: 1 | I4: 3 | J4: 0.00025252528 | K4: 4 | L4: 1
A5: 3 | B5: 0.003787879 | C5: 5 | D5: 1 | I5: 3 | J5: 0.003787879 | K5: 5 | L5: 1
A6: 1.5 | B6: 0.003787879 | C6: 6 | D6: 1 | I6: 1.5 | J6: 0.003787879 | K6: 6 | L6: 1
A7: 1.5 | B7: 0.03030303 | C7: 7 | D7: 1 | I7: 1.5 | J7: 0.03030303 | K7: 7 | L7: 1
A8: 1 | B8: 0.03030303 | C8: 8 | D8: 1 | I8: 1 | J8: 0.03030303 | K8: 8 | L8: 1
A9: 1 | B9: 1 | C9: 9 | D9: 1 | I9: 1 | J9: 1 | K9: 9 | L9: 1
A10: 1 | B10: 0.03030303 | C10: 10 | D10: 1 | I10: 1 | J10: 0.03030303 | K10: 10 | L10: 1
A11: 2 | B11: 0.03030303 | C11: 11 | D11: 1 | I11: 2 | J11: 0.03030303 | K11: 11 | L11: 1
A12: 2 | B12: 1 | C12: 12 | D12: 1 | I12: 2 | J12: 1 | K12: 12 | L12: 1
... A32: 5 | B32: 0.03030303 | C32: 32 | D32: 1 | I32: 5 | J32: 0.03030303 | K32: 32 | L32: 1
A33: 6 | B33: 0.03030303 | I33: 6 | J33: 0.03030303
A34: 6 | B34: 1 | I34: 6 | J34: 1
A35: 6 | B35: 0.03030303 | I35: 6 | J35: 0.03030303
A36: 5.5 | B36: 0.03030303 | I36: 5.5 | J36: 0.03030303
A37: 5.5 | B37: 0.0075757577 | I37: 5.5 | J37: 0.0075757577
A38: 4.5 | B38: 0.0075757577 | I38: 4.5 | J38: 0.0075757577
A39: 4.5 | B39: 0.003787879 | I39: 4.5 | J39: 0.003787879
A40: 3 | B40: 0.003787879 | I40: 3 | J40: 0.003787879
A41: 3 | B41: 0.00025252528 | I41: 3 | J41: 0.00025252528
A42: 13.109375 | B42: 0.00025252528 | I42: 13.109375 | J42: 0.00025252528
A43: 13.109375 | B43: 0.0032467539 | I43: 13.109375 | J43: 0.0032467539
A44: 9 | B44: 0.0032467539 | I44: 9 | J44: 0.0032467539
... A218: 18.371094 | B218: 0 | I218: 18.371094 | J218: 0

Sheet AHC1_HID3
A1: 7.9794922 | B1: 46.125378 | C1: 1 | D1: 0 | I1: 1.875 | J1: 46.125378 | K1: 1 | L1: 24
A2: 2.5 | B2: 46.125378 | C2: 2 | D2: 0 | I2: 1 | J2: 46.125378 | K2: 2 | L2: 24
A3: 2.5 | B3: 14.492646 | C3: 3 | D3: 0 | I3: 1 | J3: 0 | K3: 3 | L3: 24
A4: 1.5 | B4: 14.492646 | C4: 4 | D4: 0 | I4: 1 | J4: 46.125378 | K4: 4 | L4: 24
A5: 1.5 | B5: 5.8571409 | C5: 5 | D5: 0 | I5: 2.75 | J5: 46.125378
A6: 1 | B6: 5.8571409 | C6: 6 | D6: 0 | I6: 2.75 | J6: 33.82
A7: 1 | B7: 0 | C7: 7 | D7: 0 | I7: 2 | J7: 33.82
A8: 1 | B8: 5.8571409 | C8: 8 | D8: 0 | I8: 2 | J8: 0
A9: 2 | B9: 5.8571409 | C9: 9 | D9: 0 | I9: 2 | J9: 33.82
A10: 2 | B10: 0 | C10: 10 | D10: 0 | I10: 3.5 | J10: 33.82
A11: 2 | B11: 5.8571409 | C11: 11 | D11: 0 | I11: 3.5 | J11: 26.216998
A12: 1.5 | B12: 5.8571409 | C12: 12 | D12: 0 | I12: 3 | J12: 26.216998
A13: 1.5 | B13: 14.492646 | C13: 13 | D13: 0 | I13: 3 | J13: 0
A14: 3.5 | B14: 14.492646 | C14: 14 | D14: 0 | I14: 3 | J14: 26.216998
A15: 3.5 | B15: 9.4237201 | C15: 15 | D15: 0 | I15: 4 | J15: 26.216998
A16: 3 | B16: 9.4237201 | C16: 16 | D16: 0 | I16: 4 | J16: 0
... A22: 3.5 | B22: 9.4237201 | C22: 22 | D22: 0 | I22: 1.875 | J22: 46.125378
A23: 3.5 | B23: 14.492646 | C23: 23 | D23: 0
A24: 2.5 | B24: 14.492646 | C24: 24 | D24: 0
A25: 2.5 | B25: 46.125378 | C25: 25 | D25: 0
A26: 13.458984 | B26: 46.125378 | C26: 26 | D26: 0
A27: 13.458984 | B27: 33.82 | C27: 27 | D27: 0
A28: 8.53125 | B28: 33.82 | C28: 28 | D28: 0
A29: 8.53125 | B29: 23.768715 | C29: 29 | D29: 0
A30: 6.5 | B30: 23.768715 | C30: 30 | D30: 0
A31: 6.5 | B31: 15.118638 | C31: 31 | D31: 0
A32: 5.5 | B32: 15.118638 | C32: 32 | D32: 0
A33: 5.5 | B33: 8.061681
A34: 5 | B34: 8.061681
A35: 5 | B35: 0
A36: 5 | B36: 8.061681
A37: 6 | B37: 8.061681
A38: 6 | B38: 0
A39: 6 | B39: 8.061681
A40: 5.5 | B40: 8.061681
A41: 5.5 | B41: 15.118638
A42: 7.5 | B42: 15.118638
A43: 7.5 | B43: 8.6864838
A44: 7 | B44: 8.6864838
... A218: 7.9794922 | B218: 46.125378

Sheet AHC1_HID4
A1: 10.746582 | B1: -0.096550691 | C1: 1 | D1: 1 | I1: 10.746582 | J1: -0.096550691 | K1: 1 | L1: 1
A2: 2.5654297 | B2: -0.096550691 | C2: 2 | D2: 1 | I2: 2.5654297 | J2: -0.096550691 | K2: 2 | L2: 1
A3: 2.5654297 | B3: 1 | C3: 3 | D3: 1 | I3: 2.5654297 | J3: 1 | K3: 3 | L3: 1
A4: 1 | B4: 1 | C4: 4 | D4: 1 | I4: 1 | J4: 1 | K4: 4 | L4: 1
A5: 1 | B5: 1 | C5: 5 | D5: 1 | I5: 1 | J5: 1 | K5: 5 | L5: 1
A6: 1 | B6: 1 | C6: 6 | D6: 1 | I6: 1 | J6: 1 | K6: 6 | L6: 1
A7: 4.1308594 | B7: 1 | C7: 7 | D7: 1 | I7: 4.1308594 | J7: 1 | K7: 7 | L7: 1
A8: 4.1308594 | B8: 1 | C8: 8 | D8: 1 | I8: 4.1308594 | J8: 1 | K8: 8 | L8: 1
A9: 2 | B9: 1 | C9: 9 | D9: 1 | I9: 2 | J9: 1 | K9: 9 | L9: 1
A10: 2 | B10: 1 | C10: 10 | D10: 1 | I10: 2 | J10: 1 | K10: 10 | L10: 1
A11: 2 | B11: 1 | C11: 11 | D11: 1 | I11: 2 | J11: 1 | K11: 11 | L11: 1
A12: 6.2617188 | B12: 1 | C12: 12 | D12: 1 | I12: 6.2617188 | J12: 1 | K12: 12 | L12: 1
... A32: 6 | B32: 1 | C32: 32 | D32: 1 | I32: 6 | J32: 1 | K32: 32 | L32: 1
A33: 6 | B33: 1 | I33: 6 | J33: 1
A34: 5.5 | B34: 1 | I34: 5.5 | J34: 1
A35: 5.5 | B35: 1 | I35: 5.5 | J35: 1
A36: 12.546875 | B36: 1 | I36: 12.546875 | J36: 1
A37: 12.546875 | B37: 1 | I37: 12.546875 | J37: 1
A38: 9.59375 | B38: 1 | I38: 9.59375 | J38: 1
A39: 9.59375 | B39: 1 | I39: 9.59375 | J39: 1
A40: 7.5 | B40: 1 | I40: 7.5 | J40: 1
A41: 7.5 | B41: 1 | I41: 7.5 | J41: 1
A42: 7 | B42: 1 | I42: 7 | J42: 1
A43: 7 | B43: 1 | I43: 7 | J43: 1
A44: 7 | B44: 1 | I44: 7 | J44: 1
... A218: 10.746582 | B218: -0.096550691 | I218: 10.746582 | J218: -0.096550691

Sheet AHC1_HID5
A1: 5.3317862 | B1: 4.6377958 | C1: 1 | D1: 40.950914 | I1: 2.4765625 | J1: 4.6377958 | K1: 1 | L1: 40.950914
A2: 1 | B2: 4.6377958 | C2: 2 | D2: 40.950914 | I2: 1 | J2: 4.6377958 | K2: 2 | L2: 40.950914
A3: 1 | B3: 40.950914 | C3: 3 | D3: 40.950914 | I3: 1 | J3: 40.950914 | K3: 3 | L3: 40.950914
A4: 1 | B4: 4.6377958 | C4: 4 | D4: 40.950914 | I4: 1 | J4: 4.6377958 | K4: 4 | L4: 40.950914
A5: 9.6635723 | B5: 4.6377958 | C5: 5 | D5: 40.950914 | I5: 3.953125 | J5: 4.6377958 | K5: 5 | L5: 40.950914
A6: 9.6635723 | B6: 7.2830313 | C6: 6 | D6: 40.950914 | I6: 3.953125 | J6: 7.2830313 | K6: 6 | L6: 40.950914
A7: 2 | B7: 7.2830313 | C7: 7 | D7: 40.950914 | I7: 2 | J7: 7.2830313 | K7: 7 | L7: 40.950914
A8: 2 | B8: 40.950914 | C8: 8 | D8: 40.950914 | I8: 2 | J8: 40.950914 | K8: 8 | L8: 40.950914
A9: 2 | B9: 7.2830313 | C9: 9 | D9: 40.950914 | I9: 2 | J9: 7.2830313 | K9: 9 | L9: 40.950914
A10: 17.327145 | B10: 7.2830313 | C10: 10 | D10: 40.950914 | I10: 5.90625 | J10: 7.2830313 | K10: 10 | L10: 40.950914
A11: 17.327145 | B11: 8.0692997 | C11: 11 | D11: 40.950914 | I11: 5.90625 | J11: 8.0692997 | K11: 11 | L11: 40.950914
A12: 5.7167892 | B12: 8.0692997 | C12: 12 | D12: 40.950914 | I12: 3.875 | J12: 8.0692997
A13: 5.7167892 | B13: 11.156639 | C13: 13 | D13: 40.950914 | I13: 3.875 | J13: 11.156639
A14: 3 | B14: 11.156639 | C14: 14 | D14: 40.950914 | I14: 3 | J14: 11.156639
A15: 3 | B15: 40.950914 | C15: 15 | D15: 40.950914 | I15: 3 | J15: 40.950914
A16: 3 | B16: 11.156639 | C16: 16 | D16: 40.950914 | I16: 3 | J16: 11.156639
A17: 8.4335785 | B17: 11.156639 | C17: 17 | D17: 40.950914 | I17: 4.75 | J17: 11.156639
A18: 8.4335785 | B18: 13.452574 | C18: 18 | D18: 40.950914 | I18: 4.75 | J18: 13.452574
A19: 4 | B19: 13.452574 | C19: 19 | D19: 40.950914 | I19: 4 | J19: 13.452574
A20: 4 | B20: 40.950914 | C20: 20 | D20: 40.950914 | I20: 4 | J20: 40.950914
A21: 4 | B21: 13.452574 | C21: 21 | D21: 40.950914 | I21: 4 | J21: 13.452574
A22: 12.867157 | B22: 13.452574 | C22: 22 | D22: 40.950914 | I22: 5.5 | J22: 13.452574
A23: 12.867157 | B23: 15.467035 | C23: 23 | D23: 40.950914 | I23: 5.5 | J23: 15.467035
... A32: 6 | B32: 40.950914 | C32: 32 | D32: 40.950914 | I32: 4.75 | J32: 13.452574
A33: 6 | B33: 18.929307 | I33: 4.75 | J33: 11.156639
A34: 7.9375 | B34: 18.929307 | I34: 3.875 | J34: 11.156639
A35: 7.9375 | B35: 21.841802 | I35: 3.875 | J35: 8.0692997
A36: 7 | B36: 21.841802 | I36: 7.9375 | J36: 8.0692997
A37: 7 | B37: 40.950914 | I37: 7.9375 | J37: 9.413106
A38: 7 | B38: 21.841802 | I38: 7 | J38: 9.413106
A39: 8.875 | B39: 21.841802 | I39: 7 | J39: 40.950914
A40: 8.875 | B40: 25.082 | I40: 7 | J40: 9.413106
A41: 8 | B41: 25.082 | I41: 8.875 | J41: 9.413106
A42: 8 | B42: 40.950914 | I42: 8.875 | J42: 11.327352
A43: 8 | B43: 25.082 | I43: 8 | J43: 11.327352
A44: 9.75 | B44: 25.082 | I44: 8 | J44: 40.950914
... A71: 12.999878 | B71: 16.398089 | I71: 2.4765625 | J71: 4.6377958
A72: 12.999878 | B72: 17.232144
A73: 12 | B73: 17.232144
A74: 12 | B74: 40.950914
A75: 12 | B75: 17.232144
A76: 13.999756 | B76: 17.232144
A77: 13.999756 | B77: 18.110341
A78: 13 | B78: 18.110341
A79: 13 | B79: 40.950914
A80: 13 | B80: 18.110341
A81: 14.999512 | B81: 18.110341
A82: 14.999512 | B82: 18.791775
A83: 14 | B83: 18.791775
... A218: 5.3317862 | B218: 4.6377958

Sheet AHC_HID7
A1: 13.015625 | B1: 0.88866542 | C1: 1 | D1: 1 | I1: 1.75 | J1: 0.88866542 | K1: 1 | L1: 1
A2: 4.125 | B2: 0.88866542 | C2: 2 | D2: 1 | I2: 1 | J2: 0.88866542 | K2: 2 | L2: 1
A3: 4.125 | B3: 0.945401 | C3: 3 | D3: 1 | I3: 1 | J3: 1 | K3: 3 | L3: 1
A4: 1.75 | B4: 0.945401 | C4: 4 | D4: 1 | I4: 1 | J4: 0.88866542
A5: 1.75 | B5: 0.98773634 | C5: 5 | D5: 1 | I5: 2.5 | J5: 0.88866542
A6: 1 | B6: 0.98773634 | C6: 6 | D6: 1 | I6: 2.5 | J6: 0.92807419
A7: 1 | B7: 1 | C7: 7 | D7: 1 | I7: 2 | J7: 0.92807419
A8: 1 | B8: 0.98773634 | C8: 8 | D8: 1 | I8: 2 | J8: 1
A9: 2.5 | B9: 0.98773634 | C9: 9 | D9: 1 | I9: 2 | J9: 0.92807419
A10: 2.5 | B10: 0.99807175 | C10: 10 | D10: 1 | I10: 3 | J10: 0.92807419
A11: 2 | B11: 0.99807175 | C11: 11 | D11: 1 | I11: 3 | J11: 1
A12: 2 | B12: 1 | C12: 12 | D12: 1 | I12: 3 | J12: 0.92807419
A13: 2 | B13: 0.99807175 | C13: 13 | D13: 1 | I13: 2.5 | J13: 0.92807419
A14: 3 | B14: 0.99807175 | C14: 14 | D14: 1 | I14: 2.5 | J14: 0.88866542
A15: 3 | B15: 1 | C15: 15 | D15: 1 | I15: 1.75 | J15: 0.88866542
A16: 3 | B16: 0.99807175 | C16: 16 | D16: 1
A17: 2.5 | B17: 0.99807175 | C17: 17 | D17: 1
A18: 2.5 | B18: 0.98773634 | C18: 18 | D18: 1
A19: 1.75 | B19: 0.98773634 | C19: 19 | D19: 1
A20: 1.75 | B20: 0.945401 | C20: 20 | D20: 1
A21: 6.5 | B21: 0.945401 | C21: 21 | D21: 1
A22: 6.5 | B22: 0.96010058 | C22: 22 | D22: 1
A23: 4 | B23: 0.96010058 | C23: 23 | D23: 1
A24: 4 | B24: 1 | C24: 24 | D24: 1
A25: 4 | B25: 0.96010058 | C25: 25 | D25: 1
A26: 9 | B26: 0.96010058 | C26: 26 | D26: 1
A27: 9 | B27: 0.97462287 | C27: 27 | D27: 1
A28: 5.9375 | B28: 0.97462287 | C28: 28 | D28: 1
A29: 5.9375 | B29: 0.98750485
A30: 5 | B30: 0.98750485
A31: 5 | B31: 1
A32: 5 | B32: 0.98750485
A33: 6.875 | B33: 0.98750485
A34: 6.875 | B34: 0.99076712
A35: 6 | B35: 0.99076712
A36: 6 | B36: 1
A37: 6 | B37: 0.99076712
A38: 7.75 | B38: 0.99076712
A39: 7.75 | B39: 0.99302304
A40: 7 | B40: 0.99302304
... A190: 13.015625 | B190: 0.88866542

Sheet AHC1_HID1
A1: 8.8515625 | B1: 0.77425428 | C1: 1 | D1: 1 | I1: 1.75 | J1: 0.77425428 | K1: 1 | L1: 1
A2: 2.125 | B2: 0.77425428 | C2: 2 | D2: 1 | I2: 1 | J2: 0.77425428 | K2: 2 | L2: 1
A3: 2.125 | B3: 0.91286462 | C3: 3 | D3: 1 | I3: 1 | J3: 1 | K3: 3 | L3: 1
A4: 1 | B4: 0.91286462 | C4: 4 | D4: 1 | I4: 1 | J4: 0.77425428
A5: 1 | B5: 1 | C5: 5 | D5: 1 | I5: 2.5 | J5: 0.77425428
A6: 1 | B6: 0.91286462 | C6: 6 | D6: 1 | I6: 2.5 | J6: 0.81537228
A7: 3.25 | B7: 0.91286462 | C7: 7 | D7: 1 | I7: 2 | J7: 0.81537228
A8: 3.25 | B8: 0.94836869 | C8: 8 | D8: 1 | I8: 2 | J8: 1
A9: 2 | B9: 0.94836869 | C9: 9 | D9: 1 | I9: 2 | J9: 0.81537228
A10: 2 | B10: 1 | C10: 10 | D10: 1 | I10: 3 | J10: 0.81537228
A11: 2 | B11: 0.94836869 | C11: 11 | D11: 1 | I11: 3 | J11: 1
A12: 4.5 | B12: 0.94836869 | C12: 12 | D12: 1 | I12: 3 | J12: 0.81537228
A13: 4.5 | B13: 0.9579726 | C13: 13 | D13: 1 | I13: 2.5 | J13: 0.81537228
A14: 3.5 | B14: 0.9579726 | C14: 14 | D14: 1 | I14: 2.5 | J14: 0.77425428
A15: 3.5 | B15: 0.98025982 | C15: 15 | D15: 1 | I15: 1.75 | J15: 0.77425428
A16: 3 | B16: 0.98025982 | C16: 16 | D16: 1
A17: 3 | B17: 1 | C17: 17 | D17: 1
A18: 3 | B18: 0.98025982 | C18: 18 | D18: 1
A19: 4 | B19: 0.98025982 | C19: 19 | D19: 1
A20: 4 | B20: 1 | C20: 20 | D20: 1
A21: 4 | B21: 0.98025982 | C21: 21 | D21: 1
A22: 3.5 | B22: 0.98025982 | C22: 22 | D22: 1
A23: 3.5 | B23: 0.9579726 | C23: 23 | D23: 1
A24: 5.5 | B24: 0.9579726 | C24: 24 | D24: 1
A25: 5.5 | B25: 0.97669222 | C25: 25 | D25: 1
A26: 5 | B26: 0.97669222 | C26: 26 | D26: 1
A27: 5 | B27: 1 | C27: 27 | D27: 1
A28: 5 | B28: 0.97669222 | C28: 28 | D28: 1
A29: 6 | B29: 0.97669222
A30: 6 | B30: 1
A31: 6 | B31: 0.97669222
A32: 5.5 | B32: 0.97669222
A33: 5.5 | B33: 0.9579726
A34: 4.5 | B34: 0.9579726
A35: 4.5 | B35: 0.94836869
A36: 3.25 | B36: 0.94836869
A37: 3.25 | B37: 0.91286462
A38: 2.125 | B38: 0.91286462
A39: 2.125 | B39: 0.77425428
A40: 15.578125 | B40: 0.77425428
... A190: 8.8515625 | B190: 0.77425428

Sheet AHC_HID8
A1: 11.015625 | B1: 0.87161418 | C1: 1 | D1: 1 | I1: 1.75 | J1: 0.87161418 | K1: 1 | L1: 1
A2: 5.90625 | B2: 0.87161418 | C2: 2 | D2: 1 | I2: 1 | J2: 0.87161418 | K2: 2 | L2: 1
A3: 5.90625 | B3: 0.92152858 | C3: 3 | D3: 1 | I3: 1 | J3: 1 | K3: 3 | L3: 1
A4: 3.6875 | B4: 0.92152858 | C4: 4 | D4: 1 | I4: 1 | J4: 0.87161418
A5: 3.6875 | B5: 0.96693926 | C5: 5 | D5: 1 | I5: 2.5 | J5: 0.87161418
A6: 1.875 | B6: 0.96693926 | C6: 6 | D6: 1 | I6: 2.5 | J6: 0.90916316
A7: 1.875 | B7: 0.99418247 | C7: 7 | D7: 1 | I7: 2 | J7: 0.90916316
A8: 1 | B8: 0.99418247 | C8: 8 | D8: 1 | I8: 2 | J8: 1
A9: 1 | B9: 1 | C9: 9 | D9: 1 | I9: 2 | J9: 0.90916316
A10: 1 | B10: 0.99418247 | C10: 10 | D10: 1 | I10: 3 | J10: 0.90916316
A11: 2.75 | B11: 0.99418247 | C11: 11 | D11: 1 | I11: 3 | J11: 1
A12: 2.75 | B12: 0.99522371 | C12: 12 | D12: 1 | I12: 3 | J12: 0.90916316
A13: 2 | B13: 0.99522371 | C13: 13 | D13: 1 | I13: 2.5 | J13: 0.90916316
A14: 2 | B14: 1 | C14: 14 | D14: 1 | I14: 2.5 | J14: 0.87161418
A15: 2 | B15: 0.99522371 | C15: 15 | D15: 1 | I15: 1.75 | J15: 0.87161418
A16: 3.5 | B16: 0.99522371 | C16: 16 | D16: 1
A17: 3.5 | B17: 0.99846852 | C17: 17 | D17: 1
A18: 3 | B18: 0.99846852 | C18: 18 | D18: 1
A19: 3 | B19: 1 | C19: 19 | D19: 1
A20: 3 | B20: 0.99846852 | C20: 20 | D20: 1
A21: 4 | B21: 0.99846852 | C21: 21 | D21: 1
A22: 4 | B22: 1 | C22: 22 | D22: 1
A23: 4 | B23: 0.99846852 | C23: 23 | D23: 1
A24: 3.5 | B24: 0.99846852 | C24: 24 | D24: 1
A25: 3.5 | B25: 0.99522371 | C25: 25 | D25: 1
A26: 2.75 | B26: 0.99522371 | C26: 26 | D26: 1
A27: 2.75 | B27: 0.99418247 | C27: 27 | D27: 1
A28: 1.875 | B28: 0.99418247 | C28: 28 | D28: 1
A29: 1.875 | B29: 0.96693926
A30: 5.5 | B30: 0.96693926
A31: 5.5 | B31: 0.97465138
A32: 5 | B32: 0.97465138
A33: 5 | B33: 1
A34: 5 | B34: 0.97465138
A35: 6 | B35: 0.97465138
A36: 6 | B36: 1
A37: 6 | B37: 0.97465138
A38: 5.5 | B38: 0.97465138
A39: 5.5 | B39: 0.96693926
A40: 3.6875 | B40: 0.96693926
... A190: 11.015625 | B190: 0.87161418

Sheet AHC2_HID
A1: 6.9619141 | B1: 0.94864212 | C1: 1 | D1: 1 | I1: 1.875 | J1: 0.94864212 | K1: 1 | L1: 1
A2: 1 | B2: 0.94864212 | C2: 2 | D2: 1 | I2: 1 | J2: 0.94864212 | K2: 2 | L2: 1
A3: 1 | B3: 1 | C3: 3 | D3: 1 | I3: 1 | J3: 1 | K3: 3 | L3: 1
A4: 1 | B4: 0.94864212 | C4: 4 | D4: 1 | I4: 1 | J4: 0.94864212 | K4: 4 | L4: 1
A5: 12.923828 | B5: 0.94864212 | C5: 5 | D5: 1 | I5: 2.75 | J5: 0.94864212
A6: 12.923828 | B6: 0.95257833 | C6: 6 | D6: 1 | I6: 2.75 | J6: 0.95257833
A7: 5.6289062 | B7: 0.95257833 | C7: 7 | D7: 1 | I7: 2 | J7: 0.95257833
A8: 5.6289062 | B8: 0.98601713 | C8: 8 | D8: 1 | I8: 2 | J8: 1
A9: 2.9375 | B9: 0.98601713 | C9: 9 | D9: 1 | I9: 2 | J9: 0.95257833
A10: 2.9375 | B10: 0.99191231 | C10: 10 | D10: 1 | I10: 3.5 | J10: 0.95257833
A11: 2 | B11: 0.99191231 | C11: 11 | D11: 1 | I11: 3.5 | J11: 0.9623672
A12: 2 | B12: 1 | C12: 12 | D12: 1 | I12: 3 | J12: 0.9623672
A13: 2 | B13: 0.99191231 | C13: 13 | D13: 1 | I13: 3 | J13: 1
A14: 3.875 | B14: 0.99191231 | C14: 14 | D14: 1 | I14: 3 | J14: 0.9623672
A15: 3.875 | B15: 0.99458461 | C15: 15 | D15: 1 | I15: 4 | J15: 0.9623672
A16: 3 | B16: 0.99458461 | C16: 16 | D16: 1 | I16: 4 | J16: 1
... A22: 4 | B22: 1 | C22: 22 | D22: 1 | I22: 1.875 | J22: 0.94864212
A23: 4 | B23: 0.9957437 | C23: 23 | D23: 1
A24: 5.5 | B24: 0.9957437 | C24: 24 | D24: 1
A25: 5.5 | B25: 0.99787373 | C25: 25 | D25: 1
A26: 5 | B26: 0.99787373 | C26: 26 | D26: 1
A27: 5 | B27: 1 | C27: 27 | D27: 1
A28: 5 | B28: 0.99787373 | C28: 28 | D28: 1
A29: 6 | B29: 0.99787373
A30: 6 | B30: 1
A31: 6 | B31: 0.99787373
A32: 5.5 | B32: 0.99787373
A33: 5.5 | B33: 0.9957437
A34: 4.75 | B34: 0.9957437
A35: 4.75 | B35: 0.99458461
A36: 3.875 | B36: 0.99458461
A37: 3.875 | B37: 0.99191231
A38: 2.9375 | B38: 0.99191231
A39: 2.9375 | B39: 0.98601713
A40: 8.3203125 | B40: 0.98601713
... A190: 6.9619141 | B190: 0.94864212

Sheet AHC2_HID1
A1: 11.015625 | B1: 0.87161418 | C1: 1 | D1: 1 | I1: 1.75 | J1: 0.87161418 | K1: 1 | L1: 1
A2: 5.90625 | B2: 0.87161418 | C2: 2 | D2: 1 | I2: 1 | J2: 0.87161418 | K2: 2 | L2: 1
A3: 5.90625 | B3: 0.92152858 | C3: 3 | D3: 1 | I3: 1 | J3: 1 | K3: 3 | L3: 1
A4: 3.6875 | B4: 0.92152858 | C4: 4 | D4: 1 | I4: 1 | J4: 0.87161418
A5: 3.6875 | B5: 0.96693926 | C5: 5 | D5: 1 | I5: 2.5 | J5: 0.87161418
A6: 1.875 | B6: 0.96693926 | C6: 6 | D6: 1 | I6: 2.5 | J6: 0.90916316
A7: 1.875 | B7: 0.99418247 | C7: 7 | D7: 1 | I7: 2 | J7: 0.90916316
A8: 1 | B8: 0.99418247 | C8: 8 | D8: 1 | I8: 2 | J8: 1
A9: 1 | B9: 1 | C9: 9 | D9: 1 | I9: 2 | J9: 0.90916316
A10: 1 | B10: 0.99418247 | C10: 10 | D10: 1 | I10: 3 | J10: 0.90916316
A11: 2.75 | B11: 0.99418247 | C11: 11 | D11: 1 | I11: 3 | J11: 1
A12: 2.75 | B12: 0.99522371 | C12: 12 | D12: 1 | I12: 3 | J12: 0.90916316
A13: 2 | B13: 0.99522371 | C13: 13 | D13: 1 | I13: 2.5 | J13: 0.90916316
A14: 2 | B14: 1 | C14: 14 | D14: 1 | I14: 2.5 | J14: 0.87161418
A15: 2 | B15: 0.99522371 | C15: 15 | D15: 1 | I15: 1.75 | J15: 0.87161418
A16: 3.5 | B16: 0.99522371 | C16: 16 | D16: 1
A17: 3.5 | B17: 0.99846852 | C17: 17 | D17: 1
A18: 3 | B18: 0.99846852 | C18: 18 | D18: 1
A19: 3 | B19: 1 | C19: 19 | D19: 1
A20: 3 | B20: 0.99846852 | C20: 20 | D20: 1
A21: 4 | B21: 0.99846852 | C21: 21 | D21: 1
A22: 4 | B22: 1 | C22: 22 | D22: 1
A23: 4 | B23: 0.99846852 | C23: 23 | D23: 1
A24: 3.5 | B24: 0.99846852 | C24: 24 | D24: 1
A25: 3.5 | B25: 0.99522371 | C25: 25 | D25: 1
A26: 2.75 | B26: 0.99522371 | C26: 26 | D26: 1
A27: 2.75 | B27: 0.99418247 | C27: 27 | D27: 1
A28: 1.875 | B28: 0.99418247 | C28: 28 | D28: 1
A29: 1.875 | B29: 0.96693926
A30: 5.5 | B30: 0.96693926
A31: 5.5 | B31: 0.97465138
A32: 5 | B32: 0.97465138
A33: 5 | B33: 1
A34: 5 | B34: 0.97465138
A35: 6 | B35: 0.97465138
A36: 6 | B36: 1
A37: 6 | B37: 0.97465138
A38: 5.5 | B38: 0.97465138
A39: 5.5 | B39: 0.96693926
A40: 3.6875 | B40: 0.96693926
... A190: 11.015625 | B190: 0.87161418

Sheet PCA_HID15
A1: 0.35321495 | B1: -0.090582784
A2: 0.51491556 | B2: -0.0039758662
A3: 0.51241262 | B3: 0.023161504
A4: 0.68180286 | B4: 0.1165285
A5: 0.64336357 | B5: 0.077773586
A6: 0.71356215 | B6: -0.081473965
A7: 0.77866476 | B7: 0.094791772
A8: 0.81593108 | B8: 0.045490133
A9: 0.74597136 | B9: -0.026791159
A10: 0.85310353 | B10: -0.04307036
A11: 0.87133268 | B11: -0.13108436
A12: 0.23834809 | B12: -0.37730721
... A80: 0.5863728 | B80: 0.78108837

Sheet PCA_HID16
A1: 7.5188895 | B1: 0.73499108
A2: 9.6387341 | B2: -1.14418
A3: 9.209795 | B3: 5.3332477
A4: 3.0957179 | B4: 2.9551634
A5: -2.1886627 | B5: 4.8154085
A6: -3.1005546 | B6: 2.9084047
A7: -19.696776 | B7: 6.1509169
A8: 4.6531481 | B8: 3.5844144
A9: -10.565697 | B9: 3.3980078
A10: 7.5334568 | B10: 4.4844223
A11: 11.982298 | B11: 4.4858141
A12: -1.4489435 | B12: -2.8844824
... A28: -3.4729598 | B28: -2.2448318

Sheet PCA_HID17
A1: 5.7321172 | B1: -2.8982242
A2: 8.3562612 | B2: -0.12720907
A3: 8.3156423 | B3: 0.74105948
A4: 11.064577 | B4: 3.7283652
A5: 10.440768 | B5: 2.4883899
A6: 11.579979 | B6: -2.6067847
A7: 12.636491 | B7: 3.0328921
A8: 13.241264 | B8: 1.4554709
A9: 12.105929 | B9: -0.85719143
A10: 13.844514 | B10: -1.3780495
A11: 14.140344 | B11: -4.1940847
A12: 3.8680106 | B12: -12.072061
... A108: -3.4729598 | B108: -2.2448318

Sheet PCA1_HID3
A1: 0.33805427 | B1: 0.4970965
A2: 0.47105646 | B2: 0.45028351
A3: 0.47277206 | B3: 0.45517556
A4: 0.61750755 | B4: 0.35540487
A5: 0.59449066 | B5: 0.395402
A6: 0.66246733 | B6: 0.47749598
A7: 0.73529098 | B7: 0.30444147
A8: 0.77619779 | B8: 0.30606648
A9: 0.71374129 | B9: 0.3958931
A10: 0.82594175 | B10: 0.32884258
A11: 0.84121493 | B11: 0.37193969
A12: 0.22563444 | B12: 0.70226793
... A80: 0.56814839 | B80: -0.56256599

Sheet PCA1_HID4
A1: 7.7781751 | B1: 2.2177316
A2: 9.9565816 | B2: 4.948618
A3: 9.5429584 | B3: -4.1614362
A4: 3.2504241 | B4: -1.1340871
A5: -2.4211391 | B5: -1.6238785
A6: -3.2473601 | B6: 0.14800242
A7: -20.501772 | B7: -4.5142894
A8: 4.8946327 | B8: -3.021457
A9: -11.009568 | B9: -1.5889346
A10: 7.7921391 | B10: -4.2516091
A11: 12.424966 | B11: -4.999771
A12: -1.2716857 | B12: 3.8302475
... A32: 0.63690701 | B32: -6.9665056

Sheet PCA1_HID5
A1: 5.7072128 | B1: 15.160397
A2: 7.9526269 | B2: 13.732699
A3: 7.9815905 | B3: 13.881896
A4: 10.425092 | B4: 10.8391
A5: 10.036509 | B5: 12.058929
A6: 11.184127 | B6: 14.562622
A7: 12.413575 | B7: 9.2848241
A8: 13.104186 | B8: 9.3343832
A9: 12.049762 | B9: 12.073906
A10: 13.94399 | B10: 10.029007
A11: 14.20184 | B11: 11.343378
A12: 3.8092812 | B12: 21.417694
... A112: 0.63690701 | B112: -6.9665056

Sheet AHC_HID9
A1: 11.921875 | B1: 0.84665031 | C1: 1 | D1: 1 | I1: 1.75 | J1: 0.84665031 | K1: 1 | L1: 1
A2: 5.1171875 | B2: 0.84665031 | C2: 2 | D2: 1 | I2: 1 | J2: 0.84665031 | K2: 2 | L2: 1
A3: 5.1171875 | B3: 0.91998154 | C3: 3 | D3: 1 | I3: 1 | J3: 1 | K3: 3 | L3: 1
A4: 1.5 | B4: 0.91998154 | C4: 4 | D4: 1 | I4: 1 | J4: 0.84665031
A5: 1.5 | B5: 0.95273611 | C5: 5 | D5: 1 | I5: 2.5 | J5: 0.84665031
A6: 1 | B6: 0.95273611 | C6: 6 | D6: 1 | I6: 2.5 | J6: 0.90607013
A7: 1 | B7: 1 | C7: 7 | D7: 1 | I7: 2 | J7: 0.90607013
A8: 1 | B8: 0.95273611 | C8: 8 | D8: 1 | I8: 2 | J8: 1
A9: 2 | B9: 0.95273611 | C9: 9 | D9: 1 | I9: 2 | J9: 0.90607013
A10: 2 | B10: 1 | C10: 10 | D10: 1 | I10: 3 | J10: 0.90607013
A11: 2 | B11: 0.95273611 | C11: 11 | D11: 1 | I11: 3 | J11: 1
A12: 1.5 | B12: 0.95273611 | C12: 12 | D12: 1 | I12: 3 | J12: 0.90607013
A13: 1.5 | B13: 0.91998154 | C13: 13 | D13: 1 | I13: 2.5 | J13: 0.90607013
A14: 8.734375 | B14: 0.91998154 | C14: 14 | D14: 1 | I14: 2.5 | J14: 0.84665031
A15: 8.734375 | B15: 0.92552539 | C15: 15 | D15: 1 | I15: 1.75 | J15: 0.84665031
A16: 6.21875 | B16: 0.92552539 | C16: 16 | D16: 1
A17: 6.21875 | B17: 0.95869629 | C17: 17 | D17: 1
A18: 3.9375 | B18: 0.95869629 | C18: 18 | D18: 1
A19: 3.9375 | B19: 0.98544377 | C19: 19 | D19: 1
A20: 3 | B20: 0.98544377 | C20: 20 | D20: 1
A21: 3 | B21: 1 | C21: 21 | D21: 1
A22: 3 | B22: 0.98544377 | C22: 22 | D22: 1
A23: 4.875 | B23: 0.98544377 | C23: 23 | D23: 1
A24: 4.875 | B24: 0.99418247 | C24: 24 | D24: 1
A25: 4 | B25: 0.99418247 | C25: 25 | D25: 1
A26: 4 | B26: 1 | C26: 26 | D26: 1
A27: 4 | B27: 0.99418247 | C27: 27 | D27: 1
... A32: 5 | B32: 0.99522371 | C32: 32 | D32: 1
A33: 6.5 | B33: 0.99522371
A34: 6.5 | B34: 0.99846852
A35: 6 | B35: 0.99846852
A36: 6 | B36: 1
A37: 6 | B37: 0.99846852
A38: 7 | B38: 0.99846852
A39: 7 | B39: 1
A40: 7 | B40: 0.99846852
A41: 6.5 | B41: 0.99846852
A42: 6.5 | B42: 0.99522371
A43: 5.75 | B43: 0.99522371
A44: 5.75 | B44: 0.99418247
... A218: 11.921875 | B218: 0.84665031

Sheet PCA2_HID
A1: 0.24782841 | B1: -0.089950726
A2: 0.38522077 | B2: -0.06913615
A3: 0.38606263 | B3: -0.14827152
A4: 0.53886793 | B4: -0.13222333
A5: 0.50466888 | B5: -0.18350898
A6: 0.52752756 | B6: -0.021103791
A7: 0.64793612 | B7: -0.13446106
A8: 0.67608347 | B8: -0.061853892
A9: 0.59624068 | B9: -0.12540057
A10: 0.7073557 | B10: -0.012351592
A11: 0.6965508 | B11: 0.12654429
A12: 0.056306909 | B12: -0.060683488
... A80: 0.75640789 | B80: -0.59565771

Sheet PCA2_HID1
A1: 12.899176 | B1: -2.5421173
A2: 13.955841 | B2: -4.0487326
A3: 16.552479 | B3: -10.73421
A4: 5.6547475 | B4: -7.6261095
A5: -1.0843928 | B5: -9.7425462
A6: -3.7138452 | B6: -9.1788479
A7: -26.763233 | B7: -12.17493
A8: 12.325741 | B8: -0.88127071
A9: -14.123209 | B9: -8.799171
A10: 16.963916 | B10: -1.8586183
A11: 25.280147 | B11: 0.85027085
A12: -7.5969592 | B12: 3.9525512
... A32: 7.9863132 | B32: -4.8857992

Sheet PCA2_HID2
A1: 0.63383035 | B1: -0.40049492
A2: 0.84113148 | B2: -0.26280267
A3: 6.4916498 | B3: -4.3403571
A4: 8.4834399 | B4: -3.6238328
A5: 14.903464 | B5: -9.4342722
A6: 3.206901 | B6: -0.22334244
A7: 8.6515046 | B7: -3.1255494
A8: 5.1682554 | B8: -0.82315396
A9: 14.353749 | B9: -5.2554952
A10: 12.848436 | B10: -0.39057615
A11: 0.65838681 | B11: 0.20822903
A12: 0.19235294 | B12: -0.36089267
... A112: 7.9863132 | B112: -4.8857992

Sheet PCA3_HID
A1: 0.35897694 | B1: 0.65148157
A2: 0.50944186 | B2: 0.61574872
A3: 0.48970485 | B3: 0.64325917
A4: 0.62730841 | B4: 0.55770925
A5: 0.6111833 | B5: 0.58229075
A6: 0.65141252 | B6: 0.62444705
A7: 0.73344623 | B7: 0.50712431
A8: 0.7516986 | B8: 0.48318805
A9: 0.67365283 | B9: 0.55615585
A10: 0.78481923 | B10: 0.47553297
A11: 0.79790451 | B11: 0.48983781
A12: 0.11883231 | B12: 0.78514521
... A80: 0.5602243 | B80: -0.28890433

Sheet PCA3_HID1
A1: 8.0321495 | B1: 3.5028583
A2: 9.7690398 | B2: 4.6116301
A3: 9.7411229 | B3: -2.3582837
A4: 3.7558305 | B4: 0.77801617
A5: -3.4163935 | B5: -0.58661358
A6: -4.0083961 | B6: 1.4880402
A7: -12.51325 | B7: -3.1933086
A8: 5.7713742 | B8: -1.7265172
A9: -9.4908343 | B9: -1.4566549
A10: 8.5472633 | B10: -2.8842656
A11: 12.1201 | B11: -2.619243
A12: -2.7347855 | B12: 5.5011953
... A32: -0.40455198 | B32: -7.7586448

Sheet PCA3_HID2
A1: 3.7785982 | B1: 11.239731
A2: 5.3623948 | B2: 10.623248
A3: 5.1546427 | B3: 11.097874
A4: 6.6030604 | B4: 9.6219178
A5: 6.4333272 | B5: 10.046012
A6: 6.8567807 | B6: 10.773316
A7: 7.7202692 | B7: 8.7491976
A8: 7.912394 | B8: 8.3362357
A9: 7.0908826 | B9: 9.5951177
A10: 8.2610224 | B10: 8.2041659
A11: 8.3987582 | B11: 8.450961
A12: 1.2508311 | B12: 13.545773
... A112: -0.40455198 | B112: -7.7586448

Sheet PCA_HID12
A1: 0.72308498 | B1: 0.45300039
A2: 0.86822905 | B2: 0.36111466
A3: 0.86529771 | B3: 0.317049
A4: 0.90953937 | B4: 0.22354759
A5: 0.82621886 | B5: 0.42569223
A6: 0.93065188 | B6: 0.23620215
A7: 0.95693263 | B7: 0.13358754
A8: 0.39288894 | B8: 0.8592284
A9: 0.97101135 | B9: 0.17235809
A10: 0.95458314 | B10: 0.20631219
A11: 0.92663363 | B11: 0.20819297
A12: 0.76716891 | B12: -0.46939354
... A46: 0.87984251 | B46: -0.34941891

Sheet PCA_HID13
A1: 6.0161032 | B1: 3.8784511
A2: 8.1961222 | B2: 6.1643521
A3: 5.9467545 | B3: -2.006102
A4: 1.7815008 | B4: 0.75454944
A5: -2.5649813 | B5: 0.32241167
A6: -2.3128781 | B6: 2.5551846
A7: -16.108992 | B7: -0.22287892
A8: 1.5618525 | B8: -0.27805006
A9: -8.169826 | B9: 1.7046026
A10: 3.3596211 | B10: -2.4377231
A11: 6.147715 | B11: -2.5563714
A12: 0.94225739 | B12: 0.6033365
... A18: 1.5521668 | B18: -3.0498475

Sheet PCA_HID14
A1: 9.3767378 | B1: 14.597237
A2: 11.25892 | B2: 11.636361
A3: 11.220908 | B3: 10.216414
A4: 11.79462 | B4: 7.2034753
A5: 10.714145 | B5: 13.717273
A6: 12.0684 | B6: 7.6112487
A7: 12.4092 | B7: 4.3046517
A8: 5.0948598 | B8: 27.687306
A9: 12.591769 | B9: 5.5539726
A10: 12.378733 | B10: 6.6480912
A11: 12.016292 | B11: 6.7086964
A12: 9.9484043 | B12: -15.12548
... A64: 1.5521668 | B64: -3.0498475

Sheet AHC_HID6
A1: 6.1171875 | B1: 0.94224188 | C1: 1 | D1: 1 | I1: 2.5 | J1: 0.94224188 | K1: 1 | L1: 1
A2: 1.5 | B2: 0.94224188 | C2: 2 | D2: 1 | I2: 1.5 | J2: 0.94224188 | K2: 2 | L2: 1
A3: 1.5 | B3: 0.97258953 | C3: 3 | D3: 1 | I3: 1.5 | J3: 0.97258953 | K3: 3 | L3: 1
A4: 1 | B4: 0.97258953 | C4: 4 | D4: 1 | I4: 1 | J4: 0.97258953 | K4: 4 | L4: 1
A5: 1 | B5: 1 | C5: 5 | D5: 1 | I5: 1 | J5: 1
A6: 1 | B6: 0.97258953 | C6: 6 | D6: 1 | I6: 1 | J6: 0.97258953
A7: 2 | B7: 0.97258953 | C7: 7 | D7: 1 | I7: 2 | J7: 0.97258953
A8: 2 | B8: 1 | C8: 8 | D8: 1 | I8: 2 | J8: 1
A9: 2 | B9: 0.97258953 | C9: 9 | D9: 1 | I9: 2 | J9: 0.97258953
A10: 1.5 | B10: 0.97258953 | C10: 10 | D10: 1 | I10: 1.5 | J10: 0.97258953
A11: 1.5 | B11: 0.94224188 | C11: 11 | D11: 1 | I11: 1.5 | J11: 0.94224188
A12: 10.734375 | B12: 0.94224188 | C12: 12 | D12: 1 | I12: 3.5 | J12: 0.94224188
A13: 10.734375 | B13: 0.96465646 | C13: 13 | D13: 1 | I13: 3.5 | J13: 0.96465646
A14: 6.78125 | B14: 0.96465646 | C14: 14 | D14: 1 | I14: 3 | J14: 0.96465646
A15: 6.78125 | B15: 0.98607318 | C15: 15 | D15: 1 | I15: 3 | J15: 1
A16: 3.9375 | B16: 0.98607318 | C16: 16 | D16: 1 | I16: 3 | J16: 0.96465646
... A18: 3 | B18: 0.99243777 | C18: 18 | D18: 1 | I18: 4 | J18: 1
A19: 3 | B19: 1 | I19: 4 | J19: 0.96465646
A20: 3 | B20: 0.99243777 | I20: 3.5 | J20: 0.96465646
A21: 4.875 | B21: 0.99243777 | I21: 3.5 | J21: 0.94224188
A22: 4.875 | B22: 0.994213 | I22: 2.5 | J22: 0.94224188
A23: 4 | B23: 0.994213
A24: 4 | B24: 1
A25: 4 | B25: 0.994213
A26: 5.75 | B26: 0.994213
A27: 5.75 | B27: 0.99501563
A28: 5 | B28: 0.99501563
A29: 5 | B29: 1
A30: 5 | B30: 0.99501563
A31: 6.5 | B31: 0.99501563
A32: 6.5 | B32: 0.9993621
A33: 6 | B33: 0.9993621
A34: 6 | B34: 1
... A120: 6.1171875 | B120: 0.94224188

Sheet AHC_HID5
A1: 4.0458984 | B1: 0.80074765 | C1: 1 | D1: 1 | I1: 1.875 | J1: 0.80074765 | K1: 1 | L1: 1
A2: 1 | B2: 0.80074765 | C2: 2 | D2: 1 | I2: 1 | J2: 0.80074765 | K2: 2 | L2: 1
A3: 1 | B3: 1 | C3: 3 | D3: 1 | I3: 1 | J3: 1 | K3: 3 | L3: 1
A4: 1 | B4: 0.80074765 | C4: 4 | D4: 1 | I4: 1 | J4: 0.80074765 | K4: 4 | L4: 1
A5: 7.0917969 | B5: 0.80074765 | C5: 5 | D5: 1 | I5: 2.75 | J5: 0.80074765
A6: 7.0917969 | B6: 0.87013433 | C6: 6 | D6: 1 | I6: 2.75 | J6: 0.87013433
A7: 4.25 | B7: 0.87013433 | C7: 7 | D7: 1 | I7: 2 | J7: 0.87013433
A8: 4.25 | B8: 0.99435276 | C8: 8 | D8: 1 | I8: 2 | J8: 1
A9: 2.75 | B9: 0.99435276 | C9: 9 | D9: 1 | I9: 2 | J9: 0.87013433
A10: 2.75 | B10: 0.9992076 | C10: 10 | D10: 1 | I10: 3.5 | J10: 0.87013433
A11: 2 | B11: 0.9992076 | C11: 11 | D11: 1 | I11: 3.5 | J11: 0.92573848
A12: 2 | B12: 1 | C12: 12 | D12: 1 | I12: 3 | J12: 0.92573848
A13: 2 | B13: 0.9992076 | C13: 13 | D13: 1 | I13: 3 | J13: 1
A14: 3.5 | B14: 0.9992076 | C14: 14 | D14: 1 | I14: 3 | J14: 0.92573848
A15: 3.5 | B15: 0.99970765 | C15: 15 | D15: 1 | I15: 4 | J15: 0.92573848
A16: 3 | B16: 0.99970765 | C16: 16 | D16: 1 | I16: 4 | J16: 1
... A18: 3 | B18: 0.99970765 | C18: 18 | D18: 1 | I18: 3.5 | J18: 0.92573848
A19: 4 | B19: 0.99970765 | I19: 3.5 | J19: 0.87013433
A20: 4 | B20: 1 | I20: 2.75 | J20: 0.87013433
A21: 4 | B21: 0.99970765 | I21: 2.75 | J21: 0.80074765
A22: 3.5 | B22: 0.99970765 | I22: 1.875 | J22: 0.80074765
A23: 3.5 | B23: 0.9992076
A24: 2.75 | B24: 0.9992076
A25: 2.75 | B25: 0.99435276
A26: 5.75 | B26: 0.99435276
A27: 5.75 | B27: 0.99791528
A28: 5 | B28: 0.99791528
A29: 5 | B29: 1
A30: 5 | B30: 0.99791528
A31: 6.5 | B31: 0.99791528
A32: 6.5 | B32: 0.99887502
A33: 6 | B33: 0.99887502
A34: 6 | B34: 1
... A120: 4.0458984 | B120: 0.80074765

Sheet PCA_HID9
A1: 0.84358199 | B1: 0.44939003
A2: 0.86075556 | B2: 0.40759189
A3: 0.79638293 | B3: 0.57943041
A4: 0.63941775 | B4: 0.67942394
A5: 0.55133385 | B5: 0.73574589
A6: 0.81384563 | B6: 0.5552903
A7: -0.22598032 | B7: 0.37578118
A8: 0.59124004 | B8: 0.69830321
A9: 0.86260696 | B9: 0.48546818
A10: 0.86052437 | B10: 0.483204
A11: 0.87937119 | B11: 0.44694403
A12: 0.78488664 | B12: 0.43004842
... A33: 0.81909617 | B33: -0.55779791

Sheet PCA_HID10
A1: 2.5569707 | B1: -0.61816301
A2: 2.9432261 | B2: -0.78607915
A3: 5.035667 | B3: -3.0028039
A4: 1.5785528 | B4: -1.7118136
A5: -1.3293221 | B5: -2.880987
A6: -2.1477758 | B6: -2.5766393
A7: -8.5445733 | B7: -3.208878
A8: 4.0725013 | B8: -0.18122071
A9: -5.2406894 | B9: -2.1232839
A10: 5.4460844 | B10: -0.53956903
A11: 8.5369701 | B11: 0.10803111
A12: -4.3470141 | B12: 2.3814177
... A18: 1.4210647 | B18: 6.2061489

Sheet PCA_HID11
A1: 5.7832872 | B1: 5.639878
A2: 5.9010228 | B2: 5.1153083
A3: 5.4597078 | B3: 7.2718945
A4: 4.3836124 | B4: 8.5268206
A5: 3.7797416 | B5: 9.2336652
A6: 5.5794256 | B6: 6.9689343
A7: -1.5492378 | B7: 4.7160815
A8: 4.0533238 | B8: 8.7637569
A9: 5.9137153 | B9: 6.0926615
A10: 5.8994379 | B10: 6.0642458
A11: 6.0286447 | B11: 5.6091805
A12: 5.3808935 | B12: 5.3971394
... A51: 1.4210647 | B51: 6.2061489

Sheet AHC1_HID
A1: 3.3847656 | B1: 0.91624888 | C1: 1 | D1: 1 | I1: 1.9375 | J1: 0.91624888 | K1: 1 | L1: 1
A2: 1 | B2: 0.91624888 | C2: 2 | D2: 1 | I2: 1 | J2: 0.91624888 | K2: 2 | L2: 1
A3: 1 | B3: 1 | C3: 3 | D3: 1 | I3: 1 | J3: 1 | K3: 3 | L3: 1
A4: 1 | B4: 0.91624888 | C4: 4 | D4: 1 | I4: 1 | J4: 0.91624888 | K4: 4 | L4: 1
A5: 5.7695312 | B5: 0.91624888 | C5: 5 | D5: 1 | I5: 2.875 | J5: 0.91624888 | K5: 5 | L5: 1
A6: 5.7695312 | B6: 0.98990664 | C6: 6 | D6: 1 | I6: 2.875 | J6: 0.98990664
A7: 2 | B7: 0.98990664 | C7: 7 | D7: 1 | I7: 2 | J7: 0.98990664
A8: 2 | B8: 1 | C8: 8 | D8: 1 | I8: 2 | J8: 1
A9: 2 | B9: 0.98990664 | C9: 9 | D9: 1 | I9: 2 | J9: 0.98990664
A10: 9.5390625 | B10: 0.98990664 | C10: 10 | D10: 1 | I10: 3.75 | J10: 0.98990664
A11: 9.5390625 | B11: 0.99952925 | C11: 11 | D11: 1 | I11: 3.75 | J11: 0.99952925
A12: 5.359375 | B12: 0.99952925 | C12: 12 | D12: 1 | I12: 3 | J12: 0.99952925
A13: 5.359375 | B13: 0.99991865 | C13: 13 | D13: 1 | I13: 3 | J13: 1
A14: 3.75 | B14: 0.99991865 | C14: 14 | D14: 1 | I14: 3 | J14: 0.99952925
A15: 3.75 | B15: 0.99999055 | C15: 15 | D15: 1 | I15: 4.5 | J15: 0.99952925
A16: 3 | B16: 0.99999055 | C16: 16 | D16: 1 | I16: 4.5 | J16: 0.99991035
A17: 3 | B17: 1 | C17: 17 | D17: 1 | I17: 4 | J17: 0.99991035
A18: 3 | B18: 0.99999055 | C18: 18 | D18: 1 | I18: 4 | J18: 1
A19: 4.5 | B19: 0.99999055 | I19: 4 | J19: 0.99991035
A20: 4.5 | B20: 1 | I20: 5 | J20: 0.99991035
A21: 4 | B21: 1 | I21: 5 | J21: 1
A22: 4 | B22: 1 | I22: 5 | J22: 0.99991035
A23: 4 | B23: 1 | I23: 4.5 | J23: 0.99991035
A24: 5 | B24: 1 | I24: 4.5 | J24: 0.99952925
A25: 5 | B25: 1 | I25: 3.75 | J25: 0.99952925
A26: 5 | B26: 1 | I26: 3.75 | J26: 0.98990664
A27: 4.5 | B27: 1 | I27: 2.875 | J27: 0.98990664
A28: 4.5 | B28: 0.99999055 | I28: 2.875 | J28: 0.91624888
A29: 3.75 | B29: 0.99999055 | I29: 1.9375 | J29: 0.91624888
A30: 3.75 | B30: 0.99991865
A31: 6.96875 | B31: 0.99991865
A32: 6.96875 | B32: 0.9999688
A33: 6 | B33: 0.9999688
A34: 6 | B34: 1
A35: 6 | B35: 0.9999688
A36: 7.9375 | B36: 0.9999688
A37: 7.9375 | B37: 0.9999936
A38: 7 | B38: 0.9999936
A39: 7 | B39: 1
A40: 7 | B40: 0.9999936
A41: 8.875 | B41: 0.9999936
... A120: 3.3847656 | B120: 0.91624888

Sheet PCA1_HID
A1: -0.90656699 | B1: 0.095181451
A2: -0.17052047 | B2: 0.9725389
A3: 0.8709857 | B3: 0.28947221

Sheet PCA1_HID1
A1: 1.2791224 | B1: 0.10975859
A2: 1.4880567 | B2: 0.21227818
A3: -1.5265341 | B3: -0.21247616
A4: 0.28832757 | B4: 3.6040874
A5: -0.65604451 | B5: -0.44235964
A6: 2.6734955 | B6: -1.9804425
A7: 0.44703209 | B7: -0.044242537
A8: 1.2288226 | B8: -0.26258065
A9: 0.43940533 | B9: -0.12045948
A10: -0.89062545 | B10: -0.47848625
A11: -0.73768622 | B11: -0.43939957
A12: 1.0045866 | B12: 0.40005751
... A18: -1.79002 | B18: -0.35487934

Sheet PCA1_HID2
A1: -2.1387964 | B1: 0.27953294
A2: -0.40229632 | B2: 2.8561937
A3: 2.0548521 | B3: 0.8501343
A4: 1.2791224 | B4: 0.10975859
A5: 1.4880567 | B5: 0.21227818
A6: -1.5265341 | B6: -0.21247616
A7: 0.28832757 | B7: 3.6040874
A8: -0.65604451 | B8: -0.44235964
A9: 2.6734955 | B9: -1.9804425
A10: 0.44703209 | B10: -0.044242537
A11: 1.2288226 | B11: -0.26258065
A12: 0.43940533 | B12: -0.12045948
... A21: -1.79002 | B21: -0.35487934

Sheet AHC_HID3
A1: 6.5585938 | B1: 0.85262572 | C1: 1 | D1: 1 | I1: 1.75 | J1: 0.85262572 | K1: 1 | L1: 1
A2: 3.25 | B2: 0.85262572 | C2: 2 | D2: 1 | I2: 1 | J2: 0.85262572 | K2: 2 | L2: 1
A3: 3.25 | B3: 0.96815555 | C3: 3 | D3: 1 | I3: 1 | J3: 1 | K3: 3 | L3: 1
A4: 1.75 | B4: 0.96815555 | C4: 4 | D4: 1 | I4: 1 | J4: 0.85262572
A5: 1.75 | B5: 0.98966202 | C5: 5 | D5: 1 | I5: 2.5 | J5: 0.85262572
A6: 1 | B6: 0.98966202 | C6: 6 | D6: 1 | I6: 2.5 | J6: 0.92588961
A7: 1 | B7: 1 | C7: 7 | D7: 1 | I7: 2 | J7: 0.92588961
A8: 1 | B8: 0.98966202 | C8: 8 | D8: 1 | I8: 2 | J8: 1
A9: 2.5 | B9: 0.98966202 | C9: 9 | D9: 1 | I9: 2 | J9: 0.92588961
A10: 2.5 | B10: 0.9987986 | C10: 10 | D10: 1 | I10: 3 | J10: 0.92588961
A11: 2 | B11: 0.9987986 | C11: 11 | D11: 1 | I11: 3 | J11: 1
A12: 2 | B12: 1 | C12: 12 | D12: 1 | I12: 3 | J12: 0.92588961
A13: 2 | B13: 0.9987986 | C13: 13 | D13: 1 | I13: 2.5 | J13: 0.92588961
A14: 3 | B14: 0.9987986 | C14: 14 | D14: 1 | I14: 2.5 | J14: 0.85262572
A15: 3 | B15: 1 | C15: 15 | D15: 1 | I15: 1.75 | J15: 0.85262572
A16: 3 | B16: 0.9987986 | C16: 16 | D16: 1
A17: 2.5 | B17: 0.9987986 | C17: 17 | D17: 1
A18: 2.5 | B18: 0.98966202 | C18: 18 | D18: 1
A19: 1.75 | B19: 0.98966202
A20: 1.75 | B20: 0.96815555
A21: 4.75 | B21: 0.96815555
A22: 4.75 | B22: 0.98275569
A23: 4 | B23: 0.98275569
A24: 4 | B24: 1
A25: 4 | B25: 0.98275569
A26: 5.5 | B26: 0.98275569
A27: 5.5 | B27: 0.99668304
A28: 5 | B28: 0.99668304
A29: 5 | B29: 1
A30: 5 | B30: 0.99668304
... A120: 6.5585938 | B120: 0.85262572

Sheet PCA_HID3
A1: 0.42268581 | B1: -0.25024881
A2: 0.6285353 | B2: -0.25912091
A3: 0.6018734 | B3: -0.56650046
A4: 0.73523557 | B4: -0.52022288
A5: 0.72964362 | B5: -0.6146485
A6: 0.76041267 | B6: -0.48125299
A7: 0.79928785 | B7: -0.51043488
A8: 0.79765058 | B8: -0.47559265
A9: 0.71391531 | B9: -0.61658693
A10: 0.81777062 | B10: -0.44938692
A11: 0.82331416 | B11: -0.29875711
A12: 0.23104625 | B12: -0.63843991
... A80: 0.72691989 | B80: -0.44327528

Sheet PCA_HID4
A1: 5.7358952 | B1: -3.7977641
A2: 8.5023298 | B2: -3.2246945
A3: 8.4028434 | B3: -2.2949997
A4: 1.4773201 | B4: -2.9131194
A5: -3.0188487 | B5: -3.8100222
A6: -4.0477249 | B6: -3.5048634
A7: -12.96079 | B7: -0.85900333
A8: 3.3361703 | B8: -0.23493127
A9: -9.4220867 | B9: -1.1901728
A10: 6.4124156 | B10: 0.0456846
A11: 11.499373 | B11: 1.1766631
A12: -3.1310412 | B12: -0.20104241
... A18: 1.5088894 | B18: 8.63309

Sheet PCA_HID5
A1: 4.5320138 | B1: -5.8107131
A2: 6.7391206 | B2: -6.0167211
A3: 6.4532532 | B3: -13.153995
A4: 7.883155 | B4: -12.079442
A5: 7.8231984 | B5: -14.271981
A6: 8.1531024 | B6: -11.174571
A7: 8.5699199 | B7: -11.852167
A8: 8.5523652 | B8: -11.043139
A9: 7.6545603 | B9: -14.31699
A10: 8.7680912 | B10: -10.434649
A11: 8.8275287 | B11: -6.9370635
A12: 2.477265 | B12: -14.824411
... A98: 1.5088894 | B98: 8.63309

Sheet PCA_HID6
A1: 0.74465666 | B1: 0.48834441
A2: 0.8248436 | B2: 0.42976199
A3: 0.84041458 | B3: 0.45102714
A4: 0.84947552 | B4: 0.43814316
A5: 0.76076355 | B5: 0.5682762
A6: 0.87103295 | B6: 0.42546016
A7: 0.90681406 | B7: 0.32707309
A8: 0.33377826 | B8: 0.62431712
A9: 0.93489747 | B9: 0.29901222
A10: 0.89901889 | B10: 0.36598309
A11: 0.88001342 | B11: 0.43241786
A12: 0.77051227 | B12: -0.40988715
... A44: 0.83831738 | B44: -0.38766433

Sheet PCA_HID7
A1: 5.9358406 | B1: 3.789192
A2: 8.486953 | B2: 2.6013081
A3: 6.5687435 | B3: -0.062020788
A4: 1.5290221 | B4: 2.1534719
A5: -3.3446274 | B5: 1.4967295
A6: -3.5066551 | B6: 2.2484931
A7: -10.643875 | B7: -0.22813161
A8: 1.1562783 | B8: 0.79846073
A9: -7.8005318 | B9: 0.59911533
A10: 3.4282071 | B10: -0.94741798
A11: 7.6983969 | B11: -1.7622699
A12: 0.29613762 | B12: 2.6636278
... A18: 0.25592966 | B18: -5.7268272

Sheet PCA_HID8
A1: 6.5704063 | B1: 9.822679
A2: 7.277928 | B2: 8.6443378
A3: 7.4153171 | B3: 9.0720703
A4: 7.4952654 | B4: 8.8129187
A5: 6.7125239 | B5: 11.430447
A6: 7.6854753 | B6: 8.5578098
A7: 8.0011865 | B7: 6.5788283
A8: 2.9450603 | B8: 12.557667
A9: 8.2489777 | B9: 6.0144051
A10: 7.9324065 | B10: 7.3614734
A11: 7.7647136 | B11: 8.6977588
A12: 6.7985407 | B12: -8.2445705
... A62: 0.25592966 | B62: -5.7268272

Sheet AHC_HID4
A1: 3.6796875 | B1: 0.91777338 | C1: 1 | D1: 1 | I1: 1.875 | J1: 0.91777338 | K1: 1 | L1: 1
A2: 1 | B2: 0.91777338 | C2: 2 | D2: 1 | I2: 1 | J2: 0.91777338 | K2: 2 | L2: 1
A3: 1 | B3: 1 | C3: 3 | D3: 1 | I3: 1 | J3: 1 | K3: 3 | L3: 1
A4: 1 | B4: 0.91777338 | C4: 4 | D4: 1 | I4: 1 | J4: 0.91777338 | K4: 4 | L4: 1
A5: 6.359375 | B5: 0.91777338 | C5: 5 | D5: 1 | I5: 2.75 | J5: 0.91777338
A6: 6.359375 | B6: 0.95521961 | C6: 6 | D6: 1 | I6: 2.75 | J6: 0.95521961
A7: 2.875 | B7: 0.95521961 | C7: 7 | D7: 1 | I7: 2 | J7: 0.95521961
A8: 2.875 | B8: 0.9762402 | C8: 8 | D8: 1 | I8: 2 | J8: 1
A9: 2 | B9: 0.9762402 | C9: 9 | D9: 1 | I9: 2 | J9: 0.95521961
A10: 2 | B10: 1 | C10: 10 | D10: 1 | I10: 3.5 | J10: 0.95521961
A11: 2 | B11: 0.9762402 | C11: 11 | D11: 1 | I11: 3.5 | J11: 0.95672014
A12: 3.75 | B12: 0.9762402 | C12: 12 | D12: 1 | I12: 3 | J12: 0.95672014
A13: 3.75 | B13: 0.99240597 | C13: 13 | D13: 1 | I13: 3 | J13: 1
A14: 3 | B14: 0.99240597 | C14: 14 | D14: 1 | I14: 3 | J14: 0.95672014
A15: 3 | B15: 1 | C15: 15 | D15: 1 | I15: 4 | J15: 0.95672014
A16: 3 | B16: 0.99240597 | C16: 16 | D16: 1 | I16: 4 | J16: 1
... A18: 4.5 | B18: 0.99785037 | C18: 18 | D18: 1 | I18: 3.5 | J18: 0.95672014
A19: 4 | B19: 0.99785037 | I19: 3.5 | J19: 0.95521961
A20: 4 | B20: 1 | I20: 2.75 | J20: 0.95521961
A21: 4 | B21: 0.99785037 | I21: 2.75 | J21: 0.91777338
A22: 5 | B22: 0.99785037 | I22: 1.875 | J22: 0.91777338
A23: 5 | B23: 1
A24: 5 | B24: 0.99785037
A25: 4.5 | B25: 0.99785037
A26: 4.5 | B26: 0.99240597
A27: 3.75 | B27: 0.99240597
A28: 3.75 | B28: 0.9762402
A29: 2.875 | B29: 0.9762402
A30: 2.875 | B30: 0.95521961
A31: 9.84375 | B31: 0.95521961
A32: 9.84375 | B32: 0.95672014
A33: 6.75 | B33: 0.95672014
A34: 6.75 | B34: 0.98435353
... A120: 3.6796875 | B120: 0.91777338

Sheet AHC_HID2
A1: 7.578125 | B1: 0.8827872 | C1: 1 | D1: 1 | I1: 1.75 | J1: 0.8827872 | K1: 1 | L1: 1
A2: 3.25 | B2: 0.8827872 | C2: 2 | D2: 1 | I2: 1 | J2: 0.8827872 | K2: 2 | L2: 1
A3: 3.25 | B3: 0.96895208 | C3: 3 | D3: 1 | I3: 1 | J3: 1 | K3: 3 | L3: 1
A4: 1.75 | B4: 0.96895208 | C4: 4 | D4: 1 | I4: 1 | J4: 0.8827872
A5: 1.75 | B5: 0.99392957 | C5: 5 | D5: 1 | I5: 2.5 | J5: 0.8827872
A6: 1 | B6: 0.99392957 | C6: 6 | D6: 1 | I6: 2.5 | J6: 0.92807419
A7: 1 | B7: 1 | C7: 7 | D7: 1 | I7: 2 | J7: 0.92807419
A8: 1 | B8: 0.99392957 | C8: 8 | D8: 1 | I8: 2 | J8: 1
A9: 2.5 | B9: 0.99392957 | C9: 9 | D9: 1 | I9: 2 | J9: 0.92807419
A10: 2.5 | B10: 0.99908086 | C10: 10 | D10: 1 | I10: 3 | J10: 0.92807419
A11: 2 | B11: 0.99908086 | C11: 11 | D11: 1 | I11: 3 | J11: 1
A12: 2 | B12: 1 | C12: 12 | D12: 1 | I12: 3 | J12: 0.92807419
A13: 2 | B13: 0.99908086 | C13: 13 | D13: 1 | I13: 2.5 | J13: 0.92807419
A14: 3 | B14: 0.99908086 | C14: 14 | D14: 1 | I14: 2.5 | J14: 0.8827872
A15: 3 | B15: 1 | C15: 15 | D15: 1 | I15: 1.75 | J15: 0.8827872
A16: 3 | B16: 0.99908086 | C16: 16 | D16: 1
A17: 2.5 | B17: 0.99908086 | C17: 17 | D17: 1
A18: 2.5 | B18: 0.99392957 | C18: 18 | D18: 1
A19: 1.75 | B19: 0.99392957
A20: 1.75 | B20: 0.96895208
A21: 4.75 | B21: 0.96895208
A22: 4.75 | B22: 0.98248508
A23: 4 | B23: 0.98248508
A24: 4 | B24: 1
A25: 4 | B25: 0.98248508
A26: 5.5 | B26: 0.98248508
A27: 5.5 | B27: 0.99676756
A28: 5 | B28: 0.99676756
A29: 5 | B29: 1
A30: 5 | B30: 0.99676756
... A120: 7.578125 | B120: 0.8827872

Sheet AHC_HID1
A1: 7.515625 | B1: 2368.9122 | C1: 1 | D1: 0 | I1: 1.75 | J1: 2368.9122 | K1: 1 | L1: 808
A2: 3.8125 | B2: 2368.9122 | C2: 2 | D2: 0 | I2: 1 | J2: 2368.9122 | K2: 2 | L2: 808
A3: 3.8125 | B3: 353.00131 | C3: 3 | D3: 0 | I3: 1 | J3: 0 | K3: 3 | L3: 808
A4: 1.875 | B4: 353.00131 | C4: 4 | D4: 0 | I4: 1 | J4: 2368.9122
A5: 1.875 | B5: 83.191 | C5: 5 | D5: 0 | I5: 2.5 | J5: 2368.9122
A6: 1 | B6: 83.191 | C6: 6 | D6: 0 | I6: 2.5 | J6: 1024.475
A7: 1 | B7: 0 | C7: 7 | D7: 0 | I7: 2 | J7: 1024.475
A8: 1 | B8: 83.191 | C8: 8 | D8: 0 | I8: 2 | J8: 0
A9: 2.75 | B9: 83.191 | C9: 9 | D9: 0 | I9: 2 | J9: 1024.475
A10: 2.75 | B10: 20.88285 | C10: 10 | D10: 0 | I10: 3 | J10: 1024.475
A11: 2 | B11: 20.88285 | C11: 11 | D11: 0 | I11: 3 | J11: 0
A12: 2 | B12: 0 | C12: 12 | D12: 0 | I12: 3 | J12: 1024.475
A13: 2 | B13: 20.88285 | C13: 13 | D13: 0 | I13: 2.5 | J13: 1024.475
A14: 3.5 | B14: 20.88285 | C14: 14 | D14: 0 | I14: 2.5 | J14: 2368.9122
A15: 3.5 | B15: 16.49615 | C15: 15 | D15: 0 | I15: 1.75 | J15: 2368.9122
A16: 3 | B16: 16.49615 | C16: 16 | D16: 0
A17: 3 | B17: 0 | C17: 17 | D17: 0
A18: 3 | B18: 16.49615 | C18: 18 | D18: 0
A19: 4 | B19: 16.49615
A20: 4 | B20: 0
A21: 4 | B21: 16.49615
A22: 3.5 | B22: 16.49615
A23: 3.5 | B23: 20.88285
A24: 2.75 | B24: 20.88285
A25: 2.75 | B25: 83.191
A26: 1.875 | B26: 83.191
A27: 1.875 | B27: 353.00131
A28: 5.75 | B28: 353.00131
A29: 5.75 | B29: 158.5305
A30: 5 | B30: 158.5305
... A120: 7.515625 | B120: 2368.9122

Sheet PCA_HID
A1: 0.97953856 | B1: 0.12702613
A2: 0.99341724 | B2: 0.049625714
A3: 0.99614073 | B3: 0.0099982035
A4: 0.99121642 | B4: 0.10240158
A5: 0.99863487 | B5: 0.04243801
A6: 0.99668728 | B6: 0.020169653
A7: 0.61894552 | B7: 0.72539997
A8: 0.92077565 | B8: -0.33509592
A9: 0.99418244 | B9: 0.076571781
A10: 0.98612656 | B10: 0.081210867
A11: 0.98492544 | B11: -0.001425586
A12: 0.79795252 | B12: -0.5452582
... A17: 0.98317267 | B17: 0.09921807

Sheet PCA_HID1
A1: 4.0082014 | B1: 0.75057889
A2: 4.4176261 | B2: 1.7150815
A3: 4.2727056 | B3: -2.1293094
A4: 0.63596466 | B4: -0.18600617
A5: -0.12611189 | B5: -0.5736982
A6: -0.90752677 | B6: 0.7792671
A7: -8.3600958 | B7: -0.060581328
A8: -0.047606591 | B8: -0.62156
A9: -3.8931568 | B9: 0.32622757

Sheet PCA_HID2
A1: 6.5601844 | B1: 3.2662576
A2: 6.6531329 | B2: 1.2760396
A3: 6.6713728 | B3: 0.25708654
A4: 6.6383936 | B4: 2.6330798
A5: 6.6880766 | B5: 1.0912202
A6: 6.6750332 | B6: 0.5186278
A7: 4.1452138 | B7: 18.652408
A8: 6.1666363 | B8: -8.6164131
A9: 6.6582577 | B9: 1.9689111
A10: 6.6043057 | B10: 2.0881972
A11: 6.5962615 | B11: -0.036656483
A12: 5.3440629 | B12: -14.020373
... A26: -3.8931568 | B26: 0.32622757

Sheet AHC_HID
A1: 3.5625 | B1: 298.83998 | C1: 1 | D1: 0 | I1: 2.5 | J1: 298.83998 | K1: 1 | L1: 15
A2: 1.5 | B2: 298.83998 | C2: 2 | D2: 0 | I2: 1.5 | J2: 298.83998 | K2: 2 | L2: 15
A3: 1.5 | B3: 27.1247 | C3: 3 | D3: 0 | I3: 1.5 | J3: 27.1247 | K3: 3 | L3: 15
A4: 1 | B4: 27.1247 | C4: 4 | D4: 0 | I4: 1 | J4: 27.1247 | K4: 4 | L4: 15
A5: 1 | B5: 0 | C5: 5 | D5: 0 | I5: 1 | J5: 0
A6: 1 | B6: 27.1247 | C6: 6 | D6: 0 | I6: 1 | J6: 27.1247
A7: 2 | B7: 27.1247 | C7: 7 | D7: 0 | I7: 2 | J7: 27.1247
A8: 2 | B8: 0 | C8: 8 | D8: 0 | I8: 2 | J8: 0
A9: 2 | B9: 27.1247 | C9: 9 | D9: 0 | I9: 2 | J9: 27.1247
A10: 1.5 | B10: 27.1247 | I10: 1.5 | J10: 27.1247
A11: 1.5 | B11: 298.83998 | I11: 1.5 | J11: 298.83998
A12: 5.625 | B12: 298.83998 | I12: 3.5 | J12: 298.83998
A13: 5.625 | B13: 94.657512 | I13: 3.5 | J13: 94.657512
A14: 3.75 | B14: 94.657512 | I14: 3 | J14: 94.657512
A15: 3.75 | B15: 3.6720167 | I15: 3 | J15: 0
A16: 3 | B16: 3.6720167 | I16: 3 | J16: 94.657512
A17: 3 | B17: 0 | I17: 4 | J17: 94.657512
A18: 3 | B18: 3.6720167 | I18: 4 | J18: 0
A19: 4.5 | B19: 3.6720167 | I19: 4 | J19: 94.657512
A20: 4.5 | B20: 0.31205 | I20: 3.5 | J20: 94.657512
A21: 4 | B21: 0.31205 | I21: 3.5 | J21: 298.83998
A22: 4 | B22: 0 | I22: 2.5 | J22: 298.83998
A23: 4 | B23: 0.31205
A24: 5 | B24: 0.31205
A25: 5 | B25: 0
A26: 5 | B26: 0.31205
A27: 4.5 | B27: 0.31205
A28: 4.5 | B28: 3.6720167
A29: 3.75 | B29: 3.6720167
A30: 3.75 | B30: 94.657512
A31: 7.5 | B31: 94.657512
A32: 7.5 | B32: 4.50095
A33: 6.5 | B33: 4.50095
A34: 6.5 | B34: 1.18125
... A57: 3.5625 | B57: 298.83998
