Workbook

Sheet Cover
B18: Hydrocarbon Gas Composition and Stable Isotopes
B19: Data and Interpretation
B21: Job #: | D21: 20043859 & 21015154
B22: Lab #: | D22: DIG-022670 & DIG-024533
B23: Client: | D23: WSP
B24: Well Name: | D24: MUSTANG V41-34-33 XRLNB (453241)

Sheet Data Summary
A4: Client/Well Name: | C4: =CONCATENATE(Cover!D23," / ",Cover!D24) -> WSP / MUSTANG V41-34-33 XRLNB (453241)
A5: Job #: | C5: =Cover!D21 -> 20043859 & 21015154
A6: Lab #: | C6: =Cover!D22 -> DIG-022670 & DIG-024533
A8: SAMPLE INFORMATION | J8: COMPLETE GAS ANALYSIS | Y8: HYDROCARBON GAS ANALYSIS (normalized to total HC content) | AG8: BTU CONTENT*
A9: Job | B9: Lab | C9: Well | D9: Sample | E9: Sample | F9: Sample | G9: Fm | H9: Formation | I9: Fm-Depth | J9: GC | K9: N2 | L9: O2 + Ar | M9: CO2 | N9: C1 | O9: C2 | P9: C3 | Q9: iC4 | R9: nC4 | S9: iC5 | T9: nC5 | U9: C6+ | V9: C2H4 | W9: He | X9: H2 | Y9: C1 | Z9: C2 | AA9: C3 | AB9: iC4 | AC9: nC4 | AD9: iC5 | AE9: nC5 | AF9: C6+ | AG9: Total Gas | AH9: HCs only | AS9: METHANE ISOTOPE DATA CATEGORIZED BY FORMATION | BM9: PROPANE ISOTOPE DATA CATEGORIZED BY FORMATION
A10: Number | B10: Number | C10: Name | D10: Type | E10: Date | F10: Time | G10: Code | H10: Name | J10: Date | K10: ppm | L10: ppm | M10: ppm | N10: ppm | O10: ppm | P10: ppm | Q10: ppm | R10: ppm | S10: ppm | T10: ppm | U10: ppm | V10: ppm | W10: ppm | X10: ppm | Y10: mol% | Z10: mol% | AA10: mol% | AB10: mol% | AC10: mol% | AD10: mol% | AE10: mol% | AF10: mol% | AG10: BTU/ft3 | AH10: BTU/ft3 | AS10: 1 | AT10: 2 | AU10: 3 | AV10: 4 | AW10: 5 | AX10: 6 | AY10: 7 | AZ10: 8 | BA10: 9 | BB10: 10 | BC10: 11 | BD10: 12 | BE10: 13 | BF10: 14 | BG10: 15 | BH10: 16 | BI10: 17 | BJ10: 18 | BK10: 19 | BL10: 20 | BM10: 1 | BN10: 2 | BO10: 3 | BP10: 4 | BQ10: 5 | BR10: 6 | BS10: 7 | BT10: 8 | BU10: 9 | BV10: 10 | BW10: 11 | BX10: 12 | BY10: 13 | BZ10: 14 | CA10: 15 | CB10: 16 | CC10: 17 | CD10: 18 | CE10: 19 | CF10: 20
N11: C1 | O11: C2 | P11: C3 | Q11: iC4 | R11: nC4 | S11: iC5 | T11: nC5 | U11: C6+ | V11: C6+ | Y11: C1 | Z11: C2 | AA11: C3 | AB11: iC4 | AC11: nC4 | AD11: iC5 | AE11: nC5 | AF11: C6+
A12: =C5 -> 20043859 & 21015154 | B12: DIG-022670 | C12: =Cover!D24&D12 -> MUSTANG V41-34-33 XRLNB (453241) Bradenhead Gas | D12: Bradenhead Gas | E12: 43929 | F12: 0.35972222 | J12: 43939 | K12: 264783.51 | L12: 4707.89 | M12: nd | N12: 699253.36 | O12: 17153.81 | P12: 1761.6 | Q12: 111.76 | R12: 144.17 | S12: nd | T12: nd | U12: 106.83 | V12: nd | W12: 181.33 | X12: 6530.77 | Y12: =IF(N12="nd",NA(),100*N12/SUM($N12:$U12)) -> 97.317004 | Z12: =IF(O12="nd",NA(),100*O12/SUM($N12:$U12)) -> 2.3873427 | AA12: =IF(P12="nd",NA(),100*P12/SUM($N12:$U12)) -> 0.24516669 | AB12: =IF(Q12="nd",NA(),100*Q12/SUM($N12:$U12)) -> 0.015553945 | AC12: =IF(R12="nd",NA(),100*R12/SUM($N12:$U12)) -> 0.020064534 | AD12: =IF(S12="nd",NA(),100*S12/SUM($N12:$U12)) -> #N/A | AE12: =IF(T12="nd",NA(),100*T12/SUM($N12:$U12)) -> #N/A | AF12: =IF(U12="nd",NA(),100*U12/SUM($N12:$U12)) -> 0.014867824 | AG12: =(K12/SUM(K12:U12))+(L12/SUM(K12:U12))+(N12/SUM(K12:U12)*1010)+(O12/SUM(K12:U12)*1769.7)+(P12/SUM(K12:U12)*2516.1)+(Q12/SUM(K12:U12)*3251.9)+(R12/SUM(K12:U12)*3262.3)+(U12/SUM(K12:U12)*4755.9) -> 751.64923 | AH12: =(Y12*1010+Z12*1769.7+AA12*2516.1+AB12*3251.9+AC12*3262.3+AF12*4755.9)/100 -> 1033.1866
A13: =A12 -> 20043859 & 21015154 | B13: DIG-024533 | C13: =Cover!D24&D13 -> MUSTANG V41-34-33 XRLNB (453241) Production Gas | D13: Production Gas | E13: 44218 | F13: 0.43958333 | J13: 44225 | K13: 12906.81 | L13: 2785.82 | M13: 22721.75 | N13: 510280.28 | O13: 214399.81 | P13: 141959.39 | Q13: 16664.32 | R13: 46561.14 | S13: 10191.8 | T13: 12845.61 | U13: 10837.2 | V13: nd | W13: nd | X13: nd | Y13: =IF(N13="nd",NA(),100*N13/SUM($N13:$U13)) -> 52.947944 | Z13: =IF(O13="nd",NA(),100*O13/SUM($N13:$U13)) -> 22.246655 | AA13: =IF(P13="nd",NA(),100*P13/SUM($N13:$U13)) -> 14.730058 | AB13: =IF(Q13="nd",NA(),100*Q13/SUM($N13:$U13)) -> 1.7291311 | AC13: =IF(R13="nd",NA(),100*R13/SUM($N13:$U13)) -> 4.8312991 | AD13: =IF(S13="nd",NA(),100*S13/SUM($N13:$U13)) -> 1.0575264 | AE13: =IF(T13="nd",NA(),100*T13/SUM($N13:$U13)) -> 1.3328923 | AF13: =IF(U13="nd",NA(),100*U13/SUM($N13:$U13)) -> 1.1244947 | AG13: =(K13/SUM(K13:U13))+(L13/SUM(K13:U13))+(M13/SUM(K13:U13))+(N13/SUM(K13:U13)*1010)+(O13/SUM(K13:U13)*1769.7)+(P13/SUM(K13:U13)*2516.1)+(Q13/SUM(K13:U13)*3251.9)+(R13/SUM(K13:U13)*3262.3)+(S13/SUM(K13:U13)*4000.9)+(T13/SUM(K13:U13)*4008.7)+(U13/SUM(K13:U13)*4755.9) -> 1598.4842 | AH13: =(Y13*1010+Z13*1769.7+AA13*2516.1+AB13*3251.9+AC13*3262.3+AD13*4000.9+AE13*4008.7+AF13*4755.9)/100 -> 1662.1594
A15: SAMPLE INFORMATION | J15: HYDROCARBON RATIOS | N15: STABLE ISOTOPE ANALYSIS | AF15: SPECIFIC GRAVITY*
A16: Job | B16: Lab | C16: Well | D16: Sample | E16: Sample | F16: Sample | J16: Total HC | K16: Wetness | L16: C1/C2+C3 | M16: Balance Ratio | N16: Mass Spec | O16: d13C1 | P16: d13C2 | Q16: d13C3 | R16: d13iC4 | S16: d13nC4 | T16: d13iC5 | U16: d13nC5 | V16: d13CO2 | W16: dD | X16: Comments | AC16: Stable isotope results based on multi-point laboratory calibration | AF16: Total Gas | AG16: HCs only
A17: Number | B17: Number | C17: Name | D17: Type | E17: Date | F17: Time | J17: ppm | K17: % C2 to C6 | L17: mol/mol | M17: C1+C2/C3-C5 | N17: Date | O17: ‰ VPDB | P17: ‰ VPDB | Q17: ‰ VPDB | R17: ‰ VPDB | S17: ‰ VPDB | T17: ‰ VPDB | U17: ‰ VPDB | V17: ‰ VPDB | W17: ‰ VSMOW | AC17: low signal; interpret with caution | AF17: Spec Grav | AG17: Spec Grav
O18: 1 | P18: 0.5 | Q18: 0.33 | S18: 0.25 | U18: 0.2 | V18: 0.2
A19: =A12 -> 20043859 & 21015154 | B19: =B12 -> DIG-022670 | C19: =C12 -> MUSTANG V41-34-33 XRLNB (453241) Bradenhead Gas | D19: =D12 -> Bradenhead Gas | E19: =E12 -> 43929 | F19: =F12 -> 0.35972222 | J19: =IF(SUM(N12:U12)>0,SUM(N12:U12),NA()) -> 718531.53 | K19: =IF(J19>0, 100*SUM(O12:U12)/SUM(N12:U12), NA()) -> 2.6829957 | L19: =IF(Y12>0,IF(Z12>0,Y12/(Z12+AA12),NA())) -> 36.967391 | M19: =(N12+O12)/SUM(P12:T12) -> 355.09121 | N19: 43951 | O19: -51.1 | P19: -34.8 | W19: -275 | AC19: Precision d13C <0.5 ‰ | AF19: =((K12/SUM(K12:U12)*28.0134)+(L12/SUM(K12:U12)*31.9988)+(N12/SUM(K12:U12)*16.0425)+(O12/SUM(K12:U12)*30.069)+(P12/SUM(K12:U12)*44.0956)+(Q12/SUM(K12:U12)*58.1222)+(R12/SUM(K12:U12)*58.1222)+(U12/SUM(K12:U12)*86.1754))/28.967 -> 0.67796724 | AG19: =((N12/SUM(N12:U12)*16.0425)+(O12/SUM(N12:U12)*30.069)+(P12/SUM(N12:U12)*44.0956)+(Q12/SUM(N12:U12)*58.1222)+(R12/SUM(N12:U12)*58.1222)+(U12/SUM(N12:U12)*86.1754))/28.967 -> 0.56863165
A20: =A13 -> 20043859 & 21015154 | B20: =B13 -> DIG-024533 | C20: =C13 -> MUSTANG V41-34-33 XRLNB (453241) Production Gas | D20: =D13 -> Production Gas | E20: =E13 -> 44218 | F20: =F13 -> 0.43958333 | J20: =IF(SUM(N13:U13)>0,SUM(N13:U13),NA()) -> 963739.55 | K20: =IF(J20>0, 100*SUM(O13:U13)/SUM(N13:U13), NA()) -> 47.052056 | L20: =IF(Y13>0,IF(Z13>0,Y13/(Z13+AA13),NA())) -> 1.4319268 | M20: =(N13+O13)/SUM(P13:T13) -> 3.1753261 | N20: 44229 | O20: -49.8 | P20: -35.3 | Q20: -30.9 | R20: -31.7 | S20: -29.1 | T20: -27.8 | U20: -28.7 | V20: 0.9 | W20: -276 | AC20: Precision dD < 5 ‰ | AF20: =((K13/SUM(K13:U13)*28.0134)+(L13/SUM(K13:U13)*31.9988)+(M13/SUM(K13:U13)*44.0095)+(N13/SUM(K13:U13)*16.0425)+(O13/SUM(K13:U13)*30.069)+(P13/SUM(K13:U13)*44.0956)+(Q13/SUM(K13:U13)*58.1222)+(R13/SUM(K13:U13)*58.1222)+(S13/SUM(K13:U13)*72.1488)+(T13/SUM(K13:U13)*72.1488)+(U13/SUM(K13:U13)*86.1754))/28.967 -> 0.98569914 | AG20: =((N13/SUM(N13:U13)*16.0425)+(O13/SUM(N13:U13)*30.069)+(P13/SUM(N13:U13)*44.0956)+(Q13/SUM(N13:U13)*58.1222)+(R13/SUM(N13:U13)*58.1222)+(S13/SUM(N13:U13)*72.1488)+(T13/SUM(N13:U13)*72.1488)+(U13/SUM(N13:U13)*86.1754))/28.967 -> 0.97302414
AC21: * As ideal gas, with gas concentrations normalized to 100%;
AC22: caculations based on GPA 2145-09 physical constants.
AH23: Page 2

Sheet InterpretivePlots
A3: INTERPRETIVE PLOTS | M3: INTERPRETIVE PLOTS
A5: Methane d13C vs Wetness Genetic Classification Plot | G5: Hydrocarbon Composition Plot | M5: Mixing Plot | S5: Ethane - Propane Maturity Plot
L38: Page 3 | X38: Page 4
A41: INTERPRETIVE PLOTS | M41: INTERPRETIVE PLOTS
A43: Haworth Ratio Plot - Characterization of Hydrocarbon Type | G43: Methane d13C vs dD Genetic Classification Plot | M43: Methane d13C vs C1/(C2+C3) Genetic Classification Plot
L76: Page 5 | X76: Page 6

Sheet EDD 1
A1: Organization | B1: Reporting Organization | C1: Reporting Organization Name | D1: Order Number | E1: Entity Requesting Analysis | F1: Purpose | G1: Project
B2: 10206 | C2: Dolan Integration Group | E2: WSP
A3: Sample | B3: COGCC Facility No. | C3: Sample Date and Time | D3: API # | E3: LAB Sample ID | F3: Sample Type | G3: Matrix | H3: Comments | I3: Project Number | J3: Chain of Custody ID | K3: Date Received by Lab
C4: 43929.36 | E4: DIG-022670 | F4: BDH | G4: GAS
A5: Batch | B5: LabID | C5: Lab Batch Identifier | D5: Leach Date | E5: Extract Date and Time | F5: Extract Method | G5: Start Date and Time | H5: Conc Method | I5: Init Vol | J5: Final Vol | K5: Init Vol Units | L5: Final Vol Units | M5: Analysis Date and Time | N5: Report Basis | O5: Comments | P5: File Name | Q5: Column #
B6: 10206 | C6: 20043859 & 21015154
A7: Result | B7: CAS Number | C7: Analysis Name | D7: Analysis Method | E7: Analytical Method Modifier | F7: Unit | G7: Result Value | H7: Qualifier | I7: Test Type | J7: Result Text | K7: Data Flag | L7: Dilution | M7: Fraction Type | N7: MDC | O7: Requested MDC | P7: Detection Limit | Q7: Instrument Detection Limit | R7: Method Detection Limit | S7: Comments | T7: AnalyticalBatchID
B8: O2+AR | C8: OXYGEN + ARGON | D8: SOP | F8: MOL % | G8: 0.473 | P8: 0.005 | Q8: 0.005 | R8: 0.005 | T8: 20043859 & 21015154
B9: 124-38-9 | C9: CARBON DIOXIDE | D9: SOP | F9: MOL % | G9: 0.005 | H9: ND | P9: 0.005 | Q9: 0.005 | R9: 0.005 | T9: 20043859 & 21015154
B10: 7727-37-9 | C10: NITROGEN (N2) | D10: SOP | F10: MOL % | G10: 26.618 | P10: 0.005 | Q10: 0.005 | R10: 0.005 | T10: 20043859 & 21015154
B11: 7440-59-7 | C11: Helium | D11: SOP | F11: MOL % | G11: 0.018 | P11: 0.005 | Q11: 0.005 | R11: 0.005 | T11: 20043859 & 21015154
B12: 1333-74-0 | C12: HYDROGEN | D12: SOP | F12: MOL % | G12: 0.657 | P12: 0.005 | Q12: 0.005 | R12: 0.005 | T12: 20043859 & 21015154
B13: 74-82-8 | C13: METHANE | D13: SOP | F13: MOL % | G13: 70.295 | P13: 0.005 | Q13: 0.005 | R13: 0.005 | T13: 20043859 & 21015154
B14: 74-84-0 | C14: ETHANE | D14: SOP | F14: MOL % | G14: 1.724 | P14: 0.005 | Q14: 0.005 | R14: 0.005 | T14: 20043859 & 21015154
B15: 74-85-1 | C15: ETHENE | D15: SOP | F15: MOL % | G15: 0.005 | H15: ND | P15: 0.005 | Q15: 0.005 | R15: 0.005 | T15: 20043859 & 21015154
B16: 74-98-6 | C16: PROPANE | D16: SOP | F16: MOL % | G16: 0.177 | P16: 0.005 | Q16: 0.005 | R16: 0.005 | T16: 20043859 & 21015154
B17: 75-28-5 | C17: ISOBUTANE | D17: SOP | F17: MOL % | G17: 0.011 | P17: 0.005 | Q17: 0.005 | R17: 0.005 | T17: 20043859 & 21015154
B18: 106-97-8 | C18: N-BUTANE | D18: SOP | F18: MOL % | G18: 0.014 | P18: 0.005 | Q18: 0.005 | R18: 0.005 | T18: 20043859 & 21015154
B19: iC5 | C19: ISOPENTANE | D19: SOP | F19: MOL % | G19: 0.005 | H19: ND | P19: 0.005 | Q19: 0.005 | R19: 0.005 | T19: 20043859 & 21015154
B20: 109-66-0 | C20: N-PENTANE | D20: SOP | F20: MOL % | G20: 0.005 | H20: ND | P20: 0.005 | Q20: 0.005 | R20: 0.005 | T20: 20043859 & 21015154
B21: 92112-69-1+ | C21: C6+ (hexanes +) | D21: SOP | F21: MOL % | G21: 0.011 | P21: 0.005 | Q21: 0.005 | R21: 0.005 | T21: 20043859 & 21015154
B22: delta13C_C1 | C22: DELTA 13C C1 | D22: SOP | F22: per mil | G22: -51.1 | T22: 20043859 & 21015154
B23: deltaD_C1 | C23: DELTA D C1 | D23: SOP | F23: per mil | G23: -275 | T23: 20043859 & 21015154
B24: delta13C_C2 | C24: DELTA 13C C2 | D24: SOP | F24: per mil | G24: -34.8 | T24: 20043859 & 21015154
B25: BTU | C25: BRITISH THERMAL UNITS | D25: SOP | F25: BTU/cuft | G25: 751.64923 | T25: 20043859 & 21015154
B26: SpGrav | C26: SPECIFIC GRAVITY | D26: SOP | F26: No Unit | G26: 0.67796724 | T26: 20043859 & 21015154

Sheet EDD 2
A1: Organization | B1: Reporting Organization | C1: Reporting Organization Name | D1: Order Number | E1: Entity Requesting Analysis | F1: Purpose | G1: Project
B2: 10206 | C2: Dolan Integration Group | E2: WSP
A3: Sample | B3: COGCC Facility No. | C3: Sample Date and Time | D3: API # | E3: LAB Sample ID | F3: Sample Type | G3: Matrix | H3: Comments | I3: Project Number | J3: Chain of Custody ID | K3: Date Received by Lab
B4: 453241 | C4: 44218.44 | D4: 123-46001 | E4: DIG-024533 | F4: PRDG | G4: GAS | K4: 0
A5: Batch | B5: LabID | C5: Lab Batch Identifier | D5: Leach Date | E5: Extract Date and Time | F5: Extract Method | G5: Start Date and Time | H5: Conc Method | I5: Init Vol | J5: Final Vol | K5: Init Vol Units | L5: Final Vol Units | M5: Analysis Date and Time | N5: Report Basis | O5: Comments | P5: File Name | Q5: Column #
B6: 10206 | C6: 20043859 & 21015154
A7: Result | B7: CAS Number | C7: Analysis Name | D7: Analysis Method | E7: Analytical Method Modifier | F7: Unit | G7: Result Value | H7: Qualifier | I7: Test Type | J7: Result Text | K7: Data Flag | L7: Dilution | M7: Fraction Type | N7: MDC | O7: Requested MDC | P7: Detection Limit | Q7: Instrument Detection Limit | R7: Method Detection Limit | S7: Comments | T7: AnalyticalBatchID
B8: O2+AR | C8: OXYGEN + ARGON | D8: SOP | F8: MOL % | G8: 0.278 | P8: 0.005 | Q8: 0.005 | R8: 0.005 | T8: 20043859 & 21015154
B9: 124-38-9 | C9: CARBON DIOXIDE | D9: SOP | F9: MOL % | G9: 2.267 | P9: 0.005 | Q9: 0.005 | R9: 0.005 | T9: 20043859 & 21015154
B10: 7727-37-9 | C10: NITROGEN (N2) | D10: SOP | F10: MOL % | G10: 1.288 | P10: 0.005 | Q10: 0.005 | R10: 0.005 | T10: 20043859 & 21015154
B11: 7440-59-7 | C11: Helium | D11: SOP | F11: MOL % | G11: 0.005 | H11: ND | P11: 0.005 | Q11: 0.005 | R11: 0.005 | T11: 20043859 & 21015154
B12: 1333-74-0 | C12: HYDROGEN | D12: SOP | F12: MOL % | G12: 0.005 | H12: ND | P12: 0.005 | Q12: 0.005 | R12: 0.005 | T12: 20043859 & 21015154
B13: 74-82-8 | C13: METHANE | D13: SOP | F13: MOL % | G13: 50.918 | P13: 0.005 | Q13: 0.005 | R13: 0.005 | T13: 20043859 & 21015154
B14: 74-84-0 | C14: ETHANE | D14: SOP | F14: MOL % | G14: 21.394 | P14: 0.005 | Q14: 0.005 | R14: 0.005 | T14: 20043859 & 21015154
B15: 74-85-1 | C15: ETHENE | D15: SOP | F15: MOL % | G15: 0.005 | H15: ND | P15: 0.005 | Q15: 0.005 | R15: 0.005 | T15: 20043859 & 21015154
B16: 74-98-6 | C16: PROPANE | D16: SOP | F16: MOL % | G16: 14.165 | P16: 0.005 | Q16: 0.005 | R16: 0.005 | T16: 20043859 & 21015154
B17: 75-28-5 | C17: ISOBUTANE | D17: SOP | F17: MOL % | G17: 1.663 | P17: 0.005 | Q17: 0.005 | R17: 0.005 | T17: 20043859 & 21015154
B18: 106-97-8 | C18: N-BUTANE | D18: SOP | F18: MOL % | G18: 4.646 | P18: 0.005 | Q18: 0.005 | R18: 0.005 | T18: 20043859 & 21015154
B19: iC5 | C19: ISOPENTANE | D19: SOP | F19: MOL % | G19: 1.017 | P19: 0.005 | Q19: 0.005 | R19: 0.005 | T19: 20043859 & 21015154
B20: 109-66-0 | C20: N-PENTANE | D20: SOP | F20: MOL % | G20: 1.282 | P20: 0.005 | Q20: 0.005 | R20: 0.005 | T20: 20043859 & 21015154
B21: 92112-69-1+ | C21: C6+ (hexanes +) | D21: SOP | F21: MOL % | G21: 1.081 | P21: 0.005 | Q21: 0.005 | R21: 0.005 | T21: 20043859 & 21015154
B22: delta13C_C1 | C22: DELTA 13C C1 | D22: SOP | F22: per mil | G22: -49.8 | T22: 20043859 & 21015154
B23: deltaD_C1 | C23: DELTA D C1 | D23: SOP | F23: per mil | G23: -276 | T23: 20043859 & 21015154
B24: delta13C_C2 | C24: DELTA 13C C2 | D24: SOP | F24: per mil | G24: -35.3 | T24: 20043859 & 21015154
B25: delta13C_C3 | C25: DELTA 13C C3 | D25: SOP | F25: per mil | G25: -30.9 | T25: 20043859 & 21015154
B26: delta13C_iC4 | C26: DELTA 13C iC4 | D26: SOP | F26: per mil | G26: -31.7 | T26: 20043859 & 21015154
B27: delta13C_nC4 | C27: DELTA 13C nC4 | D27: SOP | F27: per mil | G27: -29.1 | T27: 20043859 & 21015154
B28: delta13C_iC5 | C28: Delta 13C iC5 | D28: SOP | F28: per mil | G28: -27.8 | K28: Low Signal | T28: 20043859 & 21015154
B29: delta13C_nC5 | C29: Delta 13C nC5 | D29: SOP | F29: per mil | G29: -28.7 | T29: 20043859 & 21015154
B30: delta13C_CO2 | C30: DELTA 13C CO2 | D30: SOP | F30: per mil | G30: 0.9 | K30: Low Signal | T30: 20043859 & 21015154
B31: BTU | C31: BRITISH THERMAL UNITS | D31: SOP | F31: BTU/cuft | G31: 1598.4842 | T31: 20043859 & 21015154
B32: SpGrav | C32: SPECIFIC GRAVITY | D32: SOP | F32: No Unit | G32: 0.98569914 | T32: 20043859 & 21015154

Sheet COC
