Workbook

Sheet List of Wells - Blank
A1: PROPOSED WELL(S)
C2: Surface Location | I2: Surface Location | O2: Surface Location
A3: Well Name and Number | C3: QQ-Section-Twp-Range | F3: Well Name and Number | I3: QQ-Section-Twp-Range | M3: Well Name and Number | O3: QQ-Section-Twp-Range
A4: Pickaroon 1 | C4: NESE - 7 - 7N - 64W | F4: Pickaroon 4 | I4: NESE - 7 - 7N - 64W
A5: Pickaroon 2 | C5: NESE - 7 - 7N - 64W | F5: Pickaroon 5 | I5: NESE - 7 - 7N - 64W
A6: Pickaroon 3 | C6: NESE - 7 - 7N - 64W | F6: Pickaroon 6 | I6: NESE - 7 - 7N - 64W
A7: Operator's Wellbore Integrity Contact | D7: WellboreIntegrity@bayswater.us
A8: OFFSET WELL EVALUATIONS
A9: Offset Well API # | B9: Offset Well Name | C9: Shortest Horizontal Distance from Offset Well to any Proposed HZ Well | D9: Offset Well Operator | E9: Offset Well Spud Date | F9: Offset Well Status | G9: Offset Well Surface Casing Setting Depth | H9: Depth of Deepest WaterWell or Base of Fox Hills (DJ) | I9: Offset Well Top of Production Casing Cement | J9: Most Recent Surface Casing Pressure Reported (psig) | M9: Required Comments
A10: 05-123-12061 | B10: 23 OWL CREEK | C10: 140' | D10: ST JAMES ENERGY OPERATING INC | E10: 11/10/1984 | F10: PA | G10: 730' | H10: 710 | I10: No CBL on file | M10: No Mitigation Required
A11: 05-123-12435 | B11: 27 OWL CREEK | C11: 1355' | D11: ST JAMES ENERGY OPERATING INC | F11: DA | G11: 744' | H11: 710 | I11: No CBL on file | M11: No Mitigation Required
A12: 05-123-29449 | B12: 07-01X ANTHOLZ USX AB | C12: 42' | D12: NOBLE ENERGY INC | F12: AL | M12: No Evaluation Required
A13: 05-123-30093 | B13: 11-16 ELDER USX EE | C13: 1223' | D13: NOBLE ENERGY INC | F13: AL | M13: No Evaluation Required
A14: 05-123-32080 | B14: AB08-13 Waugh PC | C14: 1252' | D14: NOBLE ENERGY INC | E14: 9/21/2010 | F14: PR | G14: 805' | H14: 710 | I14: 2372' | J14: 0 | M14: No Mitigation Required
A15: 05-123-40459 | B15: BURROUGHS NORTH 1 | C15: 1184' | D15: BAYSWATER EXPLORATION & PRODUCTION LLC | E15: 10/18/2016 | F15: PR | G15: 1571' | H15: 710 | I15: 1370' | J15: 0 | M15: No Mitigation Required
A16: 05-123-40460 | B16: BURROUGHS NORTH 2 | C16: 1321' | D16: BAYSWATER EXPLORATION & PRODUCTION LLC | F16: XX | M16: No Evaluation Required
A17: 05-123-46344 | B17: 7-64-8-0362C Colette | C17: 1105' | D17: CONFLUENCE DJ LLC | F17: AL | M17: No Evaluation Required
A18: 05-123-46345 | B18: 7-64-8-0164B Colette | C18: 1101' | D18: CONFLUENCE DJ LLC | F18: AL | M18: No Evaluation Required
A19: 05-123-46346 | B19: 7-64-8-0263A Colette | C19: 1103' | D19: CONFLUENCE DJ LLC | F19: AL | M19: No Evaluation Required
A20: 05-123-46347 | B20: 7-64-8-0461CD Colette | C20: 1127' | D20: CONFLUENCE DJ LLC | F20: AL | M20: No Evaluation Required
A21: 05-123-47874 | B21: Pickaroon 7-1-4L | C21: 148' | D21: CONFLUENCE DJ LLC | F21: AL | M21: No Evaluation Required
A22: 05-123-47875 | B22: Pickaroon 7-1-1L | C22: 231' | D22: CONFLUENCE DJ LLC | F22: AL | M22: No Evaluation Required
A23: 05-123-47876 | B23: Pickaroon 7-1-3L | C23: 231' | D23: CONFLUENCE DJ LLC | F23: AL | M23: No Evaluation Required
A24: 05-123-47877 | B24: Pickaroon 7-3-1L | C24: 0' | D24: CONFLUENCE DJ LLC | F24: AL | M24: No Evaluation Required
A25: 05-123-47878 | B25: Pickaroon 7-2-2L | C25: 38' | D25: CONFLUENCE DJ LLC | F25: AL | M25: No Evaluation Required
A26: 05-123-47879 | B26: Pickaroon 7-2-4L | C26: 0' | D26: CONFLUENCE DJ LLC | F26: AL | M26: No Evaluation Required
A27: 05-123-47880 | B27: Pickaroon 7-3-3L | C27: 0' | D27: CONFLUENCE DJ LLC | F27: AL | M27: No Evaluation Required
... A40: 05-123-48021 | B40: Pickaroon 7-6-4L | C40: 73' | D40: CONFLUENCE DJ LLC | F40: AL | M40: No Evaluation Required
A41: 05-123-48022 | B41: Pickaroon 7-14-2L | C41: 61' | D41: CONFLUENCE DJ LLC | E41: 10/19/2018 | F41: PR | G41: 1542' | I41: 600' | J41: 0 | M41: No Mitigation Required
A42: 05-123-48023 | B42: Pickaroon 7-8-2L | C42: 0' | D42: CONFLUENCE DJ LLC | F42: Refile | M42: Renamed to Pickaroon 1
A43: 05-123-48024 | B43: Pickaroon 7-13-3L | C43: 53' | D43: CONFLUENCE DJ LLC | F43: AL | M43: No Evaluation Required
A44: 05-123-48025 | B44: Pickaroon 7-4-4L | C44: 0' | D44: CONFLUENCE DJ LLC | F44: Refile | M44: Renamed to Pickaroon 2
A45: 05-123-48026 | B45: Pickaroon 7-10-2L | C45: 0' | D45: CONFLUENCE DJ LLC | F45: Refile | M45: Renamed to Pickaroon 5
A46: 05-123-48027 | B46: Pickaroon 7-13-1L | C46: 42' | D46: CONFLUENCE DJ LLC | F46: AL | M46: No Evaluation Required
A47: 05-123-48028 | B47: Pickaroon 7-11-1L | C47: 0' | D47: CONFLUENCE DJ LLC | F47: Refile | M47: Renamed to Pickaroon 6
A48: 05-123-48727 | B48: Dotsero 6-13-1L | C48: 1496' | D48: CONFLUENCE DJ LLC | F48: AL | M48: No Evaluation Required
A49: 05-123-48731 | B49: Dotsero 6-6-4L | C49: 1287' | D49: CONFLUENCE DJ LLC | F49: AL | M49: No Evaluation Required
A50: 05-123-48732 | B50: Dotsero 6-13-3L | C50: 1495' | D50: CONFLUENCE DJ LLC | F50: AL | M50: No Evaluation Required
A51: 05-123-48735 | B51: Dotsero 6-14-2L | C51: 1289' | D51: CONFLUENCE DJ LLC | F51: AL | M51: No Evaluation Required
A52: 05-123-50106 | B52: Almont 5-14-2L | C52: 1433' | D52: CONFLUENCE DJ LLC | F52: AL | M52: No Evaluation Required
A53: 05-123-50110 | B53: Almont 5-6-4L | C53: 1427' | D53: CONFLUENCE DJ LLC | F53: AL | M53: No Evaluation Required
... A56: 05-123-50574 | B56: ELDER 8Y-HNC-2-07-65 | C56: 928' | D56: NICKEL ROAD OPERATING LLC | F56: XX | M56: No Evaluation Required

Sheet List of Wells - Example
A1: PROPOSED HORIZONTAL WELL(S)
C2: Surface Location | I2: Surface Location | O2: Surface Location
A3: Well Name and Number | C3: QQ-Section-Twp-Range | F3: Well Name and Number | I3: QQ-Section-Twp-Range | M3: Well Name and Number | O3: QQ-Section-Twp-Range
A4: State #1HZ | C4: NWNE - 13 - 3N - 65W | F4: State #4HZ | I4: NWNE - 13 - 3N - 65W
A5: State #2HZ | C5: NWNE - 13 - 3N - 65W | F5: State #5HZ | I5: NWNE - 13 - 3N - 65W
A6: State #3HZ | C6: NWNE - 13 - 3N - 65W | F6: State #6HZ | I6: NWNE - 13 - 3N - 65W
A7: Operator's Wellbore Integrity Contact | D7: wellbore.integrity@operator.com
A8: OFFSET WELL EVALUATIONS | Q8: 42310
A9: Offset Well API # | B9: Offset Well Name | C9: Shortest Horizontal Distance from Offset Well to any Proposed HZ Well | D9: Offset Well Operator | E9: Offset Well Spud Date | F9: Offset Well Status | G9: Offset Well Surface Casing Setting Depth | H9: Depth of Deepest WaterWell or Base of Fox Hills (DJ) | I9: Offset Well Top of Production Casing Cement | J9: Most Recent Surface Casing Pressure Reported (psig) | M9: Required Comments
A10: 05-123-12346 | B10: Example #1 | C10: State #1HZ | D10: KMG | E10: 40544 | F10: PR | G10: 500' | H10: 450' | I10: 3500' | J10: 1
A11: 05-123-12347 | B11: Example #2 | C11: State #1HZ | D11: Noble Energy | E11: 29952 | F11: SI | G11: 560' | H11: 450' | I11: 7050' | J11: 5 | M11: Operator will not stimulate stages within 500' of the existing well.
A12: 05-123-12348 | B12: Example #3 | C12: State #5HZ | D12: KMG | E12: 26299 | F12: TA | G12: 410' | H12: 450' | I12: 6540' | J12: 0 | M12: Operator will plug and abandon well to adequately isolate all zones.
A13: 05-123-12349 | B13: Example #4 | C13: State #2HZ | D13: KMG | E13: 33239 | F13: PR | G13: 415' | H13: 450' | J13: 10 | M13: SUSX well, NBRR not penetrated.
A14: 05-123-12350 | B14: Example #5 | C14: State #1HZ | D14: KMG | E14: 29587 | F14: PR | G14: 350' | H14: 450' | I14: 6600' | J14: 0 | M14: Operator will provide adequate remedial cement to adequately isolate all zones.
A15: 05-123-12351 | B15: Example #6 | C15: State #3HZ | D15: KMG | E15: 41275 | F15: XX | G15: XX
A16: 05-123-12352 | B16: Eample #7 | C16: State #3HZ | D16: KMG | E16: KMG | F16: AL | G16: AL

Sheet Instructions
A1: INSTRUCTIONS FOR OFFSET WELL EVALUATIONS (11-02-2020)
A2: PROPOSED WELL(S)
A3: Well Name and Number | B3: Enter the well name and number for the proposed well(s) for which this offset well evalaution list was prepared. The well name and number must match the Application for Permit to Drill - Form 2 to which this evaluation sheet is attached. Multiple proposed wells may be listed here; one offset well evaluation list may apply to more than one proposed well and may be attached to more than one APD, provided that the proposed wells will be drilled from the same well pad and the APDs are submitted concurrently. Please insert rows, as needed, to accommodate all wells for which this evaluation was prepared.
A4: Surface Location QQ-Section-Twp-Range | B4: Enter the quarter-quarter, section, township, and range of the surface location for the proposed well(s)
A5: Operator's Wellbore Integrity Contact | B5: Provide a current wellbore integrity contact for your company, which can be used by the COGCC or other operators to contact your company as necessary based on adjacent horizontal well activity. The intention of this contact is to have a single point contact to direct correspondence and it is suggested that it is not a single person but a dedicated address.
A6: OFFSET WELL EVALUATIONS
A7: Offset Well API # | B7: Enter the API# for ALL wells and permits within 1500' of the proposed wellbore in successive rows. Include all wells and permits, regardless of well status, objective, completion, or depth. If no wells exist within 1500', enter "None," and submit this form as an attachment to the APD.
A8: Offset Well Name | B8: Enter this offset well's name.
A9: Shortest Horizontal Distance from Offset Well to any Proposed HZ Well | B9: Enter the distance from the planned completion interval in the proposed horizontal well to the nearest portion of the offset wellbore.
A10: Offset Well Operator | B10: Enter this offset well's operator of record.
A11: Offset Well Spud Date | B11: Enter the date this offset well was spud.
A12: Offset Well Status | B12: Enter this offset well's current status. **If the status is "XX" (approved APD but no spud notice),"DG" or"AL", no additional information is required for this offset well except for "NO EVALUATION REQUIRED" in the comments.**
A13: Offset Well Surface Casing Setting Depth | B13: Enter this offset well's surface casing setting depth.
A14: Depth of Deepest WaterWell or Base of Fox Hills (DJ) | B14: Enter the greater of the depth to the base of the Fox Hills transition zone (DJ Basin) based on this well's or an adjacent well's induction log or the grade-corrected depth of the deepest water well within one mile of the proposed well's surface location (Statewide).
A15: Offset Well Top of Production Casing Cement | B15: Enter the top of cement of the primary production casing cement job.
A16: Most Recent Surface Casing Pressure Reported (psig) | B16: Review the most recect bradenhead data submitted to COGCC and supply the initial surface casing pressure in psig
A19: Required Comments | B19: If well will be mitigated: Clearly state that fact and identify planned mitigation Option 1, 2, 3, or 4.
B20: If well does not require any mitigation: Clearly state that fact.
B21: If well did not require evaluation: Enter "NO EVALUATION REQUIRED". (See instructions for Offset Well Status.)
B22: If well does NOT penetrate the objective formation: Enter "SHALLOW OFFSET".
B23: Provide any other information deemed relevant.

Sheet Paste Wells Here
A1: API_Label | B1: Operator | C1: Well_Title | D1: In_Directional | E1: API_Display | F1: Well_Title_Display | G1: Blank_Column | H1: Operator_Display
A2: 05-123-12061 | B2: ST JAMES ENERGY OPERATING INC | C2: 23 OWL CREEK | D2: =ISNUMBER(MATCH(A2,'Paste Directionals Here'!D:D,0)) -> FALSE | E2: =A2 -> 05-123-12061 | F2: =C2 -> 23 OWL CREEK | H2: =B2 -> ST JAMES ENERGY OPERATING INC
A3: 05-123-12435 | B3: ST JAMES ENERGY OPERATING INC | C3: 27 OWL CREEK | D3: =ISNUMBER(MATCH(A3,'Paste Directionals Here'!D:D,0)) -> FALSE | E3: =A3 -> 05-123-12435 | F3: =C3 -> 27 OWL CREEK | H3: =B3 -> ST JAMES ENERGY OPERATING INC
A4: 05-123-29449 | B4: NOBLE ENERGY INC | C4: 07-01X ANTHOLZ USX AB | D4: =ISNUMBER(MATCH(A4,'Paste Directionals Here'!D:D,0)) -> FALSE | E4: =A4 -> 05-123-29449 | F4: =C4 -> 07-01X ANTHOLZ USX AB | H4: =B4 -> NOBLE ENERGY INC
A5: 05-123-30093 | B5: NOBLE ENERGY INC | C5: 11-16 ELDER USX EE | D5: =ISNUMBER(MATCH(A5,'Paste Directionals Here'!D:D,0)) -> FALSE | E5: =A5 -> 05-123-30093 | F5: =C5 -> 11-16 ELDER USX EE | H5: =B5 -> NOBLE ENERGY INC
A6: 05-123-32080 | B6: NOBLE ENERGY INC | C6: AB08-13 Waugh PC | D6: =ISNUMBER(MATCH(A6,'Paste Directionals Here'!D:D,0)) -> FALSE | E6: =A6 -> 05-123-32080 | F6: =C6 -> AB08-13 Waugh PC | H6: =B6 -> NOBLE ENERGY INC
A7: 05-123-46344 | B7: CONFLUENCE DJ LLC | C7: 7-64-8-0362C Colette | D7: =ISNUMBER(MATCH(A7,'Paste Directionals Here'!D:D,0)) -> FALSE | E7: =A7 -> 05-123-46344 | F7: =C7 -> 7-64-8-0362C Colette | H7: =B7 -> CONFLUENCE DJ LLC
A8: 05-123-46345 | B8: CONFLUENCE DJ LLC | C8: 7-64-8-0164B Colette | D8: =ISNUMBER(MATCH(A8,'Paste Directionals Here'!D:D,0)) -> FALSE | E8: =A8 -> 05-123-46345 | F8: =C8 -> 7-64-8-0164B Colette | H8: =B8 -> CONFLUENCE DJ LLC
A9: 05-123-46346 | B9: CONFLUENCE DJ LLC | C9: 7-64-8-0263A Colette | D9: =ISNUMBER(MATCH(A9,'Paste Directionals Here'!D:D,0)) -> FALSE | E9: =A9 -> 05-123-46346 | F9: =C9 -> 7-64-8-0263A Colette | H9: =B9 -> CONFLUENCE DJ LLC
A10: 05-123-46347 | B10: CONFLUENCE DJ LLC | C10: 7-64-8-0461CD Colette | D10: =ISNUMBER(MATCH(A10,'Paste Directionals Here'!D:D,0)) -> FALSE | E10: =A10 -> 05-123-46347 | F10: =C10 -> 7-64-8-0461CD Colette | H10: =B10 -> CONFLUENCE DJ LLC
A11: 05-123-47874 | B11: CONFLUENCE DJ LLC | C11: 7-1-4L Pickaroon
A12: 05-123-47875 | B12: CONFLUENCE DJ LLC | C12: 7-1-1L Pickaroon
A13: 05-123-47876 | B13: CONFLUENCE DJ LLC | C13: 7-1-3L Pickaroon
A14: 05-123-47877 | B14: CONFLUENCE DJ LLC | C14: 7-3-1L Pickaroon
A15: 05-123-47878 | B15: CONFLUENCE DJ LLC | C15: 7-2-2L Pickaroon
A16: 05-123-47879 | B16: CONFLUENCE DJ LLC | C16: 7-2-4L Pickaroon
A17: 05-123-47880 | B17: CONFLUENCE DJ LLC | C17: 7-3-3L Pickaroon
A18: 05-123-47881 | B18: CONFLUENCE DJ LLC | C18: 7-3-4L Pickaroon
A19: 05-123-47882 | B19: CONFLUENCE DJ LLC | C19: 7-5-3L Pickaroon
A20: 05-123-47883 | B20: CONFLUENCE DJ LLC | C20: 7-6-2L Pickaroon
A21: 05-123-47884 | B21: CONFLUENCE DJ LLC | C21: 7-7-3L Pickaroon
A22: 05-123-47885 | B22: CONFLUENCE DJ LLC | C22: 7-4-2L Pickaroon
... A37: 05-123-48028 | B37: CONFLUENCE DJ LLC | C37: 7-11-1L Pickaroon

Sheet Paste Directionals Here
A1: API_Label | B1: Operator | C1: Well_Name | D1: API_Short | E1: Count_API_Short | F1: API_Display | G1: Well_Name_Display | H1: Blank_Column | I1: Operator_Display
A2: 05-123-40459-00 | B2: BAYSWATER EXPLORATION & PRODUCTION LLC | C2: BURROUGHS NORTH 1 | D2: =LEFT(A2,12) -> 05-123-40459 | E2: =COUNTIFS(D:D,D2) -> 1 | F2: =IF(E2=1,D2,A2) -> 05-123-40459 | G2: =C2 -> BURROUGHS NORTH 1 | I2: =B2 -> BAYSWATER EXPLORATION & PRODUCTION LLC
A3: 05-123-40460-00 | B3: BAYSWATER EXPLORATION & PRODUCTION LLC | C3: BURROUGHS NORTH 2 | D3: =LEFT(A3,12) -> 05-123-40460 | E3: =COUNTIFS(D:D,D3) -> 1 | F3: =IF(E3=1,D3,A3) -> 05-123-40460 | G3: =C3 -> BURROUGHS NORTH 2 | I3: =B3 -> BAYSWATER EXPLORATION & PRODUCTION LLC
A4: 05-123-47874-00 | B4: CONFLUENCE DJ LLC | C4: Pickaroon 7-1-4L | D4: =LEFT(A4,12) -> 05-123-47874 | E4: =COUNTIFS(D:D,D4) -> 1 | F4: =IF(E4=1,D4,A4) -> 05-123-47874 | G4: =C4 -> Pickaroon 7-1-4L | I4: =B4 -> CONFLUENCE DJ LLC
A5: 05-123-47875-00 | B5: CONFLUENCE DJ LLC | C5: Pickaroon 7-1-1L | D5: =LEFT(A5,12) -> 05-123-47875 | E5: =COUNTIFS(D:D,D5) -> 1 | F5: =IF(E5=1,D5,A5) -> 05-123-47875 | G5: =C5 -> Pickaroon 7-1-1L | I5: =B5 -> CONFLUENCE DJ LLC
A6: 05-123-47876-00 | B6: CONFLUENCE DJ LLC | C6: Pickaroon 7-1-3L | D6: =LEFT(A6,12) -> 05-123-47876 | E6: =COUNTIFS(D:D,D6) -> 1 | F6: =IF(E6=1,D6,A6) -> 05-123-47876 | G6: =C6 -> Pickaroon 7-1-3L | I6: =B6 -> CONFLUENCE DJ LLC
A7: 05-123-47877-00 | B7: CONFLUENCE DJ LLC | C7: Pickaroon 7-3-1L | D7: =LEFT(A7,12) -> 05-123-47877 | E7: =COUNTIFS(D:D,D7) -> 1 | F7: =IF(E7=1,D7,A7) -> 05-123-47877 | G7: =C7 -> Pickaroon 7-3-1L | I7: =B7 -> CONFLUENCE DJ LLC
A8: 05-123-47878-00 | B8: CONFLUENCE DJ LLC | C8: Pickaroon 7-2-2L | D8: =LEFT(A8,12) -> 05-123-47878 | E8: =COUNTIFS(D:D,D8) -> 1 | F8: =IF(E8=1,D8,A8) -> 05-123-47878 | G8: =C8 -> Pickaroon 7-2-2L | I8: =B8 -> CONFLUENCE DJ LLC
A9: 05-123-47879-00 | B9: CONFLUENCE DJ LLC | C9: Pickaroon 7-2-4L | D9: =LEFT(A9,12) -> 05-123-47879 | E9: =COUNTIFS(D:D,D9) -> 1 | F9: =IF(E9=1,D9,A9) -> 05-123-47879 | G9: =C9 -> Pickaroon 7-2-4L | I9: =B9 -> CONFLUENCE DJ LLC
A10: 05-123-47880-00 | B10: CONFLUENCE DJ LLC | C10: Pickaroon 7-3-3L | D10: =LEFT(A10,12) -> 05-123-47880 | E10: =COUNTIFS(D:D,D10) -> 1 | F10: =IF(E10=1,D10,A10) -> 05-123-47880 | G10: =C10 -> Pickaroon 7-3-3L | I10: =B10 -> CONFLUENCE DJ LLC
A11: 05-123-47881-00 | B11: CONFLUENCE DJ LLC | C11: Pickaroon 7-3-4L | D11: =LEFT(A11,12) -> 05-123-47881 | E11: =COUNTIFS(D:D,D11) -> 1 | F11: =IF(E11=1,D11,A11) -> 05-123-47881 | G11: =C11 -> Pickaroon 7-3-4L | I11: =B11 -> CONFLUENCE DJ LLC
A12: 05-123-47882-00 | B12: CONFLUENCE DJ LLC | C12: Pickaroon 7-5-3L | D12: =LEFT(A12,12) -> 05-123-47882 | E12: =COUNTIFS(D:D,D12) -> 1 | F12: =IF(E12=1,D12,A12) -> 05-123-47882 | G12: =C12 -> Pickaroon 7-5-3L | I12: =B12 -> CONFLUENCE DJ LLC
A13: 05-123-47883-00 | B13: CONFLUENCE DJ LLC | C13: Pickaroon 7-6-2L | D13: =LEFT(A13,12) -> 05-123-47883 | E13: =COUNTIFS(D:D,D13) -> 1 | F13: =IF(E13=1,D13,A13) -> 05-123-47883 | G13: =C13 -> Pickaroon 7-6-2L | I13: =B13 -> CONFLUENCE DJ LLC
... A39: 05-123-50574-00 | B39: NICKEL ROAD OPERATING LLC | C39: ELDER 8Y-HNC-2-07-65 | D39: =LEFT(A39,12) -> 05-123-50574 | E39: =COUNTIFS(D:D,D39) -> 1 | F39: =IF(E39=1,D39,A39) -> 05-123-50574 | G39: =C39 -> ELDER 8Y-HNC-2-07-65 | I39: =B39 -> NICKEL ROAD OPERATING LLC
