Workbook

Sheet Cover
B18: Hydrocarbon Gas Composition and Stable Isotopes
B19: Data and Interpretation
B21: Job #: | D21: 20033734
B22: Lab #: | D22: DIG-022480 - DIG-022481
B23: Client: | D23: LT Environmental
B24: Well Name: | D24: ELBERT 8N

Sheet Data Summary
A4: Client/Well Name: | C4: =CONCATENATE(Cover!D23," / ",Cover!D24) -> LT Environmental / ELBERT 8N
A5: Job #: | C5: =Cover!D21 -> 20033734
A6: Lab #: | C6: =Cover!D22 -> DIG-022480 - DIG-022481
A8: SAMPLE INFORMATION | J8: COMPLETE GAS ANALYSIS | Y8: HYDROCARBON GAS ANALYSIS (normalized to total HC content) | AG8: BTU CONTENT*
A9: Job | B9: Lab | C9: Well | D9: Sample | E9: Sample | F9: Sample | G9: Fm | H9: Formation | I9: Fm-Depth | J9: GC | K9: N2 | L9: O2 + Ar | M9: CO2 | N9: C1 | O9: C2 | P9: C3 | Q9: iC4 | R9: nC4 | S9: iC5 | T9: nC5 | U9: C6+ | V9: C2H4 | W9: He | X9: H2 | Y9: C1 | Z9: C2 | AA9: C3 | AB9: iC4 | AC9: nC4 | AD9: iC5 | AE9: nC5 | AF9: C6+ | AG9: Total Gas | AH9: HCs only | AS9: METHANE ISOTOPE DATA CATEGORIZED BY FORMATION | BM9: PROPANE ISOTOPE DATA CATEGORIZED BY FORMATION
A10: Number | B10: Number | C10: Name | D10: Type | E10: Date | F10: Time | G10: Code | H10: Name | J10: Date | K10: ppm | L10: ppm | M10: ppm | N10: ppm | O10: ppm | P10: ppm | Q10: ppm | R10: ppm | S10: ppm | T10: ppm | U10: ppm | V10: ppm | W10: ppm | X10: ppm | Y10: mol% | Z10: mol% | AA10: mol% | AB10: mol% | AC10: mol% | AD10: mol% | AE10: mol% | AF10: mol% | AG10: BTU/ft3 | AH10: BTU/ft3 | AS10: 1 | AT10: 2 | AU10: 3 | AV10: 4 | AW10: 5 | AX10: 6 | AY10: 7 | AZ10: 8 | BA10: 9 | BB10: 10 | BC10: 11 | BD10: 12 | BE10: 13 | BF10: 14 | BG10: 15 | BH10: 16 | BI10: 17 | BJ10: 18 | BK10: 19 | BL10: 20 | BM10: 1 | BN10: 2 | BO10: 3 | BP10: 4 | BQ10: 5 | BR10: 6 | BS10: 7 | BT10: 8 | BU10: 9 | BV10: 10 | BW10: 11 | BX10: 12 | BY10: 13 | BZ10: 14 | CA10: 15 | CB10: 16 | CC10: 17 | CD10: 18 | CE10: 19 | CF10: 20
N11: C1 | O11: C2 | P11: C3 | Q11: iC4 | R11: nC4 | S11: iC5 | T11: nC5 | U11: C6+ | V11: C6+ | Y11: C1 | Z11: C2 | AA11: C3 | AB11: iC4 | AC11: nC4 | AD11: iC5 | AE11: nC5 | AF11: C6+
A12: =C5 -> 20033734 | B12: DIG-022480 | C12: =Cover!D24&" "&D12 -> ELBERT 8N Bradenhead gas | D12: Bradenhead gas | E12: 43916 | F12: 0.46527778 | J12: 43921 | K12: 53346.67 | L12: 14150.15 | M12: nd | N12: 739196.5 | O12: 100904.2 | P12: 45930.43 | Q12: 7064.384 | R12: 13233.05 | S12: 3278.404 | T12: 2830.227 | U12: 726.6252 | V12: nd | W12: nd | X12: 7923.648 | Y12: =IF(N12="nd",NA(),100*N12/SUM($N12:$U12)) -> 80.948947 | Z12: =IF(O12="nd",NA(),100*O12/SUM($N12:$U12)) -> 11.049956 | AA12: =IF(P12="nd",NA(),100*P12/SUM($N12:$U12)) -> 5.0298127 | AB12: =IF(Q12="nd",NA(),100*Q12/SUM($N12:$U12)) -> 0.77361628 | AC12: =IF(R12="nd",NA(),100*R12/SUM($N12:$U12)) -> 1.449143 | AD12: =IF(S12="nd",NA(),100*S12/SUM($N12:$U12)) -> 0.35901598 | AE12: =IF(T12="nd",NA(),100*T12/SUM($N12:$U12)) -> 0.30993639 | AF12: =IF(U12="nd",NA(),100*U12/SUM($N12:$U12)) -> 0.079572272 | AG12: =(K12/SUM(K12:U12))+(L12/SUM(K12:U12))+(N12/SUM(K12:U12)*1010)+(O12/SUM(K12:U12)*1769.7)+(P12/SUM(K12:U12)*2516.1)+(Q12/SUM(K12:U12)*3251.9)+(R12/SUM(K12:U12)*3262.3)+(S12/SUM(K12:U12)*4000.9)+(T12/SUM(K12:U12)*4008.7)+(U12/SUM(K12:U12)*4755.9) -> 1157.2325 | AH12: =(Y12*1010+Z12*1769.7+AA12*2516.1+AB12*3251.9+AC12*3262.3+AD12*4000.9+AE12*4008.7+AF12*4755.9)/100 -> 1242.6958
A13: =A12 -> 20033734 | B13: DIG-022481 | C13: =Cover!D24&" "& D13 -> ELBERT 8N Production gas | D13: Production gas | E13: 43916 | F13: 0.45833333 | J13: 43921 | K13: 92579.31 | L13: 28857.29 | M13: 24074.41 | N13: 663785.9 | O13: 111271.9 | P13: 46049.76 | Q13: 6861.358 | R13: 14427.92 | S13: 3288.43 | T13: 3379.097 | U13: 2232.964 | V13: nd | W13: nd | X13: nd | Y13: =IF(N13="nd",NA(),100*N13/SUM($N13:$U13)) -> 77.97345 | Z13: =IF(O13="nd",NA(),100*O13/SUM($N13:$U13)) -> 13.070862 | AA13: =IF(P13="nd",NA(),100*P13/SUM($N13:$U13)) -> 5.4093627 | AB13: =IF(Q13="nd",NA(),100*Q13/SUM($N13:$U13)) -> 0.80598843 | AC13: =IF(R13="nd",NA(),100*R13/SUM($N13:$U13)) -> 1.6948156 | AD13: =IF(S13="nd",NA(),100*S13/SUM($N13:$U13)) -> 0.38628454 | AE13: =IF(T13="nd",NA(),100*T13/SUM($N13:$U13)) -> 0.39693499 | AF13: =IF(U13="nd",NA(),100*U13/SUM($N13:$U13)) -> 0.2623013 | AG13: =(K13/SUM(K13:U13))+(L13/SUM(K13:U13))+(M13/SUM(K13:U13))+(N13/SUM(K13:U13)*1010)+(O13/SUM(K13:U13)*1769.7)+(P13/SUM(K13:U13)*2516.1)+(Q13/SUM(K13:U13)*3251.9)+(R13/SUM(K13:U13)*3262.3)+(S13/SUM(K13:U13)*4000.9)+(T13/SUM(K13:U13)*4008.7)+(U13/SUM(K13:U13)*4755.9) -> 1093.5461 | AH13: =(Y13*1010+Z13*1769.7+AA13*2516.1+AB13*3251.9+AC13*3262.3+AD13*4000.9+AE13*4008.7+AF13*4755.9)/100 -> 1280.2934
A15: SAMPLE INFORMATION | J15: HYDROCARBON RATIOS | N15: STABLE ISOTOPE ANALYSIS | AF15: SPECIFIC GRAVITY*
A16: Job | B16: Lab | C16: Well | D16: Sample | E16: Sample | F16: Sample | J16: Total HC | K16: Wetness | L16: C1/C2+C3 | M16: Balance Ratio | N16: Mass Spec | O16: d13C1 | P16: d13C2 | Q16: d13C3 | R16: d13iC4 | S16: d13nC4 | T16: d13iC5 | U16: d13nC5 | V16: d13CO2 | W16: dD | X16: Comments | AC16: Stable isotope results based on multi-point laboratory calibration | AF16: Total Gas | AG16: HCs only
A17: Number | B17: Number | C17: Name | D17: Type | E17: Date | F17: Time | J17: ppm | K17: % C2 to C6 | L17: mol/mol | M17: C1+C2/C3-C5 | N17: Date | O17: ‰ VPDB | P17: ‰ VPDB | Q17: ‰ VPDB | R17: ‰ VPDB | S17: ‰ VPDB | T17: ‰ VPDB | U17: ‰ VPDB | V17: ‰ VPDB | W17: ‰ VSMOW | AC17: low signal; interpret with caution | AF17: Spec Grav | AG17: Spec Grav
O18: 1 | P18: 0.5 | Q18: 0.33 | S18: 0.25 | U18: 0.2 | V18: 0.2
A19: =A12 -> 20033734 | B19: =B12 -> DIG-022480 | C19: =C12 -> ELBERT 8N Bradenhead gas | D19: =D12 -> Bradenhead gas | E19: =E12 -> 43916 | F19: =F12 -> 0.46527778 | J19: =IF(SUM(N12:U12)>0,SUM(N12:U12),NA()) -> 913163.82 | K19: =IF(J19>0, 100*SUM(O12:U12)/SUM(N12:U12), NA()) -> 19.051053 | L19: =IF(Y12>0,IF(Z12>0,Y12/(Z12+AA12),NA())) -> 5.0342109 | M19: =(N12+O12)/SUM(P12:T12) -> 11.613788 | N19: 43922 | O19: -46.1 | P19: -30.1 | Q19: -26.9 | R19: -29.9 | S19: -26.5 | T19: -27.3 | U19: -27.7 | W19: -235 | AC19: Precision d13C <0.5 ‰ | AF19: =((K12/SUM(K12:U12)*28.0134)+(L12/SUM(K12:U12)*31.9988)+(N12/SUM(K12:U12)*16.0425)+(O12/SUM(K12:U12)*30.069)+(P12/SUM(K12:U12)*44.0956)+(Q12/SUM(K12:U12)*58.1222)+(R12/SUM(K12:U12)*58.1222)+(S12/SUM(K12:U12)*72.1488)+(T12/SUM(K12:U12)*72.1488)+(U12/SUM(K12:U12)*86.1754))/28.967 -> 0.7233574 | AG19: =((N12/SUM(N12:U12)*16.0425)+(O12/SUM(N12:U12)*30.069)+(P12/SUM(N12:U12)*44.0956)+(Q12/SUM(N12:U12)*58.1222)+(R12/SUM(N12:U12)*58.1222)+(S12/SUM(N12:U12)*72.1488)+(T12/SUM(N12:U12)*72.1488)+(U12/SUM(N12:U12)*86.1754))/28.967 -> 0.70321061
A20: =A13 -> 20033734 | B20: =B13 -> DIG-022481 | C20: =C13 -> ELBERT 8N Production gas | D20: =D13 -> Production gas | E20: =E13 -> 43916 | F20: =F13 -> 0.45833333 | J20: =IF(SUM(N13:U13)>0,SUM(N13:U13),NA()) -> 851297.33 | K20: =IF(J20>0, 100*SUM(O13:U13)/SUM(N13:U13), NA()) -> 22.02655 | L20: =IF(Y13>0,IF(Z13>0,Y13/(Z13+AA13),NA())) -> 4.2192912 | M20: =(N13+O13)/SUM(P13:T13) -> 10.472825 | N20: 43922 | O20: -43.9 | P20: -28.8 | Q20: -25.5 | R20: -29.2 | S20: -25.8 | T20: -26.4 | U20: -26 | V20: 4.6 | W20: -231 | AC20: Precision dD < 5 ‰ | AF20: =((K13/SUM(K13:U13)*28.0134)+(L13/SUM(K13:U13)*31.9988)+(M13/SUM(K13:U13)*44.0095)+(N13/SUM(K13:U13)*16.0425)+(O13/SUM(K13:U13)*30.069)+(P13/SUM(K13:U13)*44.0956)+(Q13/SUM(K13:U13)*58.1222)+(R13/SUM(K13:U13)*58.1222)+(S13/SUM(K13:U13)*72.1488)+(T13/SUM(K13:U13)*72.1488)+(U13/SUM(K13:U13)*86.1754))/28.967 -> 0.77966365 | AG20: =((N13/SUM(N13:U13)*16.0425)+(O13/SUM(N13:U13)*30.069)+(P13/SUM(N13:U13)*44.0956)+(Q13/SUM(N13:U13)*58.1222)+(R13/SUM(N13:U13)*58.1222)+(S13/SUM(N13:U13)*72.1488)+(T13/SUM(N13:U13)*72.1488)+(U13/SUM(N13:U13)*86.1754))/28.967 -> 0.72734851
AC21: * As ideal gas, with gas concentrations normalized to 100%;
AC22: caculations based on GPA 2145-09 physical constants.
AH23: Page 2

Sheet InterpretivePlots
A3: INTERPRETIVE PLOTS | M3: INTERPRETIVE PLOTS
A5: Methane d13C vs Wetness Genetic Classification Plot | G5: Hydrocarbon Composition Plot | M5: Mixing Plot | S5: Ethane - Propane Maturity Plot
L38: Page 3 | X38: Page 4
A41: INTERPRETIVE PLOTS | M41: INTERPRETIVE PLOTS
A43: Haworth Ratio Plot - Characterization of Hydrocarbon Type | G43: Methane d13C vs dD Genetic Classification Plot | M43: Methane d13C vs C1/(C2+C3) Genetic Classification Plot
L76: Page 5 | X76: Page 6

Sheet EDD 1
A1: Organization | B1: Reporting Organization | C1: Reporting Organization Name | D1: Order Number | E1: Entity Requesting Analysis | F1: Purpose | G1: Project
B2: 10206 | C2: Dolan Integration Group | E2: LT Environmental
A3: Sample | B3: COGCC Facility No. | C3: Sample Date and Time | D3: API # | E3: LAB Sample ID | F3: Sample Type | G3: Matrix | H3: Comments | I3: Project Number | J3: Chain of Custody ID | K3: Date Received by Lab
C4: 43916.465 | E4: DIG-022480 | F4: BDH | G4: GAS | K4: 43916
A5: Batch | B5: LabID | C5: Lab Batch Identifier | D5: Leach Date | E5: Extract Date and Time | F5: Extract Method | G5: Start Date and Time | H5: Conc Method | I5: Init Vol | J5: Final Vol | K5: Init Vol Units | L5: Final Vol Units | M5: Analysis Date and Time | N5: Report Basis | O5: Comments | P5: File Name | Q5: Column #
B6: 10206 | C6: 20033734
A7: Result | B7: CAS Number | C7: Analysis Name | D7: Analysis Method | E7: Analytical Method Modifier | F7: Unit | G7: Result Value | H7: Qualifier | I7: Test Type | J7: Result Text | K7: Data Flag | L7: Dilution | M7: Fraction Type | N7: MDC | O7: Requested MDC | P7: Detection Limit | Q7: Instrument Detection Limit | R7: Method Detection Limit | S7: Comments | T7: AnalyticalBatchID
B8: O2+AR | C8: OXYGEN + ARGON | D8: SOP | F8: MOL % | G8: 1.431 | P8: 0.005 | Q8: 0.005 | R8: 0.005 | T8: 20033734
B9: 124-38-9 | C9: CARBON DIOXIDE | D9: SOP | F9: MOL % | G9: 0.005 | H9: ND | P9: 0.005 | Q9: 0.005 | R9: 0.005 | T9: 20033734
B10: 7727-37-9 | C10: NITROGEN (N2) | D10: SOP | F10: MOL % | G10: 5.396 | P10: 0.005 | Q10: 0.005 | R10: 0.005 | T10: 20033734
B11: 7440-59-7 | C11: Helium | D11: SOP | F11: MOL % | G11: 0.005 | H11: ND | P11: 0.005 | Q11: 0.005 | R11: 0.005 | T11: 20033734
B12: 1333-74-0 | C12: HYDROGEN | D12: SOP | F12: MOL % | G12: 0.802 | P12: 0.005 | Q12: 0.005 | R12: 0.005 | T12: 20033734
B13: 74-82-8 | C13: METHANE | D13: SOP | F13: MOL % | G13: 74.773 | P13: 0.005 | Q13: 0.005 | R13: 0.005 | T13: 20033734
B14: 74-84-0 | C14: ETHANE | D14: SOP | F14: MOL % | G14: 10.207 | P14: 0.005 | Q14: 0.005 | R14: 0.005 | T14: 20033734
B15: 74-85-1 | C15: ETHENE | D15: SOP | F15: MOL % | G15: 0.005 | H15: ND | P15: 0.005 | Q15: 0.005 | R15: 0.005 | T15: 20033734
B16: 74-98-6 | C16: PROPANE | D16: SOP | F16: MOL % | G16: 4.646 | P16: 0.005 | Q16: 0.005 | R16: 0.005 | T16: 20033734
B17: 75-28-5 | C17: ISOBUTANE | D17: SOP | F17: MOL % | G17: 0.715 | P17: 0.005 | Q17: 0.005 | R17: 0.005 | T17: 20033734
B18: 106-97-8 | C18: N-BUTANE | D18: SOP | F18: MOL % | G18: 1.339 | P18: 0.005 | Q18: 0.005 | R18: 0.005 | T18: 20033734
B19: iC5 | C19: ISOPENTANE | D19: SOP | F19: MOL % | G19: 0.332 | P19: 0.005 | Q19: 0.005 | R19: 0.005 | T19: 20033734
B20: 109-66-0 | C20: N-PENTANE | D20: SOP | F20: MOL % | G20: 0.286 | P20: 0.005 | Q20: 0.005 | R20: 0.005 | T20: 20033734
B21: 92112-69-1+ | C21: C6+ (hexanes +) | D21: SOP | F21: MOL % | G21: 0.074 | P21: 0.005 | Q21: 0.005 | R21: 0.005 | T21: 20033734
B22: delta13C_C1 | C22: DELTA 13C C1 | D22: SOP | F22: per mil | G22: -46.1 | T22: 20033734
B23: deltaD_C1 | C23: DELTA D C1 | D23: SOP | F23: per mil | G23: -235 | T23: 20033734
B24: delta13C_C2 | C24: DELTA 13C C2 | D24: SOP | F24: per mil | G24: -30.1 | T24: 20033734
B25: delta13C_C3 | C25: DELTA 13C C3 | D25: SOP | F25: per mil | G25: -26.9 | T25: 20033734
B26: delta13C_iC4 | C26: DELTA 13C iC4 | D26: SOP | F26: per mil | G26: -29.9 | T26: 20033734
B27: delta13C_nC4 | C27: DELTA 13C nC4 | D27: SOP | F27: per mil | G27: -26.5 | T27: 20033734
B28: delta13C_iC5 | C28: Delta 13C iC5 | D28: SOP | F28: per mil | G28: -27.3 | K28: Low Signal | T28: 20033734
B29: delta13C_nC5 | C29: Delta 13C nC5 | D29: SOP | F29: per mil | G29: -27.7 | K29: Low Signal | T29: 20033734
B30: BTU | C30: BRITISH THERMAL UNITS | D30: SOP | F30: BTU/cuft | G30: 1157.2325 | T30: 20033734
B31: SpGrav | C31: SPECIFIC GRAVITY | D31: SOP | F31: No Unit | G31: 0.7233574 | T31: 20033734

Sheet EDD 2
A1: Organization | B1: Reporting Organization | C1: Reporting Organization Name | D1: Order Number | E1: Entity Requesting Analysis | F1: Purpose | G1: Project
B2: 10206 | C2: Dolan Integration Group | E2: LT Environmental
A3: Sample | B3: COGCC Facility No. | C3: Sample Date and Time | D3: API # | E3: LAB Sample ID | F3: Sample Type | G3: Matrix | H3: Comments | I3: Project Number | J3: Chain of Custody ID | K3: Date Received by Lab
C4: 43916.458 | E4: DIG-022481 | F4: PRDG | G4: GAS | K4: 43916
A5: Batch | B5: LabID | C5: Lab Batch Identifier | D5: Leach Date | E5: Extract Date and Time | F5: Extract Method | G5: Start Date and Time | H5: Conc Method | I5: Init Vol | J5: Final Vol | K5: Init Vol Units | L5: Final Vol Units | M5: Analysis Date and Time | N5: Report Basis | O5: Comments | P5: File Name | Q5: Column #
B6: 10206 | C6: 20033734
A7: Result | B7: CAS Number | C7: Analysis Name | D7: Analysis Method | E7: Analytical Method Modifier | F7: Unit | G7: Result Value | H7: Qualifier | I7: Test Type | J7: Result Text | K7: Data Flag | L7: Dilution | M7: Fraction Type | N7: MDC | O7: Requested MDC | P7: Detection Limit | Q7: Instrument Detection Limit | R7: Method Detection Limit | S7: Comments | T7: AnalyticalBatchID
B8: O2+AR | C8: OXYGEN + ARGON | D8: SOP | F8: MOL % | G8: 2.895 | P8: 0.005 | Q8: 0.005 | R8: 0.005 | T8: 20033734
B9: 124-38-9 | C9: CARBON DIOXIDE | D9: SOP | F9: MOL % | G9: 2.415 | P9: 0.005 | Q9: 0.005 | R9: 0.005 | T9: 20033734
B10: 7727-37-9 | C10: NITROGEN (N2) | D10: SOP | F10: MOL % | G10: 9.288 | P10: 0.005 | Q10: 0.005 | R10: 0.005 | T10: 20033734
B11: 7440-59-7 | C11: Helium | D11: SOP | F11: MOL % | G11: 0.005 | H11: ND | P11: 0.005 | Q11: 0.005 | R11: 0.005 | T11: 20033734
B12: 1333-74-0 | C12: HYDROGEN | D12: SOP | F12: MOL % | G12: 0.005 | H12: ND | P12: 0.005 | Q12: 0.005 | R12: 0.005 | T12: 20033734
B13: 74-82-8 | C13: METHANE | D13: SOP | F13: MOL % | G13: 66.591 | P13: 0.005 | Q13: 0.005 | R13: 0.005 | T13: 20033734
B14: 74-84-0 | C14: ETHANE | D14: SOP | F14: MOL % | G14: 11.163 | P14: 0.005 | Q14: 0.005 | R14: 0.005 | T14: 20033734
B15: 74-85-1 | C15: ETHENE | D15: SOP | F15: MOL % | G15: 0.005 | H15: ND | P15: 0.005 | Q15: 0.005 | R15: 0.005 | T15: 20033734
B16: 74-98-6 | C16: PROPANE | D16: SOP | F16: MOL % | G16: 4.62 | P16: 0.005 | Q16: 0.005 | R16: 0.005 | T16: 20033734
B17: 75-28-5 | C17: ISOBUTANE | D17: SOP | F17: MOL % | G17: 0.688 | P17: 0.005 | Q17: 0.005 | R17: 0.005 | T17: 20033734
B18: 106-97-8 | C18: N-BUTANE | D18: SOP | F18: MOL % | G18: 1.447 | P18: 0.005 | Q18: 0.005 | R18: 0.005 | T18: 20033734
B19: iC5 | C19: ISOPENTANE | D19: SOP | F19: MOL % | G19: 0.33 | P19: 0.005 | Q19: 0.005 | R19: 0.005 | T19: 20033734
B20: 109-66-0 | C20: N-PENTANE | D20: SOP | F20: MOL % | G20: 0.339 | P20: 0.005 | Q20: 0.005 | R20: 0.005 | T20: 20033734
B21: 92112-69-1+ | C21: C6+ (hexanes +) | D21: SOP | F21: MOL % | G21: 0.224 | P21: 0.005 | Q21: 0.005 | R21: 0.005 | T21: 20033734
B22: delta13C_C1 | C22: DELTA 13C C1 | D22: SOP | F22: per mil | G22: -43.9 | T22: 20033734
B23: deltaD_C1 | C23: DELTA D C1 | D23: SOP | F23: per mil | G23: -231 | T23: 20033734
B24: delta13C_C2 | C24: DELTA 13C C2 | D24: SOP | F24: per mil | G24: -28.8 | T24: 20033734
B25: delta13C_C3 | C25: DELTA 13C C3 | D25: SOP | F25: per mil | G25: -25.5 | T25: 20033734
B26: delta13C_iC4 | C26: DELTA 13C iC4 | D26: SOP | F26: per mil | G26: -29.2 | T26: 20033734
B27: delta13C_nC4 | C27: DELTA 13C nC4 | D27: SOP | F27: per mil | G27: -25.8 | T27: 20033734
B28: delta13C_iC5 | C28: Delta 13C iC5 | D28: SOP | F28: per mil | G28: -26.4 | T28: 20033734
B29: delta13C_nC5 | C29: Delta 13C nC5 | D29: SOP | F29: per mil | G29: -26 | T29: 20033734
B30: delta13C_CO2 | C30: DELTA 13C CO2 | D30: SOP | F30: per mil | G30: 4.6 | T30: 20033734
B31: BTU | C31: BRITISH THERMAL UNITS | D31: SOP | F31: BTU/cuft | G31: 1093.5461 | T31: 20033734
B32: SpGrav | C32: SPECIFIC GRAVITY | D32: SOP | F32: No Unit | G32: 0.77966365 | T32: 20033734

Sheet COC
