Workbook

Sheet 12-8-2016
A1: Extraction Oil & Gas
A2: Completion Report
A6: Date: | B6: 42712 | H6: AFE #: | I6: Bison
A7: Well Name: | B7: Kissler 2-10 (Bison) | E7: Liner | H7: County: | I7: Arapahoe | J7: State: | K7: Colorado
A8: Wellbore Info: | B8: Total Depth MD: | D8: ft | E8: KOP: | F8: N/A | G8: ft | H8: KB: | J8: ft
B9: Total Depth TVD: | D9: ft | E9: Liner Top: | F9: N/A | G9: ft | H9: Tubing: | I9: 2 3/8 4.7# J-55
A10: Surface Casing: | B10: 9 5/8" 43# @ 308'
A11: Intermediate: | B11: 4 1/2 11.6# @ 8175'
A12: Prod. Liner: | B12: none
A13: Frac String: | B13: None
A14: Cost Summary
A15: Item | B15: Thunderbird Rig 19 | D15: 1500 | G15: 0 | J15: 0 | K15: Daily Total | L15: =SUM(D15:D18,G15:G18,J15:J20) -> 3500
B16: Ensign Rig move | D16: 2000 | G16: 0 | J16: 0 | K16: Cum. Total | L16: =L15 -> 3500
D17: 0 | G17: 0 | J17: 0
D18: 0 | G18: 0 | J18: 0
A19: Completion Supervisor: | C19: Day: | D19: Luke Mahoney (Day rate charged to Waag #12) | G19: Cost: | H19: SEC | J19: 0
C20: Night: | G20: Cost:
A21: Crucial notes: | B21: (Information placed here will be forwarded to all following sheets)
E22: Summary of Operations
A24: *CLICK HERE-CHOSE ONE
A25: Liner
A26: Monobore
A27: Vertical

Sheet Production Tubing Tally
B1: BHA | L1: TOP PERF
A2: 1 | B2: Bull plug | E2: 0 | G2: Tally for | I2: Extraction Oil & Gas | L2: BOTTOM PERF | P2: TBG SIZE | Q2: OD | R2: ID | S2: WT
A3: 2 | B3: Perf sub | E3: 0 | G3: WELL | I3: Dan Kissler 2-10 | L3: Land @ | M3: =SUM(M1-M2*0.66+M1) -> 0 | P3: 1.25 | Q3: 1.66 | R3: 1.38 | S3: 2.33
A4: 3 | B4: XN nipple | E4: 0 | G4: DATE | I4: 42716 | P4: 1.5
A5: 4 | B5: Hanger | E5: 0 | G5: COUNTY | I5: Arapahoe | M5: FILL IN | P5: 1.9
A6: 5 | G6: STATE | I6: Colorado | M6: FORMULA | P6: 2.0625
A7: 6 | P7: 2.375 | Q7: 2.375 | R7: 1.991 | S7: 4.7
A8: 7 | F8: Company | I8: OD | J8: ID | K8: WT/FT | P8: 2.875 | Q8: 2.875 | R8: 2.441 | S8: 6.5
A9: 8 | H9: TBG | I9: 2.375 | J9: 1.991 | K9: 4.7 | P9: 3.5 | Q9: 3.5 | R9: 2.991 | S9: 9.3
A10: 9 | H10: CSG | I10: 4.5 | J10: 4 | K10: 11.6
A11: 10 | H11: LINER
A12: 11 | H12: LINER/PBTD | I12: 0 | J12: FLUID PPG | K12: 8.4 | M12: BOY FACTOR | O12: =(65.5-K12)/65.5 -> 0.87175573
A13: 12 | F13: Contact name | H13: KB | I13: 0 | J13: TBG BPF | K13: =(J9*J9)/1029.4 -> 0.0038508656 | M13: SICP | N13: KILL WT. | P13: CSG SIZE | Q13: OD | R13: ID | S13: WT
A14: 13 | F14: Contact number | H14: JTS ON LOC | J14: CSG BPF | K14: =(J10*J10)/1029.4 -> 0.015543035 | N14: =M14/0.052/I12+K12 -> #DIV/0! | P14: 4.5 | Q14: 4.5 | R14: 4.09 | S14: 9.5
A15: 14 | J15: CSG ANN | K15: =((J10*J10)-(I9*I9))*0.0009714 -> 0.010063097 | P15: 4.5 | Q15: 4.5 | R15: 4.052 | S15: 10.5
A16: 15 | H16: JT AVE | J16: LINER BPF | K16: =(J11*J11)/1029.4 -> 0 | P16: 4.5 | Q16: 4.5 | R16: 4 | S16: 11.6
D17: TOTAL | E17: =SUM(E2:E16) -> 0 | J17: LINER ANN | K17: =((J11*J11)-(I9*I9))*0.0009714 -> -0.0054793031 | P17: 4.5 | Q17: 4.5 | R17: 3.826 | S17: 15.1
B18: JTS IN | C18: JTS OUT | D18: JT LENGTH | E18: LENGTH OF TEN JTS | F18: TOTAL TUBING | G18: TBG + BHA + KB | H18: TBG VOLUME | I18: CSG ANN VOLUME | J18: STRING WEIGHT | K18: LINER ANN VOLUME | L18: HYDROSTATICS | M18: JT LENGTH W/O DEC | N18: Jts in | P18: 4.5 | Q18: 4.5 | R18: 3.92 | S18: 13.5
A19: 1 | B19: =IF(M19<=1,(0),IF(M19<3600,(1),IF(M19>=3601,(2),""))) -> 2 | C19: =IF(M19>0,($I$14-B19),"") -> -2 | D19: =IF(19>0,SUM(M19/100),"") -> 62.46 | F19: =D19 -> 62.46 | G19: =IF(M19>0,(F19+$E$17+$I$13),"") -> 62.46 | H19: =IF(M19>0,($K$13*F19),"") -> 0.24052506 | I19: =IF(M19>0,($K$15*F19),"") -> 0.62854103 | J19: =IF(M19>0,((F19*$K$9)*$O$12),"") -> 255.91435 | K19: =IF(G19>$I$12,((G19-$I$12)*$K$17),"") -> -0.34223727 | L19: =0.052*K12*G19 -> 27.282528 | M19: 6246 | N19: =IF(M19<=1,(0),IF(M19<3600,(1),IF(M19>=3601,(2),""))) -> 2 | P19: 5.5 | Q19: 5.5 | R19: 4.95 | S19: 15.5
A20: =A19+1 -> 2 | B20: =IF(M20<=1,(0),IF(M20<3600,(1),IF(M20>=3601,(2),"")))+B19 -> 4 | C20: =IF(M20>0,($I$14-B20),"") -> -4 | D20: =IF(M20>0,SUM(M20/100),"") -> 62.4 | F20: =IF(M20>0,(F19+D20),"") -> 124.86 | G20: =IF(M20>0,(F20+$E$17+$I$13),"") -> 124.86 | H20: =IF(M20>0,($K$13*F20),"") -> 0.48081907 | I20: =IF(M20>0,($K$15*F20),"") -> 1.2564783 | J20: =IF(M20>0,((F20*$K$9)*$O$12),"") -> 511.58287 | K20: =IF(G20>$I$12,((G20-$I$12)*$K$17),"") -> -0.68414579 | L20: =0.052*K$12*G20 -> 54.538848 | M20: 6240 | N20: =IF(M20<=1,(0),IF(M20<3600,(1),IF(M20>=3601,(2),"")))+N19 -> 4 | P20: 5.5 | Q20: 5.5 | R20: 4.892 | S20: 17
A21: =A20+1 -> 3 | B21: =IF(M21<=1,(0),IF(M21<3600,(1),IF(M21>=3601,(2),"")))+B20 -> 6 | C21: =IF(M21>0,($I$14-B21),"") -> -6 | D21: =IF(M21>0,(M21/100),"") -> 62.33 | F21: =IF(M21>0,(F20+D21),"") -> 187.19 | G21: =IF(M21>0,(F21+$E$17+$I$13),"") -> 187.19 | H21: =IF(M21>0,($K$13*F21),"") -> 0.72084352 | I21: =IF(M21>0,($K$15*F21),"") -> 1.8837111 | J21: =IF(M21>0,((F21*$K$9)*$O$12),"") -> 766.96458 | K21: =IF(G21>$I$12,((G21-$I$12)*$K$17),"") -> -1.0256708 | L21: =0.052*K$12*G21 -> 81.764592 | M21: 6233 | N21: =IF(M21<=1,(0),IF(M21<3600,(1),IF(M21>=3601,(2),"")))+N20 -> 6 | P21: 5.5 | Q21: 5.5 | R21: 4.778 | S21: 20
A22: =A21+1 -> 4 | B22: =IF(M22<=1,(0),IF(M22<3600,(1),IF(M22>=3601,(2),"")))+B21 -> 8 | C22: =IF(M22>0,($I$14-B22),"") -> -8 | D22: =IF(M22>0,(M22/100),"") -> 60.91 | F22: =IF(M22>0,(F21+D22),"") -> 248.1 | G22: =IF(M22>0,(F22+$E$17+$I$13),"") -> 248.1 | H22: =IF(M22>0,($K$13*F22),"") -> 0.95539974 | I22: =IF(M22>0,($K$15*F22),"") -> 2.4966543 | J22: =IF(M22>0,((F22*$K$9)*$O$12),"") -> 1016.5282 | K22: =IF(G22>$I$12,((G22-$I$12)*$K$17),"") -> -1.3594151 | L22: =0.052*K$12*G22 -> 108.37008 | M22: 6091 | N22: =IF(M22<=1,(0),IF(M22<3600,(1),IF(M22>=3601,(2),"")))+N21 -> 8 | P22: 5.5 | Q22: 5.5 | R22: 4.67 | S22: 23
A23: =A22+1 -> 5 | B23: =IF(M23<=1,(0),IF(M23<3600,(1),IF(M23>=3601,(2),"")))+B22 -> 10 | C23: =IF(M23>0,($I$14-B23),"") -> -10 | D23: =IF(M23>0,(M23/100),"") -> 60.2 | F23: =IF(M23>0,(F22+D23),"") -> 308.3 | G23: =IF(M23>0,(F23+$E$17+$I$13),"") -> 308.3 | H23: =IF(M23>0,($K$13*F23),"") -> 1.1872218 | I23: =IF(M23>0,($K$15*F23),"") -> 3.1024528 | J23: =IF(M23>0,((F23*$K$9)*$O$12),"") -> 1263.1828 | K23: =IF(G23>$I$12,((G23-$I$12)*$K$17),"") -> -1.6892692 | L23: =0.052*K$12*G23 -> 134.66544 | M23: 6020 | N23: =IF(M23<=1,(0),IF(M23<3600,(1),IF(M23>=3601,(2),"")))+N22 -> 10 | P23: 7 | Q23: 7 | R23: 6.366 | S23: 23
A24: =A23+1 -> 6 | B24: =IF(M24<=1,(0),IF(M24<3600,(1),IF(M24>=3601,(2),"")))+B23 -> 12 | C24: =IF(M24>0,($I$14-B24),"") -> -12 | D24: =IF(M24>0,(M24/100),"") -> 59.67 | F24: =IF(M24>0,(F23+D24),"") -> 367.97 | G24: =IF(M24>0,(F24+$E$17+$I$13),"") -> 367.97 | H24: =IF(M24>0,($K$13*F24),"") -> 1.417003 | I24: =IF(M24>0,($K$15*F24),"") -> 3.7029178 | J24: =IF(M24>0,((F24*$K$9)*$O$12),"") -> 1507.6658 | K24: =IF(G24>$I$12,((G24-$I$12)*$K$17),"") -> -2.0162192 | L24: =0.052*K$12*G24 -> 160.7293 | M24: 5967 | N24: =IF(M24<=1,(0),IF(M24<3600,(1),IF(M24>=3601,(2),"")))+N23 -> 12 | P24: 7 | Q24: 7 | R24: 6.276 | S24: 26
A25: =A24+1 -> 7 | B25: =IF(M25<=1,(0),IF(M25<3600,(1),IF(M25>=3601,(2),"")))+B24 -> 14 | C25: =IF(M25>0,($I$14-B25),"") -> -14 | D25: =IF(M25>0,(M25/100),"") -> 59.47 | F25: =IF(M25>0,(F24+D25),"") -> 427.44 | G25: =IF(M25>0,(F25+$E$17+$I$13),"") -> 427.44 | H25: =IF(M25>0,($K$13*F25),"") -> 1.646014 | I25: =IF(M25>0,($K$15*F25),"") -> 4.3013701 | J25: =IF(M25>0,((F25*$K$9)*$O$12),"") -> 1751.3294 | K25: =IF(G25>$I$12,((G25-$I$12)*$K$17),"") -> -2.3420733 | L25: =0.052*K$12*G25 -> 186.70579 | M25: 5947 | N25: =IF(M25<=1,(0),IF(M25<3600,(1),IF(M25>=3601,(2),"")))+N24 -> 14 | P25: 7 | Q25: 7 | R25: 6.184 | S25: 29
A26: =A25+1 -> 8 | B26: =IF(M26<=1,(0),IF(M26<3600,(1),IF(M26>=3601,(2),"")))+B25 -> 16 | C26: =IF(M26>0,($I$14-B26),"") -> -16 | D26: =IF(M26>0,(M26/100),"") -> 60.45 | F26: =IF(M26>0,(F25+D26),"") -> 487.89 | G26: =IF(M26>0,(F26+$E$17+$I$13),"") -> 487.89 | H26: =IF(M26>0,($K$13*F26),"") -> 1.8787988 | I26: =IF(M26>0,($K$15*F26),"") -> 4.9096843 | J26: =IF(M26>0,((F26*$K$9)*$O$12),"") -> 1999.0082 | K26: =IF(G26>$I$12,((G26-$I$12)*$K$17),"") -> -2.6732972 | L26: =0.052*K$12*G26 -> 213.11035 | M26: 6045 | N26: =IF(M26<=1,(0),IF(M26<3600,(1),IF(M26>=3601,(2),"")))+N25 -> 16 | P26: 7 | Q26: 7 | R26: 6.094 | S26: 32
A27: =A26+1 -> 9 | B27: =IF(M27<=1,(0),IF(M27<3600,(1),IF(M27>=3601,(2),"")))+B26 -> 18 | C27: =IF(M27>0,($I$14-B27),"") -> -18 | D27: =IF(M27>0,(M27/100),"") -> 60 | F27: =IF(M27>0,(F26+D27),"") -> 547.89 | G27: =IF(M27>0,(F27+$E$17+$I$13),"") -> 547.89 | H27: =IF(M27>0,($K$13*F27),"") -> 2.1098507 | I27: =IF(M27>0,($K$15*F27),"") -> 5.5134701 | J27: =IF(M27>0,((F27*$K$9)*$O$12),"") -> 2244.8433 | K27: =IF(G27>$I$12,((G27-$I$12)*$K$17),"") -> -3.0020554 | L27: =0.052*K$12*G27 -> 239.31835 | M27: 6000 | N27: =IF(M27<=1,(0),IF(M27<3600,(1),IF(M27>=3601,(2),"")))+N26 -> 18 | P27: 7.625 | Q27: 7.625 | R27: 6.969 | S27: 26.4
A28: =A27+1 -> 10 | B28: =IF(M28<=1,(0),IF(M28<3600,(1),IF(M28>=3601,(2),"")))+B27 -> 20 | C28: =IF(M28>0,($I$14-B28),"") -> -20 | D28: =IF(M28>0,(M28/100),"") -> 60.02 | E28: =SUM(D19:D28) -> 607.91 | F28: =IF(M28>0,(F27+D28),"") -> 607.91 | G28: =IF(M28>0,(F28+$E$17+$I$13),"") -> 607.91 | H28: =IF(M28>0,($K$13*F28),"") -> 2.3409797 | I28: =IF(M28>0,($K$15*F28),"") -> 6.1174572 | J28: =IF(M28>0,((F28*$K$9)*$O$12),"") -> 2490.7604 | K28: =IF(G28>$I$12,((G28-$I$12)*$K$17),"") -> -3.3309232 | L28: =0.052*K$12*G28 -> 265.53509 | M28: 6002 | N28: =IF(M28<=1,(0),IF(M28<3600,(1),IF(M28>=3601,(2),"")))+N27 -> 20 | P28: 7.625 | Q28: 7.625 | R28: 6.875 | S28: 29.7
A29: =A28+1 -> 11 | B29: =IF(M29<=1,(0),IF(M29<3600,(1),IF(M29>=3601,(2),"")))+B28 -> 22 | C29: =IF(M29>0,($I$14-B29),"") -> -22 | D29: =IF(M29>0,(M29/100),"") -> 60.82 | F29: =IF(M29>0,(F28+D29),"") -> 668.73 | G29: =IF(M29>0,(F29+$E$17+$I$13),"") -> 668.73 | H29: =IF(M29>0,($K$13*F29),"") -> 2.5751893 | I29: =IF(M29>0,($K$15*F29),"") -> 6.7294948 | J29: =IF(M29>0,((F29*$K$9)*$O$12),"") -> 2739.9553 | K29: =IF(G29>$I$12,((G29-$I$12)*$K$17),"") -> -3.6641744 | L29: =0.052*K$12*G29 -> 292.10126 | M29: 6082 | N29: =IF(M29<=1,(0),IF(M29<3600,(1),IF(M29>=3601,(2),"")))+N28 -> 22 | P29: 7.625 | Q29: 7.625 | R29: 6.765 | S29: 33.7
A30: =A29+1 -> 12 | B30: =IF(M30<=1,(0),IF(M30<3600,(1),IF(M30>=3601,(2),"")))+B29 -> 24 | C30: =IF(M30>0,($I$14-B30),"") -> -24 | D30: =IF(M30>0,(M30/100),"") -> 60.84 | F30: =IF(M30>0,(F29+D30),"") -> 729.57 | G30: =IF(M30>0,(F30+$E$17+$I$13),"") -> 729.57 | H30: =IF(M30>0,($K$13*F30),"") -> 2.809476 | I30: =IF(M30>0,($K$15*F30),"") -> 7.3417336 | J30: =IF(M30>0,((F30*$K$9)*$O$12),"") -> 2989.2321 | K30: =IF(G30>$I$12,((G30-$I$12)*$K$17),"") -> -3.9975352 | L30: =0.052*K$12*G30 -> 318.67618 | M30: 6084 | N30: =IF(M30<=1,(0),IF(M30<3600,(1),IF(M30>=3601,(2),"")))+N29 -> 24 | P30: 7.625 | Q30: 7.625 | R30: 6.625 | S30: 39
A31: =A30+1 -> 13 | B31: =IF(M31<=1,(0),IF(M31<3600,(1),IF(M31>=3601,(2),"")))+B30 -> 26 | C31: =IF(M31>0,($I$14-B31),"") -> -26 | D31: =IF(M31>0,(M31/100),"") -> 59.68 | F31: =IF(M31>0,(F30+D31),"") -> 789.25 | G31: =IF(M31>0,(F31+$E$17+$I$13),"") -> 789.25 | H31: =IF(M31>0,($K$13*F31),"") -> 3.0392956 | I31: =IF(M31>0,($K$15*F31),"") -> 7.9422992 | J31: =IF(M31>0,((F31*$K$9)*$O$12),"") -> 3233.7561 | K31: =IF(G31>$I$12,((G31-$I$12)*$K$17),"") -> -4.32454 | L31: =0.052*K$12*G31 -> 344.7444 | M31: 5968 | N31: =IF(M31<=1,(0),IF(M31<3600,(1),IF(M31>=3601,(2),"")))+N30 -> 26
A32: =A31+1 -> 14 | B32: =IF(M32<=1,(0),IF(M32<3600,(1),IF(M32>=3601,(2),"")))+B31 -> 28 | C32: =IF(M32>0,($I$14-B32),"") -> -28 | D32: =IF(M32>0,(M32/100),"") -> 62.27 | F32: =IF(M32>0,(F31+D32),"") -> 851.52 | G32: =IF(M32>0,(F32+$E$17+$I$13),"") -> 851.52 | H32: =IF(M32>0,($K$13*F32),"") -> 3.279089 | I32: =IF(M32>0,($K$15*F32),"") -> 8.5689283 | J32: =IF(M32>0,((F32*$K$9)*$O$12),"") -> 3488.8919 | K32: =IF(G32>$I$12,((G32-$I$12)*$K$17),"") -> -4.6657362 | L32: =0.052*K$12*G32 -> 371.94394 | M32: 6227 | N32: =IF(M32<=1,(0),IF(M32<3600,(1),IF(M32>=3601,(2),"")))+N31 -> 28
A33: =A32+1 -> 15 | B33: =IF(M33<=1,(0),IF(M33<3600,(1),IF(M33>=3601,(2),"")))+B32 -> 30 | C33: =IF(M33>0,($I$14-B33),"") -> -30 | D33: =IF(M33>0,(M33/100),"") -> 62.38 | F33: =IF(M33>0,(F32+D33),"") -> 913.9 | G33: =IF(M33>0,(F33+$E$17+$I$13),"") -> 913.9 | H33: =IF(M33>0,($K$13*F33),"") -> 3.519306 | I33: =IF(M33>0,($K$15*F33),"") -> 9.1966642 | J33: =IF(M33>0,((F33*$K$9)*$O$12),"") -> 3744.4785 | K33: =IF(G33>$I$12,((G33-$I$12)*$K$17),"") -> -5.0075351 | L33: =0.052*K$12*G33 -> 399.19152 | M33: 6238 | N33: =IF(M33<=1,(0),IF(M33<3600,(1),IF(M33>=3601,(2),"")))+N32 -> 30
A34: =A33+1 -> 16 | B34: =IF(M34<=1,(0),IF(M34<3600,(1),IF(M34>=3601,(2),"")))+B33 -> 32 | C34: =IF(M34>0,($I$14-B34),"") -> -32 | D34: =IF(M34>0,(M34/100),"") -> 60.84 | F34: =IF(M34>0,(F33+D34),"") -> 974.74 | G34: =IF(M34>0,(F34+$E$17+$I$13),"") -> 974.74 | H34: =IF(M34>0,($K$13*F34),"") -> 3.7535927 | I34: =IF(M34>0,($K$15*F34),"") -> 9.808903 | J34: =IF(M34>0,((F34*$K$9)*$O$12),"") -> 3993.7553 | K34: =IF(G34>$I$12,((G34-$I$12)*$K$17),"") -> -5.3408959 | L34: =0.052*K$12*G34 -> 425.76643 | M34: 6084 | N34: =IF(M34<=1,(0),IF(M34<3600,(1),IF(M34>=3601,(2),"")))+N33 -> 32
A35: =A34+1 -> 17 | B35: =IF(M35<=1,(0),IF(M35<3600,(1),IF(M35>=3601,(2),"")))+B34 -> 34 | C35: =IF(M35>0,($I$14-B35),"") -> -34 | D35: =IF(M35>0,(M35/100),"") -> 60.28 | F35: =IF(M35>0,(F34+D35),"") -> 1035.02 | G35: =IF(M35>0,(F35+$E$17+$I$13),"") -> 1035.02 | H35: =IF(M35>0,($K$13*F35),"") -> 3.9857229 | I35: =IF(M35>0,($K$15*F35),"") -> 10.415507 | J35: =IF(M35>0,((F35*$K$9)*$O$12),"") -> 4240.7377 | K35: =IF(G35>$I$12,((G35-$I$12)*$K$17),"") -> -5.6711883 | L35: =0.052*K$12*G35 -> 452.09674 | M35: 6028 | N35: =IF(M35<=1,(0),IF(M35<3600,(1),IF(M35>=3601,(2),"")))+N34 -> 34 | R35: WELL BORE
A36: =A35+1 -> 18 | B36: =IF(M36<=1,(0),IF(M36<3600,(1),IF(M36>=3601,(2),"")))+B35 -> 36 | C36: =IF(M36>0,($I$14-B36),"") -> -36 | D36: =IF(M36>0,(M36/100),"") -> 58.97 | F36: =IF(M36>0,(F35+D36),"") -> 1093.99 | G36: =IF(M36>0,(F36+$E$17+$I$13),"") -> 1093.99 | H36: =IF(M36>0,($K$13*F36),"") -> 4.2128084 | I36: =IF(M36>0,($K$15*F36),"") -> 11.008927 | J36: =IF(M36>0,((F36*$K$9)*$O$12),"") -> 4482.3526 | K36: =IF(G36>$I$12,((G36-$I$12)*$K$17),"") -> -5.9943028 | L36: =0.052*K$12*G36 -> 477.85483 | M36: 5897 | N36: =IF(M36<=1,(0),IF(M36<3600,(1),IF(M36>=3601,(2),"")))+N35 -> 36 | R36: Casing | S36: Tubing
A37: =A36+1 -> 19 | B37: =IF(M37<=1,(0),IF(M37<3600,(1),IF(M37>=3601,(2),"")))+B36 -> 38 | C37: =IF(M37>0,($I$14-B37),"") -> -38 | D37: =IF(M37>0,(M37/100),"") -> 59.93 | F37: =IF(M37>0,(F36+D37),"") -> 1153.92 | G37: =IF(M37>0,(F37+$E$17+$I$13),"") -> 1153.92 | H37: =IF(M37>0,($K$13*F37),"") -> 4.4435908 | I37: =IF(M37>0,($K$15*F37),"") -> 11.612009 | J37: =IF(M37>0,((F37*$K$9)*$O$12),"") -> 4727.9009 | K37: =IF(G37>$I$12,((G37-$I$12)*$K$17),"") -> -6.3226775 | L37: =0.052*K$12*G37 -> 504.03226 | M37: 5993 | N37: =IF(M37<=1,(0),IF(M37<3600,(1),IF(M37>=3601,(2),"")))+N36 -> 38
A38: =A37+1 -> 20 | B38: =IF(M38<=1,(0),IF(M38<3600,(1),IF(M38>=3601,(2),"")))+B37 -> 40 | C38: =IF(M38>0,($I$14-B38),"") -> -40 | D38: =IF(M38>0,(M38/100),"") -> 61.55 | E38: =SUM(D29:D38) -> 607.56 | F38: =IF(M38>0,(F37+D38),"") -> 1215.47 | G38: =IF(M38>0,(F38+$E$17+$I$13),"") -> 1215.47 | H38: =IF(M38>0,($K$13*F38),"") -> 4.6806116 | I38: =IF(M38>0,($K$15*F38),"") -> 12.231392 | J38: =IF(M38>0,((F38*$K$9)*$O$12),"") -> 4980.0868 | K38: =IF(G38>$I$12,((G38-$I$12)*$K$17),"") -> -6.6599286 | L38: =0.052*K$12*G38 -> 530.9173 | M38: 6155 | N38: =IF(M38<=1,(0),IF(M38<3600,(1),IF(M38>=3601,(2),"")))+N37 -> 40
A39: =A38+1 -> 21 | B39: =IF(M39<=1,(0),IF(M39<3600,(1),IF(M39>=3601,(2),"")))+B38 -> 42 | C39: =IF(M39>0,($I$14-B39),"") -> -42 | D39: =IF(M39>0,(M39/100),"") -> 62.56 | F39: =IF(M39>0,(F38+D39),"") -> 1278.03 | G39: =IF(M39>0,(F39+$E$17+$I$13),"") -> 1278.03 | H39: =IF(M39>0,($K$13*F39),"") -> 4.9215217 | I39: =IF(M39>0,($K$15*F39),"") -> 12.86094 | J39: =IF(M39>0,((F39*$K$9)*$O$12),"") -> 5236.4109 | K39: =IF(G39>$I$12,((G39-$I$12)*$K$17),"") -> -7.0027138 | L39: =0.052*K$12*G39 -> 558.2435 | M39: 6256 | N39: =IF(M39<=1,(0),IF(M39<3600,(1),IF(M39>=3601,(2),"")))+N38 -> 42
A40: =A39+1 -> 22 | B40: =IF(M40<=1,(0),IF(M40<3600,(1),IF(M40>=3601,(2),"")))+B39 -> 44 | C40: =IF(M40>0,($I$14-B40),"") -> -44 | D40: =IF(M40>0,(M40/100),"") -> 62.36 | F40: =IF(M40>0,(F39+D40),"") -> 1340.39 | G40: =IF(M40>0,(F40+$E$17+$I$13),"") -> 1340.39 | H40: =IF(M40>0,($K$13*F40),"") -> 5.1616617 | I40: =IF(M40>0,($K$15*F40),"") -> 13.488474 | J40: =IF(M40>0,((F40*$K$9)*$O$12),"") -> 5491.9155 | K40: =IF(G40>$I$12,((G40-$I$12)*$K$17),"") -> -7.3444031 | L40: =0.052*K$12*G40 -> 585.48235 | M40: 6236 | N40: =IF(M40<=1,(0),IF(M40<3600,(1),IF(M40>=3601,(2),"")))+N39 -> 44
A41: =A40+1 -> 23 | B41: =IF(M41<=1,(0),IF(M41<3600,(1),IF(M41>=3601,(2),"")))+B40 -> 46 | C41: =IF(M41>0,($I$14-B41),"") -> -46 | D41: =IF(M41>0,(M41/100),"") -> 62.23 | F41: =IF(M41>0,(F40+D41),"") -> 1402.62 | G41: =IF(M41>0,(F41+$E$17+$I$13),"") -> 1402.62 | H41: =IF(M41>0,($K$13*F41),"") -> 5.401301 | I41: =IF(M41>0,($K$15*F41),"") -> 14.114701 | J41: =IF(M41>0,((F41*$K$9)*$O$12),"") -> 5746.8875 | K41: =IF(G41>$I$12,((G41-$I$12)*$K$17),"") -> -7.6853801 | L41: =0.052*K$12*G41 -> 612.66442 | M41: 6223 | N41: =IF(M41<=1,(0),IF(M41<3600,(1),IF(M41>=3601,(2),"")))+N40 -> 46
A42: =A41+1 -> 24 | B42: =IF(M42<=1,(0),IF(M42<3600,(1),IF(M42>=3601,(2),"")))+B41 -> 48 | C42: =IF(M42>0,($I$14-B42),"") -> -48 | D42: =IF(M42>0,(M42/100),"") -> 60.67 | F42: =IF(M42>0,(F41+D42),"") -> 1463.29 | G42: =IF(M42>0,(F42+$E$17+$I$13),"") -> 1463.29 | H42: =IF(M42>0,($K$13*F42),"") -> 5.6349331 | I42: =IF(M42>0,($K$15*F42),"") -> 14.725229 | J42: =IF(M42>0,((F42*$K$9)*$O$12),"") -> 5995.4677 | K42: =IF(G42>$I$12,((G42-$I$12)*$K$17),"") -> -8.0178095 | L42: =0.052*K$12*G42 -> 639.16507 | M42: 6067 | N42: =IF(M42<=1,(0),IF(M42<3600,(1),IF(M42>=3601,(2),"")))+N41 -> 48
A43: =A42+1 -> 25 | B43: =IF(M43<=1,(0),IF(M43<3600,(1),IF(M43>=3601,(2),"")))+B42 -> 50 | C43: =IF(M43>0,($I$14-B43),"") -> -50 | D43: =IF(M43>0,(M43/100),"") -> 59.8 | F43: =IF(M43>0,(F42+D43),"") -> 1523.09 | G43: =IF(M43>0,(F43+$E$17+$I$13),"") -> 1523.09 | H43: =IF(M43>0,($K$13*F43),"") -> 5.8652148 | I43: =IF(M43>0,($K$15*F43),"") -> 15.327002 | J43: =IF(M43>0,((F43*$K$9)*$O$12),"") -> 6240.4834 | K43: =IF(G43>$I$12,((G43-$I$12)*$K$17),"") -> -8.3454718 | L43: =0.052*K$12*G43 -> 665.28571 | M43: 5980 | N43: =IF(M43<=1,(0),IF(M43<3600,(1),IF(M43>=3601,(2),"")))+N42 -> 50
A44: =A43+1 -> 26 | B44: =IF(M44<=1,(0),IF(M44<3600,(1),IF(M44>=3601,(2),"")))+B43 -> 52 | C44: =IF(M44>0,($I$14-B44),"") -> -52 | D44: =IF(M44>0,(M44/100),"") -> 62.57 | F44: =IF(M44>0,(F43+D44),"") -> 1585.66 | G44: =IF(M44>0,(F44+$E$17+$I$13),"") -> 1585.66 | H44: =IF(M44>0,($K$13*F44),"") -> 6.1061635 | I44: =IF(M44>0,($K$15*F44),"") -> 15.95665 | J44: =IF(M44>0,((F44*$K$9)*$O$12),"") -> 6496.8485 | K44: =IF(G44>$I$12,((G44-$I$12)*$K$17),"") -> -8.6883118 | L44: =0.052*K$12*G44 -> 692.61629 | M44: 6257 | N44: =IF(M44<=1,(0),IF(M44<3600,(1),IF(M44>=3601,(2),"")))+N43 -> 52
A45: =A44+1 -> 27 | B45: =IF(M45<=1,(0),IF(M45<3600,(1),IF(M45>=3601,(2),"")))+B44 -> 54 | C45: =IF(M45>0,($I$14-B45),"") -> -54 | D45: =IF(M45>0,(M45/100),"") -> 62.38 | F45: =IF(M45>0,(F44+D45),"") -> 1648.04 | G45: =IF(M45>0,(F45+$E$17+$I$13),"") -> 1648.04 | H45: =IF(M45>0,($K$13*F45),"") -> 6.3463805 | I45: =IF(M45>0,($K$15*F45),"") -> 16.584386 | J45: =IF(M45>0,((F45*$K$9)*$O$12),"") -> 6752.435 | K45: =IF(G45>$I$12,((G45-$I$12)*$K$17),"") -> -9.0301107 | L45: =0.052*K$12*G45 -> 719.86387 | M45: 6238 | N45: =IF(M45<=1,(0),IF(M45<3600,(1),IF(M45>=3601,(2),"")))+N44 -> 54
A46: =A45+1 -> 28 | B46: =IF(M46<=1,(0),IF(M46<3600,(1),IF(M46>=3601,(2),"")))+B45 -> 56 | C46: =IF(M46>0,($I$14-B46),"") -> -56 | D46: =IF(M46>0,(M46/100),"") -> 61.68 | F46: =IF(M46>0,(F45+D46),"") -> 1709.72 | G46: =IF(M46>0,(F46+$E$17+$I$13),"") -> 1709.72 | H46: =IF(M46>0,($K$13*F46),"") -> 6.5839019 | I46: =IF(M46>0,($K$15*F46),"") -> 17.205078 | J46: =IF(M46>0,((F46*$K$9)*$O$12),"") -> 7005.1535 | K46: =IF(G46>$I$12,((G46-$I$12)*$K$17),"") -> -9.3680741 | L46: =0.052*K$12*G46 -> 746.8057 | M46: 6168 | N46: =IF(M46<=1,(0),IF(M46<3600,(1),IF(M46>=3601,(2),"")))+N45 -> 56
A47: =A46+1 -> 29 | B47: =IF(M47<=1,(0),IF(M47<3600,(1),IF(M47>=3601,(2),"")))+B46 -> 58 | C47: =IF(M47>0,($I$14-B47),"") -> -58 | D47: =IF(M47>0,(M47/100),"") -> 60.6 | F47: =IF(M47>0,(F46+D47),"") -> 1770.32 | G47: =IF(M47>0,(F47+$E$17+$I$13),"") -> 1770.32 | H47: =IF(M47>0,($K$13*F47),"") -> 6.8172643 | I47: =IF(M47>0,($K$15*F47),"") -> 17.814902 | J47: =IF(M47>0,((F47*$K$9)*$O$12),"") -> 7253.447 | K47: =IF(G47>$I$12,((G47-$I$12)*$K$17),"") -> -9.7001199 | L47: =0.052*K$12*G47 -> 773.27578 | M47: 6060 | N47: =IF(M47<=1,(0),IF(M47<3600,(1),IF(M47>=3601,(2),"")))+N46 -> 58
A48: =A47+1 -> 30 | B48: =IF(M48<=1,(0),IF(M48<3600,(1),IF(M48>=3601,(2),"")))+B47 -> 60 | C48: =IF(M48>0,($I$14-B48),"") -> -60 | D48: =IF(M48>0,(M48/100),"") -> 59.85 | E48: =SUM(D39:D48) -> 614.7 | F48: =IF(M48>0,(F47+D48),"") -> 1830.17 | G48: =IF(M48>0,(F48+$E$17+$I$13),"") -> 1830.17 | H48: =IF(M48>0,($K$13*F48),"") -> 7.0477386 | I48: =IF(M48>0,($K$15*F48),"") -> 18.417178 | J48: =IF(M48>0,((F48*$K$9)*$O$12),"") -> 7498.6675 | K48: =IF(G48>$I$12,((G48-$I$12)*$K$17),"") -> -10.028056 | L48: =0.052*K$12*G48 -> 799.41826 | M48: 5985 | N48: =IF(M48<=1,(0),IF(M48<3600,(1),IF(M48>=3601,(2),"")))+N47 -> 60
A49: =A48+1 -> 31 | B49: =IF(M49<=1,(0),IF(M49<3600,(1),IF(M49>=3601,(2),"")))+B48 -> 62 | C49: =IF(M49>0,($I$14-B49),"") -> -62 | D49: =IF(M49>0,(M49/100),"") -> 62.32 | F49: =IF(M49>0,(F48+D49),"") -> 1892.49 | G49: =IF(M49>0,(F49+$E$17+$I$13),"") -> 1892.49 | H49: =IF(M49>0,($K$13*F49),"") -> 7.2877245 | I49: =IF(M49>0,($K$15*F49),"") -> 19.04431 | J49: =IF(M49>0,((F49*$K$9)*$O$12),"") -> 7754.0083 | K49: =IF(G49>$I$12,((G49-$I$12)*$K$17),"") -> -10.369526 | L49: =0.052*K$12*G49 -> 826.63963 | M49: 6232 | N49: =IF(M49<=1,(0),IF(M49<3600,(1),IF(M49>=3601,(2),"")))+N48 -> 62
A50: =A49+1 -> 32 | B50: =IF(M50<=1,(0),IF(M50<3600,(1),IF(M50>=3601,(2),"")))+B49 -> 64 | C50: =IF(M50>0,($I$14-B50),"") -> -64 | D50: =IF(M50>0,(M50/100),"") -> 62.58 | F50: =IF(M50>0,(F49+D50),"") -> 1955.07 | G50: =IF(M50>0,(F50+$E$17+$I$13),"") -> 1955.07 | H50: =IF(M50>0,($K$13*F50),"") -> 7.5287117 | I50: =IF(M50>0,($K$15*F50),"") -> 19.674059 | J50: =IF(M50>0,((F50*$K$9)*$O$12),"") -> 8010.4143 | K50: =IF(G50>$I$12,((G50-$I$12)*$K$17),"") -> -10.712421 | L50: =0.052*K$12*G50 -> 853.97458 | M50: 6258 | N50: =IF(M50<=1,(0),IF(M50<3600,(1),IF(M50>=3601,(2),"")))+N49 -> 64
A51: =A50+1 -> 33 | B51: =IF(M51<=1,(0),IF(M51<3600,(1),IF(M51>=3601,(2),"")))+B50 -> 66 | C51: =IF(M51>0,($I$14-B51),"") -> -66 | D51: =IF(M51>0,(M51/100),"") -> 62.64 | F51: =IF(M51>0,(F50+D51),"") -> 2017.71 | G51: =IF(M51>0,(F51+$E$17+$I$13),"") -> 2017.71 | H51: =IF(M51>0,($K$13*F51),"") -> 7.7699299 | I51: =IF(M51>0,($K$15*F51),"") -> 20.304411 | J51: =IF(M51>0,((F51*$K$9)*$O$12),"") -> 8267.0661 | K51: =IF(G51>$I$12,((G51-$I$12)*$K$17),"") -> -11.055645 | L51: =0.052*K$12*G51 -> 881.33573 | M51: 6264 | N51: =IF(M51<=1,(0),IF(M51<3600,(1),IF(M51>=3601,(2),"")))+N50 -> 66
A52: =A51+1 -> 34 | B52: =IF(M52<=1,(0),IF(M52<3600,(1),IF(M52>=3601,(2),"")))+B51 -> 68 | C52: =IF(M52>0,($I$14-B52),"") -> -68 | D52: =IF(M52>0,(M52/100),"") -> 59.72 | F52: =IF(M52>0,(F51+D52),"") -> 2077.43 | G52: =IF(M52>0,(F52+$E$17+$I$13),"") -> 2077.43 | H52: =IF(M52>0,($K$13*F52),"") -> 7.9999036 | I52: =IF(M52>0,($K$15*F52),"") -> 20.905379 | J52: =IF(M52>0,((F52*$K$9)*$O$12),"") -> 8511.754 | K52: =IF(G52>$I$12,((G52-$I$12)*$K$17),"") -> -11.382869 | L52: =0.052*K$12*G52 -> 907.42142 | M52: 5972 | N52: =IF(M52<=1,(0),IF(M52<3600,(1),IF(M52>=3601,(2),"")))+N51 -> 68
A53: =A52+1 -> 35 | B53: =IF(M53<=1,(0),IF(M53<3600,(1),IF(M53>=3601,(2),"")))+B52 -> 70 | C53: =IF(M53>0,($I$14-B53),"") -> -70 | D53: =IF(M53>0,(M53/100),"") -> 60.95 | F53: =IF(M53>0,(F52+D53),"") -> 2138.38 | G53: =IF(M53>0,(F53+$E$17+$I$13),"") -> 2138.38 | H53: =IF(M53>0,($K$13*F53),"") -> 8.2346139 | I53: =IF(M53>0,($K$15*F53),"") -> 21.518725 | J53: =IF(M53>0,((F53*$K$9)*$O$12),"") -> 8761.4815 | K53: =IF(G53>$I$12,((G53-$I$12)*$K$17),"") -> -11.716832 | L53: =0.052*K$12*G53 -> 934.04438 | M53: 6095 | N53: =IF(M53<=1,(0),IF(M53<3600,(1),IF(M53>=3601,(2),"")))+N52 -> 70
A54: =A53+1 -> 36 | B54: =IF(M54<=1,(0),IF(M54<3600,(1),IF(M54>=3601,(2),"")))+B53 -> 72 | C54: =IF(M54>0,($I$14-B54),"") -> -72 | D54: =IF(M54>0,(M54/100),"") -> 60.25 | F54: =IF(M54>0,(F53+D54),"") -> 2198.63 | G54: =IF(M54>0,(F54+$E$17+$I$13),"") -> 2198.63 | H54: =IF(M54>0,($K$13*F54),"") -> 8.4666285 | I54: =IF(M54>0,($K$15*F54),"") -> 22.125027 | J54: =IF(M54>0,((F54*$K$9)*$O$12),"") -> 9008.341 | K54: =IF(G54>$I$12,((G54-$I$12)*$K$17),"") -> -12.04696 | L54: =0.052*K$12*G54 -> 960.36158 | M54: 6025 | N54: =IF(M54<=1,(0),IF(M54<3600,(1),IF(M54>=3601,(2),"")))+N53 -> 72
A55: =A54+1 -> 37 | B55: =IF(M55<=1,(0),IF(M55<3600,(1),IF(M55>=3601,(2),"")))+B54 -> 74 | C55: =IF(M55>0,($I$14-B55),"") -> -74 | D55: =IF(M55>0,(M55/100),"") -> 62.44 | F55: =IF(M55>0,(F54+D55),"") -> 2261.07 | G55: =IF(M55>0,(F55+$E$17+$I$13),"") -> 2261.07 | H55: =IF(M55>0,($K$13*F55),"") -> 8.7070766 | I55: =IF(M55>0,($K$15*F55),"") -> 22.753366 | J55: =IF(M55>0,((F55*$K$9)*$O$12),"") -> 9264.1734 | K55: =IF(G55>$I$12,((G55-$I$12)*$K$17),"") -> -12.389088 | L55: =0.052*K$12*G55 -> 987.63538 | M55: 6244 | N55: =IF(M55<=1,(0),IF(M55<3600,(1),IF(M55>=3601,(2),"")))+N54 -> 74
A56: =A55+1 -> 38 | B56: =IF(M56<=1,(0),IF(M56<3600,(1),IF(M56>=3601,(2),"")))+B55 -> 76 | C56: =IF(M56>0,($I$14-B56),"") -> -76 | D56: =IF(M56>0,(M56/100),"") -> 61.97 | F56: =IF(M56>0,(F55+D56),"") -> 2323.04 | G56: =IF(M56>0,(F56+$E$17+$I$13),"") -> 2323.04 | H56: =IF(M56>0,($K$13*F56),"") -> 8.9457147 | I56: =IF(M56>0,($K$15*F56),"") -> 23.376977 | J56: =IF(M56>0,((F56*$K$9)*$O$12),"") -> 9518.0801 | K56: =IF(G56>$I$12,((G56-$I$12)*$K$17),"") -> -12.72864 | L56: =0.052*K$12*G56 -> 1014.7039 | M56: 6197 | N56: =IF(M56<=1,(0),IF(M56<3600,(1),IF(M56>=3601,(2),"")))+N55 -> 76
A57: =A56+1 -> 39 | B57: =IF(M57<=1,(0),IF(M57<3600,(1),IF(M57>=3601,(2),"")))+B56 -> 78 | C57: =IF(M57>0,($I$14-B57),"") -> -78 | D57: =IF(M57>0,(M57/100),"") -> 62.42 | F57: =IF(M57>0,(F56+D57),"") -> 2385.46 | G57: =IF(M57>0,(F57+$E$17+$I$13),"") -> 2385.46 | H57: =IF(M57>0,($K$13*F57),"") -> 9.1860857 | I57: =IF(M57>0,($K$15*F57),"") -> 24.005115 | J57: =IF(M57>0,((F57*$K$9)*$O$12),"") -> 9773.8305 | K57: =IF(G57>$I$12,((G57-$I$12)*$K$17),"") -> -13.070658 | L57: =0.052*K$12*G57 -> 1041.9689 | M57: 6242 | N57: =IF(M57<=1,(0),IF(M57<3600,(1),IF(M57>=3601,(2),"")))+N56 -> 78
A58: =A57+1 -> 40 | B58: =IF(M58<=1,(0),IF(M58<3600,(1),IF(M58>=3601,(2),"")))+B57 -> 80 | C58: =IF(M58>0,($I$14-B58),"") -> -80 | D58: =IF(M58>0,(M58/100),"") -> 61.9 | E58: =SUM(D49:D58) -> 617.19 | F58: =IF(M58>0,(F57+D58),"") -> 2447.36 | G58: =IF(M58>0,(F58+$E$17+$I$13),"") -> 2447.36 | H58: =IF(M58>0,($K$13*F58),"") -> 9.4244543 | I58: =IF(M58>0,($K$15*F58),"") -> 24.628021 | J58: =IF(M58>0,((F58*$K$9)*$O$12),"") -> 10027.45 | K58: =IF(G58>$I$12,((G58-$I$12)*$K$17),"") -> -13.409827 | L58: =0.052*K$12*G58 -> 1069.0068 | M58: 6190 | N58: =IF(M58<=1,(0),IF(M58<3600,(1),IF(M58>=3601,(2),"")))+N57 -> 80
A59: =A58+1 -> 41 | B59: =IF(M59<=1,(0),IF(M59<3600,(1),IF(M59>=3601,(2),"")))+B58 -> 82 | C59: =IF(M59>0,($I$14-B59),"") -> -82 | D59: =IF(M59>0,(M59/100),"") -> 62.31 | F59: =IF(M59>0,(F58+D59),"") -> 2509.67 | G59: =IF(M59>0,(F59+$E$17+$I$13),"") -> 2509.67 | H59: =IF(M59>0,($K$13*F59),"") -> 9.6644018 | I59: =IF(M59>0,($K$15*F59),"") -> 25.255052 | J59: =IF(M59>0,((F59*$K$9)*$O$12),"") -> 10282.75 | K59: =IF(G59>$I$12,((G59-$I$12)*$K$17),"") -> -13.751243 | L59: =0.052*K$12*G59 -> 1096.2239 | M59: 6231 | N59: =IF(M59<=1,(0),IF(M59<3600,(1),IF(M59>=3601,(2),"")))+N58 -> 82
A60: =A59+1 -> 42 | B60: =IF(M60<=1,(0),IF(M60<3600,(1),IF(M60>=3601,(2),"")))+B59 -> 84 | C60: =IF(M60>0,($I$14-B60),"") -> -84 | D60: =IF(M60>0,(M60/100),"") -> 58.77 | F60: =IF(M60>0,(F59+D60),"") -> 2568.44 | G60: =IF(M60>0,(F60+$E$17+$I$13),"") -> 2568.44 | H60: =IF(M60>0,($K$13*F60),"") -> 9.8907171 | I60: =IF(M60>0,($K$15*F60),"") -> 25.846461 | J60: =IF(M60>0,((F60*$K$9)*$O$12),"") -> 10523.546 | K60: =IF(G60>$I$12,((G60-$I$12)*$K$17),"") -> -14.073261 | L60: =0.052*K$12*G60 -> 1121.8946 | M60: 5877 | N60: =IF(M60<=1,(0),IF(M60<3600,(1),IF(M60>=3601,(2),"")))+N59 -> 84
A61: =A60+1 -> 43 | B61: =IF(M61<=1,(0),IF(M61<3600,(1),IF(M61>=3601,(2),"")))+B60 -> 86 | C61: =IF(M61>0,($I$14-B61),"") -> -86 | D61: =IF(M61>0,(M61/100),"") -> 61.33 | F61: =IF(M61>0,(F60+D61),"") -> 2629.77 | G61: =IF(M61>0,(F61+$E$17+$I$13),"") -> 2629.77 | H61: =IF(M61>0,($K$13*F61),"") -> 10.126891 | I61: =IF(M61>0,($K$15*F61),"") -> 26.46363 | J61: =IF(M61>0,((F61*$K$9)*$O$12),"") -> 10774.83 | K61: =IF(G61>$I$12,((G61-$I$12)*$K$17),"") -> -14.409307 | L61: =0.052*K$12*G61 -> 1148.6835 | M61: 6133 | N61: =IF(M61<=1,(0),IF(M61<3600,(1),IF(M61>=3601,(2),"")))+N60 -> 86
A62: =A61+1 -> 44 | B62: =IF(M62<=1,(0),IF(M62<3600,(1),IF(M62>=3601,(2),"")))+B61 -> 88 | C62: =IF(M62>0,($I$14-B62),"") -> -88 | D62: =IF(M62>0,(M62/100),"") -> 60.76 | F62: =IF(M62>0,(F61+D62),"") -> 2690.53 | G62: =IF(M62>0,(F62+$E$17+$I$13),"") -> 2690.53 | H62: =IF(M62>0,($K$13*F62),"") -> 10.360869 | I62: =IF(M62>0,($K$15*F62),"") -> 27.075064 | J62: =IF(M62>0,((F62*$K$9)*$O$12),"") -> 11023.779 | K62: =IF(G62>$I$12,((G62-$I$12)*$K$17),"") -> -14.742229 | L62: =0.052*K$12*G62 -> 1175.2235 | M62: 6076 | N62: =IF(M62<=1,(0),IF(M62<3600,(1),IF(M62>=3601,(2),"")))+N61 -> 88
A63: =A62+1 -> 45 | B63: =IF(M63<=1,(0),IF(M63<3600,(1),IF(M63>=3601,(2),"")))+B62 -> 90 | C63: =IF(M63>0,($I$14-B63),"") -> -90 | D63: =IF(M63>0,(M63/100),"") -> 60.9 | F63: =IF(M63>0,(F62+D63),"") -> 2751.43 | G63: =IF(M63>0,(F63+$E$17+$I$13),"") -> 2751.43 | H63: =IF(M63>0,($K$13*F63),"") -> 10.595387 | I63: =IF(M63>0,($K$15*F63),"") -> 27.687907 | J63: =IF(M63>0,((F63*$K$9)*$O$12),"") -> 11273.302 | K63: =IF(G63>$I$12,((G63-$I$12)*$K$17),"") -> -15.075919 | L63: =0.052*K$12*G63 -> 1201.8246 | M63: 6090 | N63: =IF(M63<=1,(0),IF(M63<3600,(1),IF(M63>=3601,(2),"")))+N62 -> 90
A64: =A63+1 -> 46 | B64: =IF(M64<=1,(0),IF(M64<3600,(1),IF(M64>=3601,(2),"")))+B63 -> 92 | C64: =IF(M64>0,($I$14-B64),"") -> -92 | D64: =IF(M64>0,(M64/100),"") -> 62.47 | F64: =IF(M64>0,(F63+D64),"") -> 2813.9 | G64: =IF(M64>0,(F64+$E$17+$I$13),"") -> 2813.9 | H64: =IF(M64>0,($K$13*F64),"") -> 10.835951 | I64: =IF(M64>0,($K$15*F64),"") -> 28.316548 | J64: =IF(M64>0,((F64*$K$9)*$O$12),"") -> 11529.257 | K64: =IF(G64>$I$12,((G64-$I$12)*$K$17),"") -> -15.418211 | L64: =0.052*K$12*G64 -> 1229.1115 | M64: 6247 | N64: =IF(M64<=1,(0),IF(M64<3600,(1),IF(M64>=3601,(2),"")))+N63 -> 92
A65: =A64+1 -> 47 | B65: =IF(M65<=1,(0),IF(M65<3600,(1),IF(M65>=3601,(2),"")))+B64 -> 94 | C65: =IF(M65>0,($I$14-B65),"") -> -94 | D65: =IF(M65>0,(M65/100),"") -> 60.47 | F65: =IF(M65>0,(F64+D65),"") -> 2874.37 | G65: =IF(M65>0,(F65+$E$17+$I$13),"") -> 2874.37 | H65: =IF(M65>0,($K$13*F65),"") -> 11.068812 | I65: =IF(M65>0,($K$15*F65),"") -> 28.925064 | J65: =IF(M65>0,((F65*$K$9)*$O$12),"") -> 11777.018 | K65: =IF(G65>$I$12,((G65-$I$12)*$K$17),"") -> -15.749545 | L65: =0.052*K$12*G65 -> 1255.5248 | M65: 6047 | N65: =IF(M65<=1,(0),IF(M65<3600,(1),IF(M65>=3601,(2),"")))+N64 -> 94
A66: =A65+1 -> 48 | B66: =IF(M66<=1,(0),IF(M66<3600,(1),IF(M66>=3601,(2),"")))+B65 -> 96 | C66: =IF(M66>0,($I$14-B66),"") -> -96 | D66: =IF(M66>0,(M66/100),"") -> 60.67 | F66: =IF(M66>0,(F65+D66),"") -> 2935.04 | G66: =IF(M66>0,(F66+$E$17+$I$13),"") -> 2935.04 | H66: =IF(M66>0,($K$13*F66),"") -> 11.302444 | I66: =IF(M66>0,($K$15*F66),"") -> 29.535592 | J66: =IF(M66>0,((F66*$K$9)*$O$12),"") -> 12025.598 | K66: =IF(G66>$I$12,((G66-$I$12)*$K$17),"") -> -16.081974 | L66: =0.052*K$12*G66 -> 1282.0255 | M66: 6067 | N66: =IF(M66<=1,(0),IF(M66<3600,(1),IF(M66>=3601,(2),"")))+N65 -> 96
A67: =A66+1 -> 49 | B67: =IF(M67<=1,(0),IF(M67<3600,(1),IF(M67>=3601,(2),"")))+B66 -> 98 | C67: =IF(M67>0,($I$14-B67),"") -> -98 | D67: =IF(M67>0,(M67/100),"") -> 61.07 | F67: =IF(M67>0,(F66+D67),"") -> 2996.11 | G67: =IF(M67>0,(F67+$E$17+$I$13),"") -> 2996.11 | H67: =IF(M67>0,($K$13*F67),"") -> 11.537617 | I67: =IF(M67>0,($K$15*F67),"") -> 30.150145 | J67: =IF(M67>0,((F67*$K$9)*$O$12),"") -> 12275.817 | K67: =IF(G67>$I$12,((G67-$I$12)*$K$17),"") -> -16.416595 | L67: =0.052*K$12*G67 -> 1308.7008 | M67: 6107 | N67: =IF(M67<=1,(0),IF(M67<3600,(1),IF(M67>=3601,(2),"")))+N66 -> 98
A68: =A67+1 -> 50 | B68: =IF(M68<=1,(0),IF(M68<3600,(1),IF(M68>=3601,(2),"")))+B67 -> 100 | C68: =IF(M68>0,($I$14-B68),"") -> -100 | D68: =IF(M68>0,(M68/100),"") -> 61.36 | E68: =SUM(D59:D68) -> 610.11 | F68: =IF(M68>0,(F67+D68),"") -> 3057.47 | G68: =IF(M68>0,(F68+$E$17+$I$13),"") -> 3057.47 | H68: =IF(M68>0,($K$13*F68),"") -> 11.773906 | I68: =IF(M68>0,($K$15*F68),"") -> 30.767617 | J68: =IF(M68>0,((F68*$K$9)*$O$12),"") -> 12527.225 | K68: =IF(G68>$I$12,((G68-$I$12)*$K$17),"") -> -16.752805 | L68: =0.052*K$12*G68 -> 1335.5029 | M68: 6136 | N68: =IF(M68<=1,(0),IF(M68<3600,(1),IF(M68>=3601,(2),"")))+N67 -> 100
A69: =A68+1 -> 51 | B69: =IF(M69<=1,(0),IF(M69<3600,(1),IF(M69>=3601,(2),"")))+B68 -> 102 | C69: =IF(M69>0,($I$14-B69),"") -> -102 | D69: =IF(M69>0,(M69/100),"") -> 60.28 | F69: =IF(M69>0,(F68+D69),"") -> 3117.75 | G69: =IF(M69>0,(F69+$E$17+$I$13),"") -> 3117.75 | H69: =IF(M69>0,($K$13*F69),"") -> 12.006036 | I69: =IF(M69>0,($K$15*F69),"") -> 31.37422 | J69: =IF(M69>0,((F69*$K$9)*$O$12),"") -> 12774.207 | K69: =IF(G69>$I$12,((G69-$I$12)*$K$17),"") -> -17.083097 | L69: =0.052*K$12*G69 -> 1361.8332 | M69: 6028 | N69: =IF(M69<=1,(0),IF(M69<3600,(1),IF(M69>=3601,(2),"")))+N68 -> 102
A70: =A69+1 -> 52 | B70: =IF(M70<=1,(0),IF(M70<3600,(1),IF(M70>=3601,(2),"")))+B69 -> 104 | C70: =IF(M70>0,($I$14-B70),"") -> -104 | D70: =IF(M70>0,(M70/100),"") -> 62.46 | F70: =IF(M70>0,(F69+D70),"") -> 3180.21 | G70: =IF(M70>0,(F70+$E$17+$I$13),"") -> 3180.21 | H70: =IF(M70>0,($K$13*F70),"") -> 12.246561 | I70: =IF(M70>0,($K$15*F70),"") -> 32.002761 | J70: =IF(M70>0,((F70*$K$9)*$O$12),"") -> 13030.121 | K70: =IF(G70>$I$12,((G70-$I$12)*$K$17),"") -> -17.425335 | L70: =0.052*K$12*G70 -> 1389.1157 | M70: 6246 | N70: =IF(M70<=1,(0),IF(M70<3600,(1),IF(M70>=3601,(2),"")))+N69 -> 104
A71: =A70+1 -> 53 | B71: =IF(M71<=1,(0),IF(M71<3600,(1),IF(M71>=3601,(2),"")))+B70 -> 106 | C71: =IF(M71>0,($I$14-B71),"") -> -106 | D71: =IF(M71>0,(M71/100),"") -> 62.28 | F71: =IF(M71>0,(F70+D71),"") -> 3242.49 | G71: =IF(M71>0,(F71+$E$17+$I$13),"") -> 3242.49 | H71: =IF(M71>0,($K$13*F71),"") -> 12.486393 | I71: =IF(M71>0,($K$15*F71),"") -> 32.629491 | J71: =IF(M71>0,((F71*$K$9)*$O$12),"") -> 13285.298 | K71: =IF(G71>$I$12,((G71-$I$12)*$K$17),"") -> -17.766586 | L71: =0.052*K$12*G71 -> 1416.3196 | M71: 6228 | N71: =IF(M71<=1,(0),IF(M71<3600,(1),IF(M71>=3601,(2),"")))+N70 -> 106
A72: =A71+1 -> 54 | B72: =IF(M72<=1,(0),IF(M72<3600,(1),IF(M72>=3601,(2),"")))+B71 -> 108 | C72: =IF(M72>0,($I$14-B72),"") -> -108 | D72: =IF(M72>0,(M72/100),"") -> 62.45 | F72: =IF(M72>0,(F71+D72),"") -> 3304.94 | G72: =IF(M72>0,(F72+$E$17+$I$13),"") -> 3304.94 | H72: =IF(M72>0,($K$13*F72),"") -> 12.72688 | I72: =IF(M72>0,($K$15*F72),"") -> 33.257931 | J72: =IF(M72>0,((F72*$K$9)*$O$12),"") -> 13541.172 | K72: =IF(G72>$I$12,((G72-$I$12)*$K$17),"") -> -18.108768 | L72: =0.052*K$12*G72 -> 1443.5978 | M72: 6245 | N72: =IF(M72<=1,(0),IF(M72<3600,(1),IF(M72>=3601,(2),"")))+N71 -> 108
A73: =A72+1 -> 55 | B73: =IF(M73<=1,(0),IF(M73<3600,(1),IF(M73>=3601,(2),"")))+B72 -> 110 | C73: =IF(M73>0,($I$14-B73),"") -> -110 | D73: =IF(M73>0,(M73/100),"") -> 61.5 | F73: =IF(M73>0,(F72+D73),"") -> 3366.44 | G73: =IF(M73>0,(F73+$E$17+$I$13),"") -> 3366.44 | H73: =IF(M73>0,($K$13*F73),"") -> 12.963708 | I73: =IF(M73>0,($K$15*F73),"") -> 33.876812 | J73: =IF(M73>0,((F73*$K$9)*$O$12),"") -> 13793.153 | K73: =IF(G73>$I$12,((G73-$I$12)*$K$17),"") -> -18.445745 | L73: =0.052*K$12*G73 -> 1470.461 | M73: 6150 | N73: =IF(M73<=1,(0),IF(M73<3600,(1),IF(M73>=3601,(2),"")))+N72 -> 110
A74: =A73+1 -> 56 | B74: =IF(M74<=1,(0),IF(M74<3600,(1),IF(M74>=3601,(2),"")))+B73 -> 112 | C74: =IF(M74>0,($I$14-B74),"") -> -112 | D74: =IF(M74>0,(M74/100),"") -> 61.47 | F74: =IF(M74>0,(F73+D74),"") -> 3427.91 | G74: =IF(M74>0,(F74+$E$17+$I$13),"") -> 3427.91 | H74: =IF(M74>0,($K$13*F74),"") -> 13.200421 | I74: =IF(M74>0,($K$15*F74),"") -> 34.49539 | J74: =IF(M74>0,((F74*$K$9)*$O$12),"") -> 14045.011 | K74: =IF(G74>$I$12,((G74-$I$12)*$K$17),"") -> -18.782558 | L74: =0.052*K$12*G74 -> 1497.3111 | M74: 6147 | N74: =IF(M74<=1,(0),IF(M74<3600,(1),IF(M74>=3601,(2),"")))+N73 -> 112
A75: =A74+1 -> 57 | B75: =IF(M75<=1,(0),IF(M75<3600,(1),IF(M75>=3601,(2),"")))+B74 -> 114 | C75: =IF(M75>0,($I$14-B75),"") -> -114 | D75: =IF(M75>0,(M75/100),"") -> 61.4 | F75: =IF(M75>0,(F74+D75),"") -> 3489.31 | G75: =IF(M75>0,(F75+$E$17+$I$13),"") -> 3489.31 | H75: =IF(M75>0,($K$13*F75),"") -> 13.436864 | I75: =IF(M75>0,($K$15*F75),"") -> 35.113265 | J75: =IF(M75>0,((F75*$K$9)*$O$12),"") -> 14296.582 | K75: =IF(G75>$I$12,((G75-$I$12)*$K$17),"") -> -19.118987 | L75: =0.052*K$12*G75 -> 1524.1306 | M75: 6140 | N75: =IF(M75<=1,(0),IF(M75<3600,(1),IF(M75>=3601,(2),"")))+N74 -> 114
A76: =A75+1 -> 58 | B76: =IF(M76<=1,(0),IF(M76<3600,(1),IF(M76>=3601,(2),"")))+B75 -> 116 | C76: =IF(M76>0,($I$14-B76),"") -> -116 | D76: =IF(M76>0,(M76/100),"") -> 62.4 | F76: =IF(M76>0,(F75+D76),"") -> 3551.71 | G76: =IF(M76>0,(F76+$E$17+$I$13),"") -> 3551.71 | H76: =IF(M76>0,($K$13*F76),"") -> 13.677158 | I76: =IF(M76>0,($K$15*F76),"") -> 35.741202 | J76: =IF(M76>0,((F76*$K$9)*$O$12),"") -> 14552.251 | K76: =IF(G76>$I$12,((G76-$I$12)*$K$17),"") -> -19.460896 | L76: =0.052*K$12*G76 -> 1551.3869 | M76: 6240 | N76: =IF(M76<=1,(0),IF(M76<3600,(1),IF(M76>=3601,(2),"")))+N75 -> 116
A77: =A76+1 -> 59 | B77: =IF(M77<=1,(0),IF(M77<3600,(1),IF(M77>=3601,(2),"")))+B76 -> 118 | C77: =IF(M77>0,($I$14-B77),"") -> -118 | D77: =IF(M77>0,(M77/100),"") -> 62.2 | F77: =IF(M77>0,(F76+D77),"") -> 3613.91 | G77: =IF(M77>0,(F77+$E$17+$I$13),"") -> 3613.91 | H77: =IF(M77>0,($K$13*F77),"") -> 13.916682 | I77: =IF(M77>0,($K$15*F77),"") -> 36.367126 | J77: =IF(M77>0,((F77*$K$9)*$O$12),"") -> 14807.1 | K77: =IF(G77>$I$12,((G77-$I$12)*$K$17),"") -> -19.801708 | L77: =0.052*K$12*G77 -> 1578.5559 | M77: 6220 | N77: =IF(M77<=1,(0),IF(M77<3600,(1),IF(M77>=3601,(2),"")))+N76 -> 118
A78: =A77+1 -> 60 | B78: =IF(M78<=1,(0),IF(M78<3600,(1),IF(M78>=3601,(2),"")))+B77 -> 120 | C78: =IF(M78>0,($I$14-B78),"") -> -120 | D78: =IF(M78>0,(M78/100),"") -> 61.85 | E78: =SUM(D69:D78) -> 618.29 | F78: =IF(M78>0,(F77+D78),"") -> 3675.76 | G78: =IF(M78>0,(F78+$E$17+$I$13),"") -> 3675.76 | H78: =IF(M78>0,($K$13*F78),"") -> 14.154858 | I78: =IF(M78>0,($K$15*F78),"") -> 36.989529 | J78: =IF(M78>0,((F78*$K$9)*$O$12),"") -> 15060.515 | K78: =IF(G78>$I$12,((G78-$I$12)*$K$17),"") -> -20.140603 | L78: =0.052*K$12*G78 -> 1605.572 | M78: 6185 | N78: =IF(M78<=1,(0),IF(M78<3600,(1),IF(M78>=3601,(2),"")))+N77 -> 120
A79: =A78+1 -> 61 | B79: =IF(M79<=1,(0),IF(M79<3600,(1),IF(M79>=3601,(2),"")))+B78 -> 122 | C79: =IF(M79>0,($I$14-B79),"") -> -122 | D79: =IF(M79>0,(M79/100),"") -> 61.56 | F79: =IF(M79>0,(F78+D79),"") -> 3737.32 | G79: =IF(M79>0,(F79+$E$17+$I$13),"") -> 3737.32 | H79: =IF(M79>0,($K$13*F79),"") -> 14.391917 | I79: =IF(M79>0,($K$15*F79),"") -> 37.609013 | J79: =IF(M79>0,((F79*$K$9)*$O$12),"") -> 15312.742 | K79: =IF(G79>$I$12,((G79-$I$12)*$K$17),"") -> -20.477909 | L79: =0.052*K$12*G79 -> 1632.4614 | M79: 6156 | N79: =IF(M79<=1,(0),IF(M79<3600,(1),IF(M79>=3601,(2),"")))+N78 -> 122
A80: =A79+1 -> 62 | B80: =IF(M80<=1,(0),IF(M80<3600,(1),IF(M80>=3601,(2),"")))+B79 -> 124 | C80: =IF(M80>0,($I$14-B80),"") -> -124 | D80: =IF(M80>0,(M80/100),"") -> 62.5 | F80: =IF(M80>0,(F79+D80),"") -> 3799.82 | G80: =IF(M80>0,(F80+$E$17+$I$13),"") -> 3799.82 | H80: =IF(M80>0,($K$13*F80),"") -> 14.632596 | I80: =IF(M80>0,($K$15*F80),"") -> 38.237957 | J80: =IF(M80>0,((F80*$K$9)*$O$12),"") -> 15568.82 | K80: =IF(G80>$I$12,((G80-$I$12)*$K$17),"") -> -20.820366 | L80: =0.052*K$12*G80 -> 1659.7614 | M80: 6250 | N80: =IF(M80<=1,(0),IF(M80<3600,(1),IF(M80>=3601,(2),"")))+N79 -> 124
A81: =A80+1 -> 63 | B81: =IF(M81<=1,(0),IF(M81<3600,(1),IF(M81>=3601,(2),"")))+B80 -> 126 | C81: =IF(M81>0,($I$14-B81),"") -> -126 | D81: =IF(M81>0,(M81/100),"") -> 60.87 | F81: =IF(M81>0,(F80+D81),"") -> 3860.69 | G81: =IF(M81>0,(F81+$E$17+$I$13),"") -> 3860.69 | H81: =IF(M81>0,($K$13*F81),"") -> 14.866998 | I81: =IF(M81>0,($K$15*F81),"") -> 38.850497 | J81: =IF(M81>0,((F81*$K$9)*$O$12),"") -> 15818.219 | K81: =IF(G81>$I$12,((G81-$I$12)*$K$17),"") -> -21.153891 | L81: =0.052*K$12*G81 -> 1686.3494 | M81: 6087 | N81: =IF(M81<=1,(0),IF(M81<3600,(1),IF(M81>=3601,(2),"")))+N80 -> 126
A82: =A81+1 -> 64 | B82: =IF(M82<=1,(0),IF(M82<3600,(1),IF(M82>=3601,(2),"")))+B81 -> 128 | C82: =IF(M82>0,($I$14-B82),"") -> -128 | D82: =IF(M82>0,(M82/100),"") -> 60.94 | F82: =IF(M82>0,(F81+D82),"") -> 3921.63 | G82: =IF(M82>0,(F82+$E$17+$I$13),"") -> 3921.63 | H82: =IF(M82>0,($K$13*F82),"") -> 15.10167 | I82: =IF(M82>0,($K$15*F82),"") -> 39.463743 | J82: =IF(M82>0,((F82*$K$9)*$O$12),"") -> 16067.906 | K82: =IF(G82>$I$12,((G82-$I$12)*$K$17),"") -> -21.4878 | L82: =0.052*K$12*G82 -> 1712.968 | M82: 6094 | N82: =IF(M82<=1,(0),IF(M82<3600,(1),IF(M82>=3601,(2),"")))+N81 -> 128
A83: =A82+1 -> 65 | B83: =IF(M83<=1,(0),IF(M83<3600,(1),IF(M83>=3601,(2),"")))+B82 -> 130 | C83: =IF(M83>0,($I$14-B83),"") -> -130 | D83: =IF(M83>0,(M83/100),"") -> 61.47 | F83: =IF(M83>0,(F82+D83),"") -> 3983.1 | G83: =IF(M83>0,(F83+$E$17+$I$13),"") -> 3983.1 | H83: =IF(M83>0,($K$13*F83),"") -> 15.338383 | I83: =IF(M83>0,($K$15*F83),"") -> 40.082321 | J83: =IF(M83>0,((F83*$K$9)*$O$12),"") -> 16319.764 | K83: =IF(G83>$I$12,((G83-$I$12)*$K$17),"") -> -21.824612 | L83: =0.052*K$12*G83 -> 1739.8181 | M83: 6147 | N83: =IF(M83<=1,(0),IF(M83<3600,(1),IF(M83>=3601,(2),"")))+N82 -> 130
A84: =A83+1 -> 66 | B84: =IF(M84<=1,(0),IF(M84<3600,(1),IF(M84>=3601,(2),"")))+B83 -> 132 | C84: =IF(M84>0,($I$14-B84),"") -> -132 | D84: =IF(M84>0,(M84/100),"") -> 61.26 | F84: =IF(M84>0,(F83+D84),"") -> 4044.36 | G84: =IF(M84>0,(F84+$E$17+$I$13),"") -> 4044.36 | H84: =IF(M84>0,($K$13*F84),"") -> 15.574287 | I84: =IF(M84>0,($K$15*F84),"") -> 40.698786 | J84: =IF(M84>0,((F84*$K$9)*$O$12),"") -> 16570.762 | K84: =IF(G84>$I$12,((G84-$I$12)*$K$17),"") -> -22.160274 | L84: =0.052*K$12*G84 -> 1766.5764 | M84: 6126 | N84: =IF(M84<=1,(0),IF(M84<3600,(1),IF(M84>=3601,(2),"")))+N83 -> 132
A85: =A84+1 -> 67 | B85: =IF(M85<=1,(0),IF(M85<3600,(1),IF(M85>=3601,(2),"")))+B84 -> 134 | C85: =IF(M85>0,($I$14-B85),"") -> -134 | D85: =IF(M85>0,(M85/100),"") -> 62.45 | F85: =IF(M85>0,(F84+D85),"") -> 4106.81 | G85: =IF(M85>0,(F85+$E$17+$I$13),"") -> 4106.81 | H85: =IF(M85>0,($K$13*F85),"") -> 15.814773 | I85: =IF(M85>0,($K$15*F85),"") -> 41.327227 | J85: =IF(M85>0,((F85*$K$9)*$O$12),"") -> 16826.635 | K85: =IF(G85>$I$12,((G85-$I$12)*$K$17),"") -> -22.502457 | L85: =0.052*K$12*G85 -> 1793.8546 | M85: 6245 | N85: =IF(M85<=1,(0),IF(M85<3600,(1),IF(M85>=3601,(2),"")))+N84 -> 134
A86: =A85+1 -> 68 | B86: =IF(M86<=1,(0),IF(M86<3600,(1),IF(M86>=3601,(2),"")))+B85 -> 136 | C86: =IF(M86>0,($I$14-B86),"") -> -136 | D86: =IF(M86>0,(M86/100),"") -> 60.92 | F86: =IF(M86>0,(F85+D86),"") -> 4167.73 | G86: =IF(M86>0,(F86+$E$17+$I$13),"") -> 4167.73 | H86: =IF(M86>0,($K$13*F86),"") -> 16.049368 | I86: =IF(M86>0,($K$15*F86),"") -> 41.940271 | J86: =IF(M86>0,((F86*$K$9)*$O$12),"") -> 17076.24 | K86: =IF(G86>$I$12,((G86-$I$12)*$K$17),"") -> -22.836256 | L86: =0.052*K$12*G86 -> 1820.4645 | M86: 6092 | N86: =IF(M86<=1,(0),IF(M86<3600,(1),IF(M86>=3601,(2),"")))+N85 -> 136
A87: =A86+1 -> 69 | B87: =IF(M87<=1,(0),IF(M87<3600,(1),IF(M87>=3601,(2),"")))+B86 -> 138 | C87: =IF(M87>0,($I$14-B87),"") -> -138 | D87: =IF(M87>0,(M87/100),"") -> 60.7 | F87: =IF(M87>0,(F86+D87),"") -> 4228.43 | G87: =IF(M87>0,(F87+$E$17+$I$13),"") -> 4228.43 | H87: =IF(M87>0,($K$13*F87),"") -> 16.283115 | I87: =IF(M87>0,($K$15*F87),"") -> 42.551101 | J87: =IF(M87>0,((F87*$K$9)*$O$12),"") -> 17324.943 | K87: =IF(G87>$I$12,((G87-$I$12)*$K$17),"") -> -23.16885 | L87: =0.052*K$12*G87 -> 1846.9782 | M87: 6070 | N87: =IF(M87<=1,(0),IF(M87<3600,(1),IF(M87>=3601,(2),"")))+N86 -> 138
A88: =A87+1 -> 70 | B88: =IF(M88<=1,(0),IF(M88<3600,(1),IF(M88>=3601,(2),"")))+B87 -> 140 | C88: =IF(M88>0,($I$14-B88),"") -> -140 | D88: =IF(M88>0,(M88/100),"") -> 61.07 | E88: =SUM(D79:D88) -> 613.74 | F88: =IF(M88>0,(F87+D88),"") -> 4289.5 | G88: =IF(M88>0,(F88+$E$17+$I$13),"") -> 4289.5 | H88: =IF(M88>0,($K$13*F88),"") -> 16.518288 | I88: =IF(M88>0,($K$15*F88),"") -> 43.165654 | J88: =IF(M88>0,((F88*$K$9)*$O$12),"") -> 17575.162 | K88: =IF(G88>$I$12,((G88-$I$12)*$K$17),"") -> -23.503471 | L88: =0.052*K$12*G88 -> 1873.6536 | M88: 6107 | N88: =IF(M88<=1,(0),IF(M88<3600,(1),IF(M88>=3601,(2),"")))+N87 -> 140
A89: =A88+1 -> 71 | B89: =IF(M89<=1,(0),IF(M89<3600,(1),IF(M89>=3601,(2),"")))+B88 -> 142 | C89: =IF(M89>0,($I$14-B89),"") -> -142 | D89: =IF(M89>0,(M89/100),"") -> 61.26 | F89: =IF(M89>0,(F88+D89),"") -> 4350.76 | G89: =IF(M89>0,(F89+$E$17+$I$13),"") -> 4350.76 | H89: =IF(M89>0,($K$13*F89),"") -> 16.754192 | I89: =IF(M89>0,($K$15*F89),"") -> 43.782119 | J89: =IF(M89>0,((F89*$K$9)*$O$12),"") -> 17826.16 | K89: =IF(G89>$I$12,((G89-$I$12)*$K$17),"") -> -23.839133 | L89: =0.052*K$12*G89 -> 1900.412 | M89: 6126 | N89: =IF(M89<=1,(0),IF(M89<3600,(1),IF(M89>=3601,(2),"")))+N88 -> 142
A90: =A89+1 -> 72 | B90: =IF(M90<=1,(0),IF(M90<3600,(1),IF(M90>=3601,(2),"")))+B89 -> 144 | C90: =IF(M90>0,($I$14-B90),"") -> -144 | D90: =IF(M90>0,(M90/100),"") -> 62.25 | F90: =IF(M90>0,(F89+D90),"") -> 4413.01 | G90: =IF(M90>0,(F90+$E$17+$I$13),"") -> 4413.01 | H90: =IF(M90>0,($K$13*F90),"") -> 16.993908 | I90: =IF(M90>0,($K$15*F90),"") -> 44.408547 | J90: =IF(M90>0,((F90*$K$9)*$O$12),"") -> 18081.214 | K90: =IF(G90>$I$12,((G90-$I$12)*$K$17),"") -> -24.180219 | L90: =0.052*K$12*G90 -> 1927.6028 | M90: 6225 | N90: =IF(M90<=1,(0),IF(M90<3600,(1),IF(M90>=3601,(2),"")))+N89 -> 144
A91: =A90+1 -> 73 | B91: =IF(M91<=1,(0),IF(M91<3600,(1),IF(M91>=3601,(2),"")))+B90 -> 146 | C91: =IF(M91>0,($I$14-B91),"") -> -146 | D91: =IF(M91>0,(M91/100),"") -> 62.4 | F91: =IF(M91>0,(F90+D91),"") -> 4475.41 | G91: =IF(M91>0,(F91+$E$17+$I$13),"") -> 4475.41 | H91: =IF(M91>0,($K$13*F91),"") -> 17.234202 | I91: =IF(M91>0,($K$15*F91),"") -> 45.036484 | J91: =IF(M91>0,((F91*$K$9)*$O$12),"") -> 18336.882 | K91: =IF(G91>$I$12,((G91-$I$12)*$K$17),"") -> -24.522128 | L91: =0.052*K$12*G91 -> 1954.8591 | M91: 6240 | N91: =IF(M91<=1,(0),IF(M91<3600,(1),IF(M91>=3601,(2),"")))+N90 -> 146
A92: =A91+1 -> 74 | B92: =IF(M92<=1,(0),IF(M92<3600,(1),IF(M92>=3601,(2),"")))+B91 -> 148 | C92: =IF(M92>0,($I$14-B92),"") -> -148 | D92: =IF(M92>0,(M92/100),"") -> 62.43 | F92: =IF(M92>0,(F91+D92),"") -> 4537.84 | G92: =IF(M92>0,(F92+$E$17+$I$13),"") -> 4537.84 | H92: =IF(M92>0,($K$13*F92),"") -> 17.474612 | I92: =IF(M92>0,($K$15*F92),"") -> 45.664724 | J92: =IF(M92>0,((F92*$K$9)*$O$12),"") -> 18592.674 | K92: =IF(G92>$I$12,((G92-$I$12)*$K$17),"") -> -24.864201 | L92: =0.052*K$12*G92 -> 1982.1285 | M92: 6243 | N92: =IF(M92<=1,(0),IF(M92<3600,(1),IF(M92>=3601,(2),"")))+N91 -> 148
A93: =A92+1 -> 75 | B93: =IF(M93<=1,(0),IF(M93<3600,(1),IF(M93>=3601,(2),"")))+B92 -> 150 | C93: =IF(M93>0,($I$14-B93),"") -> -150 | D93: =IF(M93>0,(M93/100),"") -> 62.16 | F93: =IF(M93>0,(F92+D93),"") -> 4600 | G93: =IF(M93>0,(F93+$E$17+$I$13),"") -> 4600 | H93: =IF(M93>0,($K$13*F93),"") -> 17.713982 | I93: =IF(M93>0,($K$15*F93),"") -> 46.290246 | J93: =IF(M93>0,((F93*$K$9)*$O$12),"") -> 18847.359 | K93: =IF(G93>$I$12,((G93-$I$12)*$K$17),"") -> -25.204794 | L93: =0.052*K$12*G93 -> 2009.28 | M93: 6216 | N93: =IF(M93<=1,(0),IF(M93<3600,(1),IF(M93>=3601,(2),"")))+N92 -> 150
A94: =A93+1 -> 76 | B94: =IF(M94<=1,(0),IF(M94<3600,(1),IF(M94>=3601,(2),"")))+B93 -> 152 | C94: =IF(M94>0,($I$14-B94),"") -> -152 | D94: =IF(M94>0,(M94/100),"") -> 62.63 | F94: =IF(M94>0,(F93+D94),"") -> 4662.63 | G94: =IF(M94>0,(F94+$E$17+$I$13),"") -> 4662.63 | H94: =IF(M94>0,($K$13*F94),"") -> 17.955161 | I94: =IF(M94>0,($K$15*F94),"") -> 46.920497 | J94: =IF(M94>0,((F94*$K$9)*$O$12),"") -> 19103.97 | K94: =IF(G94>$I$12,((G94-$I$12)*$K$17),"") -> -25.547963 | L94: =0.052*K$12*G94 -> 2036.6368 | M94: 6263 | N94: =IF(M94<=1,(0),IF(M94<3600,(1),IF(M94>=3601,(2),"")))+N93 -> 152
A95: =A94+1 -> 77 | B95: =IF(M95<=1,(0),IF(M95<3600,(1),IF(M95>=3601,(2),"")))+B94 -> 154 | C95: =IF(M95>0,($I$14-B95),"") -> -154 | D95: =IF(M95>0,(M95/100),"") -> 61.73 | F95: =IF(M95>0,(F94+D95),"") -> 4724.36 | G95: =IF(M95>0,(F95+$E$17+$I$13),"") -> 4724.36 | H95: =IF(M95>0,($K$13*F95),"") -> 18.192875 | I95: =IF(M95>0,($K$15*F95),"") -> 47.541692 | J95: =IF(M95>0,((F95*$K$9)*$O$12),"") -> 19356.893 | K95: =IF(G95>$I$12,((G95-$I$12)*$K$17),"") -> -25.886201 | L95: =0.052*K$12*G95 -> 2063.6004 | M95: 6173 | N95: =IF(M95<=1,(0),IF(M95<3600,(1),IF(M95>=3601,(2),"")))+N94 -> 154
A96: =A95+1 -> 78 | B96: =IF(M96<=1,(0),IF(M96<3600,(1),IF(M96>=3601,(2),"")))+B95 -> 156 | C96: =IF(M96>0,($I$14-B96),"") -> -156 | D96: =IF(M96>0,(M96/100),"") -> 61.5 | F96: =IF(M96>0,(F95+D96),"") -> 4785.86 | G96: =IF(M96>0,(F96+$E$17+$I$13),"") -> 4785.86 | H96: =IF(M96>0,($K$13*F96),"") -> 18.429703 | I96: =IF(M96>0,($K$15*F96),"") -> 48.160573 | J96: =IF(M96>0,((F96*$K$9)*$O$12),"") -> 19608.874 | K96: =IF(G96>$I$12,((G96-$I$12)*$K$17),"") -> -26.223178 | L96: =0.052*K$12*G96 -> 2090.4636 | M96: 6150 | N96: =IF(M96<=1,(0),IF(M96<3600,(1),IF(M96>=3601,(2),"")))+N95 -> 156
A97: =A96+1 -> 79 | B97: =IF(M97<=1,(0),IF(M97<3600,(1),IF(M97>=3601,(2),"")))+B96 -> 158 | C97: =IF(M97>0,($I$14-B97),"") -> -158 | D97: =IF(M97>0,(M97/100),"") -> 61.42 | F97: =IF(M97>0,(F96+D97),"") -> 4847.28 | G97: =IF(M97>0,(F97+$E$17+$I$13),"") -> 4847.28 | H97: =IF(M97>0,($K$13*F97),"") -> 18.666224 | I97: =IF(M97>0,($K$15*F97),"") -> 48.778648 | J97: =IF(M97>0,((F97*$K$9)*$O$12),"") -> 19860.527 | K97: =IF(G97>$I$12,((G97-$I$12)*$K$17),"") -> -26.559716 | L97: =0.052*K$12*G97 -> 2117.2919 | M97: 6142 | N97: =IF(M97<=1,(0),IF(M97<3600,(1),IF(M97>=3601,(2),"")))+N96 -> 158
A98: =A97+1 -> 80 | B98: =IF(M98<=1,(0),IF(M98<3600,(1),IF(M98>=3601,(2),"")))+B97 -> 160 | C98: =IF(M98>0,($I$14-B98),"") -> -160 | D98: =IF(M98>0,(M98/100),"") -> 62.34 | E98: =SUM(D89:D98) -> 620.12 | F98: =IF(M98>0,(F97+D98),"") -> 4909.62 | G98: =IF(M98>0,(F98+$E$17+$I$13),"") -> 4909.62 | H98: =IF(M98>0,($K$13*F98),"") -> 18.906287 | I98: =IF(M98>0,($K$15*F98),"") -> 49.405982 | J98: =IF(M98>0,((F98*$K$9)*$O$12),"") -> 20115.95 | K98: =IF(G98>$I$12,((G98-$I$12)*$K$17),"") -> -26.901296 | L98: =0.052*K$12*G98 -> 2144.522 | M98: 6234 | N98: =IF(M98<=1,(0),IF(M98<3600,(1),IF(M98>=3601,(2),"")))+N97 -> 160
A99: =A98+1 -> 81 | B99: =IF(M99<=1,(0),IF(M99<3600,(1),IF(M99>=3601,(2),"")))+B98 -> 162 | C99: =IF(M99>0,($I$14-B99),"") -> -162 | D99: =IF(M99>0,(M99/100),"") -> 62.52 | F99: =IF(M99>0,(F98+D99),"") -> 4972.14 | G99: =IF(M99>0,(F99+$E$17+$I$13),"") -> 4972.14 | H99: =IF(M99>0,($K$13*F99),"") -> 19.147043 | I99: =IF(M99>0,($K$15*F99),"") -> 50.035126 | J99: =IF(M99>0,((F99*$K$9)*$O$12),"") -> 20372.11 | K99: =IF(G99>$I$12,((G99-$I$12)*$K$17),"") -> -27.243862 | L99: =0.052*K$12*G99 -> 2171.8308 | M99: 6252 | N99: =IF(M99<=1,(0),IF(M99<3600,(1),IF(M99>=3601,(2),"")))+N98 -> 162
A100: =A99+1 -> 82 | B100: =IF(M100<=1,(0),IF(M100<3600,(1),IF(M100>=3601,(2),"")))+B99 -> 164 | C100: =IF(M100>0,($I$14-B100),"") -> -164 | D100: =IF(M100>0,(M100/100),"") -> 62.14 | F100: =IF(M100>0,(F99+D100),"") -> 5034.28 | G100: =IF(M100>0,(F100+$E$17+$I$13),"") -> 5034.28 | H100: =IF(M100>0,($K$13*F100),"") -> 19.386335 | I100: =IF(M100>0,($K$15*F100),"") -> 50.660447 | J100: =IF(M100>0,((F100*$K$9)*$O$12),"") -> 20626.713 | K100: =IF(G100>$I$12,((G100-$I$12)*$K$17),"") -> -27.584346 | L100: =0.052*K$12*G100 -> 2198.9735 | M100: 6214 | N100: =IF(M100<=1,(0),IF(M100<3600,(1),IF(M100>=3601,(2),"")))+N99 -> 164
...

Sheet 12-9-16
A1: Extraction Oil & Gas
A2: Completion Report
A6: Date: | B6: 42713 | H6: AFE #: | I6: ='12-8-2016'!I6 -> Bison
A7: Well Name: | B7: ='12-8-2016'!B7 -> Kissler 2-10 (Bison) | H7: County: | I7: ='12-8-2016'!I7 -> Arapahoe | J7: State: | K7: ='12-8-2016'!K7 -> Colorado
A8: Wellbore Info: | B8: Total Depth MD: | C8: ='12-8-2016'!C8 -> 0 | D8: ft | E8: KOP: | F8: ='12-8-2016'!F8 -> N/A | G8: ft | H8: KB: | I8: ='12-8-2016'!I8 -> 0 | J8: ft
B9: Total Depth TVD: | C9: ='12-8-2016'!C9 -> 0 | D9: ft | E9: Liner Top: | F9: ='12-8-2016'!F9 -> N/A | G9: ft | H9: Tubing: | I9: ='12-8-2016'!I9 -> 2 3/8 4.7# J-55
A10: Surface Casing: | B10: ='12-8-2016'!B10 -> 9 5/8" 43# @ 308'
A11: Intermediate: | B11: ='12-8-2016'!B11 -> 4 1/2 11.6# @ 8175'
A12: Prod. Liner: | B12: ='12-8-2016'!B12 -> none
A13: Frac String: | B13: ='12-8-2016'!B13 -> None
A14: Cost Summary
A15: Item | B15: Thunderbird Rig 19 | D15: 4500 | G15: 0 | J15: 0 | K15: Daily Total | L15: =SUM(D15:D18,G15:G18,J15:J20) -> 7350
B16: Ensign water | D16: 500 | G16: 0 | J16: 0 | K16: Cum. Total | L16: ='12-8-2016'!L16+L15 -> 10850
B17: Element | D17: 1500 | G17: 0 | J17: 0
B18: 42713 | D18: 0 | G18: 0 | J18: 0
A19: Completion Supervisor: | C19: Day: | D19: Luke Mahoney | G19: Cost: | J19: 850
C20: Night: | G20: Cost: | J20: 0
A21: Crucial notes: | B21: ='12-8-2016'!B21 -> (Information placed here will be forwarded to all following sheets)
E22: Summary of Operations

Sheet 12-12-16
A1: Extraction Oil & Gas
A2: Completion Report
A6: Date: | B6: 42716 | H6: AFE #: | I6: ='12-8-2016'!I6 -> Bison
A7: Well Name: | B7: ='12-8-2016'!B7 -> Kissler 2-10 (Bison) | H7: County: | I7: Arapahoe | J7: State: | K7: ='12-8-2016'!K7 -> Colorado
A8: Wellbore Info: | B8: Total Depth MD: | C8: ='12-8-2016'!C8 -> 0 | D8: ft | E8: KOP: | F8: ='12-8-2016'!F8 -> N/A | G8: ft | H8: KB: | I8: ='12-8-2016'!I8 -> 0 | J8: ft
B9: Total Depth TVD: | C9: ='12-8-2016'!C9 -> 0 | D9: ft | E9: Liner Top: | F9: ='12-8-2016'!F9 -> N/A | G9: ft | H9: Tubing: | I9: ='12-8-2016'!I9 -> 2 3/8 4.7# J-55
A10: Surface Casing: | B10: ='12-8-2016'!B10 -> 9 5/8" 43# @ 308'
A11: Intermediate: | B11: ='12-8-2016'!B11 -> 4 1/2 11.6# @ 8175'
A12: Prod. Liner: | B12: ='12-8-2016'!B12 -> none
A13: Frac String: | B13: ='12-8-2016'!B13 -> None
A14: Cost Summary
A15: Item | B15: Thunderbird 19 | D15: 5300 | E15: Reck flyers | G15: 275 | J15: 0 | K15: Daily Total | L15: =SUM(D15:D18,G15:G18,J15:J20) -> 14875
B16: Thunderbird services | D16: 3100 | G16: 0 | J16: 0 | K16: Cum. Total | L16: ='12-9-16'!L16+L15 -> 25725
B17: Ensign trucking | D17: 350 | G17: 0 | J17: 0
B18: WB supply | D18: 5000 | G18: 0 | J18: 0
A19: Completion Supervisor: | C19: Day: | D19: Brandon Tracy | G19: Cost: | J19: 850
C20: Night: | G20: Cost: | J20: 0
A21: Crucial notes: | B21: ='12-9-16'!B21 -> (Information placed here will be forwarded to all following sheets)
E22: Summary of Operations

Sheet Date 4
A1: Extraction Oil & Gas
A2: Completion Report
A6: Date: | H6: AFE #: | I6: ='12-8-2016'!I6 -> Bison
A7: Well Name: | B7: ='12-8-2016'!B7 -> Kissler 2-10 (Bison) | H7: County: | I7: ='12-8-2016'!I7 -> Arapahoe | J7: State: | K7: ='12-8-2016'!K7 -> Colorado
A8: Wellbore Info: | B8: Total Depth MD: | C8: ='12-8-2016'!C8 -> 0 | D8: ft | E8: KOP: | F8: ='12-8-2016'!F8 -> N/A | G8: ft | H8: KB: | I8: ='12-8-2016'!I8 -> 0 | J8: ft
B9: Total Depth TVD: | C9: ='12-8-2016'!C9 -> 0 | D9: ft | E9: Liner Top: | F9: ='12-8-2016'!F9 -> N/A | G9: ft | H9: Tubing: | I9: ='12-8-2016'!I9 -> 2 3/8 4.7# J-55
A10: Surface Casing: | B10: ='12-8-2016'!B10 -> 9 5/8" 43# @ 308'
A11: Intermediate: | B11: ='12-8-2016'!B11 -> 4 1/2 11.6# @ 8175'
A12: Prod. Liner: | B12: ='12-8-2016'!B12 -> none
A13: Frac String: | B13: ='12-8-2016'!B13 -> None
A14: Cost Summary
A15: Item | D15: 0 | G15: 0 | J15: 0 | K15: Daily Total | L15: =SUM(D15:D18,G15:G18,J15:J20) -> 0
D16: 0 | G16: 0 | J16: 0 | K16: Cum. Total | L16: ='12-12-16'!L16+L15 -> 25725
D17: 0 | G17: 0 | J17: 0
D18: 0 | G18: 0 | J18: 0
A19: Completion Supervisor: | C19: Day: | G19: Cost: | J19: 0
C20: Night: | G20: Cost: | J20: 0
A21: Crucial notes: | B21: ='12-12-16'!B21 -> (Information placed here will be forwarded to all following sheets)
E22: Summary of Operations

Sheet Date 5
A1: Extraction Oil & Gas
A2: Completion Report
A6: Date: | H6: AFE #: | I6: ='12-8-2016'!I6 -> Bison
A7: Well Name: | B7: ='12-8-2016'!B7 -> Kissler 2-10 (Bison) | H7: County: | I7: ='12-8-2016'!I7 -> Arapahoe | J7: State: | K7: ='12-8-2016'!K7 -> Colorado
A8: Wellbore Info: | B8: Total Depth MD: | C8: ='12-8-2016'!C8 -> 0 | D8: ft | E8: KOP: | F8: ='12-8-2016'!F8 -> N/A | G8: ft | H8: KB: | I8: ='12-8-2016'!I8 -> 0 | J8: ft
B9: Total Depth TVD: | C9: ='12-8-2016'!C9 -> 0 | D9: ft | E9: Liner Top: | F9: ='12-8-2016'!F9 -> N/A | G9: ft | H9: Tubing: | I9: ='12-8-2016'!I9 -> 2 3/8 4.7# J-55
A10: Surface Casing: | B10: ='12-8-2016'!B10 -> 9 5/8" 43# @ 308'
A11: Intermediate: | B11: ='12-8-2016'!B11 -> 4 1/2 11.6# @ 8175'
A12: Prod. Liner: | B12: ='12-8-2016'!B12 -> none
A13: Frac String: | B13: ='12-8-2016'!B13 -> None
A14: Cost Summary
A15: Item | D15: 0 | G15: 0 | J15: 0 | K15: Daily Total | L15: =SUM(D15:D18,G15:G18,J15:J20) -> 0
D16: 0 | G16: 0 | J16: 0 | K16: Cum. Total | L16: ='Date 4'!L16+L15 -> 25725
D17: 0 | G17: 0 | J17: 0
D18: 0 | G18: 0 | J18: 0
A19: Completion Supervisor: | C19: Day: | G19: Cost: | J19: 0
C20: Night: | G20: Cost: | J20: 0
A21: Crucial notes: | B21: ='Date 4'!B21 -> (Information placed here will be forwarded to all following sheets)
E22: Summary of Operations

Sheet Date 6
A1: Extraction Oil & Gas
A2: Completion Report
A6: Date: | H6: AFE #: | I6: ='12-8-2016'!I6 -> Bison
A7: Well Name: | B7: ='12-8-2016'!B7 -> Kissler 2-10 (Bison) | H7: County: | I7: ='12-8-2016'!I7 -> Arapahoe | J7: State: | K7: ='12-8-2016'!K7 -> Colorado
A8: Wellbore Info: | B8: Total Depth MD: | C8: ='12-8-2016'!C8 -> 0 | D8: ft | E8: KOP: | F8: ='12-8-2016'!F8 -> N/A | G8: ft | H8: KB: | I8: ='12-8-2016'!I8 -> 0 | J8: ft
B9: Total Depth TVD: | C9: ='12-8-2016'!C9 -> 0 | D9: ft | E9: Liner Top: | F9: ='12-8-2016'!F9 -> N/A | G9: ft | H9: Tubing: | I9: ='12-8-2016'!I9 -> 2 3/8 4.7# J-55
A10: Surface Casing: | B10: ='12-8-2016'!B10 -> 9 5/8" 43# @ 308'
A11: Intermediate: | B11: ='12-8-2016'!B11 -> 4 1/2 11.6# @ 8175'
A12: Prod. Liner: | B12: ='12-8-2016'!B12 -> none
A13: Frac String: | B13: ='12-8-2016'!B13 -> None
A14: Cost Summary
A15: Item | D15: 0 | G15: 0 | J15: 0 | K15: Daily Total | L15: =SUM(D15:D18,G15:G18,J15:J20) -> 0
D16: 0 | G16: 0 | J16: 0 | K16: Cum. Total | L16: ='Date 5'!L16+L15 -> 25725
D17: 0 | G17: 0 | J17: 0
D18: 0 | G18: 0 | J18: 0
A19: Completion Supervisor: | C19: Day: | G19: Cost: | J19: 0
C20: Night: | G20: Cost: | J20: 0
A21: Crucial notes: | B21: ='Date 5'!B21 -> (Information placed here will be forwarded to all following sheets)
E22: Summary of Operations

Sheet Date 7
A1: Extraction Oil & Gas
A2: Completion Report
A6: Date: | H6: AFE #: | I6: ='12-8-2016'!I6 -> Bison
A7: Well Name: | B7: ='12-8-2016'!B7 -> Kissler 2-10 (Bison) | H7: County: | I7: ='12-8-2016'!I7 -> Arapahoe | J7: State: | K7: ='12-8-2016'!K7 -> Colorado
A8: Wellbore Info: | B8: Total Depth MD: | C8: ='12-8-2016'!C8 -> 0 | D8: ft | E8: KOP: | F8: ='12-8-2016'!F8 -> N/A | G8: ft | H8: KB: | I8: ='12-8-2016'!I8 -> 0 | J8: ft
B9: Total Depth TVD: | C9: ='12-8-2016'!C9 -> 0 | D9: ft | E9: Liner Top: | F9: ='12-8-2016'!F9 -> N/A | G9: ft | H9: Tubing: | I9: ='12-8-2016'!I9 -> 2 3/8 4.7# J-55
A10: Surface Casing: | B10: ='12-8-2016'!B10 -> 9 5/8" 43# @ 308'
A11: Intermediate: | B11: ='12-8-2016'!B11 -> 4 1/2 11.6# @ 8175'
A12: Prod. Liner: | B12: ='12-8-2016'!B12 -> none
A13: Frac String: | B13: ='12-8-2016'!B13 -> None
A14: Cost Summary
A15: Item | D15: 0 | G15: 0 | J15: 0 | K15: Daily Total | L15: =SUM(D15:D18,G15:G18,J15:J20) -> 0
D16: 0 | G16: 0 | J16: 0 | K16: Cum. Total | L16: ='Date 6'!L16+L15 -> 25725
D17: 0 | G17: 0 | J17: 0
D18: 0 | G18: 0 | J18: 0
A19: Completion Supervisor: | C19: Day: | G19: Cost: | J19: 0
C20: Night: | G20: Cost: | J20: 0
A21: Crucial notes: | B21: ='Date 6'!B21 -> (Information placed here will be forwarded to all following sheets)
E22: Summary of Operations

Sheet Date 8
A1: Extraction Oil & Gas
A2: Completion Report
A6: Date: | H6: AFE #: | I6: ='12-8-2016'!I6 -> Bison
A7: Well Name: | B7: ='12-8-2016'!B7 -> Kissler 2-10 (Bison) | H7: County: | I7: ='12-8-2016'!I7 -> Arapahoe | J7: State: | K7: ='12-8-2016'!K7 -> Colorado
A8: Wellbore Info: | B8: Total Depth MD: | C8: ='12-8-2016'!C8 -> 0 | D8: ft | E8: KOP: | F8: ='12-8-2016'!F8 -> N/A | G8: ft | H8: KB: | I8: ='12-8-2016'!I8 -> 0 | J8: ft
B9: Total Depth TVD: | C9: ='12-8-2016'!C9 -> 0 | D9: ft | E9: Liner Top: | F9: ='12-8-2016'!F9 -> N/A | G9: ft | H9: Tubing: | I9: ='12-8-2016'!I9 -> 2 3/8 4.7# J-55
A10: Surface Casing: | B10: ='12-8-2016'!B10 -> 9 5/8" 43# @ 308'
A11: Intermediate: | B11: ='12-8-2016'!B11 -> 4 1/2 11.6# @ 8175'
A12: Prod. Liner: | B12: ='12-8-2016'!B12 -> none
A13: Frac String: | B13: ='12-8-2016'!B13 -> None
A14: Cost Summary
A15: Item | D15: 0 | G15: 0 | J15: 0 | K15: Daily Total | L15: =SUM(D15:D18,G15:G18,J15:J20) -> 0
D16: 0 | G16: 0 | J16: 0 | K16: Cum. Total | L16: ='Date 7'!L16+L15 -> 25725
D17: 0 | G17: 0 | J17: 0
D18: 0 | G18: 0 | J18: 0
A19: Completion Supervisor: | C19: Day: | G19: Cost: | J19: 0
C20: Night: | G20: Cost: | J20: 0
A21: Crucial notes: | B21: ='Date 7'!B21 -> (Information placed here will be forwarded to all following sheets)
E22: Summary of Operations

Sheet Date 9
A1: Extraction Oil & Gas
A2: Completion Report
A6: Date: | H6: AFE #: | I6: ='12-8-2016'!I6 -> Bison
A7: Well Name: | B7: ='12-8-2016'!B7 -> Kissler 2-10 (Bison) | H7: County: | I7: ='12-8-2016'!I7 -> Arapahoe | J7: State: | K7: ='12-8-2016'!K7 -> Colorado
A8: Wellbore Info: | B8: Total Depth MD: | C8: ='12-8-2016'!C8 -> 0 | D8: ft | E8: KOP: | F8: ='12-8-2016'!F8 -> N/A | G8: ft | H8: KB: | I8: ='12-8-2016'!I8 -> 0 | J8: ft
B9: Total Depth TVD: | C9: ='12-8-2016'!C9 -> 0 | D9: ft | E9: Liner Top: | F9: ='12-8-2016'!F9 -> N/A | G9: ft | H9: Tubing: | I9: ='12-8-2016'!I9 -> 2 3/8 4.7# J-55
A10: Surface Casing: | B10: ='12-8-2016'!B10 -> 9 5/8" 43# @ 308'
A11: Intermediate: | B11: ='12-8-2016'!B11 -> 4 1/2 11.6# @ 8175'
A12: Prod. Liner: | B12: ='12-8-2016'!B12 -> none
A13: Frac String: | B13: ='12-8-2016'!B13 -> None
A14: Cost Summary
A15: Item | D15: 0 | G15: 0 | J15: 0 | K15: Daily Total | L15: =SUM(D15:D18,G15:G18,J15:J20) -> 0
D16: 0 | G16: 0 | J16: 0 | K16: Cum. Total | L16: ='Date 8'!L16+L15 -> 25725
D17: 0 | G17: 0 | J17: 0
D18: 0 | G18: 0 | J18: 0
A19: Completion Supervisor: | C19: Day: | G19: Cost: | J19: 0
C20: Night: | G20: Cost: | J20: 0
A21: Crucial notes: | B21: ='Date 8'!B21 -> (Information placed here will be forwarded to all following sheets)
E22: Summary of Operations

Sheet Date 10
A1: Extraction Oil & Gas
A2: Completion Report
A6: Date: | H6: AFE #: | I6: ='12-8-2016'!I6 -> Bison
A7: Well Name: | B7: ='12-8-2016'!B7 -> Kissler 2-10 (Bison) | H7: County: | I7: ='12-8-2016'!I7 -> Arapahoe | J7: State: | K7: ='12-8-2016'!K7 -> Colorado
A8: Wellbore Info: | B8: Total Depth MD: | C8: ='12-8-2016'!C8 -> 0 | D8: ft | E8: KOP: | F8: ='12-8-2016'!F8 -> N/A | G8: ft | H8: KB: | I8: ='12-8-2016'!I8 -> 0 | J8: ft
B9: Total Depth TVD: | C9: ='12-8-2016'!C9 -> 0 | D9: ft | E9: Liner Top: | F9: ='12-8-2016'!F9 -> N/A | G9: ft | H9: Tubing: | I9: ='12-8-2016'!I9 -> 2 3/8 4.7# J-55
A10: Surface Casing: | B10: ='12-8-2016'!B10 -> 9 5/8" 43# @ 308'
A11: Intermediate: | B11: ='12-8-2016'!B11 -> 4 1/2 11.6# @ 8175'
A12: Prod. Liner: | B12: ='12-8-2016'!B12 -> none
A13: Frac String: | B13: ='12-8-2016'!B13 -> None
A14: Cost Summary
A15: Item | D15: 0 | G15: 0 | J15: 0 | K15: Daily Total | L15: =SUM(D15:D18,G15:G18,J15:J20) -> 0
D16: 0 | G16: 0 | J16: 0 | K16: Cum. Total | L16: ='Date 9'!L16+L15 -> 25725
D17: 0 | G17: 0 | J17: 0
D18: 0 | G18: 0 | J18: 0
A19: Completion Supervisor: | C19: Day: | G19: Cost: | J19: 0
C20: Night: | G20: Cost: | J20: 0
A21: Crucial notes: | B21: ='Date 9'!B21 -> (Information placed here will be forwarded to all following sheets)
E22: Summary of Operations

Sheet Date 11
A1: Extraction Oil & Gas
A2: Completion Report
A6: Date: | H6: AFE #: | I6: ='12-8-2016'!I6 -> Bison
A7: Well Name: | B7: ='12-8-2016'!B7 -> Kissler 2-10 (Bison) | H7: County: | I7: ='12-8-2016'!I7 -> Arapahoe | J7: State: | K7: ='12-8-2016'!K7 -> Colorado
A8: Wellbore Info: | B8: Total Depth MD: | C8: ='12-8-2016'!C8 -> 0 | D8: ft | E8: KOP: | F8: ='12-8-2016'!F8 -> N/A | G8: ft | H8: KB: | I8: ='12-8-2016'!I8 -> 0 | J8: ft
B9: Total Depth TVD: | C9: ='12-8-2016'!C9 -> 0 | D9: ft | E9: Liner Top: | F9: ='12-8-2016'!F9 -> N/A | G9: ft | H9: Tubing: | I9: ='12-8-2016'!I9 -> 2 3/8 4.7# J-55
A10: Surface Casing: | B10: ='12-8-2016'!B10 -> 9 5/8" 43# @ 308'
A11: Intermediate: | B11: ='12-8-2016'!B11 -> 4 1/2 11.6# @ 8175'
A12: Prod. Liner: | B12: ='12-8-2016'!B12 -> none
A13: Frac String: | B13: ='12-8-2016'!B13 -> None
A14: Cost Summary
A15: Item | D15: 0 | G15: 0 | J15: 0 | K15: Daily Total | L15: =SUM(D15:D18,G15:G18,J15:J20) -> 0
D16: 0 | G16: 0 | J16: 0 | K16: Cum. Total | L16: ='Date 10'!L16+L15 -> 25725
D17: 0 | G17: 0 | J17: 0
D18: 0 | G18: 0 | J18: 0
A19: Completion Supervisor: | C19: Day: | G19: Cost: | J19: 0
C20: Night: | G20: Cost: | J20: 0
A21: Crucial notes: | B21: ='Date 10'!B21 -> (Information placed here will be forwarded to all following sheets)
E22: Summary of Operations

Sheet Date 12
A1: Extraction Oil & Gas
A2: Completion Report
A6: Date: | H6: AFE #: | I6: ='12-8-2016'!I6 -> Bison
A7: Well Name: | B7: ='12-8-2016'!B7 -> Kissler 2-10 (Bison) | H7: County: | I7: ='12-8-2016'!I7 -> Arapahoe | J7: State: | K7: ='12-8-2016'!K7 -> Colorado
A8: Wellbore Info: | B8: Total Depth MD: | C8: ='12-8-2016'!C8 -> 0 | D8: ft | E8: KOP: | F8: ='12-8-2016'!F8 -> N/A | G8: ft | H8: KB: | I8: ='12-8-2016'!I8 -> 0 | J8: ft
B9: Total Depth TVD: | C9: ='12-8-2016'!C9 -> 0 | D9: ft | E9: Liner Top: | F9: ='12-8-2016'!F9 -> N/A | G9: ft | H9: Tubing: | I9: ='12-8-2016'!I9 -> 2 3/8 4.7# J-55
A10: Surface Casing: | B10: ='12-8-2016'!B10 -> 9 5/8" 43# @ 308'
A11: Intermediate: | B11: ='12-8-2016'!B11 -> 4 1/2 11.6# @ 8175'
A12: Prod. Liner: | B12: ='12-8-2016'!B12 -> none
A13: Frac String: | B13: ='12-8-2016'!B13 -> None
A14: Cost Summary
A15: Item | D15: 0 | G15: 0 | J15: 0 | K15: Daily Total | L15: =SUM(D15:D18,G15:G18,J15:J20) -> 0
D16: 0 | G16: 0 | J16: 0 | K16: Cum. Total | L16: ='Date 11'!L16+L15 -> 25725
D17: 0 | G17: 0 | J17: 0
D18: 0 | G18: 0 | J18: 0
A19: Completion Supervisor: | C19: Day: | G19: Cost: | J19: 0
C20: Night: | G20: Cost: | J20: 0
A21: Crucial notes: | B21: ='Date 11'!B21 -> (Information placed here will be forwarded to all following sheets)
E22: Summary of Operations

Sheet Date 13
A1: Extraction Oil & Gas
A2: Completion Report
A6: Date: | H6: AFE #: | I6: ='12-8-2016'!I6 -> Bison
A7: Well Name: | B7: ='12-8-2016'!B7 -> Kissler 2-10 (Bison) | H7: County: | I7: ='12-8-2016'!I7 -> Arapahoe | J7: State: | K7: ='12-8-2016'!K7 -> Colorado
A8: Wellbore Info: | B8: Total Depth MD: | C8: ='12-8-2016'!C8 -> 0 | D8: ft | E8: KOP: | F8: ='12-8-2016'!F8 -> N/A | G8: ft | H8: KB: | I8: ='12-8-2016'!I8 -> 0 | J8: ft
B9: Total Depth TVD: | C9: ='12-8-2016'!C9 -> 0 | D9: ft | E9: Liner Top: | F9: ='12-8-2016'!F9 -> N/A | G9: ft | H9: Tubing: | I9: ='12-8-2016'!I9 -> 2 3/8 4.7# J-55
A10: Surface Casing: | B10: ='12-8-2016'!B10 -> 9 5/8" 43# @ 308'
A11: Intermediate: | B11: ='12-8-2016'!B11 -> 4 1/2 11.6# @ 8175'
A12: Prod. Liner: | B12: ='12-8-2016'!B12 -> none
A13: Frac String: | B13: ='12-8-2016'!B13 -> None
A14: Cost Summary
A15: Item | D15: 0 | G15: 0 | J15: 0 | K15: Daily Total | L15: =SUM(D15:D18,G15:G18,J15:J20) -> 0
D16: 0 | G16: 0 | J16: 0 | K16: Cum. Total | L16: ='Date 12'!L16+L15 -> 25725
D17: 0 | G17: 0 | J17: 0
D18: 0 | G18: 0 | J18: 0
A19: Completion Supervisor: | C19: Day: | G19: Cost: | J19: 0
C20: Night: | G20: Cost: | J20: 0
A21: Crucial notes: | B21: ='Date 12'!B21 -> (Information placed here will be forwarded to all following sheets)
E22: Summary of Operations

Sheet Date 14
A1: Extraction Oil & Gas
A2: Completion Report
A6: Date: | H6: AFE #: | I6: ='12-8-2016'!I6 -> Bison
A7: Well Name: | B7: ='12-8-2016'!B7 -> Kissler 2-10 (Bison) | H7: County: | I7: ='12-8-2016'!I7 -> Arapahoe | J7: State: | K7: ='12-8-2016'!K7 -> Colorado
A8: Wellbore Info: | B8: Total Depth MD: | C8: ='12-8-2016'!C8 -> 0 | D8: ft | E8: KOP: | F8: ='12-8-2016'!F8 -> N/A | G8: ft | H8: KB: | I8: ='12-8-2016'!I8 -> 0 | J8: ft
B9: Total Depth TVD: | C9: ='12-8-2016'!C9 -> 0 | D9: ft | E9: Liner Top: | F9: ='12-8-2016'!F9 -> N/A | G9: ft | H9: Tubing: | I9: ='12-8-2016'!I9 -> 2 3/8 4.7# J-55
A10: Surface Casing: | B10: ='12-8-2016'!B10 -> 9 5/8" 43# @ 308'
A11: Intermediate: | B11: ='12-8-2016'!B11 -> 4 1/2 11.6# @ 8175'
A12: Prod. Liner: | B12: ='12-8-2016'!B12 -> none
A13: Frac String: | B13: ='12-8-2016'!B13 -> None
A14: Cost Summary
A15: Item | D15: 0 | G15: 0 | J15: 0 | K15: Daily Total | L15: =SUM(D15:D18,G15:G18,J15:J20) -> 0
D16: 0 | G16: 0 | J16: 0 | K16: Cum. Total | L16: ='Date 13'!L16+L15 -> 25725
D17: 0 | G17: 0 | J17: 0
D18: 0 | G18: 0 | J18: 0
A19: Completion Supervisor: | C19: Day: | G19: Cost: | J19: 0
C20: Night: | G20: Cost: | J20: 0
A21: Crucial notes: | B21: ='Date 13'!B21 -> (Information placed here will be forwarded to all following sheets)
E22: Summary of Operations

Sheet Date 15
A1: Extraction Oil & Gas
A2: Completion Report
A6: Date: | H6: AFE #: | I6: ='12-8-2016'!I6 -> Bison
A7: Well Name: | B7: ='12-8-2016'!B7 -> Kissler 2-10 (Bison) | H7: County: | I7: ='12-8-2016'!I7 -> Arapahoe | J7: State: | K7: ='12-8-2016'!K7 -> Colorado
A8: Wellbore Info: | B8: Total Depth MD: | C8: ='12-8-2016'!C8 -> 0 | D8: ft | E8: KOP: | F8: ='12-8-2016'!F8 -> N/A | G8: ft | H8: KB: | I8: ='12-8-2016'!I8 -> 0 | J8: ft
B9: Total Depth TVD: | C9: ='12-8-2016'!C9 -> 0 | D9: ft | E9: Liner Top: | F9: ='12-8-2016'!F9 -> N/A | G9: ft | H9: Tubing: | I9: ='12-8-2016'!I9 -> 2 3/8 4.7# J-55
A10: Surface Casing: | B10: ='12-8-2016'!B10 -> 9 5/8" 43# @ 308'
A11: Intermediate: | B11: ='12-8-2016'!B11 -> 4 1/2 11.6# @ 8175'
A12: Prod. Liner: | B12: ='12-8-2016'!B12 -> none
A13: Frac String: | B13: ='12-8-2016'!B13 -> None
A14: Cost Summary
A15: Item | D15: 0 | G15: 0 | J15: 0 | K15: Daily Total | L15: =SUM(D15:D18,G15:G18,J15:J20) -> 0
D16: 0 | G16: 0 | J16: 0 | K16: Cum. Total | L16: ='Date 14'!L16+L15 -> 25725
D17: 0 | G17: 0 | J17: 0
D18: 0 | G18: 0 | J18: 0
A19: Completion Supervisor: | C19: Day: | G19: Cost: | J19: 0
C20: Night: | G20: Cost: | J20: 0
A21: Crucial notes: | B21: ='Date 14'!B21 -> (Information placed here will be forwarded to all following sheets)
E22: Summary of Operations

Sheet Date 16
A1: Extraction Oil & Gas
A2: Completion Report
A6: Date: | H6: AFE #: | I6: ='12-8-2016'!I6 -> Bison
A7: Well Name: | B7: ='12-8-2016'!B7 -> Kissler 2-10 (Bison) | H7: County: | I7: ='12-8-2016'!I7 -> Arapahoe | J7: State: | K7: ='12-8-2016'!K7 -> Colorado
A8: Wellbore Info: | B8: Total Depth MD: | C8: ='12-8-2016'!C8 -> 0 | D8: ft | E8: KOP: | F8: ='12-8-2016'!F8 -> N/A | G8: ft | H8: KB: | I8: ='12-8-2016'!I8 -> 0 | J8: ft
B9: Total Depth TVD: | C9: ='12-8-2016'!C9 -> 0 | D9: ft | E9: Liner Top: | F9: ='12-8-2016'!F9 -> N/A | G9: ft | H9: Tubing: | I9: ='12-8-2016'!I9 -> 2 3/8 4.7# J-55
A10: Surface Casing: | B10: ='12-8-2016'!B10 -> 9 5/8" 43# @ 308'
A11: Intermediate: | B11: ='12-8-2016'!B11 -> 4 1/2 11.6# @ 8175'
A12: Prod. Liner: | B12: ='12-8-2016'!B12 -> none
A13: Frac String: | B13: ='12-8-2016'!B13 -> None
A14: Cost Summary
A15: Item | D15: 0 | G15: 0 | J15: 0 | K15: Daily Total | L15: =SUM(D15:D18,G15:G18,J15:J20) -> 0
D16: 0 | G16: 0 | J16: 0 | K16: Cum. Total | L16: ='Date 15'!L16+L15 -> 25725
D17: 0 | G17: 0 | J17: 0
D18: 0 | G18: 0 | J18: 0
A19: Completion Supervisor: | C19: Day: | G19: Cost: | J19: 0
C20: Night: | G20: Cost: | J20: 0
A21: Crucial notes: | B21: ='Date 15'!B21 -> (Information placed here will be forwarded to all following sheets)
E22: Summary of Operations

Sheet Date 17
A1: Extraction Oil & Gas
A2: Completion Report
A6: Date: | H6: AFE #: | I6: ='12-8-2016'!I6 -> Bison
A7: Well Name: | B7: ='12-8-2016'!B7 -> Kissler 2-10 (Bison) | H7: County: | I7: ='12-8-2016'!I7 -> Arapahoe | J7: State: | K7: ='12-8-2016'!K7 -> Colorado
A8: Wellbore Info: | B8: Total Depth MD: | C8: ='12-8-2016'!C8 -> 0 | D8: ft | E8: KOP: | F8: ='12-8-2016'!F8 -> N/A | G8: ft | H8: KB: | I8: ='12-8-2016'!I8 -> 0 | J8: ft
B9: Total Depth TVD: | C9: ='12-8-2016'!C9 -> 0 | D9: ft | E9: Liner Top: | F9: ='12-8-2016'!F9 -> N/A | G9: ft | H9: Tubing: | I9: ='12-8-2016'!I9 -> 2 3/8 4.7# J-55
A10: Surface Casing: | B10: ='12-8-2016'!B10 -> 9 5/8" 43# @ 308'
A11: Intermediate: | B11: ='12-8-2016'!B11 -> 4 1/2 11.6# @ 8175'
A12: Prod. Liner: | B12: ='12-8-2016'!B12 -> none
A13: Frac String: | B13: ='12-8-2016'!B13 -> None
A14: Cost Summary
A15: Item | D15: 0 | G15: 0 | J15: 0 | K15: Daily Total | L15: =SUM(D15:D18,G15:G18,J15:J20) -> 0
D16: 0 | G16: 0 | J16: 0 | K16: Cum. Total | L16: ='Date 16'!L16+L15 -> 25725
D17: 0 | G17: 0 | J17: 0
D18: 0 | G18: 0 | J18: 0
A19: Completion Supervisor: | C19: Day: | G19: Cost: | J19: 0
C20: Night: | G20: Cost: | J20: 0
A21: Crucial notes: | B21: ='Date 16'!B21 -> (Information placed here will be forwarded to all following sheets)
E22: Summary of Operations

Sheet Date 18
A1: Extraction Oil & Gas
A2: Completion Report
A6: Date: | H6: AFE #: | I6: ='12-8-2016'!I6 -> Bison
A7: Well Name: | B7: ='12-8-2016'!B7 -> Kissler 2-10 (Bison) | H7: County: | I7: ='12-8-2016'!I7 -> Arapahoe | J7: State: | K7: ='12-8-2016'!K7 -> Colorado
A8: Wellbore Info: | B8: Total Depth MD: | C8: ='12-8-2016'!C8 -> 0 | D8: ft | E8: KOP: | F8: ='12-8-2016'!F8 -> N/A | G8: ft | H8: KB: | I8: ='12-8-2016'!I8 -> 0 | J8: ft
B9: Total Depth TVD: | C9: ='12-8-2016'!C9 -> 0 | D9: ft | E9: Liner Top: | F9: ='12-8-2016'!F9 -> N/A | G9: ft | H9: Tubing: | I9: ='12-8-2016'!I9 -> 2 3/8 4.7# J-55
A10: Surface Casing: | B10: ='12-8-2016'!B10 -> 9 5/8" 43# @ 308'
A11: Intermediate: | B11: ='12-8-2016'!B11 -> 4 1/2 11.6# @ 8175'
A12: Prod. Liner: | B12: ='12-8-2016'!B12 -> none
A13: Frac String: | B13: ='12-8-2016'!B13 -> None
A14: Cost Summary
A15: Item | D15: 0 | G15: 0 | J15: 0 | K15: Daily Total | L15: =SUM(D15:D18,G15:G18,J15:J20) -> 0
D16: 0 | G16: 0 | J16: 0 | K16: Cum. Total | L16: ='Date 17'!L16+L15 -> 25725
D17: 0 | G17: 0 | J17: 0
D18: 0 | G18: 0 | J18: 0
A19: Completion Supervisor: | C19: Day: | G19: Cost: | J19: 0
C20: Night: | G20: Cost: | J20: 0
A21: Crucial notes: | B21: ='Date 17'!B21 -> (Information placed here will be forwarded to all following sheets)
E22: Summary of Operations

Sheet Date 19
A1: Extraction Oil & Gas
A2: Completion Report
A6: Date: | H6: AFE #: | I6: ='12-8-2016'!I6 -> Bison
A7: Well Name: | B7: ='12-8-2016'!B7 -> Kissler 2-10 (Bison) | H7: County: | I7: ='12-8-2016'!I7 -> Arapahoe | J7: State: | K7: ='12-8-2016'!K7 -> Colorado
A8: Wellbore Info: | B8: Total Depth MD: | C8: ='12-8-2016'!C8 -> 0 | D8: ft | E8: KOP: | F8: ='12-8-2016'!F8 -> N/A | G8: ft | H8: KB: | I8: ='12-8-2016'!I8 -> 0 | J8: ft
B9: Total Depth TVD: | C9: ='12-8-2016'!C9 -> 0 | D9: ft | E9: Liner Top: | F9: ='12-8-2016'!F9 -> N/A | G9: ft | H9: Tubing: | I9: ='12-8-2016'!I9 -> 2 3/8 4.7# J-55
A10: Surface Casing: | B10: ='12-8-2016'!B10 -> 9 5/8" 43# @ 308'
A11: Intermediate: | B11: ='12-8-2016'!B11 -> 4 1/2 11.6# @ 8175'
A12: Prod. Liner: | B12: ='12-8-2016'!B12 -> none
A13: Frac String: | B13: ='12-8-2016'!B13 -> None
A14: Cost Summary
A15: Item | D15: 0 | G15: 0 | J15: 0 | K15: Daily Total | L15: =SUM(D15:D18,G15:G18,J15:J20) -> 0
D16: 0 | G16: 0 | J16: 0 | K16: Cum. Total | L16: ='Date 18'!L16+L15 -> 25725
D17: 0 | G17: 0 | J17: 0
D18: 0 | G18: 0 | J18: 0
A19: Completion Supervisor: | C19: Day: | G19: Cost: | J19: 0
C20: Night: | G20: Cost: | J20: 0
A21: Crucial notes: | B21: ='Date 18'!B21 -> (Information placed here will be forwarded to all following sheets)
E22: Summary of Operations

Sheet Date 20
A1: Extraction Oil & Gas
A2: Completion Report
A6: Date: | H6: AFE #: | I6: ='12-8-2016'!I6 -> Bison
A7: Well Name: | B7: ='12-8-2016'!B7 -> Kissler 2-10 (Bison) | H7: County: | I7: ='12-8-2016'!I7 -> Arapahoe | J7: State: | K7: ='12-8-2016'!K7 -> Colorado
A8: Wellbore Info: | B8: Total Depth MD: | C8: ='12-8-2016'!C8 -> 0 | D8: ft | E8: KOP: | F8: ='12-8-2016'!F8 -> N/A | G8: ft | H8: KB: | I8: ='12-8-2016'!I8 -> 0 | J8: ft
B9: Total Depth TVD: | C9: ='12-8-2016'!C9 -> 0 | D9: ft | E9: Liner Top: | F9: N/A | G9: ft | H9: Tubing: | I9: ='12-8-2016'!I9 -> 2 3/8 4.7# J-55
A10: Surface Casing: | B10: ='12-8-2016'!B10 -> 9 5/8" 43# @ 308'
A11: Intermediate: | B11: ='12-8-2016'!B11 -> 4 1/2 11.6# @ 8175'
A12: Prod. Liner: | B12: ='12-8-2016'!B12 -> none
A13: Frac String: | B13: ='12-8-2016'!B13 -> None
A14: Cost Summary
A15: Item | D15: 0 | G15: 0 | J15: 0 | K15: Daily Total | L15: =SUM(D15:D18,G15:G18,J15:J20) -> 0
D16: 0 | G16: 0 | J16: 0 | K16: Cum. Total | L16: ='Date 19'!L16+L15 -> 25725
D17: 0 | G17: 0 | J17: 0
D18: 0 | G18: 0 | J18: 0
A19: Completion Supervisor: | C19: Day: | G19: Cost: | J19: 0
C20: Night: | G20: Cost: | J20: 0
A21: Crucial notes: | B21: ='Date 19'!B21 -> (Information placed here will be forwarded to all following sheets)
E22: Summary of Operations
