Workbook

Sheet 12-8-2016
A1: Extraction Oil & Gas
A2: Completion Report
A6: Date: | B6: 42712 | H6: AFE #: | I6: Bison
A7: Well Name: | B7: Kissler 2-10 (Bison) | E7: Liner | H7: County: | I7: Arapahoe | J7: State: | K7: Colorado
A8: Wellbore Info: | B8: Total Depth MD: | D8: ft | E8: KOP: | F8: N/A | G8: ft | H8: KB: | J8: ft
B9: Total Depth TVD: | D9: ft | E9: Liner Top: | F9: N/A | G9: ft | H9: Tubing: | I9: 2 3/8 4.7# J-55
A10: Surface Casing: | B10: 9 5/8" 43# @ 308'
A11: Intermediate: | B11: 4 1/2 11.6# @ 8175'
A12: Prod. Liner: | B12: none
A13: Frac String: | B13: None
A14: Cost Summary
A15: Item | B15: Thunderbird Rig 19 | D15: 1500 | G15: 0 | J15: 0 | K15: Daily Total | L15: =SUM(D15:D18,G15:G18,J15:J20) -> 3500
B16: Ensign Rig move | D16: 2000 | G16: 0 | J16: 0 | K16: Cum. Total | L16: =L15 -> 3500
D17: 0 | G17: 0 | J17: 0
D18: 0 | G18: 0 | J18: 0
A19: Completion Supervisor: | C19: Day: | D19: Luke Mahoney (Day rate charged to Waag #12) | G19: Cost: | H19: SEC | J19: 0
C20: Night: | G20: Cost:
A21: Crucial notes: | B21: (Information placed here will be forwarded to all following sheets)
E22: Summary of Operations
A24: *CLICK HERE-CHOSE ONE
A25: Liner
A26: Monobore
A27: Vertical

Sheet Production Tubing Tally
B1: BHA | L1: TOP PERF
A2: 1 | B2: Bull plug | E2: 0 | G2: Tally for | I2: Extraction Oil & Gas | L2: BOTTOM PERF | P2: TBG SIZE | Q2: OD | R2: ID | S2: WT
A3: 2 | B3: Perf sub | E3: 0 | G3: WELL | I3: Dan Kissler 2-10 | L3: Land @ | M3: =SUM(M1-M2*0.66+M1) -> 0 | P3: 1.25 | Q3: 1.66 | R3: 1.38 | S3: 2.33
A4: 3 | B4: XN nipple | E4: 0 | G4: DATE | I4: 42716 | P4: 1.5
A5: 4 | B5: Hanger | E5: 0 | G5: COUNTY | I5: Arapahoe | M5: FILL IN | P5: 1.9
A6: 5 | G6: STATE | I6: Colorado | M6: FORMULA | P6: 2.0625
A7: 6 | P7: 2.375 | Q7: 2.375 | R7: 1.991 | S7: 4.7
A8: 7 | F8: Company | I8: OD | J8: ID | K8: WT/FT | P8: 2.875 | Q8: 2.875 | R8: 2.441 | S8: 6.5
A9: 8 | H9: TBG | I9: 2.375 | J9: 1.991 | K9: 4.7 | P9: 3.5 | Q9: 3.5 | R9: 2.991 | S9: 9.3
A10: 9 | H10: CSG | I10: 4.5 | J10: 4 | K10: 11.6
A11: 10 | H11: LINER
A12: 11 | H12: LINER/PBTD | I12: 0 | J12: FLUID PPG | K12: 8.4 | M12: BOY FACTOR | O12: =(65.5-K12)/65.5 -> 0.87175573
A13: 12 | F13: Contact name | H13: KB | I13: 0 | J13: TBG BPF | K13: =(J9*J9)/1029.4 -> 0.0038508656 | M13: SICP | N13: KILL WT. | P13: CSG SIZE | Q13: OD | R13: ID | S13: WT
A14: 13 | F14: Contact number | H14: JTS ON LOC | J14: CSG BPF | K14: =(J10*J10)/1029.4 -> 0.015543035 | N14: =M14/0.052/I12+K12 -> #DIV/0! | P14: 4.5 | Q14: 4.5 | R14: 4.09 | S14: 9.5
A15: 14 | J15: CSG ANN | K15: =((J10*J10)-(I9*I9))*0.0009714 -> 0.010063097 | P15: 4.5 | Q15: 4.5 | R15: 4.052 | S15: 10.5
A16: 15 | H16: JT AVE | J16: LINER BPF | K16: =(J11*J11)/1029.4 -> 0 | P16: 4.5 | Q16: 4.5 | R16: 4 | S16: 11.6
D17: TOTAL | E17: =SUM(E2:E16) -> 0 | J17: LINER ANN | K17: =((J11*J11)-(I9*I9))*0.0009714 -> -0.0054793031 | P17: 4.5 | Q17: 4.5 | R17: 3.826 | S17: 15.1
B18: JTS IN | C18: JTS OUT | D18: JT LENGTH | E18: LENGTH OF TEN JTS | F18: TOTAL TUBING | G18: TBG + BHA + KB | H18: TBG VOLUME | I18: CSG ANN VOLUME | J18: STRING WEIGHT | K18: LINER ANN VOLUME | L18: HYDROSTATICS | M18: JT LENGTH W/O DEC | N18: Jts in | P18: 4.5 | Q18: 4.5 | R18: 3.92 | S18: 13.5
A19: 1 | B19: =IF(M19<=1,(0),IF(M19<3600,(1),IF(M19>=3601,(2),""))) -> 2 | C19: =IF(M19>0,($I$14-B19),"") -> -2 | D19: =IF(19>0,SUM(M19/100),"") -> 62.46 | F19: =D19 -> 62.46 | G19: =IF(M19>0,(F19+$E$17+$I$13),"") -> 62.46 | H19: =IF(M19>0,($K$13*F19),"") -> 0.24052506 | I19: =IF(M19>0,($K$15*F19),"") -> 0.62854103 | J19: =IF(M19>0,((F19*$K$9)*$O$12),"") -> 255.91435 | K19: =IF(G19>$I$12,((G19-$I$12)*$K$17),"") -> -0.34223727 | L19: =0.052*K12*G19 -> 27.282528 | M19: 6246 | N19: =IF(M19<=1,(0),IF(M19<3600,(1),IF(M19>=3601,(2),""))) -> 2 | P19: 5.5 | Q19: 5.5 | R19: 4.95 | S19: 15.5
A20: =A19+1 -> 2 | B20: =IF(M20<=1,(0),IF(M20<3600,(1),IF(M20>=3601,(2),"")))+B19 -> 4 | C20: =IF(M20>0,($I$14-B20),"") -> -4 | D20: =IF(M20>0,SUM(M20/100),"") -> 62.4 | F20: =IF(M20>0,(F19+D20),"") -> 124.86 | G20: =IF(M20>0,(F20+$E$17+$I$13),"") -> 124.86 | H20: =IF(M20>0,($K$13*F20),"") -> 0.48081907 | I20: =IF(M20>0,($K$15*F20),"") -> 1.2564783 | J20: =IF(M20>0,((F20*$K$9)*$O$12),"") -> 511.58287 | K20: =IF(G20>$I$12,((G20-$I$12)*$K$17),"") -> -0.68414579 | L20: =0.052*K$12*G20 -> 54.538848 | M20: 6240 | N20: =IF(M20<=1,(0),IF(M20<3600,(1),IF(M20>=3601,(2),"")))+N19 -> 4 | P20: 5.5 | Q20: 5.5 | R20: 4.892 | S20: 17
A21: =A20+1 -> 3 | B21: =IF(M21<=1,(0),IF(M21<3600,(1),IF(M21>=3601,(2),"")))+B20 -> 6 | C21: =IF(M21>0,($I$14-B21),"") -> -6 | D21: =IF(M21>0,(M21/100),"") -> 62.33 | F21: =IF(M21>0,(F20+D21),"") -> 187.19 | G21: =IF(M21>0,(F21+$E$17+$I$13),"") -> 187.19 | H21: =IF(M21>0,($K$13*F21),"") -> 0.72084352 | I21: =IF(M21>0,($K$15*F21),"") -> 1.8837111 | J21: =IF(M21>0,((F21*$K$9)*$O$12),"") -> 766.96458 | K21: =IF(G21>$I$12,((G21-$I$12)*$K$17),"") -> -1.0256708 | L21: =0.052*K$12*G21 -> 81.764592 | M21: 6233 | N21: =IF(M21<=1,(0),IF(M21<3600,(1),IF(M21>=3601,(2),"")))+N20 -> 6 | P21: 5.5 | Q21: 5.5 | R21: 4.778 | S21: 20
A22: =A21+1 -> 4 | B22: =IF(M22<=1,(0),IF(M22<3600,(1),IF(M22>=3601,(2),"")))+B21 -> 8 | C22: =IF(M22>0,($I$14-B22),"") -> -8 | D22: =IF(M22>0,(M22/100),"") -> 60.91 | F22: =IF(M22>0,(F21+D22),"") -> 248.1 | G22: =IF(M22>0,(F22+$E$17+$I$13),"") -> 248.1 | H22: =IF(M22>0,($K$13*F22),"") -> 0.95539974 | I22: =IF(M22>0,($K$15*F22),"") -> 2.4966543 | J22: =IF(M22>0,((F22*$K$9)*$O$12),"") -> 1016.5282 | K22: =IF(G22>$I$12,((G22-$I$12)*$K$17),"") -> -1.3594151 | L22: =0.052*K$12*G22 -> 108.37008 | M22: 6091 | N22: =IF(M22<=1,(0),IF(M22<3600,(1),IF(M22>=3601,(2),"")))+N21 -> 8 | P22: 5.5 | Q22: 5.5 | R22: 4.67 | S22: 23
A23: =A22+1 -> 5 | B23: =IF(M23<=1,(0),IF(M23<3600,(1),IF(M23>=3601,(2),"")))+B22 -> 10 | C23: =IF(M23>0,($I$14-B23),"") -> -10 | D23: =IF(M23>0,(M23/100),"") -> 60.2 | F23: =IF(M23>0,(F22+D23),"") -> 308.3 | G23: =IF(M23>0,(F23+$E$17+$I$13),"") -> 308.3 | H23: =IF(M23>0,($K$13*F23),"") -> 1.1872218 | I23: =IF(M23>0,($K$15*F23),"") -> 3.1024528 | J23: =IF(M23>0,((F23*$K$9)*$O$12),"") -> 1263.1828 | K23: =IF(G23>$I$12,((G23-$I$12)*$K$17),"") -> -1.6892692 | L23: =0.052*K$12*G23 -> 134.66544 | M23: 6020 | N23: =IF(M23<=1,(0),IF(M23<3600,(1),IF(M23>=3601,(2),"")))+N22 -> 10 | P23: 7 | Q23: 7 | R23: 6.366 | S23: 23
A24: =A23+1 -> 6 | B24: =IF(M24<=1,(0),IF(M24<3600,(1),IF(M24>=3601,(2),"")))+B23 -> 12 | C24: =IF(M24>0,($I$14-B24),"") -> -12 | D24: =IF(M24>0,(M24/100),"") -> 59.67 | F24: =IF(M24>0,(F23+D24),"") -> 367.97 | G24: =IF(M24>0,(F24+$E$17+$I$13),"") -> 367.97 | H24: =IF(M24>0,($K$13*F24),"") -> 1.417003 | I24: =IF(M24>0,($K$15*F24),"") -> 3.7029178 | J24: =IF(M24>0,((F24*$K$9)*$O$12),"") -> 1507.6658 | K24: =IF(G24>$I$12,((G24-$I$12)*$K$17),"") -> -2.0162192 | L24: =0.052*K$12*G24 -> 160.7293 | M24: 5967 | N24: =IF(M24<=1,(0),IF(M24<3600,(1),IF(M24>=3601,(2),"")))+N23 -> 12 | P24: 7 | Q24: 7 | R24: 6.276 | S24: 26
A25: =A24+1 -> 7 | B25: =IF(M25<=1,(0),IF(M25<3600,(1),IF(M25>=3601,(2),"")))+B24 -> 14 | C25: =IF(M25>0,($I$14-B25),"") -> -14 | D25: =IF(M25>0,(M25/100),"") -> 59.47 | F25: =IF(M25>0,(F24+D25),"") -> 427.44 | G25: =IF(M25>0,(F25+$E$17+$I$13),"") -> 427.44 | H25: =IF(M25>0,($K$13*F25),"") -> 1.646014 | I25: =IF(M25>0,($K$15*F25),"") -> 4.3013701 | J25: =IF(M25>0,((F25*$K$9)*$O$12),"") -> 1751.3294 | K25: =IF(G25>$I$12,((G25-$I$12)*$K$17),"") -> -2.3420733 | L25: =0.052*K$12*G25 -> 186.70579 | M25: 5947 | N25: =IF(M25<=1,(0),IF(M25<3600,(1),IF(M25>=3601,(2),"")))+N24 -> 14 | P25: 7 | Q25: 7 | R25: 6.184 | S25: 29
A26: =A25+1 -> 8 | B26: =IF(M26<=1,(0),IF(M26<3600,(1),IF(M26>=3601,(2),"")))+B25 -> 16 | C26: =IF(M26>0,($I$14-B26),"") -> -16 | D26: =IF(M26>0,(M26/100),"") -> 60.45 | F26: =IF(M26>0,(F25+D26),"") -> 487.89 | G26: =IF(M26>0,(F26+$E$17+$I$13),"") -> 487.89 | H26: =IF(M26>0,($K$13*F26),"") -> 1.8787988 | I26: =IF(M26>0,($K$15*F26),"") -> 4.9096843 | J26: =IF(M26>0,((F26*$K$9)*$O$12),"") -> 1999.0082 | K26: =IF(G26>$I$12,((G26-$I$12)*$K$17),"") -> -2.6732972 | L26: =0.052*K$12*G26 -> 213.11035 | M26: 6045 | N26: =IF(M26<=1,(0),IF(M26<3600,(1),IF(M26>=3601,(2),"")))+N25 -> 16 | P26: 7 | Q26: 7 | R26: 6.094 | S26: 32
A27: =A26+1 -> 9 | B27: =IF(M27<=1,(0),IF(M27<3600,(1),IF(M27>=3601,(2),"")))+B26 -> 18 | C27: =IF(M27>0,($I$14-B27),"") -> -18 | D27: =IF(M27>0,(M27/100),"") -> 60 | F27: =IF(M27>0,(F26+D27),"") -> 547.89 | G27: =IF(M27>0,(F27+$E$17+$I$13),"") -> 547.89 | H27: =IF(M27>0,($K$13*F27),"") -> 2.1098507 | I27: =IF(M27>0,($K$15*F27),"") -> 5.5134701 | J27: =IF(M27>0,((F27*$K$9)*$O$12),"") -> 2244.8433 | K27: =IF(G27>$I$12,((G27-$I$12)*$K$17),"") -> -3.0020554 | L27: =0.052*K$12*G27 -> 239.31835 | M27: 6000 | N27: =IF(M27<=1,(0),IF(M27<3600,(1),IF(M27>=3601,(2),"")))+N26 -> 18 | P27: 7.625 | Q27: 7.625 | R27: 6.969 | S27: 26.4
A28: =A27+1 -> 10 | B28: =IF(M28<=1,(0),IF(M28<3600,(1),IF(M28>=3601,(2),"")))+B27 -> 20 | C28: =IF(M28>0,($I$14-B28),"") -> -20 | D28: =IF(M28>0,(M28/100),"") -> 60.02 | E28: =SUM(D19:D28) -> 607.91 | F28: =IF(M28>0,(F27+D28),"") -> 607.91 | G28: =IF(M28>0,(F28+$E$17+$I$13),"") -> 607.91 | H28: =IF(M28>0,($K$13*F28),"") -> 2.3409797 | I28: =IF(M28>0,($K$15*F28),"") -> 6.1174572 | J28: =IF(M28>0,((F28*$K$9)*$O$12),"") -> 2490.7604 | K28: =IF(G28>$I$12,((G28-$I$12)*$K$17),"") -> -3.3309232 | L28: =0.052*K$12*G28 -> 265.53509 | M28: 6002 | N28: =IF(M28<=1,(0),IF(M28<3600,(1),IF(M28>=3601,(2),"")))+N27 -> 20 | P28: 7.625 | Q28: 7.625 | R28: 6.875 | S28: 29.7
A29: =A28+1 -> 11 | B29: =IF(M29<=1,(0),IF(M29<3600,(1),IF(M29>=3601,(2),"")))+B28 -> 22 | C29: =IF(M29>0,($I$14-B29),"") -> -22 | D29: =IF(M29>0,(M29/100),"") -> 60.82 | F29: =IF(M29>0,(F28+D29),"") -> 668.73 | G29: =IF(M29>0,(F29+$E$17+$I$13),"") -> 668.73 | H29: =IF(M29>0,($K$13*F29),"") -> 2.5751893 | I29: =IF(M29>0,($K$15*F29),"") -> 6.7294948 | J29: =IF(M29>0,((F29*$K$9)*$O$12),"") -> 2739.9553 | K29: =IF(G29>$I$12,((G29-$I$12)*$K$17),"") -> -3.6641744 | L29: =0.052*K$12*G29 -> 292.10126 | M29: 6082 | N29: =IF(M29<=1,(0),IF(M29<3600,(1),IF(M29>=3601,(2),"")))+N28 -> 22 | P29: 7.625 | Q29: 7.625 | R29: 6.765 | S29: 33.7
A30: =A29+1 -> 12 | B30: =IF(M30<=1,(0),IF(M30<3600,(1),IF(M30>=3601,(2),"")))+B29 -> 24 | C30: =IF(M30>0,($I$14-B30),"") -> -24 | D30: =IF(M30>0,(M30/100),"") -> 60.84 | F30: =IF(M30>0,(F29+D30),"") -> 729.57 | G30: =IF(M30>0,(F30+$E$17+$I$13),"") -> 729.57 | H30: =IF(M30>0,($K$13*F30),"") -> 2.809476 | I30: =IF(M30>0,($K$15*F30),"") -> 7.3417336 | J30: =IF(M30>0,((F30*$K$9)*$O$12),"") -> 2989.2321 | K30: =IF(G30>$I$12,((G30-$I$12)*$K$17),"") -> -3.9975352 | L30: =0.052*K$12*G30 -> 318.67618 | M30: 6084 | N30: =IF(M30<=1,(0),IF(M30<3600,(1),IF(M30>=3601,(2),"")))+N29 -> 24 | P30: 7.625 | Q30: 7.625 | R30: 6.625 | S30: 39
A31: =A30+1 -> 13 | B31: =IF(M31<=1,(0),IF(M31<3600,(1),IF(M31>=3601,(2),"")))+B30 -> 26 | C31: =IF(M31>0,($I$14-B31),"") -> -26 | D31: =IF(M31>0,(M31/100),"") -> 59.68 | F31: =IF(M31>0,(F30+D31),"") -> 789.25 | G31: =IF(M31>0,(F31+$E$17+$I$13),"") -> 789.25 | H31: =IF(M31>0,($K$13*F31),"") -> 3.0392956 | I31: =IF(M31>0,($K$15*F31),"") -> 7.9422992 | J31: =IF(M31>0,((F31*$K$9)*$O$12),"") -> 3233.7561 | K31: =IF(G31>$I$12,((G31-$I$12)*$K$17),"") -> -4.32454 | L31: =0.052*K$12*G31 -> 344.7444 | M31: 5968 | N31: =IF(M31<=1,(0),IF(M31<3600,(1),IF(M31>=3601,(2),"")))+N30 -> 26
A32: =A31+1 -> 14 | B32: =IF(M32<=1,(0),IF(M32<3600,(1),IF(M32>=3601,(2),"")))+B31 -> 28 | C32: =IF(M32>0,($I$14-B32),"") -> -28 | D32: =IF(M32>0,(M32/100),"") -> 62.27 | F32: =IF(M32>0,(F31+D32),"") -> 851.52 | G32: =IF(M32>0,(F32+$E$17+$I$13),"") -> 851.52 | H32: =IF(M32>0,($K$13*F32),"") -> 3.279089 | I32: =IF(M32>0,($K$15*F32),"") -> 8.5689283 | J32: =IF(M32>0,((F32*$K$9)*$O$12),"") -> 3488.8919 | K32: =IF(G32>$I$12,((G32-$I$12)*$K$17),"") -> -4.6657362 | L32: =0.052*K$12*G32 -> 371.94394 | M32: 6227 | N32: =IF(M32<=1,(0),IF(M32<3600,(1),IF(M32>=3601,(2),"")))+N31 -> 28
A33: =A32+1 -> 15 | B33: =IF(M33<=1,(0),IF(M33<3600,(1),IF(M33>=3601,(2),"")))+B32 -> 30 | C33: =IF(M33>0,($I$14-B33),"") -> -30 | D33: =IF(M33>0,(M33/100),"") -> 62.38 | F33: =IF(M33>0,(F32+D33),"") -> 913.9 | G33: =IF(M33>0,(F33+$E$17+$I$13),"") -> 913.9 | H33: =IF(M33>0,($K$13*F33),"") -> 3.519306 | I33: =IF(M33>0,($K$15*F33),"") -> 9.1966642 | J33: =IF(M33>0,((F33*$K$9)*$O$12),"") -> 3744.4785 | K33: =IF(G33>$I$12,((G33-$I$12)*$K$17),"") -> -5.0075351 | L33: =0.052*K$12*G33 -> 399.19152 | M33: 6238 | N33: =IF(M33<=1,(0),IF(M33<3600,(1),IF(M33>=3601,(2),"")))+N32 -> 30
A34: =A33+1 -> 16 | B34: =IF(M34<=1,(0),IF(M34<3600,(1),IF(M34>=3601,(2),"")))+B33 -> 32 | C34: =IF(M34>0,($I$14-B34),"") -> -32 | D34: =IF(M34>0,(M34/100),"") -> 60.84 | F34: =IF(M34>0,(F33+D34),"") -> 974.74 | G34: =IF(M34>0,(F34+$E$17+$I$13),"") -> 974.74 | H34: =IF(M34>0,($K$13*F34),"") -> 3.7535927 | I34: =IF(M34>0,($K$15*F34),"") -> 9.808903 | J34: =IF(M34>0,((F34*$K$9)*$O$12),"") -> 3993.7553 | K34: =IF(G34>$I$12,((G34-$I$12)*$K$17),"") -> -5.3408959 | L34: =0.052*K$12*G34 -> 425.76643 | M34: 6084 | N34: =IF(M34<=1,(0),IF(M34<3600,(1),IF(M34>=3601,(2),"")))+N33 -> 32
A35: =A34+1 -> 17 | B35: =IF(M35<=1,(0),IF(M35<3600,(1),IF(M35>=3601,(2),"")))+B34 -> 34 | C35: =IF(M35>0,($I$14-B35),"") -> -34 | D35: =IF(M35>0,(M35/100),"") -> 60.28 | F35: =IF(M35>0,(F34+D35),"") -> 1035.02 | G35: =IF(M35>0,(F35+$E$17+$I$13),"") -> 1035.02 | H35: =IF(M35>0,($K$13*F35),"") -> 3.9857229 | I35: =IF(M35>0,($K$15*F35),"") -> 10.415507 | J35: =IF(M35>0,((F35*$K$9)*$O$12),"") -> 4240.7377 | K35: =IF(G35>$I$12,((G35-$I$12)*$K$17),"") -> -5.6711883 | L35: =0.052*K$12*G35 -> 452.09674 | M35: 6028 | N35: =IF(M35<=1,(0),IF(M35<3600,(1),IF(M35>=3601,(2),"")))+N34 -> 34 | R35: WELL BORE
A36: =A35+1 -> 18 | B36: =IF(M36<=1,(0),IF(M36<3600,(1),IF(M36>=3601,(2),"")))+B35 -> 36 | C36: =IF(M36>0,($I$14-B36),"") -> -36 | D36: =IF(M36>0,(M36/100),"") -> 58.97 | F36: =IF(M36>0,(F35+D36),"") -> 1093.99 | G36: =IF(M36>0,(F36+$E$17+$I$13),"") -> 1093.99 | H36: =IF(M36>0,($K$13*F36),"") -> 4.2128084 | I36: =IF(M36>0,($K$15*F36),"") -> 11.008927 | J36: =IF(M36>0,((F36*$K$9)*$O$12),"") -> 4482.3526 | K36: =IF(G36>$I$12,((G36-$I$12)*$K$17),"") -> -5.9943028 | L36: =0.052*K$12*G36 -> 477.85483 | M36: 5897 | N36: =IF(M36<=1,(0),IF(M36<3600,(1),IF(M36>=3601,(2),"")))+N35 -> 36 | R36: Casing | S36: Tubing
A37: =A36+1 -> 19 | B37: =IF(M37<=1,(0),IF(M37<3600,(1),IF(M37>=3601,(2),"")))+B36 -> 38 | C37: =IF(M37>0,($I$14-B37),"") -> -38 | D37: =IF(M37>0,(M37/100),"") -> 59.93 | F37: =IF(M37>0,(F36+D37),"") -> 1153.92 | G37: =IF(M37>0,(F37+$E$17+$I$13),"") -> 1153.92 | H37: =IF(M37>0,($K$13*F37),"") -> 4.4435908 | I37: =IF(M37>0,($K$15*F37),"") -> 11.612009 | J37: =IF(M37>0,((F37*$K$9)*$O$12),"") -> 4727.9009 | K37: =IF(G37>$I$12,((G37-$I$12)*$K$17),"") -> -6.3226775 | L37: =0.052*K$12*G37 -> 504.03226 | M37: 5993 | N37: =IF(M37<=1,(0),IF(M37<3600,(1),IF(M37>=3601,(2),"")))+N36 -> 38
A38: =A37+1 -> 20 | B38: =IF(M38<=1,(0),IF(M38<3600,(1),IF(M38>=3601,(2),"")))+B37 -> 40 | C38: =IF(M38>0,($I$14-B38),"") -> -40 | D38: =IF(M38>0,(M38/100),"") -> 61.55 | E38: =SUM(D29:D38) -> 607.56 | F38: =IF(M38>0,(F37+D38),"") -> 1215.47 | G38: =IF(M38>0,(F38+$E$17+$I$13),"") -> 1215.47 | H38: =IF(M38>0,($K$13*F38),"") -> 4.6806116 | I38: =IF(M38>0,($K$15*F38),"") -> 12.231392 | J38: =IF(M38>0,((F38*$K$9)*$O$12),"") -> 4980.0868 | K38: =IF(G38>$I$12,((G38-$I$12)*$K$17),"") -> -6.6599286 | L38: =0.052*K$12*G38 -> 530.9173 | M38: 6155 | N38: =IF(M38<=1,(0),IF(M38<3600,(1),IF(M38>=3601,(2),"")))+N37 -> 40
A39: =A38+1 -> 21 | B39: =IF(M39<=1,(0),IF(M39<3600,(1),IF(M39>=3601,(2),"")))+B38 -> 42 | C39: =IF(M39>0,($I$14-B39),"") -> -42 | D39: =IF(M39>0,(M39/100),"") -> 62.56 | F39: =IF(M39>0,(F38+D39),"") -> 1278.03 | G39: =IF(M39>0,(F39+$E$17+$I$13),"") -> 1278.03 | H39: =IF(M39>0,($K$13*F39),"") -> 4.9215217 | I39: =IF(M39>0,($K$15*F39),"") -> 12.86094 | J39: =IF(M39>0,((F39*$K$9)*$O$12),"") -> 5236.4109 | K39: =IF(G39>$I$12,((G39-$I$12)*$K$17),"") -> -7.0027138 | L39: =0.052*K$12*G39 -> 558.2435 | M39: 6256 | N39: =IF(M39<=1,(0),IF(M39<3600,(1),IF(M39>=3601,(2),"")))+N38 -> 42
A40: =A39+1 -> 22 | B40: =IF(M40<=1,(0),IF(M40<3600,(1),IF(M40>=3601,(2),"")))+B39 -> 44 | C40: =IF(M40>0,($I$14-B40),"") -> -44 | D40: =IF(M40>0,(M40/100),"") -> 62.36 | F40: =IF(M40>0,(F39+D40),"") -> 1340.39 | G40: =IF(M40>0,(F40+$E$17+$I$13),"") -> 1340.39 | H40: =IF(M40>0,($K$13*F40),"") -> 5.1616617 | I40: =IF(M40>0,($K$15*F40),"") -> 13.488474 | J40: =IF(M40>0,((F40*$K$9)*$O$12),"") -> 5491.9155 | K40: =IF(G40>$I$12,((G40-$I$12)*$K$17),"") -> -7.3444031 | L40: =0.052*K$12*G40 -> 585.48235 | M40: 6236 | N40: =IF(M40<=1,(0),IF(M40<3600,(1),IF(M40>=3601,(2),"")))+N39 -> 44
...

Sheet 12-9-16
A1: Extraction Oil & Gas
A2: Completion Report
A6: Date: | B6: 42713 | H6: AFE #: | I6: ='12-8-2016'!I6 -> Bison
A7: Well Name: | B7: ='12-8-2016'!B7 -> Kissler 2-10 (Bison) | H7: County: | I7: ='12-8-2016'!I7 -> Arapahoe | J7: State: | K7: ='12-8-2016'!K7 -> Colorado
A8: Wellbore Info: | B8: Total Depth MD: | C8: ='12-8-2016'!C8 -> 0 | D8: ft | E8: KOP: | F8: ='12-8-2016'!F8 -> N/A | G8: ft | H8: KB: | I8: ='12-8-2016'!I8 -> 0 | J8: ft
B9: Total Depth TVD: | C9: ='12-8-2016'!C9 -> 0 | D9: ft | E9: Liner Top: | F9: ='12-8-2016'!F9 -> N/A | G9: ft | H9: Tubing: | I9: ='12-8-2016'!I9 -> 2 3/8 4.7# J-55
A10: Surface Casing: | B10: ='12-8-2016'!B10 -> 9 5/8" 43# @ 308'
A11: Intermediate: | B11: ='12-8-2016'!B11 -> 4 1/2 11.6# @ 8175'
A12: Prod. Liner: | B12: ='12-8-2016'!B12 -> none
A13: Frac String: | B13: ='12-8-2016'!B13 -> None
A14: Cost Summary
A15: Item | B15: Thunderbird Rig 19 | D15: 4500 | G15: 0 | J15: 0 | K15: Daily Total | L15: =SUM(D15:D18,G15:G18,J15:J20) -> 7350
B16: Ensign water | D16: 500 | G16: 0 | J16: 0 | K16: Cum. Total | L16: ='12-8-2016'!L16+L15 -> 10850
B17: Element | D17: 1500 | G17: 0 | J17: 0
B18: 42713 | D18: 0 | G18: 0 | J18: 0
A19: Completion Supervisor: | C19: Day: | D19: Luke Mahoney | G19: Cost: | J19: 850
C20: Night: | G20: Cost: | J20: 0
A21: Crucial notes: | B21: ='12-8-2016'!B21 -> (Information placed here will be forwarded to all following sheets)
E22: Summary of Operations

Sheet 12-12-16
A1: Extraction Oil & Gas
A2: Completion Report
A6: Date: | B6: 42716 | H6: AFE #: | I6: ='12-8-2016'!I6 -> Bison
A7: Well Name: | B7: ='12-8-2016'!B7 -> Kissler 2-10 (Bison) | H7: County: | I7: Arapahoe | J7: State: | K7: ='12-8-2016'!K7 -> Colorado
A8: Wellbore Info: | B8: Total Depth MD: | C8: ='12-8-2016'!C8 -> 0 | D8: ft | E8: KOP: | F8: ='12-8-2016'!F8 -> N/A | G8: ft | H8: KB: | I8: ='12-8-2016'!I8 -> 0 | J8: ft
B9: Total Depth TVD: | C9: ='12-8-2016'!C9 -> 0 | D9: ft | E9: Liner Top: | F9: ='12-8-2016'!F9 -> N/A | G9: ft | H9: Tubing: | I9: ='12-8-2016'!I9 -> 2 3/8 4.7# J-55
A10: Surface Casing: | B10: ='12-8-2016'!B10 -> 9 5/8" 43# @ 308'
A11: Intermediate: | B11: ='12-8-2016'!B11 -> 4 1/2 11.6# @ 8175'
A12: Prod. Liner: | B12: ='12-8-2016'!B12 -> none
A13: Frac String: | B13: ='12-8-2016'!B13 -> None
A14: Cost Summary
A15: Item | B15: Thunderbird 19 | D15: 5300 | E15: Reck flyers | G15: 275 | J15: 0 | K15: Daily Total | L15: =SUM(D15:D18,G15:G18,J15:J20) -> 14875
B16: Thunderbird services | D16: 3100 | G16: 0 | J16: 0 | K16: Cum. Total | L16: ='12-9-16'!L16+L15 -> 25725
B17: Ensign trucking | D17: 350 | G17: 0 | J17: 0
B18: WB supply | D18: 5000 | G18: 0 | J18: 0
A19: Completion Supervisor: | C19: Day: | D19: Brandon Tracy | G19: Cost: | J19: 850
C20: Night: | G20: Cost: | J20: 0
A21: Crucial notes: | B21: ='12-9-16'!B21 -> (Information placed here will be forwarded to all following sheets)
E22: Summary of Operations

Sheet Date 4
A1: Extraction Oil & Gas
A2: Completion Report
A6: Date: | H6: AFE #: | I6: ='12-8-2016'!I6 -> Bison
A7: Well Name: | B7: ='12-8-2016'!B7 -> Kissler 2-10 (Bison) | H7: County: | I7: ='12-8-2016'!I7 -> Arapahoe | J7: State: | K7: ='12-8-2016'!K7 -> Colorado
A8: Wellbore Info: | B8: Total Depth MD: | C8: ='12-8-2016'!C8 -> 0 | D8: ft | E8: KOP: | F8: ='12-8-2016'!F8 -> N/A | G8: ft | H8: KB: | I8: ='12-8-2016'!I8 -> 0 | J8: ft
B9: Total Depth TVD: | C9: ='12-8-2016'!C9 -> 0 | D9: ft | E9: Liner Top: | F9: ='12-8-2016'!F9 -> N/A | G9: ft | H9: Tubing: | I9: ='12-8-2016'!I9 -> 2 3/8 4.7# J-55
A10: Surface Casing: | B10: ='12-8-2016'!B10 -> 9 5/8" 43# @ 308'
A11: Intermediate: | B11: ='12-8-2016'!B11 -> 4 1/2 11.6# @ 8175'
A12: Prod. Liner: | B12: ='12-8-2016'!B12 -> none
A13: Frac String: | B13: ='12-8-2016'!B13 -> None
A14: Cost Summary
A15: Item | D15: 0 | G15: 0 | J15: 0 | K15: Daily Total | L15: =SUM(D15:D18,G15:G18,J15:J20) -> 0
D16: 0 | G16: 0 | J16: 0 | K16: Cum. Total | L16: ='12-12-16'!L16+L15 -> 25725
D17: 0 | G17: 0 | J17: 0
D18: 0 | G18: 0 | J18: 0
A19: Completion Supervisor: | C19: Day: | G19: Cost: | J19: 0
C20: Night: | G20: Cost: | J20: 0
A21: Crucial notes: | B21: ='12-12-16'!B21 -> (Information placed here will be forwarded to all following sheets)
E22: Summary of Operations

Sheet Date 5
A1: Extraction Oil & Gas
A2: Completion Report
A6: Date: | H6: AFE #: | I6: ='12-8-2016'!I6 -> Bison
A7: Well Name: | B7: ='12-8-2016'!B7 -> Kissler 2-10 (Bison) | H7: County: | I7: ='12-8-2016'!I7 -> Arapahoe | J7: State: | K7: ='12-8-2016'!K7 -> Colorado
A8: Wellbore Info: | B8: Total Depth MD: | C8: ='12-8-2016'!C8 -> 0 | D8: ft | E8: KOP: | F8: ='12-8-2016'!F8 -> N/A | G8: ft | H8: KB: | I8: ='12-8-2016'!I8 -> 0 | J8: ft
B9: Total Depth TVD: | C9: ='12-8-2016'!C9 -> 0 | D9: ft | E9: Liner Top: | F9: ='12-8-2016'!F9 -> N/A | G9: ft | H9: Tubing: | I9: ='12-8-2016'!I9 -> 2 3/8 4.7# J-55
A10: Surface Casing: | B10: ='12-8-2016'!B10 -> 9 5/8" 43# @ 308'
A11: Intermediate: | B11: ='12-8-2016'!B11 -> 4 1/2 11.6# @ 8175'
A12: Prod. Liner: | B12: ='12-8-2016'!B12 -> none
A13: Frac String: | B13: ='12-8-2016'!B13 -> None
A14: Cost Summary
A15: Item | D15: 0 | G15: 0 | J15: 0 | K15: Daily Total | L15: =SUM(D15:D18,G15:G18,J15:J20) -> 0
D16: 0 | G16: 0 | J16: 0 | K16: Cum. Total | L16: ='Date 4'!L16+L15 -> 25725
D17: 0 | G17: 0 | J17: 0
D18: 0 | G18: 0 | J18: 0
A19: Completion Supervisor: | C19: Day: | G19: Cost: | J19: 0
C20: Night: | G20: Cost: | J20: 0
A21: Crucial notes: | B21: ='Date 4'!B21 -> (Information placed here will be forwarded to all following sheets)
E22: Summary of Operations

Sheet Date 6
A1: Extraction Oil & Gas
A2: Completion Report
A6: Date: | H6: AFE #: | I6: ='12-8-2016'!I6 -> Bison
A7: Well Name: | B7: ='12-8-2016'!B7 -> Kissler 2-10 (Bison) | H7: County: | I7: ='12-8-2016'!I7 -> Arapahoe | J7: State: | K7: ='12-8-2016'!K7 -> Colorado
A8: Wellbore Info: | B8: Total Depth MD: | C8: ='12-8-2016'!C8 -> 0 | D8: ft | E8: KOP: | F8: ='12-8-2016'!F8 -> N/A | G8: ft | H8: KB: | I8: ='12-8-2016'!I8 -> 0 | J8: ft
B9: Total Depth TVD: | C9: ='12-8-2016'!C9 -> 0 | D9: ft | E9: Liner Top: | F9: ='12-8-2016'!F9 -> N/A | G9: ft | H9: Tubing: | I9: ='12-8-2016'!I9 -> 2 3/8 4.7# J-55
A10: Surface Casing: | B10: ='12-8-2016'!B10 -> 9 5/8" 43# @ 308'
A11: Intermediate: | B11: ='12-8-2016'!B11 -> 4 1/2 11.6# @ 8175'
A12: Prod. Liner: | B12: ='12-8-2016'!B12 -> none
A13: Frac String: | B13: ='12-8-2016'!B13 -> None
A14: Cost Summary
A15: Item | D15: 0 | G15: 0 | J15: 0 | K15: Daily Total | L15: =SUM(D15:D18,G15:G18,J15:J20) -> 0
D16: 0 | G16: 0 | J16: 0 | K16: Cum. Total | L16: ='Date 5'!L16+L15 -> 25725
D17: 0 | G17: 0 | J17: 0
D18: 0 | G18: 0 | J18: 0
A19: Completion Supervisor: | C19: Day: | G19: Cost: | J19: 0
C20: Night: | G20: Cost: | J20: 0
A21: Crucial notes: | B21: ='Date 5'!B21 -> (Information placed here will be forwarded to all following sheets)
E22: Summary of Operations

Sheet Date 7
A1: Extraction Oil & Gas
A2: Completion Report
A6: Date: | H6: AFE #: | I6: ='12-8-2016'!I6 -> Bison
A7: Well Name: | B7: ='12-8-2016'!B7 -> Kissler 2-10 (Bison) | H7: County: | I7: ='12-8-2016'!I7 -> Arapahoe | J7: State: | K7: ='12-8-2016'!K7 -> Colorado
A8: Wellbore Info: | B8: Total Depth MD: | C8: ='12-8-2016'!C8 -> 0 | D8: ft | E8: KOP: | F8: ='12-8-2016'!F8 -> N/A | G8: ft | H8: KB: | I8: ='12-8-2016'!I8 -> 0 | J8: ft
B9: Total Depth TVD: | C9: ='12-8-2016'!C9 -> 0 | D9: ft | E9: Liner Top: | F9: ='12-8-2016'!F9 -> N/A | G9: ft | H9: Tubing: | I9: ='12-8-2016'!I9 -> 2 3/8 4.7# J-55
A10: Surface Casing: | B10: ='12-8-2016'!B10 -> 9 5/8" 43# @ 308'
A11: Intermediate: | B11: ='12-8-2016'!B11 -> 4 1/2 11.6# @ 8175'
A12: Prod. Liner: | B12: ='12-8-2016'!B12 -> none
A13: Frac String: | B13: ='12-8-2016'!B13 -> None
A14: Cost Summary
A15: Item | D15: 0 | G15: 0 | J15: 0 | K15: Daily Total | L15: =SUM(D15:D18,G15:G18,J15:J20) -> 0
D16: 0 | G16: 0 | J16: 0 | K16: Cum. Total | L16: ='Date 6'!L16+L15 -> 25725
D17: 0 | G17: 0 | J17: 0
D18: 0 | G18: 0 | J18: 0
A19: Completion Supervisor: | C19: Day: | G19: Cost: | J19: 0
C20: Night: | G20: Cost: | J20: 0
A21: Crucial notes: | B21: ='Date 6'!B21 -> (Information placed here will be forwarded to all following sheets)
E22: Summary of Operations

Sheet Date 8
A1: Extraction Oil & Gas
A2: Completion Report
A6: Date: | H6: AFE #: | I6: ='12-8-2016'!I6 -> Bison
A7: Well Name: | B7: ='12-8-2016'!B7 -> Kissler 2-10 (Bison) | H7: County: | I7: ='12-8-2016'!I7 -> Arapahoe | J7: State: | K7: ='12-8-2016'!K7 -> Colorado
A8: Wellbore Info: | B8: Total Depth MD: | C8: ='12-8-2016'!C8 -> 0 | D8: ft | E8: KOP: | F8: ='12-8-2016'!F8 -> N/A | G8: ft | H8: KB: | I8: ='12-8-2016'!I8 -> 0 | J8: ft
B9: Total Depth TVD: | C9: ='12-8-2016'!C9 -> 0 | D9: ft | E9: Liner Top: | F9: ='12-8-2016'!F9 -> N/A | G9: ft | H9: Tubing: | I9: ='12-8-2016'!I9 -> 2 3/8 4.7# J-55
A10: Surface Casing: | B10: ='12-8-2016'!B10 -> 9 5/8" 43# @ 308'
A11: Intermediate: | B11: ='12-8-2016'!B11 -> 4 1/2 11.6# @ 8175'
A12: Prod. Liner: | B12: ='12-8-2016'!B12 -> none
A13: Frac String: | B13: ='12-8-2016'!B13 -> None
A14: Cost Summary
A15: Item | D15: 0 | G15: 0 | J15: 0 | K15: Daily Total | L15: =SUM(D15:D18,G15:G18,J15:J20) -> 0
D16: 0 | G16: 0 | J16: 0 | K16: Cum. Total | L16: ='Date 7'!L16+L15 -> 25725
D17: 0 | G17: 0 | J17: 0
D18: 0 | G18: 0 | J18: 0
A19: Completion Supervisor: | C19: Day: | G19: Cost: | J19: 0
C20: Night: | G20: Cost: | J20: 0
A21: Crucial notes: | B21: ='Date 7'!B21 -> (Information placed here will be forwarded to all following sheets)
E22: Summary of Operations

Sheet Date 9
A1: Extraction Oil & Gas
A2: Completion Report
A6: Date: | H6: AFE #: | I6: ='12-8-2016'!I6 -> Bison
A7: Well Name: | B7: ='12-8-2016'!B7 -> Kissler 2-10 (Bison) | H7: County: | I7: ='12-8-2016'!I7 -> Arapahoe | J7: State: | K7: ='12-8-2016'!K7 -> Colorado
A8: Wellbore Info: | B8: Total Depth MD: | C8: ='12-8-2016'!C8 -> 0 | D8: ft | E8: KOP: | F8: ='12-8-2016'!F8 -> N/A | G8: ft | H8: KB: | I8: ='12-8-2016'!I8 -> 0 | J8: ft
B9: Total Depth TVD: | C9: ='12-8-2016'!C9 -> 0 | D9: ft | E9: Liner Top: | F9: ='12-8-2016'!F9 -> N/A | G9: ft | H9: Tubing: | I9: ='12-8-2016'!I9 -> 2 3/8 4.7# J-55
A10: Surface Casing: | B10: ='12-8-2016'!B10 -> 9 5/8" 43# @ 308'
A11: Intermediate: | B11: ='12-8-2016'!B11 -> 4 1/2 11.6# @ 8175'
A12: Prod. Liner: | B12: ='12-8-2016'!B12 -> none
A13: Frac String: | B13: ='12-8-2016'!B13 -> None
A14: Cost Summary
A15: Item | D15: 0 | G15: 0 | J15: 0 | K15: Daily Total | L15: =SUM(D15:D18,G15:G18,J15:J20) -> 0
D16: 0 | G16: 0 | J16: 0 | K16: Cum. Total | L16: ='Date 8'!L16+L15 -> 25725
D17: 0 | G17: 0 | J17: 0
D18: 0 | G18: 0 | J18: 0
A19: Completion Supervisor: | C19: Day: | G19: Cost: | J19: 0
C20: Night: | G20: Cost: | J20: 0
A21: Crucial notes: | B21: ='Date 8'!B21 -> (Information placed here will be forwarded to all following sheets)
E22: Summary of Operations

Sheet Date 10
A1: Extraction Oil & Gas
A2: Completion Report
A6: Date: | H6: AFE #: | I6: ='12-8-2016'!I6 -> Bison
A7: Well Name: | B7: ='12-8-2016'!B7 -> Kissler 2-10 (Bison) | H7: County: | I7: ='12-8-2016'!I7 -> Arapahoe | J7: State: | K7: ='12-8-2016'!K7 -> Colorado
A8: Wellbore Info: | B8: Total Depth MD: | C8: ='12-8-2016'!C8 -> 0 | D8: ft | E8: KOP: | F8: ='12-8-2016'!F8 -> N/A | G8: ft | H8: KB: | I8: ='12-8-2016'!I8 -> 0 | J8: ft
B9: Total Depth TVD: | C9: ='12-8-2016'!C9 -> 0 | D9: ft | E9: Liner Top: | F9: ='12-8-2016'!F9 -> N/A | G9: ft | H9: Tubing: | I9: ='12-8-2016'!I9 -> 2 3/8 4.7# J-55
A10: Surface Casing: | B10: ='12-8-2016'!B10 -> 9 5/8" 43# @ 308'
A11: Intermediate: | B11: ='12-8-2016'!B11 -> 4 1/2 11.6# @ 8175'
A12: Prod. Liner: | B12: ='12-8-2016'!B12 -> none
A13: Frac String: | B13: ='12-8-2016'!B13 -> None
A14: Cost Summary
A15: Item | D15: 0 | G15: 0 | J15: 0 | K15: Daily Total | L15: =SUM(D15:D18,G15:G18,J15:J20) -> 0
D16: 0 | G16: 0 | J16: 0 | K16: Cum. Total | L16: ='Date 9'!L16+L15 -> 25725
D17: 0 | G17: 0 | J17: 0
D18: 0 | G18: 0 | J18: 0
A19: Completion Supervisor: | C19: Day: | G19: Cost: | J19: 0
C20: Night: | G20: Cost: | J20: 0
A21: Crucial notes: | B21: ='Date 9'!B21 -> (Information placed here will be forwarded to all following sheets)
E22: Summary of Operations

Sheet Date 11
A1: Extraction Oil & Gas
A2: Completion Report
A6: Date: | H6: AFE #: | I6: ='12-8-2016'!I6 -> Bison
A7: Well Name: | B7: ='12-8-2016'!B7 -> Kissler 2-10 (Bison) | H7: County: | I7: ='12-8-2016'!I7 -> Arapahoe | J7: State: | K7: ='12-8-2016'!K7 -> Colorado
A8: Wellbore Info: | B8: Total Depth MD: | C8: ='12-8-2016'!C8 -> 0 | D8: ft | E8: KOP: | F8: ='12-8-2016'!F8 -> N/A | G8: ft | H8: KB: | I8: ='12-8-2016'!I8 -> 0 | J8: ft
B9: Total Depth TVD: | C9: ='12-8-2016'!C9 -> 0 | D9: ft | E9: Liner Top: | F9: ='12-8-2016'!F9 -> N/A | G9: ft | H9: Tubing: | I9: ='12-8-2016'!I9 -> 2 3/8 4.7# J-55
A10: Surface Casing: | B10: ='12-8-2016'!B10 -> 9 5/8" 43# @ 308'
A11: Intermediate: | B11: ='12-8-2016'!B11 -> 4 1/2 11.6# @ 8175'
A12: Prod. Liner: | B12: ='12-8-2016'!B12 -> none
A13: Frac String: | B13: ='12-8-2016'!B13 -> None
A14: Cost Summary
A15: Item | D15: 0 | G15: 0 | J15: 0 | K15: Daily Total | L15: =SUM(D15:D18,G15:G18,J15:J20) -> 0
D16: 0 | G16: 0 | J16: 0 | K16: Cum. Total | L16: ='Date 10'!L16+L15 -> 25725
D17: 0 | G17: 0 | J17: 0
D18: 0 | G18: 0 | J18: 0
A19: Completion Supervisor: | C19: Day: | G19: Cost: | J19: 0
C20: Night: | G20: Cost: | J20: 0
A21: Crucial notes: | B21: ='Date 10'!B21 -> (Information placed here will be forwarded to all following sheets)
E22: Summary of Operations

Sheet Date 12
A1: Extraction Oil & Gas
A2: Completion Report
A6: Date: | H6: AFE #: | I6: ='12-8-2016'!I6 -> Bison
A7: Well Name: | B7: ='12-8-2016'!B7 -> Kissler 2-10 (Bison) | H7: County: | I7: ='12-8-2016'!I7 -> Arapahoe | J7: State: | K7: ='12-8-2016'!K7 -> Colorado
A8: Wellbore Info: | B8: Total Depth MD: | C8: ='12-8-2016'!C8 -> 0 | D8: ft | E8: KOP: | F8: ='12-8-2016'!F8 -> N/A | G8: ft | H8: KB: | I8: ='12-8-2016'!I8 -> 0 | J8: ft
B9: Total Depth TVD: | C9: ='12-8-2016'!C9 -> 0 | D9: ft | E9: Liner Top: | F9: ='12-8-2016'!F9 -> N/A | G9: ft | H9: Tubing: | I9: ='12-8-2016'!I9 -> 2 3/8 4.7# J-55
A10: Surface Casing: | B10: ='12-8-2016'!B10 -> 9 5/8" 43# @ 308'
A11: Intermediate: | B11: ='12-8-2016'!B11 -> 4 1/2 11.6# @ 8175'
A12: Prod. Liner: | B12: ='12-8-2016'!B12 -> none
A13: Frac String: | B13: ='12-8-2016'!B13 -> None
A14: Cost Summary
A15: Item | D15: 0 | G15: 0 | J15: 0 | K15: Daily Total | L15: =SUM(D15:D18,G15:G18,J15:J20) -> 0
D16: 0 | G16: 0 | J16: 0 | K16: Cum. Total | L16: ='Date 11'!L16+L15 -> 25725
D17: 0 | G17: 0 | J17: 0
D18: 0 | G18: 0 | J18: 0
A19: Completion Supervisor: | C19: Day: | G19: Cost: | J19: 0
C20: Night: | G20: Cost: | J20: 0
A21: Crucial notes: | B21: ='Date 11'!B21 -> (Information placed here will be forwarded to all following sheets)
E22: Summary of Operations

Sheet Date 13
A1: Extraction Oil & Gas
A2: Completion Report
A6: Date: | H6: AFE #: | I6: ='12-8-2016'!I6 -> Bison
A7: Well Name: | B7: ='12-8-2016'!B7 -> Kissler 2-10 (Bison) | H7: County: | I7: ='12-8-2016'!I7 -> Arapahoe | J7: State: | K7: ='12-8-2016'!K7 -> Colorado
A8: Wellbore Info: | B8: Total Depth MD: | C8: ='12-8-2016'!C8 -> 0 | D8: ft | E8: KOP: | F8: ='12-8-2016'!F8 -> N/A | G8: ft | H8: KB: | I8: ='12-8-2016'!I8 -> 0 | J8: ft
B9: Total Depth TVD: | C9: ='12-8-2016'!C9 -> 0 | D9: ft | E9: Liner Top: | F9: ='12-8-2016'!F9 -> N/A | G9: ft | H9: Tubing: | I9: ='12-8-2016'!I9 -> 2 3/8 4.7# J-55
A10: Surface Casing: | B10: ='12-8-2016'!B10 -> 9 5/8" 43# @ 308'
A11: Intermediate: | B11: ='12-8-2016'!B11 -> 4 1/2 11.6# @ 8175'
A12: Prod. Liner: | B12: ='12-8-2016'!B12 -> none
A13: Frac String: | B13: ='12-8-2016'!B13 -> None
A14: Cost Summary
A15: Item | D15: 0 | G15: 0 | J15: 0 | K15: Daily Total | L15: =SUM(D15:D18,G15:G18,J15:J20) -> 0
D16: 0 | G16: 0 | J16: 0 | K16: Cum. Total | L16: ='Date 12'!L16+L15 -> 25725
D17: 0 | G17: 0 | J17: 0
D18: 0 | G18: 0 | J18: 0
A19: Completion Supervisor: | C19: Day: | G19: Cost: | J19: 0
C20: Night: | G20: Cost: | J20: 0
A21: Crucial notes: | B21: ='Date 12'!B21 -> (Information placed here will be forwarded to all following sheets)
E22: Summary of Operations

Sheet Date 14
A1: Extraction Oil & Gas
A2: Completion Report
A6: Date: | H6: AFE #: | I6: ='12-8-2016'!I6 -> Bison
A7: Well Name: | B7: ='12-8-2016'!B7 -> Kissler 2-10 (Bison) | H7: County: | I7: ='12-8-2016'!I7 -> Arapahoe | J7: State: | K7: ='12-8-2016'!K7 -> Colorado
A8: Wellbore Info: | B8: Total Depth MD: | C8: ='12-8-2016'!C8 -> 0 | D8: ft | E8: KOP: | F8: ='12-8-2016'!F8 -> N/A | G8: ft | H8: KB: | I8: ='12-8-2016'!I8 -> 0 | J8: ft
B9: Total Depth TVD: | C9: ='12-8-2016'!C9 -> 0 | D9: ft | E9: Liner Top: | F9: ='12-8-2016'!F9 -> N/A | G9: ft | H9: Tubing: | I9: ='12-8-2016'!I9 -> 2 3/8 4.7# J-55
A10: Surface Casing: | B10: ='12-8-2016'!B10 -> 9 5/8" 43# @ 308'
A11: Intermediate: | B11: ='12-8-2016'!B11 -> 4 1/2 11.6# @ 8175'
A12: Prod. Liner: | B12: ='12-8-2016'!B12 -> none
A13: Frac String: | B13: ='12-8-2016'!B13 -> None
A14: Cost Summary
A15: Item | D15: 0 | G15: 0 | J15: 0 | K15: Daily Total | L15: =SUM(D15:D18,G15:G18,J15:J20) -> 0
D16: 0 | G16: 0 | J16: 0 | K16: Cum. Total | L16: ='Date 13'!L16+L15 -> 25725
D17: 0 | G17: 0 | J17: 0
D18: 0 | G18: 0 | J18: 0
A19: Completion Supervisor: | C19: Day: | G19: Cost: | J19: 0
C20: Night: | G20: Cost: | J20: 0
A21: Crucial notes: | B21: ='Date 13'!B21 -> (Information placed here will be forwarded to all following sheets)
E22: Summary of Operations

Sheet Date 15
A1: Extraction Oil & Gas
A2: Completion Report
A6: Date: | H6: AFE #: | I6: ='12-8-2016'!I6 -> Bison
A7: Well Name: | B7: ='12-8-2016'!B7 -> Kissler 2-10 (Bison) | H7: County: | I7: ='12-8-2016'!I7 -> Arapahoe | J7: State: | K7: ='12-8-2016'!K7 -> Colorado
A8: Wellbore Info: | B8: Total Depth MD: | C8: ='12-8-2016'!C8 -> 0 | D8: ft | E8: KOP: | F8: ='12-8-2016'!F8 -> N/A | G8: ft | H8: KB: | I8: ='12-8-2016'!I8 -> 0 | J8: ft
B9: Total Depth TVD: | C9: ='12-8-2016'!C9 -> 0 | D9: ft | E9: Liner Top: | F9: ='12-8-2016'!F9 -> N/A | G9: ft | H9: Tubing: | I9: ='12-8-2016'!I9 -> 2 3/8 4.7# J-55
A10: Surface Casing: | B10: ='12-8-2016'!B10 -> 9 5/8" 43# @ 308'
A11: Intermediate: | B11: ='12-8-2016'!B11 -> 4 1/2 11.6# @ 8175'
A12: Prod. Liner: | B12: ='12-8-2016'!B12 -> none
A13: Frac String: | B13: ='12-8-2016'!B13 -> None
A14: Cost Summary
A15: Item | D15: 0 | G15: 0 | J15: 0 | K15: Daily Total | L15: =SUM(D15:D18,G15:G18,J15:J20) -> 0
D16: 0 | G16: 0 | J16: 0 | K16: Cum. Total | L16: ='Date 14'!L16+L15 -> 25725
D17: 0 | G17: 0 | J17: 0
D18: 0 | G18: 0 | J18: 0
A19: Completion Supervisor: | C19: Day: | G19: Cost: | J19: 0
C20: Night: | G20: Cost: | J20: 0
A21: Crucial notes: | B21: ='Date 14'!B21 -> (Information placed here will be forwarded to all following sheets)
E22: Summary of Operations

Sheet Date 16
A1: Extraction Oil & Gas
A2: Completion Report
A6: Date: | H6: AFE #: | I6: ='12-8-2016'!I6 -> Bison
A7: Well Name: | B7: ='12-8-2016'!B7 -> Kissler 2-10 (Bison) | H7: County: | I7: ='12-8-2016'!I7 -> Arapahoe | J7: State: | K7: ='12-8-2016'!K7 -> Colorado
A8: Wellbore Info: | B8: Total Depth MD: | C8: ='12-8-2016'!C8 -> 0 | D8: ft | E8: KOP: | F8: ='12-8-2016'!F8 -> N/A | G8: ft | H8: KB: | I8: ='12-8-2016'!I8 -> 0 | J8: ft
B9: Total Depth TVD: | C9: ='12-8-2016'!C9 -> 0 | D9: ft | E9: Liner Top: | F9: ='12-8-2016'!F9 -> N/A | G9: ft | H9: Tubing: | I9: ='12-8-2016'!I9 -> 2 3/8 4.7# J-55
A10: Surface Casing: | B10: ='12-8-2016'!B10 -> 9 5/8" 43# @ 308'
A11: Intermediate: | B11: ='12-8-2016'!B11 -> 4 1/2 11.6# @ 8175'
A12: Prod. Liner: | B12: ='12-8-2016'!B12 -> none
A13: Frac String: | B13: ='12-8-2016'!B13 -> None
A14: Cost Summary
A15: Item | D15: 0 | G15: 0 | J15: 0 | K15: Daily Total | L15: =SUM(D15:D18,G15:G18,J15:J20) -> 0
D16: 0 | G16: 0 | J16: 0 | K16: Cum. Total | L16: ='Date 15'!L16+L15 -> 25725
D17: 0 | G17: 0 | J17: 0
D18: 0 | G18: 0 | J18: 0
A19: Completion Supervisor: | C19: Day: | G19: Cost: | J19: 0
C20: Night: | G20: Cost: | J20: 0
A21: Crucial notes: | B21: ='Date 15'!B21 -> (Information placed here will be forwarded to all following sheets)
E22: Summary of Operations

Sheet Date 17
A1: Extraction Oil & Gas
A2: Completion Report
A6: Date: | H6: AFE #: | I6: ='12-8-2016'!I6 -> Bison
A7: Well Name: | B7: ='12-8-2016'!B7 -> Kissler 2-10 (Bison) | H7: County: | I7: ='12-8-2016'!I7 -> Arapahoe | J7: State: | K7: ='12-8-2016'!K7 -> Colorado
A8: Wellbore Info: | B8: Total Depth MD: | C8: ='12-8-2016'!C8 -> 0 | D8: ft | E8: KOP: | F8: ='12-8-2016'!F8 -> N/A | G8: ft | H8: KB: | I8: ='12-8-2016'!I8 -> 0 | J8: ft
B9: Total Depth TVD: | C9: ='12-8-2016'!C9 -> 0 | D9: ft | E9: Liner Top: | F9: ='12-8-2016'!F9 -> N/A | G9: ft | H9: Tubing: | I9: ='12-8-2016'!I9 -> 2 3/8 4.7# J-55
A10: Surface Casing: | B10: ='12-8-2016'!B10 -> 9 5/8" 43# @ 308'
A11: Intermediate: | B11: ='12-8-2016'!B11 -> 4 1/2 11.6# @ 8175'
A12: Prod. Liner: | B12: ='12-8-2016'!B12 -> none
A13: Frac String: | B13: ='12-8-2016'!B13 -> None
A14: Cost Summary
A15: Item | D15: 0 | G15: 0 | J15: 0 | K15: Daily Total | L15: =SUM(D15:D18,G15:G18,J15:J20) -> 0
D16: 0 | G16: 0 | J16: 0 | K16: Cum. Total | L16: ='Date 16'!L16+L15 -> 25725
D17: 0 | G17: 0 | J17: 0
D18: 0 | G18: 0 | J18: 0
A19: Completion Supervisor: | C19: Day: | G19: Cost: | J19: 0
C20: Night: | G20: Cost: | J20: 0
A21: Crucial notes: | B21: ='Date 16'!B21 -> (Information placed here will be forwarded to all following sheets)
E22: Summary of Operations

Sheet Date 18
A1: Extraction Oil & Gas
A2: Completion Report
A6: Date: | H6: AFE #: | I6: ='12-8-2016'!I6 -> Bison
A7: Well Name: | B7: ='12-8-2016'!B7 -> Kissler 2-10 (Bison) | H7: County: | I7: ='12-8-2016'!I7 -> Arapahoe | J7: State: | K7: ='12-8-2016'!K7 -> Colorado
A8: Wellbore Info: | B8: Total Depth MD: | C8: ='12-8-2016'!C8 -> 0 | D8: ft | E8: KOP: | F8: ='12-8-2016'!F8 -> N/A | G8: ft | H8: KB: | I8: ='12-8-2016'!I8 -> 0 | J8: ft
B9: Total Depth TVD: | C9: ='12-8-2016'!C9 -> 0 | D9: ft | E9: Liner Top: | F9: ='12-8-2016'!F9 -> N/A | G9: ft | H9: Tubing: | I9: ='12-8-2016'!I9 -> 2 3/8 4.7# J-55
A10: Surface Casing: | B10: ='12-8-2016'!B10 -> 9 5/8" 43# @ 308'
A11: Intermediate: | B11: ='12-8-2016'!B11 -> 4 1/2 11.6# @ 8175'
A12: Prod. Liner: | B12: ='12-8-2016'!B12 -> none
A13: Frac String: | B13: ='12-8-2016'!B13 -> None
A14: Cost Summary
A15: Item | D15: 0 | G15: 0 | J15: 0 | K15: Daily Total | L15: =SUM(D15:D18,G15:G18,J15:J20) -> 0
D16: 0 | G16: 0 | J16: 0 | K16: Cum. Total | L16: ='Date 17'!L16+L15 -> 25725
D17: 0 | G17: 0 | J17: 0
D18: 0 | G18: 0 | J18: 0
A19: Completion Supervisor: | C19: Day: | G19: Cost: | J19: 0
C20: Night: | G20: Cost: | J20: 0
A21: Crucial notes: | B21: ='Date 17'!B21 -> (Information placed here will be forwarded to all following sheets)
E22: Summary of Operations

Sheet Date 19
A1: Extraction Oil & Gas
A2: Completion Report
A6: Date: | H6: AFE #: | I6: ='12-8-2016'!I6 -> Bison
A7: Well Name: | B7: ='12-8-2016'!B7 -> Kissler 2-10 (Bison) | H7: County: | I7: ='12-8-2016'!I7 -> Arapahoe | J7: State: | K7: ='12-8-2016'!K7 -> Colorado
A8: Wellbore Info: | B8: Total Depth MD: | C8: ='12-8-2016'!C8 -> 0 | D8: ft | E8: KOP: | F8: ='12-8-2016'!F8 -> N/A | G8: ft | H8: KB: | I8: ='12-8-2016'!I8 -> 0 | J8: ft
B9: Total Depth TVD: | C9: ='12-8-2016'!C9 -> 0 | D9: ft | E9: Liner Top: | F9: ='12-8-2016'!F9 -> N/A | G9: ft | H9: Tubing: | I9: ='12-8-2016'!I9 -> 2 3/8 4.7# J-55
A10: Surface Casing: | B10: ='12-8-2016'!B10 -> 9 5/8" 43# @ 308'
A11: Intermediate: | B11: ='12-8-2016'!B11 -> 4 1/2 11.6# @ 8175'
A12: Prod. Liner: | B12: ='12-8-2016'!B12 -> none
A13: Frac String: | B13: ='12-8-2016'!B13 -> None
A14: Cost Summary
A15: Item | D15: 0 | G15: 0 | J15: 0 | K15: Daily Total | L15: =SUM(D15:D18,G15:G18,J15:J20) -> 0
D16: 0 | G16: 0 | J16: 0 | K16: Cum. Total | L16: ='Date 18'!L16+L15 -> 25725
D17: 0 | G17: 0 | J17: 0
D18: 0 | G18: 0 | J18: 0
A19: Completion Supervisor: | C19: Day: | G19: Cost: | J19: 0
C20: Night: | G20: Cost: | J20: 0
A21: Crucial notes: | B21: ='Date 18'!B21 -> (Information placed here will be forwarded to all following sheets)
E22: Summary of Operations

Sheet Date 20
A1: Extraction Oil & Gas
A2: Completion Report
A6: Date: | H6: AFE #: | I6: ='12-8-2016'!I6 -> Bison
A7: Well Name: | B7: ='12-8-2016'!B7 -> Kissler 2-10 (Bison) | H7: County: | I7: ='12-8-2016'!I7 -> Arapahoe | J7: State: | K7: ='12-8-2016'!K7 -> Colorado
A8: Wellbore Info: | B8: Total Depth MD: | C8: ='12-8-2016'!C8 -> 0 | D8: ft | E8: KOP: | F8: ='12-8-2016'!F8 -> N/A | G8: ft | H8: KB: | I8: ='12-8-2016'!I8 -> 0 | J8: ft
B9: Total Depth TVD: | C9: ='12-8-2016'!C9 -> 0 | D9: ft | E9: Liner Top: | F9: N/A | G9: ft | H9: Tubing: | I9: ='12-8-2016'!I9 -> 2 3/8 4.7# J-55
A10: Surface Casing: | B10: ='12-8-2016'!B10 -> 9 5/8" 43# @ 308'
A11: Intermediate: | B11: ='12-8-2016'!B11 -> 4 1/2 11.6# @ 8175'
A12: Prod. Liner: | B12: ='12-8-2016'!B12 -> none
A13: Frac String: | B13: ='12-8-2016'!B13 -> None
A14: Cost Summary
A15: Item | D15: 0 | G15: 0 | J15: 0 | K15: Daily Total | L15: =SUM(D15:D18,G15:G18,J15:J20) -> 0
D16: 0 | G16: 0 | J16: 0 | K16: Cum. Total | L16: ='Date 19'!L16+L15 -> 25725
D17: 0 | G17: 0 | J17: 0
D18: 0 | G18: 0 | J18: 0
A19: Completion Supervisor: | C19: Day: | G19: Cost: | J19: 0
C20: Night: | G20: Cost: | J20: 0
A21: Crucial notes: | B21: ='Date 19'!B21 -> (Information placed here will be forwarded to all following sheets)
E22: Summary of Operations
