Workbook

Sheet Cover
B18: Hydrocarbon Gas Composition and Stable Isotopes
B19: Data and Interpretation
B21: Job #: | D21: 19092809
B22: Lab #: | D22: DIG-020590
B23: Client: | D23: Great Western Oil and Gas
B24: Well Name: | D24: BINDER 24-20

Sheet Data Summary
A4: Client/Well Name: | C4: =CONCATENATE(Cover!D23," / ",Cover!D24) -> Great Western Oil and Gas / BINDER 24-20
A5: Job #: | C5: =Cover!D21 -> 19092809
A6: Lab #: | C6: =Cover!D22 -> DIG-020590
A8: SAMPLE INFORMATION | J8: COMPLETE GAS ANALYSIS | Y8: HYDROCARBON GAS ANALYSIS (normalized to total HC content) | AG8: BTU CONTENT*
A9: Job | B9: Lab | C9: Well | D9: Sample | E9: Sample | F9: Sample | G9: Fm | H9: Formation | I9: Fm-Depth | J9: GC | K9: N2 | L9: O2 + Ar | M9: CO2 | N9: C1 | O9: C2 | P9: C3 | Q9: iC4 | R9: nC4 | S9: iC5 | T9: nC5 | U9: C6+ | V9: C2H4 | W9: He | X9: H2 | Y9: C1 | Z9: C2 | AA9: C3 | AB9: iC4 | AC9: nC4 | AD9: iC5 | AE9: nC5 | AF9: C6+ | AG9: Total Gas | AH9: HCs only | AS9: METHANE ISOTOPE DATA CATEGORIZED BY FORMATION | BM9: PROPANE ISOTOPE DATA CATEGORIZED BY FORMATION
A10: Number | B10: Number | C10: Name | D10: Type | E10: Date | F10: Time | G10: Code | H10: Name | J10: Date | K10: ppm | L10: ppm | M10: ppm | N10: ppm | O10: ppm | P10: ppm | Q10: ppm | R10: ppm | S10: ppm | T10: ppm | U10: ppm | V10: ppm | W10: ppm | X10: ppm | Y10: mol% | Z10: mol% | AA10: mol% | AB10: mol% | AC10: mol% | AD10: mol% | AE10: mol% | AF10: mol% | AG10: BTU/ft3 | AH10: BTU/ft3 | AS10: 1 | AT10: 2 | AU10: 3 | AV10: 4 | AW10: 5 | AX10: 6 | AY10: 7 | AZ10: 8 | BA10: 9 | BB10: 10 | BC10: 11 | BD10: 12 | BE10: 13 | BF10: 14 | BG10: 15 | BH10: 16 | BI10: 17 | BJ10: 18 | BK10: 19 | BL10: 20 | BM10: 1 | BN10: 2 | BO10: 3 | BP10: 4 | BQ10: 5 | BR10: 6 | BS10: 7 | BT10: 8 | BU10: 9 | BV10: 10 | BW10: 11 | BX10: 12 | BY10: 13 | BZ10: 14 | CA10: 15 | CB10: 16 | CC10: 17 | CD10: 18 | CE10: 19 | CF10: 20
N11: C1 | O11: C2 | P11: C3 | Q11: iC4 | R11: nC4 | S11: iC5 | T11: nC5 | U11: C6+ | V11: C6+ | Y11: C1 | Z11: C2 | AA11: C3 | AB11: iC4 | AC11: nC4 | AD11: iC5 | AE11: nC5 | AF11: C6+
A12: =Cover!D21 -> 19092809 | B12: =C6 -> DIG-020590 | C12: =Cover!D24&D12 -> BINDER 24-20 Bradenhead Gas | D12: Bradenhead Gas | E12: 43724 | F12: 0.55208333 | J12: 43726 | K12: 15418.765 | L12: 987.89477 | M12: nd | N12: 791714.89 | O12: 97695.944 | P12: 62523.806 | Q12: 7155.0925 | R12: 16117.957 | S12: 2972.7232 | T12: 2796.4285 | U12: 3106.5885 | V12: nd | W12: 229.84884 | X12: 46.620576 | Y12: =IF(N12="nd",NA(),100*N12/SUM($N12:$U12)) -> 80.452009 | Z12: =IF(O12="nd",NA(),100*O12/SUM($N12:$U12)) -> 9.9276078 | AA12: =IF(P12="nd",NA(),100*P12/SUM($N12:$U12)) -> 6.3535066 | AB12: =IF(Q12="nd",NA(),100*Q12/SUM($N12:$U12)) -> 0.7270819 | AC12: =IF(R12="nd",NA(),100*R12/SUM($N12:$U12)) -> 1.6378649 | AD12: =IF(S12="nd",NA(),100*S12/SUM($N12:$U12)) -> 0.3020804 | AE12: =IF(T12="nd",NA(),100*T12/SUM($N12:$U12)) -> 0.28416579 | AF12: =IF(U12="nd",NA(),100*U12/SUM($N12:$U12)) -> 0.31568345 | AG12: =(K12/SUM(K12:U12))+(L12/SUM(K12:U12))+(N12/SUM(K12:U12)*1010)+(O12/SUM(K12:U12)*1769.7)+(P12/SUM(K12:U12)*2516.1)+(Q12/SUM(K12:U12)*3251.9)+(R12/SUM(K12:U12)*3262.3)+(S12/SUM(K12:U12)*4000.9)+(T12/SUM(K12:U12)*4008.7)+(U12/SUM(K12:U12)*4755.9) -> 1242.9754 | AH12: =(Y12*1010+Z12*1769.7+AA12*2516.1+AB12*3251.9+AC12*3262.3+AD12*4000.9+AE12*4008.7+AF12*4755.9)/100 -> 1263.6817
A14: SAMPLE INFORMATION | J14: HYDROCARBON RATIOS | N14: STABLE ISOTOPE ANALYSIS | AF14: SPECIFIC GRAVITY*
A15: Job | B15: Lab | C15: Well | D15: Sample | E15: Sample | F15: Sample | J15: Total HC | K15: Wetness | L15: C1/C2+C3 | M15: Balance Ratio | N15: Mass Spec | O15: d13C1 | P15: d13C2 | Q15: d13C3 | R15: d13iC4 | S15: d13nC4 | T15: d13iC5 | U15: d13nC5 | V15: d13CO2 | W15: dD | X15: Comments | AC15: Stable isotope results based on multi-point laboratory calibration | AF15: Total Gas | AG15: HCs only
A16: Number | B16: Number | C16: Name | D16: Type | E16: Date | F16: Time | J16: ppm | K16: % C2 to C6 | L16: mol/mol | M16: C1+C2/C3-C5 | N16: Date | O16: ‰ VPDB | P16: ‰ VPDB | Q16: ‰ VPDB | R16: ‰ VPDB | S16: ‰ VPDB | T16: ‰ VPDB | U16: ‰ VPDB | V16: ‰ VPDB | W16: ‰ VSMOW | AC16: Values in red represent low signal; interpret with caution | AF16: Spec Grav | AG16: Spec Grav
O17: 1 | P17: 0.5 | Q17: 0.33 | S17: 0.25 | U17: 0.2 | V17: 0.2
A18: =A12 -> 19092809 | B18: =B12 -> DIG-020590 | C18: =C12 -> BINDER 24-20 Bradenhead Gas | D18: =D12 -> Bradenhead Gas | E18: =E12 -> 43724 | F18: =F12 -> 0.55208333 | J18: =IF(SUM(N12:U12)>0,SUM(N12:U12),NA()) -> 984083.43 | K18: =IF(J18>0, 100*SUM(O12:U12)/SUM(N12:U12), NA()) -> 19.547991 | L18: =IF(Y12>0,IF(Z12>0,Y12/(Z12+AA12),NA())) -> 4.9414313 | M18: =(N12+O12)/SUM(P12:T12) -> 9.7133299 | N18: 43742 | O18: -51.6 | P18: -35.7 | Q18: -31.2 | R18: -32.2 | S18: -29.4 | T18: -27.4 | U18: -29.3 | W18: -250 | AC18: Precision d13C < 0.5 ‰ | AF18: =((K12/SUM(K12:U12)*28.0134)+(L12/SUM(K12:U12)*31.9988)+(N12/SUM(K12:U12)*16.0425)+(O12/SUM(K12:U12)*30.069)+(P12/SUM(K12:U12)*44.0956)+(Q12/SUM(K12:U12)*58.1222)+(R12/SUM(K12:U12)*58.1222)+(S12/SUM(K12:U12)*72.1488)+(T12/SUM(K12:U12)*72.1488)+(U12/SUM(K12:U12)*86.1754))/28.967 -> 0.7210159 | AG18: =((N12/SUM(N12:U12)*16.0425)+(O12/SUM(N12:U12)*30.069)+(P12/SUM(N12:U12)*44.0956)+(Q12/SUM(N12:U12)*58.1222)+(R12/SUM(N12:U12)*58.1222)+(S12/SUM(N12:U12)*72.1488)+(T12/SUM(N12:U12)*72.1488)+(U12/SUM(N12:U12)*86.1754))/28.967 -> 0.7167754
AC19: Precision dD < 5 ‰
AC20: * As ideal gas, with gas concentrations normalized to 100%;
AC21: caculations based on GPA 2145-09 physical constants. | AH21: Page 2

Sheet InterpretivePlots
A3: INTERPRETIVE PLOTS | M3: INTERPRETIVE PLOTS
A5: Methane d13C vs Wetness Genetic Classification Plot | G5: Hydrocarbon Composition Plot | M5: Mixing Plot | S5: Ethane - Propane Maturity Plot
L38: Page 3 | X38: Page 4
A41: INTERPRETIVE PLOTS | M41: INTERPRETIVE PLOTS
A43: Haworth Ratio Plot - Characterization of Hydrocarbon Type | G43: Methane d13C vs dD Genetic Classification Plot | M43: Methane d13C vs C1/(C2+C3) Genetic Classification Plot
L76: Page 5 | X76: Page 6

Sheet EDD 1
A1: Organization | B1: Reporting Organization | C1: Reporting Organization Name | D1: Order Number | E1: Entity Requesting Analysis | F1: Purpose | G1: Project
B2: 10206 | C2: Dolan Integration Group | E2: Great Western Oil and Gas
A3: Sample | B3: COGCC Facility No. | C3: Sample Date and Time | D3: API # | E3: LAB Sample ID | F3: Sample Type | G3: Matrix | H3: Comments | I3: Project Number | J3: Chain of Custody ID | K3: Date Received by Lab
B4: 420973 | C4: 43724.552 | E4: DIG-020590 | F4: BDH | G4: GAS | J4: BINDER 24-20 | K4: 43724
A5: Batch | B5: LabID | C5: Lab Batch Identifier | D5: Leach Date | E5: Extract Date and Time | F5: Extract Method | G5: Start Date and Time | H5: Conc Method | I5: Init Vol | J5: Final Vol | K5: Init Vol Units | L5: Final Vol Units | M5: Analysis Date and Time | N5: Report Basis | O5: Comments | P5: File Name | Q5: Column #
B6: 10206 | C6: 19092809
A7: Result | B7: CAS Number | C7: Analysis Name | D7: Analysis Method | E7: Analytical Method Modifier | F7: Unit | G7: Result Value | H7: Qualifier | I7: Test Type | J7: Result Text | K7: Data Flag | L7: Dilution | M7: Fraction Type | N7: MDC | O7: Requested MDC | P7: Detection Limit | Q7: Instrument Detection Limit | R7: Method Detection Limit | S7: Comments | T7: AnalyticalBatchID
B8: O2+AR | C8: OXYGEN + ARGON | D8: SOP | F8: MOL % | G8: 0.099 | P8: 0.005 | Q8: 0.005 | R8: 0.005 | T8: 19092809
B9: 124-38-9 | C9: CARBON DIOXIDE | D9: SOP | F9: MOL % | G9: 0.005 | H9: ND | P9: 0.005 | Q9: 0.005 | R9: 0.005 | T9: 19092809
B10: 7727-37-9 | C10: NITROGEN (N2) | D10: SOP | F10: MOL % | G10: 1.541 | P10: 0.005 | Q10: 0.005 | R10: 0.005 | T10: 19092809
B11: 7440-59-7 | C11: Helium | D11: SOP | F11: MOL % | G11: 0.023 | P11: 0.005 | Q11: 0.005 | R11: 0.005 | T11: 19092809
B12: 1333-74-0 | C12: HYDROGEN | D12: SOP | F12: MOL % | G12: 0.005 | H12: ND | P12: 0.005 | Q12: 0.005 | R12: 0.005 | T12: 19092809
B13: 74-82-8 | C13: METHANE | D13: SOP | F13: MOL % | G13: 79.111 | P13: 0.005 | Q13: 0.005 | R13: 0.005 | T13: 19092809
B14: 74-84-0 | C14: ETHANE | D14: SOP | F14: MOL % | G14: 9.762 | P14: 0.005 | Q14: 0.005 | R14: 0.005 | T14: 19092809
B15: 74-85-1 | C15: ETHENE | D15: SOP | F15: MOL % | G15: 0.005 | H15: ND | P15: 0.005 | Q15: 0.005 | R15: 0.005 | T15: 19092809
B16: 74-98-6 | C16: PROPANE | D16: SOP | F16: MOL % | G16: 6.248 | P16: 0.005 | Q16: 0.005 | R16: 0.005 | T16: 19092809
B17: 75-28-5 | C17: ISOBUTANE | D17: SOP | F17: MOL % | G17: 0.715 | P17: 0.005 | Q17: 0.005 | R17: 0.005 | T17: 19092809
B18: 106-97-8 | C18: N-BUTANE | D18: SOP | F18: MOL % | G18: 1.611 | P18: 0.005 | Q18: 0.005 | R18: 0.005 | T18: 19092809
B19: iC5 | C19: ISOPENTANE | D19: SOP | F19: MOL % | G19: 0.297 | P19: 0.005 | Q19: 0.005 | R19: 0.005 | T19: 19092809
B20: 109-66-0 | C20: N-PENTANE | D20: SOP | F20: MOL % | G20: 0.279 | P20: 0.005 | Q20: 0.005 | R20: 0.005 | T20: 19092809
B21: 92112-69-1+ | C21: C6+ (hexanes +) | D21: SOP | F21: MOL % | G21: 0.31 | P21: 0.005 | Q21: 0.005 | R21: 0.005 | T21: 19092809
B22: delta13C_C1 | C22: DELTA 13C C1 | D22: SOP | F22: per mil | G22: -51.6 | T22: 19092809
B23: deltaD_C1 | C23: DELTA D C1 | D23: SOP | F23: per mil | G23: -250 | T23: 19092809
B24: delta13C_C2 | C24: DELTA 13C C2 | D24: SOP | F24: per mil | G24: -35.7 | T24: 19092809
B25: delta13C_C3 | C25: DELTA 13C C3 | D25: SOP | F25: per mil | G25: -31.2 | T25: 19092809
B26: delta13C_iC4 | C26: DELTA 13C iC4 | D26: SOP | F26: per mil | G26: -32.2 | T26: 19092809
B27: delta13C_nC4 | C27: DELTA 13C nC4 | D27: SOP | F27: per mil | G27: -29.4 | T27: 19092809
B28: delta13C_iC5 | C28: DELTA 13C iC5 | D28: SOP | F28: per mil | G28: -27.4 | T28: 19092809
B29: delta13C_nC5 | C29: DELTA 13C nC5 | D29: SOP | F29: per mil | G29: -29.3 | T29: 19092809
B30: BTU | C30: BRITISH THERMAL UNITS | D30: SOP | F30: BTU/cuft | G30: 1243 | T30: 19092809
B31: SpGrav | C31: SPECIFIC GRAVITY | D31: SOP | F31: none | G31: 0.721 | T31: 19092809

Sheet COC
