Workbook

Sheet Cover
B18: Hydrocarbon Gas Composition and Stable Isotopes
B19: Data and Interpretation
B21: Job #: | D21: 16030578
B22: Lab #: | D22: DIG-009027
B23: Client: | D23: LTE
B24: Sample Name: | D24: Ferguson 43-35 Bradenhead

Sheet DIG-009027
A4: Job #: | C4: =Cover!D21 -> 16030578
A5: Lab #: | C5: =Cover!D22 -> DIG-009027
A6: Client: | C6: =Cover!D23 -> LTE
A7: Sample Name: | C7: =Cover!D24 -> Ferguson 43-35 Bradenhead
A8: Date Sampled: | C8: 42450
A9: Time Sampled: | C9: 0.50694444
A10: Sample Description: | C10: Isotube
A11: Sampling Notes: | C11: Bradenhead
A12: Date Received: | C12: 42451
A13: Date Analyzed: | C13: Gas Composition: 4/1/2016, δ13C:4/4/2016, δD:3/24/16
A14: Date Reported: | C14: 42465
A15: Comments:
A18: Measured Values: | D18: Measured | E18: Analyte | F18: HC | G18: d13C | H18: dD | I18: Comments
D19: ppm | E19: mol %a | F19: mol % | G19: ‰ VPDB | H19: ‰ VSMOW
A20: Nitrogen (N2) | D20: 5166 | E20: =IF(D20="nd","nd",IF(D20="na","na",ROUND(100*D20/SUM(D$20:D$22,D$24:D$32),2))) -> 0.54 | F20: - | G20: - | H20: -
A21: Oxygen + Argon (O2+Ar) | D21: 241 | E21: =IF(D21="nd","nd",IF(D21="na","na",ROUND(100*D21/SUM(D$20:D$22,D$24:D$32),2))) -> 0.03 | F21: - | G21: - | H21: -
A22: Carbon Dioxide (CO2) | D22: 6 | E22: =IF(D22="nd","nd",IF(D22="na","na",ROUND(100*D22/SUM(D$20:D$22,D$24:D$32),2))) -> 0 | F22: - | G22: - | H22: -
A23: Helium (He)b | D23: nd | E23: =IF(D23="nd","nd",IF(D23="na","na",ROUND(100*D23/SUM(D$20:D$22,D$24:D$32),2))) -> nd | F23: - | G23: - | H23: -
A24: Hydrogen (H2) | D24: nd | E24: =IF(D24="nd","nd",IF(D24="na","na",ROUND(100*D24/SUM(D$20:D$22,D$24:D$32),2))) -> nd | F24: - | G24: - | H24: -
A25: Methane (CH4) | D25: 782301 | E25: =IF(D25="nd","nd",IF(D25="na","na",ROUND(100*D25/SUM(D$20:D$22,D$24:D$32),2))) -> 81.32 | F25: =IF(D25="nd","nd",100*(D25/SUM($D$25:$D$32))) -> 81.775818 | G25: -47.2 | H25: -247
A26: Ethane (C2H6) | D26: 105257 | E26: =IF(D26="nd","nd",IF(D26="na","na",ROUND(100*D26/SUM(D$20:D$22,D$24:D$32),2))) -> 10.94 | F26: =IF(D26="nd","nd",100*(D26/SUM($D$25:$D$32))) -> 11.002769 | G26: -31.9 | H26: -
A27: Propane (C3H8) | D27: 44402 | E27: =IF(D27="nd","nd",IF(D27="na","na",ROUND(100*D27/SUM(D$20:D$22,D$24:D$32),2))) -> 4.62 | F27: =IF(D27="nd","nd",100*(D27/SUM($D$25:$D$32))) -> 4.6414486 | G27: -27.5 | H27: -
A28: iso-Butane (C4H10) | D28: 5891 | E28: =IF(D28="nd","nd",IF(D28="na","na",ROUND(100*D28/SUM(D$20:D$22,D$24:D$32),2))) -> 0.61 | F28: =IF(D28="nd","nd",100*(D28/SUM($D$25:$D$32))) -> 0.61580049 | G28: -30.4 | H28: -
A29: n-Butane (C4H10) | D29: 10645 | E29: =IF(D29="nd","nd",IF(D29="na","na",ROUND(100*D29/SUM(D$20:D$22,D$24:D$32),2))) -> 1.11 | F29: =IF(D29="nd","nd",100*(D29/SUM($D$25:$D$32))) -> 1.1127476 | G29: -27 | H29: -
A30: iso-Pentane (C5H12) | D30: 3166 | E30: =IF(D30="nd","nd",IF(D30="na","na",ROUND(100*D30/SUM(D$20:D$22,D$24:D$32),2))) -> 0.33 | F30: =IF(D30="nd","nd",100*(D30/SUM($D$25:$D$32))) -> 0.33094965 | G30: -27 | H30: - | I30: low peak height
A31: n-Pentane (C5H12) | D31: 2644 | E31: =IF(D31="nd","nd",IF(D31="na","na",ROUND(100*D31/SUM(D$20:D$22,D$24:D$32),2))) -> 0.27 | F31: =IF(D31="nd","nd",100*(D31/SUM($D$25:$D$32))) -> 0.27638372 | G31: -26.3 | H31: - | I31: low peak height
A32: Hexanes + (C6H14) | D32: 2335 | E32: =IF(D32="nd","nd",IF(D32="na","na",ROUND(100*D32/SUM(D$20:D$22,D$24:D$32),2))) -> 0.24 | F32: =IF(D32="nd","nd",100*(D32/SUM($D$25:$D$32))) -> 0.2440832 | G32: nd | H32: -
A34: Calculated Values:
A35: Total HCs (ppm) | D35: =SUM(D25:D32) -> 956641
A36: Gas Wetness (mol % C2+/C1+) | D36: =100*SUM(F26:F32)/SUM(F25:F32) -> 18.224182
A37: C1/(C2+C3) (mol/mol) | D37: =F25/SUM(F26:F27) -> 5.2272232
A39: a Analyte concentrations normalized to 100% (Mol. % is approximately equal to Vol. % )
A40: b Addition of helium negates the ability to detect natice helium and may negate the ability to detect hydrogen.
A41: HC= Hydrocarbons
A42: nd = not detected
A43: na = not analyzed
A44: Stable isotope results based on multi-point laboratory calibration
A45: Error d13C < 0.5 ‰
A46: Error dD < 5.0 ‰

Sheet Plots

Sheet COC Form

Sheet EDD report
A1: Organization | B1: Reporting Organization | C1: Reporting Organization Name | D1: Order Number | E1: Entity Requesting Analysis | F1: Purpose | G1: Project
C2: Dolan Integration Group | E2: LTE | G2: Ferguson 43-35 Bradenhead
A3: Sample | B3: COGCC Facility No. | C3: Sample Date and Time | D3: API # | E3: LAB Sample ID | F3: Sample Type | G3: Matrix | H3: Comments | I3: Project Number | J3: Chain of Custody ID | K3: Date Received by Lab
B4: 245431 | C4: ='DIG-009027'!C8+'DIG-009027'!C9 -> 42450.507 | E4: =Cover!D22 -> DIG-009027 | G4: GAS | H4: ='DIG-009027'!C15 -> 0 | I4: 13573 | K4: ='DIG-009027'!C12 -> 42451
A5: Batch | B5: LabID | C5: Lab Batch Identifier | D5: Leach Date | E5: Extract Date and Time | F5: Extract Method | G5: Start Date and Time | H5: Conc Method | I5: Init Vol | J5: Final Vol | K5: Init Vol Units | L5: Final Vol Units | M5: Analysis Date and Time | N5: Report Basis | O5: Comments | P5: File Name | Q5: Column #
C6: =Cover!$D$21 -> 16030578
A7: Result | B7: CAS Number | C7: Analysis Name | D7: Analysis Method | E7: Analytical Method Modifier | F7: Unit | G7: Result Value | H7: Qualifier | I7: Test Type | J7: Result Text | K7: Data Flag | L7: Dilution | M7: Fraction Type | N7: MDC | O7: Requested MDC | P7: Detection Limit | Q7: Instrument Detection Limit | R7: Method Detection Limit | S7: Comments | T7: AnalyticalBatchID
B8: O2+AR | C8: OXYGEN + ARGON | D8: SOP | F8: MOL % | G8: =IF('DIG-009027'!E21="nd",'EDD report'!P8,ROUND('DIG-009027'!E21,3)) -> 0.03 | H8: =IF(G8=0.005,"ND","") | P8: 0.005 | Q8: 0.005 | R8: 0.005 | T8: =Cover!$D$21 -> 16030578
B9: 124-38-9 | C9: CARBON DIOXIDE | D9: SOP | F9: MOL % | G9: =IF('DIG-009027'!E22="nd",'EDD report'!P9,ROUND('DIG-009027'!E22,3)) -> 0 | H9: =IF(G9=0.005,"ND","") | P9: 0.005 | Q9: 0.005 | R9: 0.005 | T9: =Cover!$D$21 -> 16030578
B10: 7727-37-9 | C10: NITROGEN (N2) | D10: SOP | F10: MOL % | G10: =IF('DIG-009027'!E20="nd",'EDD report'!P10,ROUND('DIG-009027'!E20,3)) -> 0.54 | H10: =IF(G10=0.005,"ND","") | P10: 0.005 | Q10: 0.005 | R10: 0.005 | T10: =Cover!$D$21 -> 16030578
B11: 74-82-8 | C11: METHANE | D11: SOP | F11: MOL % | G11: =IF('DIG-009027'!E25="nd",'EDD report'!P11,ROUND('DIG-009027'!E25,3)) -> 81.32 | H11: =IF(G11=0.005,"ND","") | P11: 0.005 | Q11: 0.005 | R11: 0.005 | T11: =Cover!$D$21 -> 16030578
B12: 74-84-0 | C12: ETHANE | D12: SOP | F12: MOL % | G12: =IF('DIG-009027'!E26="nd",'EDD report'!P12,ROUND('DIG-009027'!E26,3)) -> 10.94 | H12: =IF(G12=0.005,"ND","") | P12: 0.005 | Q12: 0.005 | R12: 0.005 | T12: =Cover!$D$21 -> 16030578
B13: 74-98-6 | C13: PROPANE | D13: SOP | F13: MOL % | G13: =IF('DIG-009027'!E27="nd",'EDD report'!P13,ROUND('DIG-009027'!E27,3)) -> 4.62 | H13: =IF(G13=0.005,"ND","") | P13: 0.005 | Q13: 0.005 | R13: 0.005 | T13: =Cover!$D$21 -> 16030578
B14: 75-28-5 | C14: ISOBUTANE | D14: SOP | F14: MOL % | G14: =IF('DIG-009027'!E28="nd",'EDD report'!P14,ROUND('DIG-009027'!E28,3)) -> 0.61 | H14: =IF(G14=0.005,"ND","") | P14: 0.005 | Q14: 0.005 | R14: 0.005 | T14: =Cover!$D$21 -> 16030578
B15: 106-97-8 | C15: N-BUTANE | D15: SOP | F15: MOL % | G15: =IF('DIG-009027'!E29="nd",'EDD report'!P15,ROUND('DIG-009027'!E29,3)) -> 1.11 | H15: =IF(G15=0.005,"ND","") | P15: 0.005 | Q15: 0.005 | R15: 0.005 | T15: =Cover!$D$21 -> 16030578
B16: iC5 | C16: ISOPENTANE | D16: SOP | F16: MOL % | G16: =IF('DIG-009027'!E30="nd",'EDD report'!P16,ROUND('DIG-009027'!E30,3)) -> 0.33 | H16: =IF(G16=0.005,"ND","") | P16: 0.005 | Q16: 0.005 | R16: 0.005 | T16: =Cover!$D$21 -> 16030578
B17: 109-66-0 | C17: N-PENTANE | D17: SOP | F17: MOL % | G17: =IF('DIG-009027'!E31="nd",'EDD report'!P17,ROUND('DIG-009027'!E31,3)) -> 0.27 | H17: =IF(G17=0.005,"ND","") | P17: 0.005 | Q17: 0.005 | R17: 0.005 | T17: =Cover!$D$21 -> 16030578
B18: 92112-69-1+ | C18: C6+ (hexanes +) | D18: SOP | F18: MOL % | G18: =IF('DIG-009027'!E32="nd",'EDD report'!P18,ROUND('DIG-009027'!E32,3)) -> 0.24 | H18: =IF(G18=0.005,"ND","") | P18: 0.005 | Q18: 0.005 | R18: 0.005 | T18: =Cover!$D$21 -> 16030578
B19: delta13C_C1 | C19: DELTA 13C C1 | D19: SOP | F19: per mil | G19: ='DIG-009027'!G25 -> -47.2 | T19: =Cover!$D$21 -> 16030578
B20: deltaD_C1 | C20: DELTA D C1 | D20: SOP | F20: per mil | G20: ='DIG-009027'!H25 -> -247 | T20: =Cover!$D$21 -> 16030578
B21: delta13C_C2 | C21: DELTA 13C C2 | D21: SOP | F21: per mil | G21: ='DIG-009027'!G26 -> -31.9 | T21: =Cover!$D$21 -> 16030578
B22: delta13C_C3 | C22: DELTA 13C C3 | D22: SOP | F22: per mil | G22: ='DIG-009027'!G27 -> -27.5 | T22: =Cover!$D$21 -> 16030578
B23: delta13C_iC4 | C23: DELTA 13C iC4 | D23: SOP | F23: per mil | G23: ='DIG-009027'!G28 -> -30.4 | T23: =Cover!$D$21 -> 16030578
B24: delta13C_nC4 | C24: DELTA 13C nC4 | D24: SOP | F24: per mil | G24: ='DIG-009027'!G29 -> -27 | T24: =Cover!$D$21 -> 16030578
B25: delta13C_iC5 | C25: DELTA 13C iC5 | D25: SOP | F25: per mil | G25: ='DIG-009027'!G30 -> -27 | S25: low peak height | T25: =Cover!$D$21 -> 16030578
B26: delta13C_nC5 | C26: DELTA 13C nC5 | D26: SOP | F26: per mil | G26: ='DIG-009027'!G31 -> -26.3 | S26: low peak height | T26: =Cover!$D$21 -> 16030578
