Workbook

Sheet Cover
B18: Hydrocarbon Gas Composition and Stable Isotopes
B19: Data and Interpretation
B21: Job #: | D21: 15110536
B22: Lab #: | D22: DIG-008570-008575
B23: Client: | D23: East Cheyenne Gas Storage
B24: Well Name: | D24: WSW-1, Williams Shallow, Michaels, Williams Deep, Nelson
D25: Preliminary Report with Concentration and Isotope Data
D26: 1/4/15: Ammended with WP-D008-1 gas sample analysis

Sheet Data Summary
A4: Client/Well Name: | C4: =CONCATENATE(Cover!D23," / ",Cover!D24) -> East Cheyenne Gas Storage / WSW-1, Williams Shallow, Michaels, Williams Deep, Nelson
A5: Job #: | C5: =Cover!D21 -> 15110536
A6: Lab #: | C6: =Cover!D22 -> DIG-008570-008575
A8: SAMPLE INFORMATION | M8: COMPLETE GAS ANALYSIS | AA8: HYDROCARBON GAS ANALYSIS | AV8: METHANE ISOTOPE DATA CATEGORIZED BY FORMATION | BP8: PROPANE ISOTOPE DATA CATEGORIZED BY FORMATION
A9: Job | B9: Lab | C9: Well | D9: Sample | E9: Sample | F9: Depth Top | G9: Depth Bot | H9: Depth | I9: Sample | J9: Fm | K9: Formation | L9: Fm-Depth | M9: GC | N9: N2 | O9: O2 + Ar | P9: CO2 | Q9: C1 | R9: C2 | S9: C3 | T9: iC4 | U9: nC4 | V9: iC5 | W9: nC5 | X9: C6+ | Y9: He 1 | Z9: H2 | AA9: C1 | AB9: C2 | AC9: C3 | AD9: iC4 | AE9: nC4 | AF9: iC5 | AG9: nC5 | AH9: C6+ | AV9: 1 | AW9: 2 | AX9: 3 | AY9: 4 | AZ9: 5 | BA9: 6 | BB9: 7 | BC9: 8 | BD9: 9 | BE9: 10 | BF9: 11 | BG9: 12 | BH9: 13 | BI9: 14 | BJ9: 15 | BK9: 16 | BL9: 17 | BM9: 18 | BN9: 19 | BO9: 20 | BP9: 1 | BQ9: 2 | BR9: 3 | BS9: 4 | BT9: 5 | BU9: 6 | BV9: 7 | BW9: 8 | BX9: 9 | BY9: 10 | BZ9: 11 | CA9: 12 | CB9: 13 | CC9: 14 | CD9: 15 | CE9: 16 | CF9: 17 | CG9: 18 | CH9: 19 | CI9: 20
A10: Number | B10: Number | C10: Name | D10: Date | E10: Time | F10: (ft) | G10: (ft) | H10: (ft) | I10: Type | J10: Code | K10: Name | M10: Date | N10: ppm | O10: ppm | P10: ppm | Q10: ppm | R10: ppm | S10: ppm | T10: ppm | U10: ppm | V10: ppm | W10: ppm | X10: ppm | Y10: ppm | Z10: ppm | AA10: mol% | AB10: mol% | AC10: mol% | AD10: mol% | AE10: mol% | AF10: mol% | AG10: mol% | AH10: mol% | AV10: =VLOOKUP(AV9,$J11:$L14,3) -> #N/A | AW10: =VLOOKUP(AW9,$J11:$L14,3) -> #N/A | AX10: =VLOOKUP(AX9,$J11:$L14,3) -> #N/A | AY10: =VLOOKUP(AY9,$J11:$L14,3) -> #N/A | AZ10: =VLOOKUP(AZ9,$J11:$L14,3) -> #N/A | BA10: =VLOOKUP(BA9,$J11:$L14,3) -> #N/A | BB10: =VLOOKUP(BB9,$J11:$L14,3) -> #N/A | BC10: =VLOOKUP(BC9,$J11:$L14,3) -> #N/A | ... CI10: =VLOOKUP(CI9,$J11:$L14,3) -> #N/A
A11: 15110536 | B11: DIG-008570 | C11: WSW-1 | D11: 42320 | I11: Water | M11: 42324 | N11: 420109.65 | O11: 48356.305 | P11: 5359.6029 | Q11: 10403.748 | R11: nd | S11: nd | T11: nd | U11: nd | V11: nd | W11: nd | X11: nd | Y11: na | Z11: nd | AA11: =IF(Q11="nd",NA(),100*Q11/SUM($Q11:$X11)) -> 100 | AB11: =IF(R11="nd",NA(),100*R11/SUM($Q11:$X11)) -> #N/A | AC11: =IF(S11="nd",NA(),100*S11/SUM($Q11:$X11)) -> #N/A | AD11: =IF(T11="nd",NA(),100*T11/SUM($Q11:$X11)) -> #N/A | AE11: =IF(U11="nd",NA(),100*U11/SUM($Q11:$X11)) -> #N/A | AF11: =IF(V11="nd",NA(),100*V11/SUM($Q11:$X11)) -> #N/A | AG11: =IF(W11="nd",NA(),100*W11/SUM($Q11:$X11)) -> #N/A | AH11: =IF(X11="nd",NA(),100*X11/SUM($Q11:$X11)) -> #N/A | AV11: =IF(COUNT(#REF!)>0,IF(AV$9<MAX($J$11:$J$14)+1,IF($J11=AV$9,#REF!,""),""),"") | AW11: =IF(COUNT(#REF!)>0,IF(AW$9<MAX($J$11:$J$14)+1,IF($J11=AW$9,#REF!,""),""),"") | AX11: =IF(COUNT(#REF!)>0,IF(AX$9<MAX($J$11:$J$14)+1,IF($J11=AX$9,#REF!,""),""),"") | AY11: =IF(COUNT(#REF!)>0,IF(AY$9<MAX($J$11:$J$14)+1,IF($J11=AY$9,#REF!,""),""),"") | AZ11: =IF(COUNT(#REF!)>0,IF(AZ$9<MAX($J$11:$J$14)+1,IF($J11=AZ$9,#REF!,""),""),"") | BA11: =IF(COUNT(#REF!)>0,IF(BA$9<MAX($J$11:$J$14)+1,IF($J11=BA$9,#REF!,""),""),"") | BB11: =IF(COUNT(#REF!)>0,IF(BB$9<MAX($J$11:$J$14)+1,IF($J11=BB$9,#REF!,""),""),"") | BC11: =IF(COUNT(#REF!)>0,IF(BC$9<MAX($J$11:$J$14)+1,IF($J11=BC$9,#REF!,""),""),"") | ... CI11: =IF(COUNT(#REF!)>0,IF(CI$9<MAX($J$11:$J$14)+1,IF($J11=CI$9,#REF!,""),""),"")
A12: 15110536 | B12: DIG-008571 | C12: Williams Shallow | D12: 42320 | I12: Water | M12: 42324 | N12: 410751.9 | O12: 54201.865 | P12: 31614.633 | Q12: 53.9 | R12: nd | S12: nd | T12: nd | U12: nd | V12: nd | W12: nd | X12: nd | Y12: na | Z12: nd | AA12: =IF(Q12="nd",NA(),100*Q12/SUM($Q12:$X12)) -> 100 | AB12: =IF(R12="nd",NA(),100*R12/SUM($Q12:$X12)) -> #N/A | AC12: =IF(S12="nd",NA(),100*S12/SUM($Q12:$X12)) -> #N/A | AD12: =IF(T12="nd",NA(),100*T12/SUM($Q12:$X12)) -> #N/A | AE12: =IF(U12="nd",NA(),100*U12/SUM($Q12:$X12)) -> #N/A | AF12: =IF(V12="nd",NA(),100*V12/SUM($Q12:$X12)) -> #N/A | AG12: =IF(W12="nd",NA(),100*W12/SUM($Q12:$X12)) -> #N/A | AH12: =IF(X12="nd",NA(),100*X12/SUM($Q12:$X12)) -> #N/A
A13: 15110536 | B13: DIG-008572 | C13: Michaels | D13: 42320 | I13: Water | M13: 42324 | N13: 348970.85 | O13: 123250.89 | P13: 4581.8858 | Q13: 89.524998 | R13: nd | S13: nd | T13: nd | U13: nd | V13: nd | W13: nd | X13: nd | Y13: na | Z13: nd | AA13: =IF(Q13="nd",NA(),100*Q13/SUM($Q13:$X13)) -> 100 | AB13: =IF(R13="nd",NA(),100*R13/SUM($Q13:$X13)) -> #N/A | AC13: =IF(S13="nd",NA(),100*S13/SUM($Q13:$X13)) -> #N/A | AD13: =IF(T13="nd",NA(),100*T13/SUM($Q13:$X13)) -> #N/A | AE13: =IF(U13="nd",NA(),100*U13/SUM($Q13:$X13)) -> #N/A | AF13: =IF(V13="nd",NA(),100*V13/SUM($Q13:$X13)) -> #N/A | AG13: =IF(W13="nd",NA(),100*W13/SUM($Q13:$X13)) -> #N/A | AH13: =IF(X13="nd",NA(),100*X13/SUM($Q13:$X13)) -> #N/A
A14: 15110536 | B14: DIG-008573 | C14: William Deep | D14: 42320 | I14: Water | M14: 42324 | N14: 373061.76 | O14: 12273.922 | P14: 2407.8233 | Q14: 139935.91 | R14: 154.0815 | S14: nd | T14: nd | U14: nd | V14: nd | W14: nd | X14: nd | Y14: na | Z14: nd | AA14: =IF(Q14="nd",NA(),100*Q14/SUM($Q14:$X14)) -> 99.890012 | AB14: =IF(R14="nd",NA(),100*R14/SUM($Q14:$X14)) -> 0.10998751 | AC14: =IF(S14="nd",NA(),100*S14/SUM($Q14:$X14)) -> #N/A | AD14: =IF(T14="nd",NA(),100*T14/SUM($Q14:$X14)) -> #N/A | AE14: =IF(U14="nd",NA(),100*U14/SUM($Q14:$X14)) -> #N/A | AF14: =IF(V14="nd",NA(),100*V14/SUM($Q14:$X14)) -> #N/A | AG14: =IF(W14="nd",NA(),100*W14/SUM($Q14:$X14)) -> #N/A | AH14: =IF(X14="nd",NA(),100*X14/SUM($Q14:$X14)) -> #N/A | AV14: =IF(COUNT(#REF!)>0,IF(AV$9<MAX($J$11:$J$14)+1,IF($J14=AV$9,#REF!,""),""),"") | AW14: =IF(COUNT(#REF!)>0,IF(AW$9<MAX($J$11:$J$14)+1,IF($J14=AW$9,#REF!,""),""),"") | AX14: =IF(COUNT(#REF!)>0,IF(AX$9<MAX($J$11:$J$14)+1,IF($J14=AX$9,#REF!,""),""),"") | AY14: =IF(COUNT(#REF!)>0,IF(AY$9<MAX($J$11:$J$14)+1,IF($J14=AY$9,#REF!,""),""),"") | AZ14: =IF(COUNT(#REF!)>0,IF(AZ$9<MAX($J$11:$J$14)+1,IF($J14=AZ$9,#REF!,""),""),"") | BA14: =IF(COUNT(#REF!)>0,IF(BA$9<MAX($J$11:$J$14)+1,IF($J14=BA$9,#REF!,""),""),"") | BB14: =IF(COUNT(#REF!)>0,IF(BB$9<MAX($J$11:$J$14)+1,IF($J14=BB$9,#REF!,""),""),"") | BC14: =IF(COUNT(#REF!)>0,IF(BC$9<MAX($J$11:$J$14)+1,IF($J14=BC$9,#REF!,""),""),"") | ... CI14: =IF(COUNT(#REF!)>0,IF(CI$9<MAX($J$11:$J$14)+1,IF($J14=CI$9,#REF!,""),""),"")
A15: 15110536 | B15: DIG-008574 | C15: Nelson | D15: 42320 | I15: Water | M15: 42324 | N15: 194681.93 | O15: 54520.173 | P15: 3962.5611 | Q15: 697768.03 | R15: 19072.76 | S15: 1271.728 | T15: 74.031895 | U15: 38.580277 | V15: 3.4832141 | W15: nd | X15: nd | Y15: na | Z15: nd | AA15: =IF(Q15="nd",NA(),100*Q15/SUM($Q15:$X15)) -> 97.151244 | AB15: =IF(R15="nd",NA(),100*R15/SUM($Q15:$X15)) -> 2.6555277 | AC15: =IF(S15="nd",NA(),100*S15/SUM($Q15:$X15)) -> 0.17706452 | AD15: =IF(T15="nd",NA(),100*T15/SUM($Q15:$X15)) -> 0.010307567 | AE15: =IF(U15="nd",NA(),100*U15/SUM($Q15:$X15)) -> 0.0053715873 | AF15: =IF(V15="nd",NA(),100*V15/SUM($Q15:$X15)) -> 0.0004849729 | AG15: =IF(W15="nd",NA(),100*W15/SUM($Q15:$X15)) -> #N/A | AH15: =IF(X15="nd",NA(),100*X15/SUM($Q15:$X15)) -> #N/A
A16: 15110536 | B16: DIG-008575 | C16: Nelson Dup. | D16: 42320 | I16: Water | M16: 42324 | N16: 75129.911 | O16: 19154.051 | P16: 4423.3846 | Q16: 826159.7 | R16: 22903.746 | S16: 1528.2481 | T16: 88.639815 | U16: 46.12617 | V16: 3.5256821 | W16: nd | X16: nd | Y16: na | Z16: nd | AA16: =IF(Q16="nd",NA(),100*Q16/SUM($Q16:$X16)) -> 97.111858 | AB16: =IF(R16="nd",NA(),100*R16/SUM($Q16:$X16)) -> 2.6922463 | AC16: =IF(S16="nd",NA(),100*S16/SUM($Q16:$X16)) -> 0.17963961 | AD16: =IF(T16="nd",NA(),100*T16/SUM($Q16:$X16)) -> 0.010419265 | AE16: =IF(U16="nd",NA(),100*U16/SUM($Q16:$X16)) -> 0.0054219518 | AF16: =IF(V16="nd",NA(),100*V16/SUM($Q16:$X16)) -> 0.00041443021 | AG16: =IF(W16="nd",NA(),100*W16/SUM($Q16:$X16)) -> #N/A | AH16: =IF(X16="nd",NA(),100*X16/SUM($Q16:$X16)) -> #N/A | AV16: =IF(COUNT(#REF!)>0,IF(AV$9<MAX($J$11:$J$14)+1,IF($J16=AV$9,#REF!,""),""),"") | AW16: =IF(COUNT(#REF!)>0,IF(AW$9<MAX($J$11:$J$14)+1,IF($J16=AW$9,#REF!,""),""),"") | AX16: =IF(COUNT(#REF!)>0,IF(AX$9<MAX($J$11:$J$14)+1,IF($J16=AX$9,#REF!,""),""),"") | AY16: =IF(COUNT(#REF!)>0,IF(AY$9<MAX($J$11:$J$14)+1,IF($J16=AY$9,#REF!,""),""),"") | AZ16: =IF(COUNT(#REF!)>0,IF(AZ$9<MAX($J$11:$J$14)+1,IF($J16=AZ$9,#REF!,""),""),"") | BA16: =IF(COUNT(#REF!)>0,IF(BA$9<MAX($J$11:$J$14)+1,IF($J16=BA$9,#REF!,""),""),"") | BB16: =IF(COUNT(#REF!)>0,IF(BB$9<MAX($J$11:$J$14)+1,IF($J16=BB$9,#REF!,""),""),"") | BC16: =IF(COUNT(#REF!)>0,IF(BC$9<MAX($J$11:$J$14)+1,IF($J16=BC$9,#REF!,""),""),"") | ... CI16: =IF(COUNT(#REF!)>0,IF(CI$9<MAX($J$11:$J$14)+1,IF($J16=CI$9,#REF!,""),""),"")
C17: Michaels #1 Storage Gas | D17: 40299 | I17: Gas (D Reservoir) | AA17: 81.93 | AB17: 6.704 | AC17: 6.394 | AD17: 0.85 | AE17: 2.303 | AF17: 0.57 | AG17: 0.59 | AH17: 0.659
C18: Gilliam #3 Storage Gas | D18: 40299 | I18: Gas (D Reservoir) | AA18: 82.724 | AB18: 6.249 | AC18: 6.145 | AD18: 0.794 | AE18: 2.162 | AF18: 0.572 | AG18: 0.542 | AH18: 0.813
A19: 15120546 | B19: DIG-008653 | C19: WP-D008-1 | D19: 42349 | I19: Production | M19: 42360 | N19: 15673 | O19: 1371 | P19: 10797 | Q19: 898610 | R19: 62066 | S19: 8230 | T19: 552 | U19: 1054 | V19: 154 | W19: 128 | X19: 172 | Y19: nd | Z19: nd | AA19: =IF(Q19="nd",NA(),100*Q19/SUM($Q19:$X19)) -> 92.54804 | AB19: =IF(R19="nd",NA(),100*R19/SUM($Q19:$X19)) -> 6.3921909 | AC19: =IF(S19="nd",NA(),100*S19/SUM($Q19:$X19)) -> 0.84760949 | AD19: =IF(T19="nd",NA(),100*T19/SUM($Q19:$X19)) -> 0.0568506 | AE19: =IF(U19="nd",NA(),100*U19/SUM($Q19:$X19)) -> 0.10855169 | AF19: =IF(V19="nd",NA(),100*V19/SUM($Q19:$X19)) -> 0.015860494 | AG19: =IF(W19="nd",NA(),100*W19/SUM($Q19:$X19)) -> 0.013182748 | AH19: =IF(X19="nd",NA(),100*X19/SUM($Q19:$X19)) -> 0.017714317
A21: SAMPLE INFORMATION | M21: HYDROCARBON RATIOS | Q21: Aqueous Concentrations | T21: STABLE ISOTOPE ANALYSIS
A22: Job | B22: Lab | C22: Well | D22: Sample | E22: Sample | H22: Depth | I22: Sample | M22: Total HC | N22: Wetness | O22: C1/C2 | P22: iC4/nC4 | Q22: Methane (CH4) | R22: Ethane (C2H6) | S22: Propane (C3H8) | T22: Mass Spec | U22: d13C1 | V22: d13C2 | W22: d13C3 | X22: d13iC4 | Y22: d13nC4 | Z22: d13iC5 | AA22: d13nC5 | AB22: dDC1 | AC22: Comments
A23: Number | B23: Number | C23: Name | D23: Date | E23: Time | H23: (ft) | I23: Type | M23: ppm | N23: % C2 to C5 | O23: mol/mol | P23: mol/mol | Q23: mg/L | R23: mg/L | S23: mg/L | T23: Date | U23: ‰ VPDB | V23: ‰ VPDB | W23: ‰ VPDB | X23: ‰ VPDB | Y23: ‰ VPDB | Z23: ‰ VPDB | AA23: ‰ VPDB | AB23: ‰ VPDB
T24: 1/Cn >>> | U24: 1 | V24: =1/2 -> 0.5 | W24: =1/3 -> 0.33333333 | Y24: =1/4 -> 0.25 | AA24: =1/5 -> 0.2
A25: 15110536 | B25: DIG-008570 | C25: WSW-1 | D25: 42320 | I25: Water | M25: =IF(SUM(Q11:X11)>0,SUM(Q11:X11),NA()) -> 10403.748 | N25: =IF(M25>0, 100*SUM(R11:W11)/SUM(Q11:W11), NA()) -> 0 | O25: =Q11/R11 -> #VALUE! | P25: =IF(AD11>0,IF(AE11>0,AD11/AE11),NA()) -> #N/A | Q25: 0.93 | R25: nd | S25: nd | T25: 42342 | U25: -61.8
A26: 15110536 | B26: DIG-008571 | C26: Williams Shallow | D26: 42320 | I26: Water | M26: =IF(SUM(Q12:X12)>0,SUM(Q12:X12),NA()) -> 53.9 | N26: =IF(M26>0, 100*SUM(R12:W12)/SUM(Q12:W12), NA()) -> 0 | O26: =Q12/R12 -> #VALUE! | P26: =IF(AD12>0,IF(AE12>0,AD12/AE12),NA()) -> #N/A | Q26: < 0.01 | S26: nd
A27: 15110536 | B27: DIG-008572 | C27: Michaels | D27: 42320 | I27: Water | M27: =IF(SUM(Q13:X13)>0,SUM(Q13:X13),NA()) -> 89.524998 | N27: =IF(M27>0, 100*SUM(R13:W13)/SUM(Q13:W13), NA()) -> 0 | O27: =Q13/R13 -> #VALUE! | P27: =IF(AD13>0,IF(AE13>0,AD13/AE13),NA()) -> #N/A | Q27: < 0.01 | S27: nd
A28: 15110536 | B28: DIG-008573 | C28: William Deep | D28: 42320 | I28: Water | M28: =IF(SUM(Q14:X14)>0,SUM(Q14:X14),NA()) -> 140089.99 | N28: =IF(M28>0, 100*SUM(R14:W14)/SUM(Q14:W14), NA()) -> 0.10998751 | O28: =Q14/R14 -> 908.19411 | P28: =IF(AD14>0,IF(AE14>0,AD14/AE14),NA()) -> #N/A | Q28: 12.48 | R28: 0.02 | S28: nd | T28: 42342 | U28: -73.7
A29: 15110536 | B29: DIG-008574 | C29: Nelson | D29: 42320 | I29: Water | M29: =IF(SUM(Q15:X15)>0,SUM(Q15:X15),NA()) -> 718228.61 | N29: =IF(M29>0, 100*SUM(R15:W15)/SUM(Q15:W15), NA()) -> 2.8487564 | O29: =Q15/R15 -> 36.584534 | P29: =IF(AD15>0,IF(AE15>0,AD15/AE15),NA()) -> 1.9189052 | Q29: 30.45 | R29: 1.97 | S29: 0.1 | T29: 42342 | U29: -51.2 | V29: -31.06 | W29: -28.7 | AB29: -261
A30: 15110536 | B30: DIG-008575 | C30: Nelson Dup. | D30: 42320 | I30: Water | M30: =IF(SUM(Q16:X16)>0,SUM(Q16:X16),NA()) -> 850729.99 | N30: =IF(M30>0, 100*SUM(R16:W16)/SUM(Q16:W16), NA()) -> 2.8881415 | O30: =Q16/R16 -> 36.070942 | P30: =IF(AD16>0,IF(AE16>0,AD16/AE16),NA()) -> 1.9216817 | Q30: 29.03 | R30: 1.91 | S30: 0.1 | T30: 42342 | U30: -51.1 | V30: -31.5 | W30: -27.27 | AB30: -261
C31: Michaels #1 Storage Gas | D31: 40299 | I31: Gas (D Reservoir) | N31: =SUM(AB17:AG17)/SUM(AA17:AG17)*100 -> 17.5265 | O31: =AA17/AB17 -> 12.221062 | P31: =AD17/AE17 -> 0.3690838 | U31: -56.97 | V31: -35.52 | W31: -32.61 | AB31: -234 | AC31: From Vista Report
C32: Gilliam #3 Storage Gas | D32: 40299 | I32: Gas (D Reservoir) | N32: =SUM(AB18:AG18)/SUM(AA18:AG18)*100 -> 16.598782 | O32: =AA18/AB18 -> 13.237958 | P32: =AD18/AE18 -> 0.36725254 | U32: -57.02 | V32: -35.7 | W32: -32.77 | AB32: -233.5 | AC32: From Vista Report
A33: 15120546 | B33: DIG-008653 | C33: WP-D008-1 | D33: 42349 | I33: Production | M33: =IF(SUM(Q19:X19)>0,SUM(Q19:X19),NA()) -> 970966 | N33: =IF(M33>0, 100*SUM(R19:W19)/SUM(Q19:W19), NA()) -> 7.4355631 | O33: =Q19/R19 -> 14.478297 | P33: =IF(AD19>0,IF(AE19>0,AD19/AE19),NA()) -> 0.52371917 | T33: 42356 | U33: -50.9 | V33: -32.4 | W33: -29.7 | X33: -31.2 | Y33: -28.9 | Z33: -28.3 | AA33: -29
AG34: Analysis is of gas extracted from water by headspace equilibration.
AG35: 1 Addition of helium negates the ability to detect native helium and may negate the ability to detect hydrogen.
AG36: Indicates data from outside sources
AG37: * Stable isotope results based on multi-point laboratory calibration
AG38: Values in blue obtained via cryogenic enrichment
AG39: Values in red exhibited low peak ht, interpret w/ caution
AG40: Precision d13C < 0.5 ‰
AG41: Precision dD < 5 ‰
AG42: Page 2
AG43: Precision dD < 5 ‰

Sheet InterpretivePlots
A3: INTERPRETIVE PLOTS | L3: ='Data Summary'!$C$4 -> East Cheyenne Gas Storage / WSW-1, Williams Shallow, Michaels, Williams Deep, Nelson | M3: INTERPRETIVE PLOTS | X3: ='Data Summary'!$C$4 -> East Cheyenne Gas Storage / WSW-1, Williams Shallow, Michaels, Williams Deep, Nelson
A5: Methane d13C vs Wetness Genetic Classification Plot | G5: Hydrocarbon Composition Plot | M5: Chung Plot
L38: Page 3 | X38: Page 4
