Workbook
Name data: 'Well Data'!$A:$N
Name Databases: Notes!$F$2:$F$4
Name percents: #REF!
Name Query_from_QEPSPP: 'Well Data'!$A$5:$K$81
Name water_inj_volumes: 'Well Data'!$A$5:$B$5

Sheet Report Inputs
E1: BTU | F1: GRAVITY
A2: Enter Start Date: | B2: 42309 | C2: =TEXT(B2,"dd-mmm-yyyy") -> 01-Nov-2015 | E2: 1080 | F2: 55.9 | G2: (RUN AVERAGE WEIGHTED CALC @ RUN TICKET REPORT
A3: Enter End Date: | B3: 42338 | C3: =TEXT(B3,"dd-mmm-yyyy") -> 30-Nov-2015
A4: Route(s) Starting With: | B4: XX
A5: Database Instance: | B5: HOPSPP
A9: version 9.7.17

Sheet Well Data
A2: COLORADO WELL DATA
E3: 5 | F3: 6 | G3: 7 | H3: 8 | I3: 9 | J3: 10 | K3: 11 | L3: 12 | M3: 13 | N3: 14
A4: API SEQ | B4: COMP NAME | C4: PROD_INJ_DATE | D4: DAYS_PROD | E4: BOM | F4: OIL_SALES | G4: OIL_PROD | H4: GAS_SALES | I4: GAS_PROD | J4: GAS_FLARE | K4: GAS_FUEL | L4: GAS_OTHER | M4: EOM | N4: WATER_PROD
A5: 8463 | B5: ANDERSON 0001 | C5: 42338 | D5: 30 | E5: 62.674 | F5: 0.398 | G5: 0.347 | H5: 415.539 | I5: 720.28 | J5: 0.01 | K5: 304.731 | L5: 0 | M5: 62.623 | N5: 1.037
A6: 9094 | B6: ANDERSON 07-11 | C6: 42338 | D6: 27 | E6: 24.503 | F6: 0.84 | G6: 6.426 | H6: 1583.389 | I6: 2005.03 | J6: 52.66 | K6: 368.981 | L6: 52.66 | M6: 30.089 | N6: 231.466
A7: 9107 | B7: ANDERSON 07-12 | C7: 42338 | D7: 30 | E7: 21.533 | F7: 2.123 | G7: 2.346 | H7: 3082.514 | I7: 3533.97 | J7: 0 | K7: 451.456 | L7: 0 | M7: 21.756 | N7: 7.694
A8: 9106 | B8: ANDERSON 07-13 | C8: 42338 | D8: 30 | E8: 9.369 | F8: 0.994 | G8: 0.879 | H8: 1154.485 | I8: 1324.03 | J8: 0 | K8: 169.545 | L8: 0 | M8: 9.254 | N8: 2.882
A9: 9105 | B9: ANDERSON 07-14 | C9: 42338 | D9: 30 | E9: 19.62 | F9: 0.988 | G9: 14.113 | H9: 3477.295 | I9: 3774.63 | J9: 0 | K9: 297.335 | L9: 0 | M9: 32.745 | N9: 508.328
A10: 8219 | B10: ANDERSON RANCH 07-03 | C10: 42338 | D10: 30 | E10: 0 | F10: 0 | G10: 0 | H10: 0 | I10: 7 | J10: 0 | K10: 7 | L10: 0 | M10: 0 | N10: 0
A11: 8972 | B11: BLACKMAN 14-05 | C11: 42338 | D11: 30 | E11: 23.276 | F11: 0.57 | G11: 0.889 | H11: 1526.166 | I11: 1713.03 | J11: 0 | K11: 186.864 | L11: 0 | M11: 23.595 | N11: 6.178
A12: 8971 | B12: BLACKMAN 14-06 | C12: 42338 | D12: 30 | E12: 30.016 | F12: 0.806 | G12: 0.953 | H12: 1638.041 | I12: 2006.67 | J12: 0 | K12: 368.629 | L12: 0 | M12: 30.163 | N12: 6.632
A13: 8970 | B13: BLACKMAN 14-12 | C13: 42338 | D13: 30 | E13: 36.08 | F13: 0.983 | G13: 2.442 | H13: 1754.664 | I13: 1953.92 | J13: 0.29 | K13: 198.966 | L13: 0 | M13: 37.539 | N13: 39.764
A14: 8969 | B14: BLACKMAN 14-13 | C14: 42338 | D14: 30 | E14: 22.325 | F14: 0.538 | G14: 1.544 | H14: 1109.343 | I14: 1274.31 | J14: 0.18 | K14: 164.787 | L14: 0 | M14: 23.331 | N14: 25.14
A15: 8968 | B15: BLACKMAN 14-14 | C15: 42338 | D15: 30 | E15: 28.953 | F15: 0.628 | G15: 1.746 | H15: 1255.217 | I15: 1607.25 | J15: 0.21 | K15: 351.823 | L15: 0 | M15: 30.071 | N15: 28.447
A16: 9005 | B16: BLACKMAN 15-08 | C16: 42338 | D16: 30 | E16: 20.931 | F16: 0.85 | G16: 2.076 | H16: 1612.684 | I16: 1804.36 | J16: 0.23 | K16: 191.446 | L16: 0 | M16: 22.157 | N16: 35.568
... A877: 9162 | B877: WOODS SPANGLER 22-04 | C877: 42338 | D877: 30 | E877: 89.681 | F877: 0.764 | G877: 0.933 | H877: 1538.227 | I877: 1725.73 | J877: 0 | K877: 187.503 | L877: 0 | M877: 89.85 | N877: 69.518

Sheet CC_66571_11_2015
A1: FORM # | B1: MONTH | C1: YEAR | D1: OPER # | E1: OPER SUFF | F1: OPER NAME | G1: ADDRESS | H1: CITY | I1: STATE | J1: ZIP | K1: PHONE AREA CODE | L1: PHONE # | M1: FAX AREA CODE | N1: FAX # | O1: REVISED | P1: API COUNTY | Q1: API SEQ | R1: API SIDETRACK | S1: WELL NAME & # | T1: FORMATION CODE | U1: WELL STATUS | V1: DAYS PROD | W1: QQ | X1: SEC | Y1: TWP | Z1: RGN | AA1: BOM | AB1: OIL PROD | AC1: OIL SOLD | AD1: ADJ | AE1: EOM | AF1: GAS PROD | AG1: GAS FLARED | AH1: GAS USED | AI1: GAS SHRINK | AJ1: GAS SOLD | AK1: OIL GRAVITY | AL1: GAS BTU | AM1: WATER PRO/INJ | AN1: WATER DISP CODE | AO1: SURF INJ PRES WTR TBG | AP1: SURF INJ PRES CSG | AQ1: SURF INJ PRES GAS TBG | AR1: SURF INJ PRES GAS CSG | AS1: PRINT NAME | AT1: SIGNED | AU1: TITLE | AV1: DATE
A2: 7 | B2: =MONTH('Report Inputs'!$B$2) -> 11 | C2: =YEAR('Report Inputs'!$B$2) -> 2015 | D2: 66571 | F2: OXY USA WTP LP | G2: PO BOX 27570 | H2: HOUSTON | I2: TEXAS | J2: 77227-7570 | K2: 713 | L2: 215-7309 | M2: 713 | N2: 985-1893 | O2: N | P2: 45 | Q2: 6861 | R2: 0 | S2: CASCADE CREEK 620-1 | T2: WFCM | U2: PA | V2: =IF(ISNA(VLOOKUP($Q2,data,4,FALSE)),0,VLOOKUP($Q2,data,4,FALSE)) -> 0 | W2: SWSE | X2: 20 | Y2: 6S | Z2: 97W | AA2: =IF(ISNA(VLOOKUP($Q2,data,5,FALSE)),0,VLOOKUP($Q2,data,5,FALSE)) -> 0 | AB2: =IF(ISNA(VLOOKUP($Q2,data,7,FALSE)),0,VLOOKUP($Q2,data,7,FALSE)) -> 0 | AC2: =IF(ISNA(VLOOKUP($Q2,data,6,FALSE)),0,VLOOKUP($Q2,data,6,FALSE)) -> 0 | AD2: =ROUND(AC2,0)+ROUND(AE2,0)-ROUND(AA2,0)-ROUND(AB2,0) -> 0 | AE2: =IF(ISNA(VLOOKUP($Q2,data,13,FALSE)),0,VLOOKUP($Q2,data,13,FALSE)) -> 0 | AF2: =IF(ISNA(VLOOKUP($Q2,data,9,FALSE)),0,VLOOKUP($Q2,data,9,FALSE)) -> 0 | AG2: =IF(ISNA(VLOOKUP($Q2,data,10,FALSE)),0,VLOOKUP($Q2,data,10,FALSE)) -> 0 | AH2: =IF(ISNA(VLOOKUP($Q2,data,11,FALSE)),0,VLOOKUP($Q2,data,11,FALSE)) -> 0 | AI2: =ROUND(AF2,0)-ROUND(AG2,0)-ROUND(AH2,0)-ROUND(AJ2,0) -> 0 | AJ2: =IF(ISNA(VLOOKUP($Q2,data,8,FALSE)),0,VLOOKUP($Q2,data,8,FALSE)) -> 0 | AM2: =IF(ISNA(VLOOKUP($Q2,data,14,FALSE)),0,VLOOKUP($Q2,data,14,FALSE)) -> 0 | AN2: C | AS2: BARBARA EPHRAIM | AT2: Y | AU2: PROD. ACCOUNTANT | AV2: =NOW() -> 42376.365
A3: 7 | B3: =MONTH('Report Inputs'!$B$2) -> 11 | C3: =YEAR('Report Inputs'!$B$2) -> 2015 | D3: 66571 | F3: OXY USA WTP LP | G3: PO BOX 27570 | H3: HOUSTON | I3: TEXAS | J3: 77227-7570 | K3: 713 | L3: 215-7309 | M3: 713 | N3: 985-1893 | O3: N | P3: 45 | Q3: 6869 | R3: 0 | S3: CASCADE CREEK 629-2 | T3: WFCM | U3: =IF(V3>0,"PR","SI") -> PR | V3: =IF(ISNA(VLOOKUP($Q3,data,4,FALSE)),0,VLOOKUP($Q3,data,4,FALSE)) -> 30 | W3: SENW | X3: 29 | Y3: 6S | Z3: 97W | AA3: =IF(ISNA(VLOOKUP($Q3,data,5,FALSE)),0,VLOOKUP($Q3,data,5,FALSE)) -> 0.176 | AB3: =IF(ISNA(VLOOKUP($Q3,data,7,FALSE)),0,VLOOKUP($Q3,data,7,FALSE)) -> 4.56 | AC3: =IF(ISNA(VLOOKUP($Q3,data,6,FALSE)),0,VLOOKUP($Q3,data,6,FALSE)) -> 4.561 | AD3: =ROUND(AC3,0)+ROUND(AE3,0)-ROUND(AA3,0)-ROUND(AB3,0) -> 0 | AE3: =IF(ISNA(VLOOKUP($Q3,data,13,FALSE)),0,VLOOKUP($Q3,data,13,FALSE)) -> 0.175 | AF3: =IF(ISNA(VLOOKUP($Q3,data,9,FALSE)),0,VLOOKUP($Q3,data,9,FALSE)) -> 544.49 | AG3: =IF(ISNA(VLOOKUP($Q3,data,10,FALSE)),0,VLOOKUP($Q3,data,10,FALSE)) -> 0.92 | AH3: =IF(ISNA(VLOOKUP($Q3,data,11,FALSE)),0,VLOOKUP($Q3,data,11,FALSE)) -> 293.419 | AI3: =ROUND(AF3,0)-ROUND(AG3,0)-ROUND(AH3,0)-ROUND(AJ3,0) -> 0 | AJ3: =IF(ISNA(VLOOKUP($Q3,data,8,FALSE)),0,VLOOKUP($Q3,data,8,FALSE)) -> 250.151 | AK3: ='Report Inputs'!$F$2 -> 55.9 | AL3: ='Report Inputs'!$E$2 -> 1080 | AM3: =IF(ISNA(VLOOKUP($Q3,data,14,FALSE)),0,VLOOKUP($Q3,data,14,FALSE)) -> 11.381 | AN3: C | AS3: BARBARA EPHRAIM | AT3: Y | AU3: PROD. ACCOUNTANT | AV3: =NOW() -> 42376.365
A4: 7 | B4: =MONTH('Report Inputs'!$B$2) -> 11 | C4: =YEAR('Report Inputs'!$B$2) -> 2015 | D4: 66571 | F4: OXY USA WTP LP | G4: PO BOX 27570 | H4: HOUSTON | I4: TEXAS | J4: 77227-7570 | K4: 713 | L4: 215-7309 | M4: 713 | N4: 985-1893 | O4: N | P4: 45 | Q4: 6871 | R4: 0 | S4: CASCADE CREEK 604-1 .6 | T4: WMFK | U4: =IF(V4>0,"IJ","SI") -> IJ | V4: =IF(ISNA(VLOOKUP($Q4,data,4,FALSE)),0,VLOOKUP($Q4,data,4,FALSE)) -> 4 | W4: SWSW | X4: 4 | Y4: 6S | Z4: 97W | AM4: 2231 | AO4: 138 | AP4: 0 | AS4: BARBARA EPHRAIM | AT4: Y | AU4: PROD. ACCOUNTANT | AV4: =NOW() -> 42376.365
A5: 7 | B5: =MONTH('Report Inputs'!$B$2) -> 11 | C5: =YEAR('Report Inputs'!$B$2) -> 2015 | D5: 66571 | F5: OXY USA WTP LP | G5: PO BOX 27570 | H5: HOUSTON | I5: TEXAS | J5: 77227-7570 | K5: 713 | L5: 215-7309 | M5: 713 | N5: 985-1893 | O5: N | P5: 45 | Q5: 6871 | R5: 0 | S5: CASCADE CREEK 604-1 .2 | T5: FTUN | U5: =IF(V5>0,"IJ","SI") -> IJ | V5: =IF(ISNA(VLOOKUP($Q5,data,4,FALSE)),0,VLOOKUP($Q5,data,4,FALSE)) -> 4 | W5: SWSW | X5: 4 | Y5: 6S | Z5: 97W | AM5: 744 | AO5: 138 | AP5: 0 | AS5: BARBARA EPHRAIM | AT5: Y | AU5: PROD. ACCOUNTANT | AV5: =NOW() -> 42376.365
A6: 7 | B6: =MONTH('Report Inputs'!$B$2) -> 11 | C6: =YEAR('Report Inputs'!$B$2) -> 2015 | D6: 66571 | F6: OXY USA WTP LP | G6: PO BOX 27570 | H6: HOUSTON | I6: TEXAS | J6: 77227-7570 | K6: 713 | L6: 215-7309 | M6: 713 | N6: 985-1893 | O6: N | P6: 45 | Q6: 6871 | R6: 0 | S6: CASCADE CREEK 604-1 .2 | T6: OHCRK | U6: =IF(V6>0,"IJ","SI") -> IJ | V6: =IF(ISNA(VLOOKUP($Q6,data,4,FALSE)),0,VLOOKUP($Q6,data,4,FALSE)) -> 4 | W6: SWSW | X6: 4 | Y6: 6S | Z6: 97W | AM6: 744 | AO6: 138 | AP6: 0 | AS6: BARBARA EPHRAIM | AT6: Y | AU6: PROD. ACCOUNTANT | AV6: =NOW() -> 42376.365
A7: 7 | B7: =MONTH('Report Inputs'!$B$2) -> 11 | C7: =YEAR('Report Inputs'!$B$2) -> 2015 | D7: 66571 | F7: OXY USA WTP LP | G7: PO BOX 27570 | H7: HOUSTON | I7: TEXAS | J7: 77227-7570 | K7: 713 | L7: 215-7309 | M7: 713 | N7: 985-1893 | O7: N | P7: 45 | Q7: 6897 | R7: 0 | S7: CASCADE CREEK 605-1 | T7: WFCM | U7: =IF(V7>0,"PR","SI") -> PR | V7: =IF(ISNA(VLOOKUP($Q7,data,4,FALSE)),0,VLOOKUP($Q7,data,4,FALSE)) -> 6 | W7: SENW | X7: 5 | Y7: 6S | Z7: 97W | AA7: =IF(ISNA(VLOOKUP($Q7,data,5,FALSE)),0,VLOOKUP($Q7,data,5,FALSE)) -> 0.483 | AB7: =IF(ISNA(VLOOKUP($Q7,data,7,FALSE)),0,VLOOKUP($Q7,data,7,FALSE)) -> 0.015 | AC7: =IF(ISNA(VLOOKUP($Q7,data,6,FALSE)),0,VLOOKUP($Q7,data,6,FALSE)) -> 0.469 | AD7: =ROUND(AC7,0)+ROUND(AE7,0)-ROUND(AA7,0)-ROUND(AB7,0) -> 0 | AE7: =IF(ISNA(VLOOKUP($Q7,data,13,FALSE)),0,VLOOKUP($Q7,data,13,FALSE)) -> 0.029 | AF7: =IF(ISNA(VLOOKUP($Q7,data,9,FALSE)),0,VLOOKUP($Q7,data,9,FALSE)) -> 375.65 | AG7: =IF(ISNA(VLOOKUP($Q7,data,10,FALSE)),0,VLOOKUP($Q7,data,10,FALSE)) -> 0 | AH7: =IF(ISNA(VLOOKUP($Q7,data,11,FALSE)),0,VLOOKUP($Q7,data,11,FALSE)) -> 286.686 | AI7: =ROUND(AF7,0)-ROUND(AG7,0)-ROUND(AH7,0)-ROUND(AJ7,0) -> 0 | AJ7: =IF(ISNA(VLOOKUP($Q7,data,8,FALSE)),0,VLOOKUP($Q7,data,8,FALSE)) -> 88.964 | AL7: ='Report Inputs'!$E$2 -> 1080 | AM7: =IF(ISNA(VLOOKUP($Q7,data,14,FALSE)),0,VLOOKUP($Q7,data,14,FALSE)) -> 0.026 | AN7: C | AS7: BARBARA EPHRAIM | AT7: Y | AU7: PROD. ACCOUNTANT | AV7: =NOW() -> 42376.365
A8: 7 | B8: =MONTH('Report Inputs'!$B$2) -> 11 | C8: =YEAR('Report Inputs'!$B$2) -> 2015 | D8: 66571 | F8: OXY USA WTP LP | G8: PO BOX 27570 | H8: HOUSTON | I8: TEXAS | J8: 77227-7570 | K8: 713 | L8: 215-7309 | M8: 713 | N8: 985-1893 | O8: N | P8: 45 | Q8: 7210 | R8: 0 | S8: CASCADE CREEK 605-2 | T8: WMFK | U8: =IF(V8>0,"PR","SI") -> PR | V8: =IF(ISNA(VLOOKUP($Q8,data,4,FALSE)),0,VLOOKUP($Q8,data,4,FALSE)) -> 27 | W8: NWSE | X8: 5 | Y8: 6S | Z8: 97W | AA8: =IF(ISNA(VLOOKUP($Q8,data,5,FALSE)),0,VLOOKUP($Q8,data,5,FALSE)) -> 0.092 | AB8: =IF(ISNA(VLOOKUP($Q8,data,7,FALSE)),0,VLOOKUP($Q8,data,7,FALSE)) -> 0.144 | AC8: =IF(ISNA(VLOOKUP($Q8,data,6,FALSE)),0,VLOOKUP($Q8,data,6,FALSE)) -> 0.183 | AD8: =ROUND(AC8,0)+ROUND(AE8,0)-ROUND(AA8,0)-ROUND(AB8,0) -> 0 | AE8: =IF(ISNA(VLOOKUP($Q8,data,13,FALSE)),0,VLOOKUP($Q8,data,13,FALSE)) -> 0.053 | AF8: =IF(ISNA(VLOOKUP($Q8,data,9,FALSE)),0,VLOOKUP($Q8,data,9,FALSE)) -> 1144.15 | AG8: =IF(ISNA(VLOOKUP($Q8,data,10,FALSE)),0,VLOOKUP($Q8,data,10,FALSE)) -> 0 | AH8: =IF(ISNA(VLOOKUP($Q8,data,11,FALSE)),0,VLOOKUP($Q8,data,11,FALSE)) -> 320.037 | AI8: =ROUND(AF8,0)-ROUND(AG8,0)-ROUND(AH8,0)-ROUND(AJ8,0) -> 0 | AJ8: =IF(ISNA(VLOOKUP($Q8,data,8,FALSE)),0,VLOOKUP($Q8,data,8,FALSE)) -> 824.113 | AL8: ='Report Inputs'!$E$2 -> 1080 | AM8: =IF(ISNA(VLOOKUP($Q8,data,14,FALSE)),0,VLOOKUP($Q8,data,14,FALSE)) -> 60.194 | AN8: C | AS8: BARBARA EPHRAIM | AT8: Y | AU8: PROD. ACCOUNTANT | AV8: =NOW() -> 42376.365
A9: 7 | B9: =MONTH('Report Inputs'!$B$2) -> 11 | C9: =YEAR('Report Inputs'!$B$2) -> 2015 | D9: 66571 | F9: OXY USA WTP LP | G9: PO BOX 27570 | H9: HOUSTON | I9: TEXAS | J9: 77227-7570 | K9: 713 | L9: 215-7309 | M9: 713 | N9: 985-1893 | O9: N | P9: 45 | Q9: 7211 | R9: 0 | S9: CASCADE CREEK 620-21 | T9: WMFK | U9: =IF(V9>0,"PR","SI") -> PR | V9: =IF(ISNA(VLOOKUP($Q9,data,4,FALSE)),0,VLOOKUP($Q9,data,4,FALSE)) -> 30 | W9: NENW | X9: 20 | Y9: 6S | Z9: 97W | AA9: =IF(ISNA(VLOOKUP($Q9,data,5,FALSE)),0,VLOOKUP($Q9,data,5,FALSE)) -> 0.121 | AB9: =IF(ISNA(VLOOKUP($Q9,data,7,FALSE)),0,VLOOKUP($Q9,data,7,FALSE)) -> 0.825 | AC9: =IF(ISNA(VLOOKUP($Q9,data,6,FALSE)),0,VLOOKUP($Q9,data,6,FALSE)) -> 0.84 | AD9: =ROUND(AC9,0)+ROUND(AE9,0)-ROUND(AA9,0)-ROUND(AB9,0) -> 0 | AE9: =IF(ISNA(VLOOKUP($Q9,data,13,FALSE)),0,VLOOKUP($Q9,data,13,FALSE)) -> 0.106 | AF9: =IF(ISNA(VLOOKUP($Q9,data,9,FALSE)),0,VLOOKUP($Q9,data,9,FALSE)) -> 1578.99 | AG9: =IF(ISNA(VLOOKUP($Q9,data,10,FALSE)),0,VLOOKUP($Q9,data,10,FALSE)) -> 0.12 | AH9: =IF(ISNA(VLOOKUP($Q9,data,11,FALSE)),0,VLOOKUP($Q9,data,11,FALSE)) -> 149.42 | AI9: =ROUND(AF9,0)-ROUND(AG9,0)-ROUND(AH9,0)-ROUND(AJ9,0) -> 1 | AJ9: =IF(ISNA(VLOOKUP($Q9,data,8,FALSE)),0,VLOOKUP($Q9,data,8,FALSE)) -> 1429.45 | AK9: ='Report Inputs'!$F$2 -> 55.9 | AL9: ='Report Inputs'!$E$2 -> 1080 | AM9: =IF(ISNA(VLOOKUP($Q9,data,14,FALSE)),0,VLOOKUP($Q9,data,14,FALSE)) -> 14.839 | AN9: C | AS9: BARBARA EPHRAIM | AT9: Y | AU9: PROD. ACCOUNTANT | AV9: =NOW() -> 42376.365
A10: 7 | B10: =MONTH('Report Inputs'!$B$2) -> 11 | C10: =YEAR('Report Inputs'!$B$2) -> 2015 | D10: 66571 | F10: OXY USA WTP LP | G10: PO BOX 27570 | H10: HOUSTON | I10: TEXAS | J10: 77227-7570 | K10: 713 | L10: 215-7309 | M10: 713 | N10: 985-1893 | O10: N | P10: 45 | Q10: 7320 | R10: 0 | S10: CASCADE CREEK 609-2 | T10: WFCM | U10: =IF(V10>0,"PR","SI") -> SI | V10: =IF(ISNA(VLOOKUP($Q10,data,4,FALSE)),0,VLOOKUP($Q10,data,4,FALSE)) -> 0 | W10: SENW | X10: 9 | Y10: 6S | Z10: 97W | AA10: =IF(ISNA(VLOOKUP($Q10,data,5,FALSE)),0,VLOOKUP($Q10,data,5,FALSE)) -> 0 | AB10: =IF(ISNA(VLOOKUP($Q10,data,7,FALSE)),0,VLOOKUP($Q10,data,7,FALSE)) -> 0 | AC10: =IF(ISNA(VLOOKUP($Q10,data,6,FALSE)),0,VLOOKUP($Q10,data,6,FALSE)) -> 0 | AD10: =ROUND(AC10,0)+ROUND(AE10,0)-ROUND(AA10,0)-ROUND(AB10,0) -> 0 | AE10: =IF(ISNA(VLOOKUP($Q10,data,13,FALSE)),0,VLOOKUP($Q10,data,13,FALSE)) -> 0 | AF10: =IF(ISNA(VLOOKUP($Q10,data,9,FALSE)),0,VLOOKUP($Q10,data,9,FALSE)) -> 0 | AG10: =IF(ISNA(VLOOKUP($Q10,data,10,FALSE)),0,VLOOKUP($Q10,data,10,FALSE)) -> 0 | AH10: =IF(ISNA(VLOOKUP($Q10,data,11,FALSE)),0,VLOOKUP($Q10,data,11,FALSE)) -> 0 | AI10: =ROUND(AF10,0)-ROUND(AG10,0)-ROUND(AH10,0)-ROUND(AJ10,0) -> 0 | AJ10: =IF(ISNA(VLOOKUP($Q10,data,8,FALSE)),0,VLOOKUP($Q10,data,8,FALSE)) -> 0 | AM10: =IF(ISNA(VLOOKUP($Q10,data,14,FALSE)),0,VLOOKUP($Q10,data,14,FALSE)) -> 0 | AN10: C | AS10: BARBARA EPHRAIM | AT10: Y | AU10: PROD. ACCOUNTANT | AV10: =NOW() -> 42376.365
A11: 7 | B11: =MONTH('Report Inputs'!$B$2) -> 11 | C11: =YEAR('Report Inputs'!$B$2) -> 2015 | D11: 66571 | F11: OXY USA WTP LP | G11: PO BOX 27570 | H11: HOUSTON | I11: TEXAS | J11: 77227-7570 | K11: 713 | L11: 215-7309 | M11: 713 | N11: 985-1893 | O11: N | P11: 45 | Q11: 7450 | R11: 0 | S11: CASCADE CREEK 617-24 | T11: WMFK | U11: =IF(V11>0,"PR","SI") -> PR | V11: =IF(ISNA(VLOOKUP($Q11,data,4,FALSE)),0,VLOOKUP($Q11,data,4,FALSE)) -> 30 | W11: SESW | X11: 17 | Y11: 6S | Z11: 97W | AA11: =IF(ISNA(VLOOKUP($Q11,data,5,FALSE)),0,VLOOKUP($Q11,data,5,FALSE)) -> 0.155 | AB11: =IF(ISNA(VLOOKUP($Q11,data,7,FALSE)),0,VLOOKUP($Q11,data,7,FALSE)) -> 2.392 | AC11: =IF(ISNA(VLOOKUP($Q11,data,6,FALSE)),0,VLOOKUP($Q11,data,6,FALSE)) -> 2.394 | AD11: =ROUND(AC11,0)+ROUND(AE11,0)-ROUND(AA11,0)-ROUND(AB11,0) -> 0 | AE11: =IF(ISNA(VLOOKUP($Q11,data,13,FALSE)),0,VLOOKUP($Q11,data,13,FALSE)) -> 0.153 | AF11: =IF(ISNA(VLOOKUP($Q11,data,9,FALSE)),0,VLOOKUP($Q11,data,9,FALSE)) -> 1526.33 | AG11: =IF(ISNA(VLOOKUP($Q11,data,10,FALSE)),0,VLOOKUP($Q11,data,10,FALSE)) -> 0.44 | AH11: =IF(ISNA(VLOOKUP($Q11,data,11,FALSE)),0,VLOOKUP($Q11,data,11,FALSE)) -> 273.507 | AI11: =ROUND(AF11,0)-ROUND(AG11,0)-ROUND(AH11,0)-ROUND(AJ11,0) -> 0 | AJ11: =IF(ISNA(VLOOKUP($Q11,data,8,FALSE)),0,VLOOKUP($Q11,data,8,FALSE)) -> 1252.383 | AK11: ='Report Inputs'!$F$2 -> 55.9 | AL11: ='Report Inputs'!$E$2 -> 1080 | AM11: =IF(ISNA(VLOOKUP($Q11,data,14,FALSE)),0,VLOOKUP($Q11,data,14,FALSE)) -> 25.885 | AN11: C | AS11: BARBARA EPHRAIM | AT11: Y | AU11: PROD. ACCOUNTANT | AV11: =NOW() -> 42376.365
A12: 7 | B12: =MONTH('Report Inputs'!$B$2) -> 11 | C12: =YEAR('Report Inputs'!$B$2) -> 2015 | D12: 66571 | F12: OXY USA WTP LP | G12: PO BOX 27570 | H12: HOUSTON | I12: TEXAS | J12: 77227-7570 | K12: 713 | L12: 215-7309 | M12: 713 | N12: 985-1893 | O12: N | P12: 45 | Q12: 7519 | R12: 0 | S12: CASCADE CREEK 608-41 | T12: WMFK | U12: =IF(V12>0,"PR","SI") -> PR | V12: =IF(ISNA(VLOOKUP($Q12,data,4,FALSE)),0,VLOOKUP($Q12,data,4,FALSE)) -> 30 | W12: NENE | X12: 8 | Y12: 6S | Z12: 97W | AA12: =IF(ISNA(VLOOKUP($Q12,data,5,FALSE)),0,VLOOKUP($Q12,data,5,FALSE)) -> 0.224 | AB12: =IF(ISNA(VLOOKUP($Q12,data,7,FALSE)),0,VLOOKUP($Q12,data,7,FALSE)) -> 0.229 | AC12: =IF(ISNA(VLOOKUP($Q12,data,6,FALSE)),0,VLOOKUP($Q12,data,6,FALSE)) -> 0.374 | AD12: =ROUND(AC12,0)+ROUND(AE12,0)-ROUND(AA12,0)-ROUND(AB12,0) -> 0 | AE12: =IF(ISNA(VLOOKUP($Q12,data,13,FALSE)),0,VLOOKUP($Q12,data,13,FALSE)) -> 0.079 | AF12: =IF(ISNA(VLOOKUP($Q12,data,9,FALSE)),0,VLOOKUP($Q12,data,9,FALSE)) -> 1825.78 | AG12: =IF(ISNA(VLOOKUP($Q12,data,10,FALSE)),0,VLOOKUP($Q12,data,10,FALSE)) -> 0 | AH12: =IF(ISNA(VLOOKUP($Q12,data,11,FALSE)),0,VLOOKUP($Q12,data,11,FALSE)) -> 508.157 | AI12: =ROUND(AF12,0)-ROUND(AG12,0)-ROUND(AH12,0)-ROUND(AJ12,0) -> 0 | AJ12: =IF(ISNA(VLOOKUP($Q12,data,8,FALSE)),0,VLOOKUP($Q12,data,8,FALSE)) -> 1317.623 | AL12: ='Report Inputs'!$E$2 -> 1080 | AM12: =IF(ISNA(VLOOKUP($Q12,data,14,FALSE)),0,VLOOKUP($Q12,data,14,FALSE)) -> 40.461 | AN12: C | AS12: BARBARA EPHRAIM | AT12: Y | AU12: PROD. ACCOUNTANT | AV12: =NOW() -> 42376.365
A13: 7 | B13: =MONTH('Report Inputs'!$B$2) -> 11 | C13: =YEAR('Report Inputs'!$B$2) -> 2015 | D13: 66571 | F13: OXY USA WTP LP | G13: PO BOX 27570 | H13: HOUSTON | I13: TEXAS | J13: 77227-7570 | K13: 713 | L13: 215-7309 | M13: 713 | N13: 985-1893 | O13: N | P13: 45 | Q13: 7521 | R13: 0 | S13: CASCADE CREEK 620-33 | T13: WMFK | U13: =IF(V13>0,"PR","SI") -> PR | V13: =IF(ISNA(VLOOKUP($Q13,data,4,FALSE)),0,VLOOKUP($Q13,data,4,FALSE)) -> 30 | W13: NWSE | X13: 20 | Y13: 6S | Z13: 97W | AA13: =IF(ISNA(VLOOKUP($Q13,data,5,FALSE)),0,VLOOKUP($Q13,data,5,FALSE)) -> 0.497 | AB13: =IF(ISNA(VLOOKUP($Q13,data,7,FALSE)),0,VLOOKUP($Q13,data,7,FALSE)) -> 13.048 | AC13: =IF(ISNA(VLOOKUP($Q13,data,6,FALSE)),0,VLOOKUP($Q13,data,6,FALSE)) -> 13.014 | AD13: =ROUND(AC13,0)+ROUND(AE13,0)-ROUND(AA13,0)-ROUND(AB13,0) -> 1 | AE13: =IF(ISNA(VLOOKUP($Q13,data,13,FALSE)),0,VLOOKUP($Q13,data,13,FALSE)) -> 0.531 | AF13: =IF(ISNA(VLOOKUP($Q13,data,9,FALSE)),0,VLOOKUP($Q13,data,9,FALSE)) -> 1647.37 | AG13: =IF(ISNA(VLOOKUP($Q13,data,10,FALSE)),0,VLOOKUP($Q13,data,10,FALSE)) -> 2.6 | AH13: =IF(ISNA(VLOOKUP($Q13,data,11,FALSE)),0,VLOOKUP($Q13,data,11,FALSE)) -> 341.208 | AI13: =ROUND(AF13,0)-ROUND(AG13,0)-ROUND(AH13,0)-ROUND(AJ13,0) -> -1 | AJ13: =IF(ISNA(VLOOKUP($Q13,data,8,FALSE)),0,VLOOKUP($Q13,data,8,FALSE)) -> 1303.562 | AK13: ='Report Inputs'!$F$2 -> 55.9 | AL13: ='Report Inputs'!$E$2 -> 1080 | AM13: =IF(ISNA(VLOOKUP($Q13,data,14,FALSE)),0,VLOOKUP($Q13,data,14,FALSE)) -> 165.222 | AN13: C | AS13: BARBARA EPHRAIM | AT13: Y | AU13: PROD. ACCOUNTANT | AV13: =NOW() -> 42376.365
A14: 7 | B14: =MONTH('Report Inputs'!$B$2) -> 11 | C14: =YEAR('Report Inputs'!$B$2) -> 2015 | D14: 66571 | F14: OXY USA WTP LP | G14: PO BOX 27570 | H14: HOUSTON | I14: TEXAS | J14: 77227-7570 | K14: 713 | L14: 215-7309 | M14: 713 | N14: 985-1893 | O14: N | P14: 45 | Q14: 7522 | R14: 0 | S14: CASCADE CREEK 605-23 | T14: WMFK | U14: =IF(V14>0,"PR","SI") -> PR | V14: =IF(ISNA(VLOOKUP($Q14,data,4,FALSE)),0,VLOOKUP($Q14,data,4,FALSE)) -> 30 | W14: NESW | X14: 5 | Y14: 6S | Z14: 97W | AA14: =IF(ISNA(VLOOKUP($Q14,data,5,FALSE)),0,VLOOKUP($Q14,data,5,FALSE)) -> 0.95 | AB14: =IF(ISNA(VLOOKUP($Q14,data,7,FALSE)),0,VLOOKUP($Q14,data,7,FALSE)) -> 13.816 | AC14: =IF(ISNA(VLOOKUP($Q14,data,6,FALSE)),0,VLOOKUP($Q14,data,6,FALSE)) -> 13.958 | AD14: =ROUND(AC14,0)+ROUND(AE14,0)-ROUND(AA14,0)-ROUND(AB14,0) -> 0 | AE14: =IF(ISNA(VLOOKUP($Q14,data,13,FALSE)),0,VLOOKUP($Q14,data,13,FALSE)) -> 0.808 | AF14: =IF(ISNA(VLOOKUP($Q14,data,9,FALSE)),0,VLOOKUP($Q14,data,9,FALSE)) -> 6440.96 | AG14: =IF(ISNA(VLOOKUP($Q14,data,10,FALSE)),0,VLOOKUP($Q14,data,10,FALSE)) -> 2.59 | AH14: =IF(ISNA(VLOOKUP($Q14,data,11,FALSE)),0,VLOOKUP($Q14,data,11,FALSE)) -> 482.28 | AI14: =ROUND(AF14,0)-ROUND(AG14,0)-ROUND(AH14,0)-ROUND(AJ14,0) -> 0 | AJ14: =IF(ISNA(VLOOKUP($Q14,data,8,FALSE)),0,VLOOKUP($Q14,data,8,FALSE)) -> 5956.09 | AK14: ='Report Inputs'!$F$2 -> 55.9 | AL14: ='Report Inputs'!$E$2 -> 1080 | AM14: =IF(ISNA(VLOOKUP($Q14,data,14,FALSE)),0,VLOOKUP($Q14,data,14,FALSE)) -> 274.88 | AN14: C | AS14: BARBARA EPHRAIM | AT14: Y | AU14: PROD. ACCOUNTANT | AV14: =NOW() -> 42376.365
A15: 7 | B15: =MONTH('Report Inputs'!$B$2) -> 11 | C15: =YEAR('Report Inputs'!$B$2) -> 2015 | D15: 66571 | F15: OXY USA WTP LP | G15: PO BOX 27570 | H15: HOUSTON | I15: TEXAS | J15: 77227-7570 | K15: 713 | L15: 215-7309 | M15: 713 | N15: 985-1893 | O15: N | P15: 45 | Q15: 7810 | R15: 0 | S15: CASCADE CREEK 617-41 | T15: WFCM | U15: =IF(V15>0,"PR","SI") -> PR | V15: =IF(ISNA(VLOOKUP($Q15,data,4,FALSE)),0,VLOOKUP($Q15,data,4,FALSE)) -> 30 | W15: NENE | X15: 17 | Y15: 6S | Z15: 97W | AA15: =IF(ISNA(VLOOKUP($Q15,data,5,FALSE)),0,VLOOKUP($Q15,data,5,FALSE)) -> 0.333 | AB15: =IF(ISNA(VLOOKUP($Q15,data,7,FALSE)),0,VLOOKUP($Q15,data,7,FALSE)) -> 11.132 | AC15: =IF(ISNA(VLOOKUP($Q15,data,6,FALSE)),0,VLOOKUP($Q15,data,6,FALSE)) -> 10.909 | AD15: =ROUND(AC15,0)+ROUND(AE15,0)-ROUND(AA15,0)-ROUND(AB15,0) -> 1 | AE15: =IF(ISNA(VLOOKUP($Q15,data,13,FALSE)),0,VLOOKUP($Q15,data,13,FALSE)) -> 0.556 | AF15: =IF(ISNA(VLOOKUP($Q15,data,9,FALSE)),0,VLOOKUP($Q15,data,9,FALSE)) -> 3439.1 | AG15: =IF(ISNA(VLOOKUP($Q15,data,10,FALSE)),0,VLOOKUP($Q15,data,10,FALSE)) -> 2.15 | AH15: =IF(ISNA(VLOOKUP($Q15,data,11,FALSE)),0,VLOOKUP($Q15,data,11,FALSE)) -> 419.541 | AI15: =ROUND(AF15,0)-ROUND(AG15,0)-ROUND(AH15,0)-ROUND(AJ15,0) -> 0 | AJ15: =IF(ISNA(VLOOKUP($Q15,data,8,FALSE)),0,VLOOKUP($Q15,data,8,FALSE)) -> 3017.409 | AK15: ='Report Inputs'!$F$2 -> 55.9 | AL15: ='Report Inputs'!$E$2 -> 1080 | AM15: =IF(ISNA(VLOOKUP($Q15,data,14,FALSE)),0,VLOOKUP($Q15,data,14,FALSE)) -> 49.227 | AN15: C | AS15: BARBARA EPHRAIM | AT15: Y | AU15: PROD. ACCOUNTANT | AV15: =NOW() -> 42376.365
A16: 7 | B16: =MONTH('Report Inputs'!$B$2) -> 11 | C16: =YEAR('Report Inputs'!$B$2) -> 2015 | D16: 66571 | F16: OXY USA WTP LP | G16: PO BOX 27570 | H16: HOUSTON | I16: TEXAS | J16: 77227-7570 | K16: 713 | L16: 215-7309 | M16: 713 | N16: 985-1893 | O16: N | P16: 45 | Q16: 7811 | R16: 0 | S16: CASCADE CREEK 629-31-11 | T16: WMFK | U16: =IF(V16>0,"PR","SI") -> PR | V16: =IF(ISNA(VLOOKUP($Q16,data,4,FALSE)),0,VLOOKUP($Q16,data,4,FALSE)) -> 30 | W16: NWNE | X16: 29 | Y16: 6S | Z16: 97W | AA16: =IF(ISNA(VLOOKUP($Q16,data,5,FALSE)),0,VLOOKUP($Q16,data,5,FALSE)) -> 0.96 | AB16: =IF(ISNA(VLOOKUP($Q16,data,7,FALSE)),0,VLOOKUP($Q16,data,7,FALSE)) -> 14.025 | AC16: =IF(ISNA(VLOOKUP($Q16,data,6,FALSE)),0,VLOOKUP($Q16,data,6,FALSE)) -> 14.386 | AD16: =ROUND(AC16,0)+ROUND(AE16,0)-ROUND(AA16,0)-ROUND(AB16,0) -> 0 | AE16: =IF(ISNA(VLOOKUP($Q16,data,13,FALSE)),0,VLOOKUP($Q16,data,13,FALSE)) -> 0.599 | AF16: =IF(ISNA(VLOOKUP($Q16,data,9,FALSE)),0,VLOOKUP($Q16,data,9,FALSE)) -> 2252.45 | AG16: =IF(ISNA(VLOOKUP($Q16,data,10,FALSE)),0,VLOOKUP($Q16,data,10,FALSE)) -> 2.78 | AH16: =IF(ISNA(VLOOKUP($Q16,data,11,FALSE)),0,VLOOKUP($Q16,data,11,FALSE)) -> 300.498 | AI16: =ROUND(AF16,0)-ROUND(AG16,0)-ROUND(AH16,0)-ROUND(AJ16,0) -> 0 | AJ16: =IF(ISNA(VLOOKUP($Q16,data,8,FALSE)),0,VLOOKUP($Q16,data,8,FALSE)) -> 1949.172 | AK16: ='Report Inputs'!$F$2 -> 55.9 | AL16: ='Report Inputs'!$E$2 -> 1080 | AM16: =IF(ISNA(VLOOKUP($Q16,data,14,FALSE)),0,VLOOKUP($Q16,data,14,FALSE)) -> 21.996 | AN16: C | AS16: BARBARA EPHRAIM | AT16: Y | AU16: PROD. ACCOUNTANT | AV16: =NOW() -> 42376.365
A17: 7 | B17: =MONTH('Report Inputs'!$B$2) -> 11 | C17: =YEAR('Report Inputs'!$B$2) -> 2015 | D17: 66571 | F17: OXY USA WTP LP | G17: PO BOX 27570 | H17: HOUSTON | I17: TEXAS | J17: 77227-7570 | K17: 713 | L17: 215-7309 | M17: 713 | N17: 985-1893 | O17: N | P17: 45 | Q17: 9844 | R17: 0 | S17: OXY FEDERAL 23-15 | T17: WMFK | U17: =IF(V17>0,"PR","SI") -> PR | V17: =IF(ISNA(VLOOKUP($Q17,data,4,FALSE)),0,VLOOKUP($Q17,data,4,FALSE)) -> 30 | W17: NWSW | X17: 15 | Y17: 6S | Z17: 97W | AA17: =IF(ISNA(VLOOKUP($Q17,data,5,FALSE)),0,VLOOKUP($Q17,data,5,FALSE)) -> 230.286 | AB17: =IF(ISNA(VLOOKUP($Q17,data,7,FALSE)),0,VLOOKUP($Q17,data,7,FALSE)) -> 0.896 | AC17: =IF(ISNA(VLOOKUP($Q17,data,6,FALSE)),0,VLOOKUP($Q17,data,6,FALSE)) -> 0.554 | AD17: =ROUND(AC17,0)+ROUND(AE17,0)-ROUND(AA17,0)-ROUND(AB17,0) -> 1 | AE17: =IF(ISNA(VLOOKUP($Q17,data,13,FALSE)),0,VLOOKUP($Q17,data,13,FALSE)) -> 230.628 | AF17: =IF(ISNA(VLOOKUP($Q17,data,9,FALSE)),0,VLOOKUP($Q17,data,9,FALSE)) -> 3507.32 | AG17: =IF(ISNA(VLOOKUP($Q17,data,10,FALSE)),0,VLOOKUP($Q17,data,10,FALSE)) -> 0.07 | AH17: =IF(ISNA(VLOOKUP($Q17,data,11,FALSE)),0,VLOOKUP($Q17,data,11,FALSE)) -> 422.592 | AI17: =ROUND(AF17,0)-ROUND(AG17,0)-ROUND(AH17,0)-ROUND(AJ17,0) -> -1 | AJ17: =IF(ISNA(VLOOKUP($Q17,data,8,FALSE)),0,VLOOKUP($Q17,data,8,FALSE)) -> 3084.658 | AK17: ='Report Inputs'!$F$2 -> 55.9 | AL17: ='Report Inputs'!$E$2 -> 1080 | AM17: =IF(ISNA(VLOOKUP($Q17,data,14,FALSE)),0,VLOOKUP($Q17,data,14,FALSE)) -> 32.582 | AN17: C | AS17: BARBARA EPHRAIM | AT17: Y | AU17: PROD. ACCOUNTANT | AV17: =NOW() -> 42376.365
A18: 7 | B18: =MONTH('Report Inputs'!$B$2) -> 11 | C18: =YEAR('Report Inputs'!$B$2) -> 2015 | D18: 66571 | F18: OXY USA WTP LP | G18: PO BOX 27570 | H18: HOUSTON | I18: TEXAS | J18: 77227-7570 | K18: 713 | L18: 215-7309 | M18: 713 | N18: 985-1893 | O18: N | P18: 45 | Q18: 10185 | R18: 0 | S18: CASCADE CREEK 604-44 | T18: WFCM | U18: =IF(V18>0,"PR","SI") -> PR | V18: =IF(ISNA(VLOOKUP($Q18,data,4,FALSE)),0,VLOOKUP($Q18,data,4,FALSE)) -> 30 | W18: NESE | X18: 4 | Y18: 6S | Z18: 97W | AA18: =IF(ISNA(VLOOKUP($Q18,data,5,FALSE)),0,VLOOKUP($Q18,data,5,FALSE)) -> 0.95 | AB18: =IF(ISNA(VLOOKUP($Q18,data,7,FALSE)),0,VLOOKUP($Q18,data,7,FALSE)) -> 7.08 | AC18: =IF(ISNA(VLOOKUP($Q18,data,6,FALSE)),0,VLOOKUP($Q18,data,6,FALSE)) -> 7.685 | AD18: =ROUND(AC18,0)+ROUND(AE18,0)-ROUND(AA18,0)-ROUND(AB18,0) -> 0 | AE18: =IF(ISNA(VLOOKUP($Q18,data,13,FALSE)),0,VLOOKUP($Q18,data,13,FALSE)) -> 0.345 | AF18: =IF(ISNA(VLOOKUP($Q18,data,9,FALSE)),0,VLOOKUP($Q18,data,9,FALSE)) -> 2128.84 | AG18: =IF(ISNA(VLOOKUP($Q18,data,10,FALSE)),0,VLOOKUP($Q18,data,10,FALSE)) -> 1.37 | AH18: =IF(ISNA(VLOOKUP($Q18,data,11,FALSE)),0,VLOOKUP($Q18,data,11,FALSE)) -> 362.157 | AI18: =ROUND(AF18,0)-ROUND(AG18,0)-ROUND(AH18,0)-ROUND(AJ18,0) -> 1 | AJ18: =IF(ISNA(VLOOKUP($Q18,data,8,FALSE)),0,VLOOKUP($Q18,data,8,FALSE)) -> 1765.313 | AK18: ='Report Inputs'!$F$2 -> 55.9 | AL18: ='Report Inputs'!$E$2 -> 1080 | AM18: =IF(ISNA(VLOOKUP($Q18,data,14,FALSE)),0,VLOOKUP($Q18,data,14,FALSE)) -> 112.629 | AN18: C | AS18: BARBARA EPHRAIM | AT18: Y | AU18: PROD. ACCOUNTANT | AV18: =NOW() -> 42376.365
A19: 7 | B19: =MONTH('Report Inputs'!$B$2) -> 11 | C19: =YEAR('Report Inputs'!$B$2) -> 2015 | D19: 66571 | F19: OXY USA WTP LP | G19: PO BOX 27570 | H19: HOUSTON | I19: TEXAS | J19: 77227-7570 | K19: 713 | L19: 215-7309 | M19: 713 | N19: 985-1893 | O19: N | P19: 45 | Q19: 10194 | R19: 0 | S19: OXY FEDERAL 604-11 | T19: WMFK | U19: =IF(V19>0,"PR","SI") -> PR | V19: =IF(ISNA(VLOOKUP($Q19,data,4,FALSE)),0,VLOOKUP($Q19,data,4,FALSE)) -> 30 | W19: NWNW | X19: 4 | Y19: 6S | Z19: 97W | AA19: =IF(ISNA(VLOOKUP($Q19,data,5,FALSE)),0,VLOOKUP($Q19,data,5,FALSE)) -> 88.807 | AB19: =IF(ISNA(VLOOKUP($Q19,data,7,FALSE)),0,VLOOKUP($Q19,data,7,FALSE)) -> 5.408 | AC19: =IF(ISNA(VLOOKUP($Q19,data,6,FALSE)),0,VLOOKUP($Q19,data,6,FALSE)) -> 0.409 | AD19: =ROUND(AC19,0)+ROUND(AE19,0)-ROUND(AA19,0)-ROUND(AB19,0) -> 0 | AE19: =IF(ISNA(VLOOKUP($Q19,data,13,FALSE)),0,VLOOKUP($Q19,data,13,FALSE)) -> 93.806 | AF19: =IF(ISNA(VLOOKUP($Q19,data,9,FALSE)),0,VLOOKUP($Q19,data,9,FALSE)) -> 2655.67 | AG19: =IF(ISNA(VLOOKUP($Q19,data,10,FALSE)),0,VLOOKUP($Q19,data,10,FALSE)) -> 1.02 | AH19: =IF(ISNA(VLOOKUP($Q19,data,11,FALSE)),0,VLOOKUP($Q19,data,11,FALSE)) -> 385.59 | AI19: =ROUND(AF19,0)-ROUND(AG19,0)-ROUND(AH19,0)-ROUND(AJ19,0) -> 0 | AJ19: =IF(ISNA(VLOOKUP($Q19,data,8,FALSE)),0,VLOOKUP($Q19,data,8,FALSE)) -> 2269.06 | AL19: ='Report Inputs'!$E$2 -> 1080 | AM19: =IF(ISNA(VLOOKUP($Q19,data,14,FALSE)),0,VLOOKUP($Q19,data,14,FALSE)) -> 194.27 | AN19: C | AS19: BARBARA EPHRAIM | AT19: Y | AU19: PROD. ACCOUNTANT | AV19: =NOW() -> 42376.365
A20: 7 | B20: =MONTH('Report Inputs'!$B$2) -> 11 | C20: =YEAR('Report Inputs'!$B$2) -> 2015 | D20: 66571 | F20: OXY USA WTP LP | G20: PO BOX 27570 | H20: HOUSTON | I20: TEXAS | J20: 77227-7570 | K20: 713 | L20: 215-7309 | M20: 713 | N20: 985-1893 | O20: N | P20: 45 | Q20: 10201 | R20: 0 | S20: CASCADE CREEK 609-14 | T20: WMFK | U20: =IF(V20>0,"PR","SI") -> PR | V20: =IF(ISNA(VLOOKUP($Q20,data,4,FALSE)),0,VLOOKUP($Q20,data,4,FALSE)) -> 30 | W20: SWSW | X20: 9 | Y20: 6S | Z20: 97W | AA20: =IF(ISNA(VLOOKUP($Q20,data,5,FALSE)),0,VLOOKUP($Q20,data,5,FALSE)) -> 0.521 | AB20: =IF(ISNA(VLOOKUP($Q20,data,7,FALSE)),0,VLOOKUP($Q20,data,7,FALSE)) -> 11.108 | AC20: =IF(ISNA(VLOOKUP($Q20,data,6,FALSE)),0,VLOOKUP($Q20,data,6,FALSE)) -> 11.038 | AD20: =ROUND(AC20,0)+ROUND(AE20,0)-ROUND(AA20,0)-ROUND(AB20,0) -> 0 | AE20: =IF(ISNA(VLOOKUP($Q20,data,13,FALSE)),0,VLOOKUP($Q20,data,13,FALSE)) -> 0.591 | AF20: =IF(ISNA(VLOOKUP($Q20,data,9,FALSE)),0,VLOOKUP($Q20,data,9,FALSE)) -> 4165.19 | AG20: =IF(ISNA(VLOOKUP($Q20,data,10,FALSE)),0,VLOOKUP($Q20,data,10,FALSE)) -> 2.12 | AH20: =IF(ISNA(VLOOKUP($Q20,data,11,FALSE)),0,VLOOKUP($Q20,data,11,FALSE)) -> 450.498 | AI20: =ROUND(AF20,0)-ROUND(AG20,0)-ROUND(AH20,0)-ROUND(AJ20,0) -> 0 | AJ20: =IF(ISNA(VLOOKUP($Q20,data,8,FALSE)),0,VLOOKUP($Q20,data,8,FALSE)) -> 3712.572 | AK20: ='Report Inputs'!$F$2 -> 55.9 | AL20: ='Report Inputs'!$E$2 -> 1080 | AM20: =IF(ISNA(VLOOKUP($Q20,data,14,FALSE)),0,VLOOKUP($Q20,data,14,FALSE)) -> 73.361 | AN20: C | AS20: BARBARA EPHRAIM | AT20: Y | AU20: PROD. ACCOUNTANT | AV20: =NOW() -> 42376.365
A21: 7 | B21: =MONTH('Report Inputs'!$B$2) -> 11 | C21: =YEAR('Report Inputs'!$B$2) -> 2015 | D21: 66571 | F21: OXY USA WTP LP | G21: PO BOX 27570 | H21: HOUSTON | I21: TEXAS | J21: 77227-7570 | K21: 713 | L21: 215-7309 | M21: 713 | N21: 985-1893 | O21: N | P21: 45 | Q21: 10258 | R21: 0 | S21: OXY FEDERAL 708-11 | T21: WMFK | U21: =IF(V21>0,"PR","SI") -> PR | V21: =IF(ISNA(VLOOKUP($Q21,data,4,FALSE)),0,VLOOKUP($Q21,data,4,FALSE)) -> 30 | W21: LOT 2 | X21: 8 | Y21: 7S | Z21: 97W | AA21: =IF(ISNA(VLOOKUP($Q21,data,5,FALSE)),0,VLOOKUP($Q21,data,5,FALSE)) -> 40.274 | AB21: =IF(ISNA(VLOOKUP($Q21,data,7,FALSE)),0,VLOOKUP($Q21,data,7,FALSE)) -> 0.182 | AC21: =IF(ISNA(VLOOKUP($Q21,data,6,FALSE)),0,VLOOKUP($Q21,data,6,FALSE)) -> 0.191 | AD21: =ROUND(AC21,0)+ROUND(AE21,0)-ROUND(AA21,0)-ROUND(AB21,0) -> 0 | AE21: =IF(ISNA(VLOOKUP($Q21,data,13,FALSE)),0,VLOOKUP($Q21,data,13,FALSE)) -> 40.265 | AF21: =IF(ISNA(VLOOKUP($Q21,data,9,FALSE)),0,VLOOKUP($Q21,data,9,FALSE)) -> 1377.95 | AG21: =IF(ISNA(VLOOKUP($Q21,data,10,FALSE)),0,VLOOKUP($Q21,data,10,FALSE)) -> 0 | AH21: =IF(ISNA(VLOOKUP($Q21,data,11,FALSE)),0,VLOOKUP($Q21,data,11,FALSE)) -> 330.184 | AI21: =ROUND(AF21,0)-ROUND(AG21,0)-ROUND(AH21,0)-ROUND(AJ21,0) -> 0 | AJ21: =IF(ISNA(VLOOKUP($Q21,data,8,FALSE)),0,VLOOKUP($Q21,data,8,FALSE)) -> 1047.766 | AL21: ='Report Inputs'!$E$2 -> 1080 | AM21: =IF(ISNA(VLOOKUP($Q21,data,14,FALSE)),0,VLOOKUP($Q21,data,14,FALSE)) -> 0.309 | AN21: C | AS21: BARBARA EPHRAIM | AT21: Y | AU21: PROD. ACCOUNTANT | AV21: =NOW() -> 42376.365
A22: 7 | B22: =MONTH('Report Inputs'!$B$2) -> 11 | C22: =YEAR('Report Inputs'!$B$2) -> 2015 | D22: 66571 | F22: OXY USA WTP LP | G22: PO BOX 27570 | H22: HOUSTON | I22: TEXAS | J22: 77227-7570 | K22: 713 | L22: 215-7309 | M22: 713 | N22: 985-1893 | O22: N | P22: 45 | Q22: 10336 | R22: 0 | S22: CASCADE CREEK 632-21-41 | T22: WFCM | U22: =IF(V22>0,"PR","SI") -> PR | V22: =IF(ISNA(VLOOKUP($Q22,data,4,FALSE)),0,VLOOKUP($Q22,data,4,FALSE)) -> 24 | W22: LOT 3 | X22: 32 | Y22: 6S | Z22: 97W | AA22: =IF(ISNA(VLOOKUP($Q22,data,5,FALSE)),0,VLOOKUP($Q22,data,5,FALSE)) -> 3.145 | AB22: =IF(ISNA(VLOOKUP($Q22,data,7,FALSE)),0,VLOOKUP($Q22,data,7,FALSE)) -> 16.111 | AC22: =IF(ISNA(VLOOKUP($Q22,data,6,FALSE)),0,VLOOKUP($Q22,data,6,FALSE)) -> 18.624 | AD22: =ROUND(AC22,0)+ROUND(AE22,0)-ROUND(AA22,0)-ROUND(AB22,0) -> 1 | AE22: =IF(ISNA(VLOOKUP($Q22,data,13,FALSE)),0,VLOOKUP($Q22,data,13,FALSE)) -> 0.632 | AF22: =IF(ISNA(VLOOKUP($Q22,data,9,FALSE)),0,VLOOKUP($Q22,data,9,FALSE)) -> 1491.88 | AG22: =IF(ISNA(VLOOKUP($Q22,data,10,FALSE)),0,VLOOKUP($Q22,data,10,FALSE)) -> 3.23 | AH22: =IF(ISNA(VLOOKUP($Q22,data,11,FALSE)),0,VLOOKUP($Q22,data,11,FALSE)) -> 334.988 | AI22: =ROUND(AF22,0)-ROUND(AG22,0)-ROUND(AH22,0)-ROUND(AJ22,0) -> 0 | AJ22: =IF(ISNA(VLOOKUP($Q22,data,8,FALSE)),0,VLOOKUP($Q22,data,8,FALSE)) -> 1153.662 | AK22: ='Report Inputs'!$F$2 -> 55.9 | AL22: ='Report Inputs'!$E$2 -> 1080 | AM22: =IF(ISNA(VLOOKUP($Q22,data,14,FALSE)),0,VLOOKUP($Q22,data,14,FALSE)) -> 573.041 | AN22: C | AS22: BARBARA EPHRAIM | AT22: Y | AU22: PROD. ACCOUNTANT | AV22: =NOW() -> 42376.365
A23: 7 | B23: =MONTH('Report Inputs'!$B$2) -> 11 | C23: =YEAR('Report Inputs'!$B$2) -> 2015 | D23: 66571 | F23: OXY USA WTP LP | G23: PO BOX 27570 | H23: HOUSTON | I23: TEXAS | J23: 77227-7570 | K23: 713 | L23: 215-7309 | M23: 713 | N23: 985-1893 | O23: N | P23: 45 | Q23: 10345 | R23: 0 | S23: CASCADE CREEK 705-22-43 | T23: WMFK | U23: =IF(V23>0,"PR","SI") -> PR | V23: =IF(ISNA(VLOOKUP($Q23,data,4,FALSE)),0,VLOOKUP($Q23,data,4,FALSE)) -> 30 | W23: SENW | X23: 5 | Y23: 7S | Z23: 97W | AA23: =IF(ISNA(VLOOKUP($Q23,data,5,FALSE)),0,VLOOKUP($Q23,data,5,FALSE)) -> 0.95 | AB23: =IF(ISNA(VLOOKUP($Q23,data,7,FALSE)),0,VLOOKUP($Q23,data,7,FALSE)) -> 3.602 | AC23: =IF(ISNA(VLOOKUP($Q23,data,6,FALSE)),0,VLOOKUP($Q23,data,6,FALSE)) -> 4.332 | AD23: =ROUND(AC23,0)+ROUND(AE23,0)-ROUND(AA23,0)-ROUND(AB23,0) -> -1 | AE23: =IF(ISNA(VLOOKUP($Q23,data,13,FALSE)),0,VLOOKUP($Q23,data,13,FALSE)) -> 0.22 | AF23: =IF(ISNA(VLOOKUP($Q23,data,9,FALSE)),0,VLOOKUP($Q23,data,9,FALSE)) -> 1964.94 | AG23: =IF(ISNA(VLOOKUP($Q23,data,10,FALSE)),0,VLOOKUP($Q23,data,10,FALSE)) -> 0.67 | AH23: =IF(ISNA(VLOOKUP($Q23,data,11,FALSE)),0,VLOOKUP($Q23,data,11,FALSE)) -> 247.457 | AI23: =ROUND(AF23,0)-ROUND(AG23,0)-ROUND(AH23,0)-ROUND(AJ23,0) -> 0 | AJ23: =IF(ISNA(VLOOKUP($Q23,data,8,FALSE)),0,VLOOKUP($Q23,data,8,FALSE)) -> 1716.813 | AK23: ='Report Inputs'!$F$2 -> 55.9 | AL23: ='Report Inputs'!$E$2 -> 1080 | AM23: =IF(ISNA(VLOOKUP($Q23,data,14,FALSE)),0,VLOOKUP($Q23,data,14,FALSE)) -> 88.383 | AN23: C | AS23: BARBARA EPHRAIM | AT23: Y | AU23: PROD. ACCOUNTANT | AV23: =NOW() -> 42376.365
A24: 7 | B24: =MONTH('Report Inputs'!$B$2) -> 11 | C24: =YEAR('Report Inputs'!$B$2) -> 2015 | D24: 66571 | F24: OXY USA WTP LP | G24: PO BOX 27570 | H24: HOUSTON | I24: TEXAS | J24: 77227-7570 | K24: 713 | L24: 215-7309 | M24: 713 | N24: 985-1893 | O24: N | P24: 45 | Q24: 10444 | R24: 0 | S24: CASCADE CREEK 616-21-32 | T24: WFCM | U24: =IF(V24>0,"PR","SI") -> PR | V24: =IF(ISNA(VLOOKUP($Q24,data,4,FALSE)),0,VLOOKUP($Q24,data,4,FALSE)) -> 30 | W24: NENW | X24: 16 | Y24: 6S | Z24: 97W | AA24: =IF(ISNA(VLOOKUP($Q24,data,5,FALSE)),0,VLOOKUP($Q24,data,5,FALSE)) -> 3.365 | AB24: =IF(ISNA(VLOOKUP($Q24,data,7,FALSE)),0,VLOOKUP($Q24,data,7,FALSE)) -> 0.858 | AC24: =IF(ISNA(VLOOKUP($Q24,data,6,FALSE)),0,VLOOKUP($Q24,data,6,FALSE)) -> 3.942 | AD24: =ROUND(AC24,0)+ROUND(AE24,0)-ROUND(AA24,0)-ROUND(AB24,0) -> 0 | AE24: =IF(ISNA(VLOOKUP($Q24,data,13,FALSE)),0,VLOOKUP($Q24,data,13,FALSE)) -> 0.281 | AF24: =IF(ISNA(VLOOKUP($Q24,data,9,FALSE)),0,VLOOKUP($Q24,data,9,FALSE)) -> 5434.87 | AG24: =IF(ISNA(VLOOKUP($Q24,data,10,FALSE)),0,VLOOKUP($Q24,data,10,FALSE)) -> 0 | AH24: =IF(ISNA(VLOOKUP($Q24,data,11,FALSE)),0,VLOOKUP($Q24,data,11,FALSE)) -> 505.692 | AI24: =ROUND(AF24,0)-ROUND(AG24,0)-ROUND(AH24,0)-ROUND(AJ24,0) -> 0 | AJ24: =IF(ISNA(VLOOKUP($Q24,data,8,FALSE)),0,VLOOKUP($Q24,data,8,FALSE)) -> 4929.178 | AK24: ='Report Inputs'!$F$2 -> 55.9 | AL24: ='Report Inputs'!$E$2 -> 1080 | AM24: =IF(ISNA(VLOOKUP($Q24,data,14,FALSE)),0,VLOOKUP($Q24,data,14,FALSE)) -> 1.459 | AN24: C | AS24: BARBARA EPHRAIM | AT24: Y | AU24: PROD. ACCOUNTANT | AV24: =NOW() -> 42376.365
A25: 7 | B25: =MONTH('Report Inputs'!$B$2) -> 11 | C25: =YEAR('Report Inputs'!$B$2) -> 2015 | D25: 66571 | F25: OXY USA WTP LP | G25: PO BOX 27570 | H25: HOUSTON | I25: TEXAS | J25: 77227-7570 | K25: 713 | L25: 215-7309 | M25: 713 | N25: 985-1893 | O25: N | P25: 45 | Q25: 10477 | R25: 0 | S25: CASCADE CREEK 697-20-28 | T25: WFCM | U25: =IF(V25>0,"PR","SI") -> PR | V25: =IF(ISNA(VLOOKUP($Q25,data,4,FALSE)),0,VLOOKUP($Q25,data,4,FALSE)) -> 30 | W25: SENW | X25: 20 | Y25: 6S | Z25: 97W | AA25: =IF(ISNA(VLOOKUP($Q25,data,5,FALSE)),0,VLOOKUP($Q25,data,5,FALSE)) -> 1.142 | AB25: =IF(ISNA(VLOOKUP($Q25,data,7,FALSE)),0,VLOOKUP($Q25,data,7,FALSE)) -> 3.486 | AC25: =IF(ISNA(VLOOKUP($Q25,data,6,FALSE)),0,VLOOKUP($Q25,data,6,FALSE)) -> 4.339 | AD25: =ROUND(AC25,0)+ROUND(AE25,0)-ROUND(AA25,0)-ROUND(AB25,0) -> 0 | AE25: =IF(ISNA(VLOOKUP($Q25,data,13,FALSE)),0,VLOOKUP($Q25,data,13,FALSE)) -> 0.289 | AF25: =IF(ISNA(VLOOKUP($Q25,data,9,FALSE)),0,VLOOKUP($Q25,data,9,FALSE)) -> 3454.17 | AG25: =IF(ISNA(VLOOKUP($Q25,data,10,FALSE)),0,VLOOKUP($Q25,data,10,FALSE)) -> 0.6 | AH25: =IF(ISNA(VLOOKUP($Q25,data,11,FALSE)),0,VLOOKUP($Q25,data,11,FALSE)) -> 352.745 | AI25: =ROUND(AF25,0)-ROUND(AG25,0)-ROUND(AH25,0)-ROUND(AJ25,0) -> -1 | AJ25: =IF(ISNA(VLOOKUP($Q25,data,8,FALSE)),0,VLOOKUP($Q25,data,8,FALSE)) -> 3100.825 | AK25: ='Report Inputs'!$F$2 -> 55.9 | AL25: ='Report Inputs'!$E$2 -> 1080 | AM25: =IF(ISNA(VLOOKUP($Q25,data,14,FALSE)),0,VLOOKUP($Q25,data,14,FALSE)) -> 41.257 | AN25: C | AS25: BARBARA EPHRAIM | AT25: Y | AU25: PROD. ACCOUNTANT | AV25: =NOW() -> 42376.365
A26: 7 | B26: =MONTH('Report Inputs'!$B$2) -> 11 | C26: =YEAR('Report Inputs'!$B$2) -> 2015 | D26: 66571 | F26: OXY USA WTP LP | G26: PO BOX 27570 | H26: HOUSTON | I26: TEXAS | J26: 77227-7570 | K26: 713 | L26: 215-7309 | M26: 713 | N26: 985-1893 | O26: N | P26: 45 | Q26: 10509 | R26: 0 | S26: CASCADE CREEK 797-05-36 | T26: WMFK | U26: =IF(V26>0,"PR","SI") -> SI | V26: =IF(ISNA(VLOOKUP($Q26,data,4,FALSE)),0,VLOOKUP($Q26,data,4,FALSE)) -> 0 | W26: NESW | X26: 5 | Y26: 7S | Z26: 97W | AA26: =IF(ISNA(VLOOKUP($Q26,data,5,FALSE)),0,VLOOKUP($Q26,data,5,FALSE)) -> 0.018 | AB26: =IF(ISNA(VLOOKUP($Q26,data,7,FALSE)),0,VLOOKUP($Q26,data,7,FALSE)) -> 0 | AC26: =IF(ISNA(VLOOKUP($Q26,data,6,FALSE)),0,VLOOKUP($Q26,data,6,FALSE)) -> 0.017 | AD26: =ROUND(AC26,0)+ROUND(AE26,0)-ROUND(AA26,0)-ROUND(AB26,0) -> 0 | AE26: =IF(ISNA(VLOOKUP($Q26,data,13,FALSE)),0,VLOOKUP($Q26,data,13,FALSE)) -> 0.001 | AF26: =IF(ISNA(VLOOKUP($Q26,data,9,FALSE)),0,VLOOKUP($Q26,data,9,FALSE)) -> 0 | AG26: =IF(ISNA(VLOOKUP($Q26,data,10,FALSE)),0,VLOOKUP($Q26,data,10,FALSE)) -> 0 | AH26: =IF(ISNA(VLOOKUP($Q26,data,11,FALSE)),0,VLOOKUP($Q26,data,11,FALSE)) -> 0 | AI26: =ROUND(AF26,0)-ROUND(AG26,0)-ROUND(AH26,0)-ROUND(AJ26,0) -> 0 | AJ26: =IF(ISNA(VLOOKUP($Q26,data,8,FALSE)),0,VLOOKUP($Q26,data,8,FALSE)) -> 0 | AM26: =IF(ISNA(VLOOKUP($Q26,data,14,FALSE)),0,VLOOKUP($Q26,data,14,FALSE)) -> 0 | AN26: C | AS26: BARBARA EPHRAIM | AT26: Y | AU26: PROD. ACCOUNTANT | AV26: =NOW() -> 42376.365
A27: 7 | B27: =MONTH('Report Inputs'!$B$2) -> 11 | C27: =YEAR('Report Inputs'!$B$2) -> 2015 | D27: 66571 | F27: OXY USA WTP LP | G27: PO BOX 27570 | H27: HOUSTON | I27: TEXAS | J27: 77227-7570 | K27: 713 | L27: 215-7309 | M27: 713 | N27: 985-1893 | O27: N | P27: 45 | Q27: 10512 | R27: 0 | S27: CASCADE CREEK 797-05-52 | T27: WFCM | U27: =IF(V27>0,"PR","SI") -> PR | V27: =IF(ISNA(VLOOKUP($Q27,data,4,FALSE)),0,VLOOKUP($Q27,data,4,FALSE)) -> 30 | W27: SESW | X27: 5 | Y27: 7S | Z27: 97W | AA27: =IF(ISNA(VLOOKUP($Q27,data,5,FALSE)),0,VLOOKUP($Q27,data,5,FALSE)) -> 0.674 | AB27: =IF(ISNA(VLOOKUP($Q27,data,7,FALSE)),0,VLOOKUP($Q27,data,7,FALSE)) -> 18.331 | AC27: =IF(ISNA(VLOOKUP($Q27,data,6,FALSE)),0,VLOOKUP($Q27,data,6,FALSE)) -> 18.306 | AD27: =ROUND(AC27,0)+ROUND(AE27,0)-ROUND(AA27,0)-ROUND(AB27,0) -> 0 | AE27: =IF(ISNA(VLOOKUP($Q27,data,13,FALSE)),0,VLOOKUP($Q27,data,13,FALSE)) -> 0.699 | AF27: =IF(ISNA(VLOOKUP($Q27,data,9,FALSE)),0,VLOOKUP($Q27,data,9,FALSE)) -> 1191.86 | AG27: =IF(ISNA(VLOOKUP($Q27,data,10,FALSE)),0,VLOOKUP($Q27,data,10,FALSE)) -> 3.69 | AH27: =IF(ISNA(VLOOKUP($Q27,data,11,FALSE)),0,VLOOKUP($Q27,data,11,FALSE)) -> 254.431 | AI27: =ROUND(AF27,0)-ROUND(AG27,0)-ROUND(AH27,0)-ROUND(AJ27,0) -> 0 | AJ27: =IF(ISNA(VLOOKUP($Q27,data,8,FALSE)),0,VLOOKUP($Q27,data,8,FALSE)) -> 933.739 | AK27: ='Report Inputs'!$F$2 -> 55.9 | AL27: ='Report Inputs'!$E$2 -> 1080 | AM27: =IF(ISNA(VLOOKUP($Q27,data,14,FALSE)),0,VLOOKUP($Q27,data,14,FALSE)) -> 32.264 | AN27: C | AS27: BARBARA EPHRAIM | AT27: Y | AU27: PROD. ACCOUNTANT | AV27: =NOW() -> 42376.365
A28: 7 | B28: =MONTH('Report Inputs'!$B$2) -> 11 | C28: =YEAR('Report Inputs'!$B$2) -> 2015 | D28: 66571 | F28: OXY USA WTP LP | G28: PO BOX 27570 | H28: HOUSTON | I28: TEXAS | J28: 77227-7570 | K28: 713 | L28: 215-7309 | M28: 713 | N28: 985-1893 | O28: N | P28: 45 | Q28: 10547 | R28: 0 | S28: CASCADE CREEK 605-13-22 | T28: WFCM | U28: =IF(V28>0,"PR","SI") -> PR | V28: =IF(ISNA(VLOOKUP($Q28,data,4,FALSE)),0,VLOOKUP($Q28,data,4,FALSE)) -> 30 | W28: NWSW | X28: 5 | Y28: 6S | Z28: 97W | AA28: =IF(ISNA(VLOOKUP($Q28,data,5,FALSE)),0,VLOOKUP($Q28,data,5,FALSE)) -> 1 | AB28: =IF(ISNA(VLOOKUP($Q28,data,7,FALSE)),0,VLOOKUP($Q28,data,7,FALSE)) -> 2.651 | AC28: =IF(ISNA(VLOOKUP($Q28,data,6,FALSE)),0,VLOOKUP($Q28,data,6,FALSE)) -> 3.371 | AD28: =ROUND(AC28,0)+ROUND(AE28,0)-ROUND(AA28,0)-ROUND(AB28,0) -> -1 | AE28: =IF(ISNA(VLOOKUP($Q28,data,13,FALSE)),0,VLOOKUP($Q28,data,13,FALSE)) -> 0.28 | AF28: =IF(ISNA(VLOOKUP($Q28,data,9,FALSE)),0,VLOOKUP($Q28,data,9,FALSE)) -> 3923.37 | AG28: =IF(ISNA(VLOOKUP($Q28,data,10,FALSE)),0,VLOOKUP($Q28,data,10,FALSE)) -> 0.42 | AH28: =IF(ISNA(VLOOKUP($Q28,data,11,FALSE)),0,VLOOKUP($Q28,data,11,FALSE)) -> 440.632 | AI28: =ROUND(AF28,0)-ROUND(AG28,0)-ROUND(AH28,0)-ROUND(AJ28,0) -> 0 | AJ28: =IF(ISNA(VLOOKUP($Q28,data,8,FALSE)),0,VLOOKUP($Q28,data,8,FALSE)) -> 3482.318 | AK28: ='Report Inputs'!$F$2 -> 55.9 | AL28: ='Report Inputs'!$E$2 -> 1080 | AM28: =IF(ISNA(VLOOKUP($Q28,data,14,FALSE)),0,VLOOKUP($Q28,data,14,FALSE)) -> 98.099 | AN28: C | AS28: BARBARA EPHRAIM | AT28: Y | AU28: PROD. ACCOUNTANT | AV28: =NOW() -> 42376.365
A29: 7 | B29: =MONTH('Report Inputs'!$B$2) -> 11 | C29: =YEAR('Report Inputs'!$B$2) -> 2015 | D29: 66571 | F29: OXY USA WTP LP | G29: PO BOX 27570 | H29: HOUSTON | I29: TEXAS | J29: 77227-7570 | K29: 713 | L29: 215-7309 | M29: 713 | N29: 985-1893 | O29: N | P29: 45 | Q29: 10563 | R29: 0 | S29: CASCADE CREEK 697-29-38D | T29: WFCM | U29: =IF(V29>0,"PR","SI") -> PR | V29: =IF(ISNA(VLOOKUP($Q29,data,4,FALSE)),0,VLOOKUP($Q29,data,4,FALSE)) -> 30 | W29: SENW | X29: 29 | Y29: 6S | Z29: 97W | AA29: =IF(ISNA(VLOOKUP($Q29,data,5,FALSE)),0,VLOOKUP($Q29,data,5,FALSE)) -> 1.061 | AB29: =IF(ISNA(VLOOKUP($Q29,data,7,FALSE)),0,VLOOKUP($Q29,data,7,FALSE)) -> 32.204 | AC29: =IF(ISNA(VLOOKUP($Q29,data,6,FALSE)),0,VLOOKUP($Q29,data,6,FALSE)) -> 32.032 | AD29: =ROUND(AC29,0)+ROUND(AE29,0)-ROUND(AA29,0)-ROUND(AB29,0) -> 0 | AE29: =IF(ISNA(VLOOKUP($Q29,data,13,FALSE)),0,VLOOKUP($Q29,data,13,FALSE)) -> 1.233 | AF29: =IF(ISNA(VLOOKUP($Q29,data,9,FALSE)),0,VLOOKUP($Q29,data,9,FALSE)) -> 2065.64 | AG29: =IF(ISNA(VLOOKUP($Q29,data,10,FALSE)),0,VLOOKUP($Q29,data,10,FALSE)) -> 6.47 | AH29: =IF(ISNA(VLOOKUP($Q29,data,11,FALSE)),0,VLOOKUP($Q29,data,11,FALSE)) -> 292.231 | AI29: =ROUND(AF29,0)-ROUND(AG29,0)-ROUND(AH29,0)-ROUND(AJ29,0) -> 1 | AJ29: =IF(ISNA(VLOOKUP($Q29,data,8,FALSE)),0,VLOOKUP($Q29,data,8,FALSE)) -> 1766.939 | AK29: ='Report Inputs'!$F$2 -> 55.9 | AL29: ='Report Inputs'!$E$2 -> 1080 | AM29: =IF(ISNA(VLOOKUP($Q29,data,14,FALSE)),0,VLOOKUP($Q29,data,14,FALSE)) -> 80.392 | AN29: C | AS29: BARBARA EPHRAIM | AT29: Y | AU29: PROD. ACCOUNTANT | AV29: =NOW() -> 42376.365
A30: 7 | B30: =MONTH('Report Inputs'!$B$2) -> 11 | C30: =YEAR('Report Inputs'!$B$2) -> 2015 | D30: 66571 | F30: OXY USA WTP LP | G30: PO BOX 27570 | H30: HOUSTON | I30: TEXAS | J30: 77227-7570 | K30: 713 | L30: 215-7309 | M30: 713 | N30: 985-1893 | O30: N | P30: 45 | Q30: 10564 | R30: 0 | S30: CASCADE CREEK 697-29-30D | T30: WMFK | U30: =IF(V30>0,"PR","SI") -> PR | V30: =IF(ISNA(VLOOKUP($Q30,data,4,FALSE)),0,VLOOKUP($Q30,data,4,FALSE)) -> 29 | W30: SENW | X30: 29 | Y30: 6S | Z30: 97W | AA30: =IF(ISNA(VLOOKUP($Q30,data,5,FALSE)),0,VLOOKUP($Q30,data,5,FALSE)) -> 0.566 | AB30: =IF(ISNA(VLOOKUP($Q30,data,7,FALSE)),0,VLOOKUP($Q30,data,7,FALSE)) -> 15.215 | AC30: =IF(ISNA(VLOOKUP($Q30,data,6,FALSE)),0,VLOOKUP($Q30,data,6,FALSE)) -> 15.198 | AD30: =ROUND(AC30,0)+ROUND(AE30,0)-ROUND(AA30,0)-ROUND(AB30,0) -> 0 | AE30: =IF(ISNA(VLOOKUP($Q30,data,13,FALSE)),0,VLOOKUP($Q30,data,13,FALSE)) -> 0.583 | AF30: =IF(ISNA(VLOOKUP($Q30,data,9,FALSE)),0,VLOOKUP($Q30,data,9,FALSE)) -> 1087.83 | AG30: =IF(ISNA(VLOOKUP($Q30,data,10,FALSE)),0,VLOOKUP($Q30,data,10,FALSE)) -> 3.06 | AH30: =IF(ISNA(VLOOKUP($Q30,data,11,FALSE)),0,VLOOKUP($Q30,data,11,FALSE)) -> 249.944 | AI30: =ROUND(AF30,0)-ROUND(AG30,0)-ROUND(AH30,0)-ROUND(AJ30,0) -> 0 | AJ30: =IF(ISNA(VLOOKUP($Q30,data,8,FALSE)),0,VLOOKUP($Q30,data,8,FALSE)) -> 834.826 | AK30: ='Report Inputs'!$F$2 -> 55.9 | AL30: ='Report Inputs'!$E$2 -> 1080 | AM30: =IF(ISNA(VLOOKUP($Q30,data,14,FALSE)),0,VLOOKUP($Q30,data,14,FALSE)) -> 37.983 | AN30: C | AS30: BARBARA EPHRAIM | AT30: Y | AU30: PROD. ACCOUNTANT | AV30: =NOW() -> 42376.365
A31: 7 | B31: =MONTH('Report Inputs'!$B$2) -> 11 | C31: =YEAR('Report Inputs'!$B$2) -> 2015 | D31: 66571 | F31: OXY USA WTP LP | G31: PO BOX 27570 | H31: HOUSTON | I31: TEXAS | J31: 77227-7570 | K31: 713 | L31: 215-7309 | M31: 713 | N31: 985-1893 | O31: N | P31: 45 | Q31: 10565 | R31: 0 | S31: CASCADE CREEK 697-29-26D | T31: WMFK | U31: =IF(V31>0,"PR","SI") -> PR | V31: =IF(ISNA(VLOOKUP($Q31,data,4,FALSE)),0,VLOOKUP($Q31,data,4,FALSE)) -> 2 | W31: SENW | X31: 29 | Y31: 6S | Z31: 97W | AA31: =IF(ISNA(VLOOKUP($Q31,data,5,FALSE)),0,VLOOKUP($Q31,data,5,FALSE)) -> 0.409 | AB31: =IF(ISNA(VLOOKUP($Q31,data,7,FALSE)),0,VLOOKUP($Q31,data,7,FALSE)) -> 15.58 | AC31: =IF(ISNA(VLOOKUP($Q31,data,6,FALSE)),0,VLOOKUP($Q31,data,6,FALSE)) -> 15.396 | AD31: =ROUND(AC31,0)+ROUND(AE31,0)-ROUND(AA31,0)-ROUND(AB31,0) -> 0 | AE31: =IF(ISNA(VLOOKUP($Q31,data,13,FALSE)),0,VLOOKUP($Q31,data,13,FALSE)) -> 0.593 | AF31: =IF(ISNA(VLOOKUP($Q31,data,9,FALSE)),0,VLOOKUP($Q31,data,9,FALSE)) -> 1108.8 | AG31: =IF(ISNA(VLOOKUP($Q31,data,10,FALSE)),0,VLOOKUP($Q31,data,10,FALSE)) -> 3.13 | AH31: =IF(ISNA(VLOOKUP($Q31,data,11,FALSE)),0,VLOOKUP($Q31,data,11,FALSE)) -> 250.851 | AI31: =ROUND(AF31,0)-ROUND(AG31,0)-ROUND(AH31,0)-ROUND(AJ31,0) -> 0 | AJ31: =IF(ISNA(VLOOKUP($Q31,data,8,FALSE)),0,VLOOKUP($Q31,data,8,FALSE)) -> 854.819 | AK31: ='Report Inputs'!$F$2 -> 55.9 | AL31: ='Report Inputs'!$E$2 -> 1080 | AM31: =IF(ISNA(VLOOKUP($Q31,data,14,FALSE)),0,VLOOKUP($Q31,data,14,FALSE)) -> 38.893 | AN31: C | AS31: BARBARA EPHRAIM | AT31: Y | AU31: PROD. ACCOUNTANT | AV31: =NOW() -> 42376.365
A32: 7 | B32: =MONTH('Report Inputs'!$B$2) -> 11 | C32: =YEAR('Report Inputs'!$B$2) -> 2015 | D32: 66571 | F32: OXY USA WTP LP | G32: PO BOX 27570 | H32: HOUSTON | I32: TEXAS | J32: 77227-7570 | K32: 713 | L32: 215-7309 | M32: 713 | N32: 985-1893 | O32: N | P32: 45 | Q32: 10566 | R32: 0 | S32: CASCADE CREEK 697-29-10D | T32: WFCM | U32: =IF(V32>0,"PR","SI") -> PR | V32: 4 | W32: SENW | X32: 29 | Y32: 6S | Z32: 97W | AA32: =IF(ISNA(VLOOKUP($Q32,data,5,FALSE)),0,VLOOKUP($Q32,data,5,FALSE)) -> 0.602 | AB32: =IF(ISNA(VLOOKUP($Q32,data,7,FALSE)),0,VLOOKUP($Q32,data,7,FALSE)) -> 12.761 | AC32: =IF(ISNA(VLOOKUP($Q32,data,6,FALSE)),0,VLOOKUP($Q32,data,6,FALSE)) -> 12.874 | AD32: =ROUND(AC32,0)+ROUND(AE32,0)-ROUND(AA32,0)-ROUND(AB32,0) -> -1 | AE32: =IF(ISNA(VLOOKUP($Q32,data,13,FALSE)),0,VLOOKUP($Q32,data,13,FALSE)) -> 0.489 | AF32: =IF(ISNA(VLOOKUP($Q32,data,9,FALSE)),0,VLOOKUP($Q32,data,9,FALSE)) -> 948.27 | AG32: =IF(ISNA(VLOOKUP($Q32,data,10,FALSE)),0,VLOOKUP($Q32,data,10,FALSE)) -> 2.57 | AH32: =IF(ISNA(VLOOKUP($Q32,data,11,FALSE)),0,VLOOKUP($Q32,data,11,FALSE)) -> 245.563 | AI32: =ROUND(AF32,0)-ROUND(AG32,0)-ROUND(AH32,0)-ROUND(AJ32,0) -> -1 | AJ32: =IF(ISNA(VLOOKUP($Q32,data,8,FALSE)),0,VLOOKUP($Q32,data,8,FALSE)) -> 700.137 | AK32: ='Report Inputs'!$F$2 -> 55.9 | AL32: ='Report Inputs'!$E$2 -> 1080 | AM32: =IF(ISNA(VLOOKUP($Q32,data,14,FALSE)),0,VLOOKUP($Q32,data,14,FALSE)) -> 31.855 | AN32: C | AS32: BARBARA EPHRAIM | AT32: Y | AU32: PROD. ACCOUNTANT | AV32: =NOW() -> 42376.365
A33: 7 | B33: =MONTH('Report Inputs'!$B$2) -> 11 | C33: =YEAR('Report Inputs'!$B$2) -> 2015 | D33: 66571 | F33: OXY USA WTP LP | G33: PO BOX 27570 | H33: HOUSTON | I33: TEXAS | J33: 77227-7570 | K33: 713 | L33: 215-7309 | M33: 713 | N33: 985-1893 | O33: N | P33: 45 | Q33: 10567 | R33: 0 | S33: CASCADE CREEK 697-29-07DA | T33: WMFK | U33: =IF(V33>0,"PR","SI") -> PR | V33: =IF(ISNA(VLOOKUP($Q33,data,4,FALSE)),0,VLOOKUP($Q33,data,4,FALSE)) -> 30 | W33: SWSE | X33: 20 | Y33: 6S | Z33: 97W | AA33: =IF(ISNA(VLOOKUP($Q33,data,5,FALSE)),0,VLOOKUP($Q33,data,5,FALSE)) -> 0.163 | AB33: =IF(ISNA(VLOOKUP($Q33,data,7,FALSE)),0,VLOOKUP($Q33,data,7,FALSE)) -> 2.236 | AC33: =IF(ISNA(VLOOKUP($Q33,data,6,FALSE)),0,VLOOKUP($Q33,data,6,FALSE)) -> 2.235 | AD33: =ROUND(AC33,0)+ROUND(AE33,0)-ROUND(AA33,0)-ROUND(AB33,0) -> 0 | AE33: =IF(ISNA(VLOOKUP($Q33,data,13,FALSE)),0,VLOOKUP($Q33,data,13,FALSE)) -> 0.164 | AF33: =IF(ISNA(VLOOKUP($Q33,data,9,FALSE)),0,VLOOKUP($Q33,data,9,FALSE)) -> 1741.97 | AG33: =IF(ISNA(VLOOKUP($Q33,data,10,FALSE)),0,VLOOKUP($Q33,data,10,FALSE)) -> 0.4 | AH33: =IF(ISNA(VLOOKUP($Q33,data,11,FALSE)),0,VLOOKUP($Q33,data,11,FALSE)) -> 156.481 | AI33: =ROUND(AF33,0)-ROUND(AG33,0)-ROUND(AH33,0)-ROUND(AJ33,0) -> 1 | AJ33: =IF(ISNA(VLOOKUP($Q33,data,8,FALSE)),0,VLOOKUP($Q33,data,8,FALSE)) -> 1585.089 | AK33: ='Report Inputs'!$F$2 -> 55.9 | AL33: ='Report Inputs'!$E$2 -> 1080 | AM33: =IF(ISNA(VLOOKUP($Q33,data,14,FALSE)),0,VLOOKUP($Q33,data,14,FALSE)) -> 98.619 | AN33: C | AS33: BARBARA EPHRAIM | AT33: Y | AU33: PROD. ACCOUNTANT | AV33: =NOW() -> 42376.365
A34: 7 | B34: =MONTH('Report Inputs'!$B$2) -> 11 | C34: =YEAR('Report Inputs'!$B$2) -> 2015 | D34: 66571 | F34: OXY USA WTP LP | G34: PO BOX 27570 | H34: HOUSTON | I34: TEXAS | J34: 77227-7570 | K34: 713 | L34: 215-7309 | M34: 713 | N34: 985-1893 | O34: N | P34: 45 | Q34: 10652 | R34: 0 | S34: CASCADE CREEK 697-17-43D | T34: WFCM | U34: =IF(V34>0,"PR","SI") -> PR | V34: =IF(ISNA(VLOOKUP($Q34,data,4,FALSE)),0,VLOOKUP($Q34,data,4,FALSE)) -> 30 | W34: SESW | X34: 17 | Y34: 6S | Z34: 97W | AA34: =IF(ISNA(VLOOKUP($Q34,data,5,FALSE)),0,VLOOKUP($Q34,data,5,FALSE)) -> 0.429 | AB34: =IF(ISNA(VLOOKUP($Q34,data,7,FALSE)),0,VLOOKUP($Q34,data,7,FALSE)) -> 6.394 | AC34: =IF(ISNA(VLOOKUP($Q34,data,6,FALSE)),0,VLOOKUP($Q34,data,6,FALSE)) -> 6.416 | AD34: =ROUND(AC34,0)+ROUND(AE34,0)-ROUND(AA34,0)-ROUND(AB34,0) -> 0 | AE34: =IF(ISNA(VLOOKUP($Q34,data,13,FALSE)),0,VLOOKUP($Q34,data,13,FALSE)) -> 0.407 | AF34: =IF(ISNA(VLOOKUP($Q34,data,9,FALSE)),0,VLOOKUP($Q34,data,9,FALSE)) -> 3713.75 | AG34: =IF(ISNA(VLOOKUP($Q34,data,10,FALSE)),0,VLOOKUP($Q34,data,10,FALSE)) -> 1.18 | AH34: =IF(ISNA(VLOOKUP($Q34,data,11,FALSE)),0,VLOOKUP($Q34,data,11,FALSE)) -> 363.985 | AI34: =ROUND(AF34,0)-ROUND(AG34,0)-ROUND(AH34,0)-ROUND(AJ34,0) -> 0 | AJ34: =IF(ISNA(VLOOKUP($Q34,data,8,FALSE)),0,VLOOKUP($Q34,data,8,FALSE)) -> 3348.585 | AK34: ='Report Inputs'!$F$2 -> 55.9 | AL34: ='Report Inputs'!$E$2 -> 1080 | AM34: =IF(ISNA(VLOOKUP($Q34,data,14,FALSE)),0,VLOOKUP($Q34,data,14,FALSE)) -> 69.21 | AN34: C | AS34: BARBARA EPHRAIM | AT34: Y | AU34: PROD. ACCOUNTANT | AV34: =NOW() -> 42376.365
A35: 7 | B35: =MONTH('Report Inputs'!$B$2) -> 11 | C35: =YEAR('Report Inputs'!$B$2) -> 2015 | D35: 66571 | F35: OXY USA WTP LP | G35: PO BOX 27570 | H35: HOUSTON | I35: TEXAS | J35: 77227-7570 | K35: 713 | L35: 215-7309 | M35: 713 | N35: 985-1893 | O35: N | P35: 45 | Q35: 10653 | R35: 0 | S35: CASCADE CREEK 608-43-31 | T35: WFCM | U35: =IF(V35>0,"PR","SI") -> PR | V35: =IF(ISNA(VLOOKUP($Q35,data,4,FALSE)),0,VLOOKUP($Q35,data,4,FALSE)) -> 30 | W35: NESE | X35: 8 | Y35: 6S | Z35: 97W | AA35: =IF(ISNA(VLOOKUP($Q35,data,5,FALSE)),0,VLOOKUP($Q35,data,5,FALSE)) -> 0.189 | AB35: =IF(ISNA(VLOOKUP($Q35,data,7,FALSE)),0,VLOOKUP($Q35,data,7,FALSE)) -> 0.174 | AC35: =IF(ISNA(VLOOKUP($Q35,data,6,FALSE)),0,VLOOKUP($Q35,data,6,FALSE)) -> 0.303 | AD35: =ROUND(AC35,0)+ROUND(AE35,0)-ROUND(AA35,0)-ROUND(AB35,0) -> 0 | AE35: =IF(ISNA(VLOOKUP($Q35,data,13,FALSE)),0,VLOOKUP($Q35,data,13,FALSE)) -> 0.06 | AF35: =IF(ISNA(VLOOKUP($Q35,data,9,FALSE)),0,VLOOKUP($Q35,data,9,FALSE)) -> 1255.65 | AG35: =IF(ISNA(VLOOKUP($Q35,data,10,FALSE)),0,VLOOKUP($Q35,data,10,FALSE)) -> 0 | AH35: =IF(ISNA(VLOOKUP($Q35,data,11,FALSE)),0,VLOOKUP($Q35,data,11,FALSE)) -> 257.914 | AI35: =ROUND(AF35,0)-ROUND(AG35,0)-ROUND(AH35,0)-ROUND(AJ35,0) -> 0 | AJ35: =IF(ISNA(VLOOKUP($Q35,data,8,FALSE)),0,VLOOKUP($Q35,data,8,FALSE)) -> 997.736 | AL35: ='Report Inputs'!$E$2 -> 1080 | AM35: =IF(ISNA(VLOOKUP($Q35,data,14,FALSE)),0,VLOOKUP($Q35,data,14,FALSE)) -> 44.225 | AN35: C | AS35: BARBARA EPHRAIM | AT35: Y | AU35: PROD. ACCOUNTANT | AV35: =NOW() -> 42376.365
A36: 7 | B36: =MONTH('Report Inputs'!$B$2) -> 11 | C36: =YEAR('Report Inputs'!$B$2) -> 2015 | D36: 66571 | F36: OXY USA WTP LP | G36: PO BOX 27570 | H36: HOUSTON | I36: TEXAS | J36: 77227-7570 | K36: 713 | L36: 215-7309 | M36: 713 | N36: 985-1893 | O36: N | P36: 45 | Q36: 10663 | R36: 0 | S36: CASCADE CREEK 697-20-02D | T36: WMFK | U36: =IF(V36>0,"PR","SI") -> PR | V36: =IF(ISNA(VLOOKUP($Q36,data,4,FALSE)),0,VLOOKUP($Q36,data,4,FALSE)) -> 30 | W36: SESW | X36: 17 | Y36: 6S | Z36: 97W | AA36: =IF(ISNA(VLOOKUP($Q36,data,5,FALSE)),0,VLOOKUP($Q36,data,5,FALSE)) -> 0.453 | AB36: =IF(ISNA(VLOOKUP($Q36,data,7,FALSE)),0,VLOOKUP($Q36,data,7,FALSE)) -> 7.009 | AC36: =IF(ISNA(VLOOKUP($Q36,data,6,FALSE)),0,VLOOKUP($Q36,data,6,FALSE)) -> 7.018 | AD36: =ROUND(AC36,0)+ROUND(AE36,0)-ROUND(AA36,0)-ROUND(AB36,0) -> 0 | AE36: =IF(ISNA(VLOOKUP($Q36,data,13,FALSE)),0,VLOOKUP($Q36,data,13,FALSE)) -> 0.444 | AF36: =IF(ISNA(VLOOKUP($Q36,data,9,FALSE)),0,VLOOKUP($Q36,data,9,FALSE)) -> 4050.16 | AG36: =IF(ISNA(VLOOKUP($Q36,data,10,FALSE)),0,VLOOKUP($Q36,data,10,FALSE)) -> 1.29 | AH36: =IF(ISNA(VLOOKUP($Q36,data,11,FALSE)),0,VLOOKUP($Q36,data,11,FALSE)) -> 378.58 | AI36: =ROUND(AF36,0)-ROUND(AG36,0)-ROUND(AH36,0)-ROUND(AJ36,0) -> 0 | AJ36: =IF(ISNA(VLOOKUP($Q36,data,8,FALSE)),0,VLOOKUP($Q36,data,8,FALSE)) -> 3670.29 | AK36: ='Report Inputs'!$F$2 -> 55.9 | AL36: ='Report Inputs'!$E$2 -> 1080 | AM36: =IF(ISNA(VLOOKUP($Q36,data,14,FALSE)),0,VLOOKUP($Q36,data,14,FALSE)) -> 75.859 | AN36: C | AS36: BARBARA EPHRAIM | AT36: Y | AU36: PROD. ACCOUNTANT | AV36: =NOW() -> 42376.365
A37: 7 | B37: =MONTH('Report Inputs'!$B$2) -> 11 | C37: =YEAR('Report Inputs'!$B$2) -> 2015 | D37: 66571 | F37: OXY USA WTP LP | G37: PO BOX 27570 | H37: HOUSTON | I37: TEXAS | J37: 77227-7570 | K37: 713 | L37: 215-7309 | M37: 713 | N37: 985-1893 | O37: N | P37: 45 | Q37: 10673 | R37: 0 | S37: CASCADE CREEK 697-17-49D | T37: WMFK | U37: =IF(V37>0,"PR","SI") -> PR | V37: =IF(ISNA(VLOOKUP($Q37,data,4,FALSE)),0,VLOOKUP($Q37,data,4,FALSE)) -> 30 | W37: SESW | X37: 17 | Y37: 6S | Z37: 97W | AA37: =IF(ISNA(VLOOKUP($Q37,data,5,FALSE)),0,VLOOKUP($Q37,data,5,FALSE)) -> 0.181 | AB37: =IF(ISNA(VLOOKUP($Q37,data,7,FALSE)),0,VLOOKUP($Q37,data,7,FALSE)) -> 3.141 | AC37: =IF(ISNA(VLOOKUP($Q37,data,6,FALSE)),0,VLOOKUP($Q37,data,6,FALSE)) -> 3.125 | AD37: =ROUND(AC37,0)+ROUND(AE37,0)-ROUND(AA37,0)-ROUND(AB37,0) -> 0 | AE37: =IF(ISNA(VLOOKUP($Q37,data,13,FALSE)),0,VLOOKUP($Q37,data,13,FALSE)) -> 0.197 | AF37: =IF(ISNA(VLOOKUP($Q37,data,9,FALSE)),0,VLOOKUP($Q37,data,9,FALSE)) -> 1931.95 | AG37: =IF(ISNA(VLOOKUP($Q37,data,10,FALSE)),0,VLOOKUP($Q37,data,10,FALSE)) -> 0.58 | AH37: =IF(ISNA(VLOOKUP($Q37,data,11,FALSE)),0,VLOOKUP($Q37,data,11,FALSE)) -> 286.684 | AI37: =ROUND(AF37,0)-ROUND(AG37,0)-ROUND(AH37,0)-ROUND(AJ37,0) -> -1 | AJ37: =IF(ISNA(VLOOKUP($Q37,data,8,FALSE)),0,VLOOKUP($Q37,data,8,FALSE)) -> 1644.686 | AK37: ='Report Inputs'!$F$2 -> 55.9 | AL37: ='Report Inputs'!$E$2 -> 1080 | AM37: =IF(ISNA(VLOOKUP($Q37,data,14,FALSE)),0,VLOOKUP($Q37,data,14,FALSE)) -> 33.992 | AN37: C | AS37: BARBARA EPHRAIM | AT37: Y | AU37: PROD. ACCOUNTANT | AV37: =NOW() -> 42376.365
A38: 7 | B38: =MONTH('Report Inputs'!$B$2) -> 11 | C38: =YEAR('Report Inputs'!$B$2) -> 2015 | D38: 66571 | F38: OXY USA WTP LP | G38: PO BOX 27570 | H38: HOUSTON | I38: TEXAS | J38: 77227-7570 | K38: 713 | L38: 215-7309 | M38: 713 | N38: 985-1893 | O38: N | P38: 45 | Q38: 10674 | R38: 0 | S38: CASCADE CREEK 697-17-53D | T38: WFCM | U38: =IF(V38>0,"PR","SI") -> PR | V38: =IF(ISNA(VLOOKUP($Q38,data,4,FALSE)),0,VLOOKUP($Q38,data,4,FALSE)) -> 30 | W38: SESW | X38: 17 | Y38: 6S | Z38: 97W | AA38: =IF(ISNA(VLOOKUP($Q38,data,5,FALSE)),0,VLOOKUP($Q38,data,5,FALSE)) -> 0.59 | AB38: =IF(ISNA(VLOOKUP($Q38,data,7,FALSE)),0,VLOOKUP($Q38,data,7,FALSE)) -> 9.026 | AC38: =IF(ISNA(VLOOKUP($Q38,data,6,FALSE)),0,VLOOKUP($Q38,data,6,FALSE)) -> 9.043 | AD38: =ROUND(AC38,0)+ROUND(AE38,0)-ROUND(AA38,0)-ROUND(AB38,0) -> 0 | AE38: =IF(ISNA(VLOOKUP($Q38,data,13,FALSE)),0,VLOOKUP($Q38,data,13,FALSE)) -> 0.573 | AF38: =IF(ISNA(VLOOKUP($Q38,data,9,FALSE)),0,VLOOKUP($Q38,data,9,FALSE)) -> 5154.74 | AG38: =IF(ISNA(VLOOKUP($Q38,data,10,FALSE)),0,VLOOKUP($Q38,data,10,FALSE)) -> 1.67 | AH38: =IF(ISNA(VLOOKUP($Q38,data,11,FALSE)),0,VLOOKUP($Q38,data,11,FALSE)) -> 426.5 | AI38: =ROUND(AF38,0)-ROUND(AG38,0)-ROUND(AH38,0)-ROUND(AJ38,0) -> -1 | AJ38: =IF(ISNA(VLOOKUP($Q38,data,8,FALSE)),0,VLOOKUP($Q38,data,8,FALSE)) -> 4726.57 | AK38: ='Report Inputs'!$F$2 -> 55.9 | AL38: ='Report Inputs'!$E$2 -> 1080 | AM38: =IF(ISNA(VLOOKUP($Q38,data,14,FALSE)),0,VLOOKUP($Q38,data,14,FALSE)) -> 97.69 | AN38: C | AS38: BARBARA EPHRAIM | AT38: Y | AU38: PROD. ACCOUNTANT | AV38: =NOW() -> 42376.365
A39: 7 | B39: =MONTH('Report Inputs'!$B$2) -> 11 | C39: =YEAR('Report Inputs'!$B$2) -> 2015 | D39: 66571 | F39: OXY USA WTP LP | G39: PO BOX 27570 | H39: HOUSTON | I39: TEXAS | J39: 77227-7570 | K39: 713 | L39: 215-7309 | M39: 713 | N39: 985-1893 | O39: N | P39: 45 | Q39: 10675 | R39: 0 | S39: CASCADE CREEK 697-08-53 | T39: WFCM | U39: =IF(V39>0,"PR","SI") -> SI | V39: =IF(ISNA(VLOOKUP($Q39,data,4,FALSE)),0,VLOOKUP($Q39,data,4,FALSE)) -> 0 | W39: SWSE | X39: 8 | Y39: 6S | Z39: 97W | AA39: =IF(ISNA(VLOOKUP($Q39,data,5,FALSE)),0,VLOOKUP($Q39,data,5,FALSE)) -> 0 | AB39: =IF(ISNA(VLOOKUP($Q39,data,7,FALSE)),0,VLOOKUP($Q39,data,7,FALSE)) -> 0 | AC39: =IF(ISNA(VLOOKUP($Q39,data,6,FALSE)),0,VLOOKUP($Q39,data,6,FALSE)) -> 0 | AD39: =ROUND(AC39,0)+ROUND(AE39,0)-ROUND(AA39,0)-ROUND(AB39,0) -> 0 | AE39: =IF(ISNA(VLOOKUP($Q39,data,13,FALSE)),0,VLOOKUP($Q39,data,13,FALSE)) -> 0 | AF39: =IF(ISNA(VLOOKUP($Q39,data,9,FALSE)),0,VLOOKUP($Q39,data,9,FALSE)) -> 0 | AG39: =IF(ISNA(VLOOKUP($Q39,data,10,FALSE)),0,VLOOKUP($Q39,data,10,FALSE)) -> 0 | AH39: =IF(ISNA(VLOOKUP($Q39,data,11,FALSE)),0,VLOOKUP($Q39,data,11,FALSE)) -> 0 | AI39: =ROUND(AF39,0)-ROUND(AG39,0)-ROUND(AH39,0)-ROUND(AJ39,0) -> 0 | AJ39: =IF(ISNA(VLOOKUP($Q39,data,8,FALSE)),0,VLOOKUP($Q39,data,8,FALSE)) -> 0 | AM39: =IF(ISNA(VLOOKUP($Q39,data,14,FALSE)),0,VLOOKUP($Q39,data,14,FALSE)) -> 0 | AN39: C | AS39: BARBARA EPHRAIM | AT39: Y | AU39: PROD. ACCOUNTANT | AV39: =NOW() -> 42376.365
