Workbook
Name data: 'Well Data'!$A:$N
Name Databases: Notes!$F$2:$F$4
Name percents: #REF!
Name Query_from_QEPSPP: 'Well Data'!$A$5:$K$81
Name water_inj_volumes: 'Well Data'!$A$5:$B$5

Sheet Report Inputs
E1: BTU | F1: GRAVITY
A2: Enter Start Date: | B2: 42309 | C2: =TEXT(B2,"dd-mmm-yyyy") -> 01-Nov-2015 | E2: 1080 | F2: 55.9 | G2: (RUN AVERAGE WEIGHTED CALC @ RUN TICKET REPORT
A3: Enter End Date: | B3: 42338 | C3: =TEXT(B3,"dd-mmm-yyyy") -> 30-Nov-2015
A4: Route(s) Starting With: | B4: XX
A5: Database Instance: | B5: HOPSPP
A9: version 9.7.17

Sheet Well Data
A2: COLORADO WELL DATA
E3: 5 | F3: 6 | G3: 7 | H3: 8 | I3: 9 | J3: 10 | K3: 11 | L3: 12 | M3: 13 | N3: 14
A4: API SEQ | B4: COMP NAME | C4: PROD_INJ_DATE | D4: DAYS_PROD | E4: BOM | F4: OIL_SALES | G4: OIL_PROD | H4: GAS_SALES | I4: GAS_PROD | J4: GAS_FLARE | K4: GAS_FUEL | L4: GAS_OTHER | M4: EOM | N4: WATER_PROD
A5: 8463 | B5: ANDERSON 0001 | C5: 42338 | D5: 30 | E5: 62.674 | F5: 0.398 | G5: 0.347 | H5: 415.539 | I5: 720.28 | J5: 0.01 | K5: 304.731 | L5: 0 | M5: 62.623 | N5: 1.037
A6: 9094 | B6: ANDERSON 07-11 | C6: 42338 | D6: 27 | E6: 24.503 | F6: 0.84 | G6: 6.426 | H6: 1583.389 | I6: 2005.03 | J6: 52.66 | K6: 368.981 | L6: 52.66 | M6: 30.089 | N6: 231.466
A7: 9107 | B7: ANDERSON 07-12 | C7: 42338 | D7: 30 | E7: 21.533 | F7: 2.123 | G7: 2.346 | H7: 3082.514 | I7: 3533.97 | J7: 0 | K7: 451.456 | L7: 0 | M7: 21.756 | N7: 7.694
A8: 9106 | B8: ANDERSON 07-13 | C8: 42338 | D8: 30 | E8: 9.369 | F8: 0.994 | G8: 0.879 | H8: 1154.485 | I8: 1324.03 | J8: 0 | K8: 169.545 | L8: 0 | M8: 9.254 | N8: 2.882
A9: 9105 | B9: ANDERSON 07-14 | C9: 42338 | D9: 30 | E9: 19.62 | F9: 0.988 | G9: 14.113 | H9: 3477.295 | I9: 3774.63 | J9: 0 | K9: 297.335 | L9: 0 | M9: 32.745 | N9: 508.328
A10: 8219 | B10: ANDERSON RANCH 07-03 | C10: 42338 | D10: 30 | E10: 0 | F10: 0 | G10: 0 | H10: 0 | I10: 7 | J10: 0 | K10: 7 | L10: 0 | M10: 0 | N10: 0
A11: 8972 | B11: BLACKMAN 14-05 | C11: 42338 | D11: 30 | E11: 23.276 | F11: 0.57 | G11: 0.889 | H11: 1526.166 | I11: 1713.03 | J11: 0 | K11: 186.864 | L11: 0 | M11: 23.595 | N11: 6.178
A12: 8971 | B12: BLACKMAN 14-06 | C12: 42338 | D12: 30 | E12: 30.016 | F12: 0.806 | G12: 0.953 | H12: 1638.041 | I12: 2006.67 | J12: 0 | K12: 368.629 | L12: 0 | M12: 30.163 | N12: 6.632
A13: 8970 | B13: BLACKMAN 14-12 | C13: 42338 | D13: 30 | E13: 36.08 | F13: 0.983 | G13: 2.442 | H13: 1754.664 | I13: 1953.92 | J13: 0.29 | K13: 198.966 | L13: 0 | M13: 37.539 | N13: 39.764
A14: 8969 | B14: BLACKMAN 14-13 | C14: 42338 | D14: 30 | E14: 22.325 | F14: 0.538 | G14: 1.544 | H14: 1109.343 | I14: 1274.31 | J14: 0.18 | K14: 164.787 | L14: 0 | M14: 23.331 | N14: 25.14
A15: 8968 | B15: BLACKMAN 14-14 | C15: 42338 | D15: 30 | E15: 28.953 | F15: 0.628 | G15: 1.746 | H15: 1255.217 | I15: 1607.25 | J15: 0.21 | K15: 351.823 | L15: 0 | M15: 30.071 | N15: 28.447
A16: 9005 | B16: BLACKMAN 15-08 | C16: 42338 | D16: 30 | E16: 20.931 | F16: 0.85 | G16: 2.076 | H16: 1612.684 | I16: 1804.36 | J16: 0.23 | K16: 191.446 | L16: 0 | M16: 22.157 | N16: 35.568
... A877: 9162 | B877: WOODS SPANGLER 22-04 | C877: 42338 | D877: 30 | E877: 89.681 | F877: 0.764 | G877: 0.933 | H877: 1538.227 | I877: 1725.73 | J877: 0 | K877: 187.503 | L877: 0 | M877: 89.85 | N877: 69.518

Sheet CC_66571_11_2015
A1: FORM # | B1: MONTH | C1: YEAR | D1: OPER # | E1: OPER SUFF | F1: OPER NAME | G1: ADDRESS | H1: CITY | I1: STATE | J1: ZIP | K1: PHONE AREA CODE | L1: PHONE # | M1: FAX AREA CODE | N1: FAX # | O1: REVISED | P1: API COUNTY | Q1: API SEQ | R1: API SIDETRACK | S1: WELL NAME & # | T1: FORMATION CODE | U1: WELL STATUS | V1: DAYS PROD | W1: QQ | X1: SEC | Y1: TWP | Z1: RGN | AA1: BOM | AB1: OIL PROD | AC1: OIL SOLD | AD1: ADJ | AE1: EOM | AF1: GAS PROD | AG1: GAS FLARED | AH1: GAS USED | AI1: GAS SHRINK | AJ1: GAS SOLD | AK1: OIL GRAVITY | AL1: GAS BTU | AM1: WATER PRO/INJ | AN1: WATER DISP CODE | AO1: SURF INJ PRES WTR TBG | AP1: SURF INJ PRES CSG | AQ1: SURF INJ PRES GAS TBG | AR1: SURF INJ PRES GAS CSG | AS1: PRINT NAME | AT1: SIGNED | AU1: TITLE | AV1: DATE
A2: 7 | B2: =MONTH('Report Inputs'!$B$2) -> 11 | C2: =YEAR('Report Inputs'!$B$2) -> 2015 | D2: 66571 | F2: OXY USA WTP LP | G2: PO BOX 27570 | H2: HOUSTON | I2: TEXAS | J2: 77227-7570 | K2: 713 | L2: 215-7309 | M2: 713 | N2: 985-1893 | O2: N | P2: 45 | Q2: 6861 | R2: 0 | S2: CASCADE CREEK 620-1 | T2: WFCM | U2: PA | V2: =IF(ISNA(VLOOKUP($Q2,data,4,FALSE)),0,VLOOKUP($Q2,data,4,FALSE)) -> 0 | W2: SWSE | X2: 20 | Y2: 6S | Z2: 97W | AA2: =IF(ISNA(VLOOKUP($Q2,data,5,FALSE)),0,VLOOKUP($Q2,data,5,FALSE)) -> 0 | AB2: =IF(ISNA(VLOOKUP($Q2,data,7,FALSE)),0,VLOOKUP($Q2,data,7,FALSE)) -> 0 | AC2: =IF(ISNA(VLOOKUP($Q2,data,6,FALSE)),0,VLOOKUP($Q2,data,6,FALSE)) -> 0 | AD2: =ROUND(AC2,0)+ROUND(AE2,0)-ROUND(AA2,0)-ROUND(AB2,0) -> 0 | AE2: =IF(ISNA(VLOOKUP($Q2,data,13,FALSE)),0,VLOOKUP($Q2,data,13,FALSE)) -> 0 | AF2: =IF(ISNA(VLOOKUP($Q2,data,9,FALSE)),0,VLOOKUP($Q2,data,9,FALSE)) -> 0 | AG2: =IF(ISNA(VLOOKUP($Q2,data,10,FALSE)),0,VLOOKUP($Q2,data,10,FALSE)) -> 0 | AH2: =IF(ISNA(VLOOKUP($Q2,data,11,FALSE)),0,VLOOKUP($Q2,data,11,FALSE)) -> 0 | AI2: =ROUND(AF2,0)-ROUND(AG2,0)-ROUND(AH2,0)-ROUND(AJ2,0) -> 0 | AJ2: =IF(ISNA(VLOOKUP($Q2,data,8,FALSE)),0,VLOOKUP($Q2,data,8,FALSE)) -> 0 | AM2: =IF(ISNA(VLOOKUP($Q2,data,14,FALSE)),0,VLOOKUP($Q2,data,14,FALSE)) -> 0 | AN2: C | AS2: BARBARA EPHRAIM | AT2: Y | AU2: PROD. ACCOUNTANT | AV2: =NOW() -> 42376.365
A3: 7 | B3: =MONTH('Report Inputs'!$B$2) -> 11 | C3: =YEAR('Report Inputs'!$B$2) -> 2015 | D3: 66571 | F3: OXY USA WTP LP | G3: PO BOX 27570 | H3: HOUSTON | I3: TEXAS | J3: 77227-7570 | K3: 713 | L3: 215-7309 | M3: 713 | N3: 985-1893 | O3: N | P3: 45 | Q3: 6869 | R3: 0 | S3: CASCADE CREEK 629-2 | T3: WFCM | U3: =IF(V3>0,"PR","SI") -> PR | V3: =IF(ISNA(VLOOKUP($Q3,data,4,FALSE)),0,VLOOKUP($Q3,data,4,FALSE)) -> 30 | W3: SENW | X3: 29 | Y3: 6S | Z3: 97W | AA3: =IF(ISNA(VLOOKUP($Q3,data,5,FALSE)),0,VLOOKUP($Q3,data,5,FALSE)) -> 0.176 | AB3: =IF(ISNA(VLOOKUP($Q3,data,7,FALSE)),0,VLOOKUP($Q3,data,7,FALSE)) -> 4.56 | AC3: =IF(ISNA(VLOOKUP($Q3,data,6,FALSE)),0,VLOOKUP($Q3,data,6,FALSE)) -> 4.561 | AD3: =ROUND(AC3,0)+ROUND(AE3,0)-ROUND(AA3,0)-ROUND(AB3,0) -> 0 | AE3: =IF(ISNA(VLOOKUP($Q3,data,13,FALSE)),0,VLOOKUP($Q3,data,13,FALSE)) -> 0.175 | AF3: =IF(ISNA(VLOOKUP($Q3,data,9,FALSE)),0,VLOOKUP($Q3,data,9,FALSE)) -> 544.49 | AG3: =IF(ISNA(VLOOKUP($Q3,data,10,FALSE)),0,VLOOKUP($Q3,data,10,FALSE)) -> 0.92 | AH3: =IF(ISNA(VLOOKUP($Q3,data,11,FALSE)),0,VLOOKUP($Q3,data,11,FALSE)) -> 293.419 | AI3: =ROUND(AF3,0)-ROUND(AG3,0)-ROUND(AH3,0)-ROUND(AJ3,0) -> 0 | AJ3: =IF(ISNA(VLOOKUP($Q3,data,8,FALSE)),0,VLOOKUP($Q3,data,8,FALSE)) -> 250.151 | AK3: ='Report Inputs'!$F$2 -> 55.9 | AL3: ='Report Inputs'!$E$2 -> 1080 | AM3: =IF(ISNA(VLOOKUP($Q3,data,14,FALSE)),0,VLOOKUP($Q3,data,14,FALSE)) -> 11.381 | AN3: C | AS3: BARBARA EPHRAIM | AT3: Y | AU3: PROD. ACCOUNTANT | AV3: =NOW() -> 42376.365
A4: 7 | B4: =MONTH('Report Inputs'!$B$2) -> 11 | C4: =YEAR('Report Inputs'!$B$2) -> 2015 | D4: 66571 | F4: OXY USA WTP LP | G4: PO BOX 27570 | H4: HOUSTON | I4: TEXAS | J4: 77227-7570 | K4: 713 | L4: 215-7309 | M4: 713 | N4: 985-1893 | O4: N | P4: 45 | Q4: 6871 | R4: 0 | S4: CASCADE CREEK 604-1 .6 | T4: WMFK | U4: =IF(V4>0,"IJ","SI") -> IJ | V4: =IF(ISNA(VLOOKUP($Q4,data,4,FALSE)),0,VLOOKUP($Q4,data,4,FALSE)) -> 4 | W4: SWSW | X4: 4 | Y4: 6S | Z4: 97W | AM4: 2231 | AO4: 138 | AP4: 0 | AS4: BARBARA EPHRAIM | AT4: Y | AU4: PROD. ACCOUNTANT | AV4: =NOW() -> 42376.365
A5: 7 | B5: =MONTH('Report Inputs'!$B$2) -> 11 | C5: =YEAR('Report Inputs'!$B$2) -> 2015 | D5: 66571 | F5: OXY USA WTP LP | G5: PO BOX 27570 | H5: HOUSTON | I5: TEXAS | J5: 77227-7570 | K5: 713 | L5: 215-7309 | M5: 713 | N5: 985-1893 | O5: N | P5: 45 | Q5: 6871 | R5: 0 | S5: CASCADE CREEK 604-1 .2 | T5: FTUN | U5: =IF(V5>0,"IJ","SI") -> IJ | V5: =IF(ISNA(VLOOKUP($Q5,data,4,FALSE)),0,VLOOKUP($Q5,data,4,FALSE)) -> 4 | W5: SWSW | X5: 4 | Y5: 6S | Z5: 97W | AM5: 744 | AO5: 138 | AP5: 0 | AS5: BARBARA EPHRAIM | AT5: Y | AU5: PROD. ACCOUNTANT | AV5: =NOW() -> 42376.365
A6: 7 | B6: =MONTH('Report Inputs'!$B$2) -> 11 | C6: =YEAR('Report Inputs'!$B$2) -> 2015 | D6: 66571 | F6: OXY USA WTP LP | G6: PO BOX 27570 | H6: HOUSTON | I6: TEXAS | J6: 77227-7570 | K6: 713 | L6: 215-7309 | M6: 713 | N6: 985-1893 | O6: N | P6: 45 | Q6: 6871 | R6: 0 | S6: CASCADE CREEK 604-1 .2 | T6: OHCRK | U6: =IF(V6>0,"IJ","SI") -> IJ | V6: =IF(ISNA(VLOOKUP($Q6,data,4,FALSE)),0,VLOOKUP($Q6,data,4,FALSE)) -> 4 | W6: SWSW | X6: 4 | Y6: 6S | Z6: 97W | AM6: 744 | AO6: 138 | AP6: 0 | AS6: BARBARA EPHRAIM | AT6: Y | AU6: PROD. ACCOUNTANT | AV6: =NOW() -> 42376.365
A7: 7 | B7: =MONTH('Report Inputs'!$B$2) -> 11 | C7: =YEAR('Report Inputs'!$B$2) -> 2015 | D7: 66571 | F7: OXY USA WTP LP | G7: PO BOX 27570 | H7: HOUSTON | I7: TEXAS | J7: 77227-7570 | K7: 713 | L7: 215-7309 | M7: 713 | N7: 985-1893 | O7: N | P7: 45 | Q7: 6897 | R7: 0 | S7: CASCADE CREEK 605-1 | T7: WFCM | U7: =IF(V7>0,"PR","SI") -> PR | V7: =IF(ISNA(VLOOKUP($Q7,data,4,FALSE)),0,VLOOKUP($Q7,data,4,FALSE)) -> 6 | W7: SENW | X7: 5 | Y7: 6S | Z7: 97W | AA7: =IF(ISNA(VLOOKUP($Q7,data,5,FALSE)),0,VLOOKUP($Q7,data,5,FALSE)) -> 0.483 | AB7: =IF(ISNA(VLOOKUP($Q7,data,7,FALSE)),0,VLOOKUP($Q7,data,7,FALSE)) -> 0.015 | AC7: =IF(ISNA(VLOOKUP($Q7,data,6,FALSE)),0,VLOOKUP($Q7,data,6,FALSE)) -> 0.469 | AD7: =ROUND(AC7,0)+ROUND(AE7,0)-ROUND(AA7,0)-ROUND(AB7,0) -> 0 | AE7: =IF(ISNA(VLOOKUP($Q7,data,13,FALSE)),0,VLOOKUP($Q7,data,13,FALSE)) -> 0.029 | AF7: =IF(ISNA(VLOOKUP($Q7,data,9,FALSE)),0,VLOOKUP($Q7,data,9,FALSE)) -> 375.65 | AG7: =IF(ISNA(VLOOKUP($Q7,data,10,FALSE)),0,VLOOKUP($Q7,data,10,FALSE)) -> 0 | AH7: =IF(ISNA(VLOOKUP($Q7,data,11,FALSE)),0,VLOOKUP($Q7,data,11,FALSE)) -> 286.686 | AI7: =ROUND(AF7,0)-ROUND(AG7,0)-ROUND(AH7,0)-ROUND(AJ7,0) -> 0 | AJ7: =IF(ISNA(VLOOKUP($Q7,data,8,FALSE)),0,VLOOKUP($Q7,data,8,FALSE)) -> 88.964 | AL7: ='Report Inputs'!$E$2 -> 1080 | AM7: =IF(ISNA(VLOOKUP($Q7,data,14,FALSE)),0,VLOOKUP($Q7,data,14,FALSE)) -> 0.026 | AN7: C | AS7: BARBARA EPHRAIM | AT7: Y | AU7: PROD. ACCOUNTANT | AV7: =NOW() -> 42376.365
A8: 7 | B8: =MONTH('Report Inputs'!$B$2) -> 11 | C8: =YEAR('Report Inputs'!$B$2) -> 2015 | D8: 66571 | F8: OXY USA WTP LP | G8: PO BOX 27570 | H8: HOUSTON | I8: TEXAS | J8: 77227-7570 | K8: 713 | L8: 215-7309 | M8: 713 | N8: 985-1893 | O8: N | P8: 45 | Q8: 7210 | R8: 0 | S8: CASCADE CREEK 605-2 | T8: WMFK | U8: =IF(V8>0,"PR","SI") -> PR | V8: =IF(ISNA(VLOOKUP($Q8,data,4,FALSE)),0,VLOOKUP($Q8,data,4,FALSE)) -> 27 | W8: NWSE | X8: 5 | Y8: 6S | Z8: 97W | AA8: =IF(ISNA(VLOOKUP($Q8,data,5,FALSE)),0,VLOOKUP($Q8,data,5,FALSE)) -> 0.092 | AB8: =IF(ISNA(VLOOKUP($Q8,data,7,FALSE)),0,VLOOKUP($Q8,data,7,FALSE)) -> 0.144 | AC8: =IF(ISNA(VLOOKUP($Q8,data,6,FALSE)),0,VLOOKUP($Q8,data,6,FALSE)) -> 0.183 | AD8: =ROUND(AC8,0)+ROUND(AE8,0)-ROUND(AA8,0)-ROUND(AB8,0) -> 0 | AE8: =IF(ISNA(VLOOKUP($Q8,data,13,FALSE)),0,VLOOKUP($Q8,data,13,FALSE)) -> 0.053 | AF8: =IF(ISNA(VLOOKUP($Q8,data,9,FALSE)),0,VLOOKUP($Q8,data,9,FALSE)) -> 1144.15 | AG8: =IF(ISNA(VLOOKUP($Q8,data,10,FALSE)),0,VLOOKUP($Q8,data,10,FALSE)) -> 0 | AH8: =IF(ISNA(VLOOKUP($Q8,data,11,FALSE)),0,VLOOKUP($Q8,data,11,FALSE)) -> 320.037 | AI8: =ROUND(AF8,0)-ROUND(AG8,0)-ROUND(AH8,0)-ROUND(AJ8,0) -> 0 | AJ8: =IF(ISNA(VLOOKUP($Q8,data,8,FALSE)),0,VLOOKUP($Q8,data,8,FALSE)) -> 824.113 | AL8: ='Report Inputs'!$E$2 -> 1080 | AM8: =IF(ISNA(VLOOKUP($Q8,data,14,FALSE)),0,VLOOKUP($Q8,data,14,FALSE)) -> 60.194 | AN8: C | AS8: BARBARA EPHRAIM | AT8: Y | AU8: PROD. ACCOUNTANT | AV8: =NOW() -> 42376.365
A9: 7 | B9: =MONTH('Report Inputs'!$B$2) -> 11 | C9: =YEAR('Report Inputs'!$B$2) -> 2015 | D9: 66571 | F9: OXY USA WTP LP | G9: PO BOX 27570 | H9: HOUSTON | I9: TEXAS | J9: 77227-7570 | K9: 713 | L9: 215-7309 | M9: 713 | N9: 985-1893 | O9: N | P9: 45 | Q9: 7211 | R9: 0 | S9: CASCADE CREEK 620-21 | T9: WMFK | U9: =IF(V9>0,"PR","SI") -> PR | V9: =IF(ISNA(VLOOKUP($Q9,data,4,FALSE)),0,VLOOKUP($Q9,data,4,FALSE)) -> 30 | W9: NENW | X9: 20 | Y9: 6S | Z9: 97W | AA9: =IF(ISNA(VLOOKUP($Q9,data,5,FALSE)),0,VLOOKUP($Q9,data,5,FALSE)) -> 0.121 | AB9: =IF(ISNA(VLOOKUP($Q9,data,7,FALSE)),0,VLOOKUP($Q9,data,7,FALSE)) -> 0.825 | AC9: =IF(ISNA(VLOOKUP($Q9,data,6,FALSE)),0,VLOOKUP($Q9,data,6,FALSE)) -> 0.84 | AD9: =ROUND(AC9,0)+ROUND(AE9,0)-ROUND(AA9,0)-ROUND(AB9,0) -> 0 | AE9: =IF(ISNA(VLOOKUP($Q9,data,13,FALSE)),0,VLOOKUP($Q9,data,13,FALSE)) -> 0.106 | AF9: =IF(ISNA(VLOOKUP($Q9,data,9,FALSE)),0,VLOOKUP($Q9,data,9,FALSE)) -> 1578.99 | AG9: =IF(ISNA(VLOOKUP($Q9,data,10,FALSE)),0,VLOOKUP($Q9,data,10,FALSE)) -> 0.12 | AH9: =IF(ISNA(VLOOKUP($Q9,data,11,FALSE)),0,VLOOKUP($Q9,data,11,FALSE)) -> 149.42 | AI9: =ROUND(AF9,0)-ROUND(AG9,0)-ROUND(AH9,0)-ROUND(AJ9,0) -> 1 | AJ9: =IF(ISNA(VLOOKUP($Q9,data,8,FALSE)),0,VLOOKUP($Q9,data,8,FALSE)) -> 1429.45 | AK9: ='Report Inputs'!$F$2 -> 55.9 | AL9: ='Report Inputs'!$E$2 -> 1080 | AM9: =IF(ISNA(VLOOKUP($Q9,data,14,FALSE)),0,VLOOKUP($Q9,data,14,FALSE)) -> 14.839 | AN9: C | AS9: BARBARA EPHRAIM | AT9: Y | AU9: PROD. ACCOUNTANT | AV9: =NOW() -> 42376.365
A10: 7 | B10: =MONTH('Report Inputs'!$B$2) -> 11 | C10: =YEAR('Report Inputs'!$B$2) -> 2015 | D10: 66571 | F10: OXY USA WTP LP | G10: PO BOX 27570 | H10: HOUSTON | I10: TEXAS | J10: 77227-7570 | K10: 713 | L10: 215-7309 | M10: 713 | N10: 985-1893 | O10: N | P10: 45 | Q10: 7320 | R10: 0 | S10: CASCADE CREEK 609-2 | T10: WFCM | U10: =IF(V10>0,"PR","SI") -> SI | V10: =IF(ISNA(VLOOKUP($Q10,data,4,FALSE)),0,VLOOKUP($Q10,data,4,FALSE)) -> 0 | W10: SENW | X10: 9 | Y10: 6S | Z10: 97W | AA10: =IF(ISNA(VLOOKUP($Q10,data,5,FALSE)),0,VLOOKUP($Q10,data,5,FALSE)) -> 0 | AB10: =IF(ISNA(VLOOKUP($Q10,data,7,FALSE)),0,VLOOKUP($Q10,data,7,FALSE)) -> 0 | AC10: =IF(ISNA(VLOOKUP($Q10,data,6,FALSE)),0,VLOOKUP($Q10,data,6,FALSE)) -> 0 | AD10: =ROUND(AC10,0)+ROUND(AE10,0)-ROUND(AA10,0)-ROUND(AB10,0) -> 0 | AE10: =IF(ISNA(VLOOKUP($Q10,data,13,FALSE)),0,VLOOKUP($Q10,data,13,FALSE)) -> 0 | AF10: =IF(ISNA(VLOOKUP($Q10,data,9,FALSE)),0,VLOOKUP($Q10,data,9,FALSE)) -> 0 | AG10: =IF(ISNA(VLOOKUP($Q10,data,10,FALSE)),0,VLOOKUP($Q10,data,10,FALSE)) -> 0 | AH10: =IF(ISNA(VLOOKUP($Q10,data,11,FALSE)),0,VLOOKUP($Q10,data,11,FALSE)) -> 0 | AI10: =ROUND(AF10,0)-ROUND(AG10,0)-ROUND(AH10,0)-ROUND(AJ10,0) -> 0 | AJ10: =IF(ISNA(VLOOKUP($Q10,data,8,FALSE)),0,VLOOKUP($Q10,data,8,FALSE)) -> 0 | AM10: =IF(ISNA(VLOOKUP($Q10,data,14,FALSE)),0,VLOOKUP($Q10,data,14,FALSE)) -> 0 | AN10: C | AS10: BARBARA EPHRAIM | AT10: Y | AU10: PROD. ACCOUNTANT | AV10: =NOW() -> 42376.365
A11: 7 | B11: =MONTH('Report Inputs'!$B$2) -> 11 | C11: =YEAR('Report Inputs'!$B$2) -> 2015 | D11: 66571 | F11: OXY USA WTP LP | G11: PO BOX 27570 | H11: HOUSTON | I11: TEXAS | J11: 77227-7570 | K11: 713 | L11: 215-7309 | M11: 713 | N11: 985-1893 | O11: N | P11: 45 | Q11: 7450 | R11: 0 | S11: CASCADE CREEK 617-24 | T11: WMFK | U11: =IF(V11>0,"PR","SI") -> PR | V11: =IF(ISNA(VLOOKUP($Q11,data,4,FALSE)),0,VLOOKUP($Q11,data,4,FALSE)) -> 30 | W11: SESW | X11: 17 | Y11: 6S | Z11: 97W | AA11: =IF(ISNA(VLOOKUP($Q11,data,5,FALSE)),0,VLOOKUP($Q11,data,5,FALSE)) -> 0.155 | AB11: =IF(ISNA(VLOOKUP($Q11,data,7,FALSE)),0,VLOOKUP($Q11,data,7,FALSE)) -> 2.392 | AC11: =IF(ISNA(VLOOKUP($Q11,data,6,FALSE)),0,VLOOKUP($Q11,data,6,FALSE)) -> 2.394 | AD11: =ROUND(AC11,0)+ROUND(AE11,0)-ROUND(AA11,0)-ROUND(AB11,0) -> 0 | AE11: =IF(ISNA(VLOOKUP($Q11,data,13,FALSE)),0,VLOOKUP($Q11,data,13,FALSE)) -> 0.153 | AF11: =IF(ISNA(VLOOKUP($Q11,data,9,FALSE)),0,VLOOKUP($Q11,data,9,FALSE)) -> 1526.33 | AG11: =IF(ISNA(VLOOKUP($Q11,data,10,FALSE)),0,VLOOKUP($Q11,data,10,FALSE)) -> 0.44 | AH11: =IF(ISNA(VLOOKUP($Q11,data,11,FALSE)),0,VLOOKUP($Q11,data,11,FALSE)) -> 273.507 | AI11: =ROUND(AF11,0)-ROUND(AG11,0)-ROUND(AH11,0)-ROUND(AJ11,0) -> 0 | AJ11: =IF(ISNA(VLOOKUP($Q11,data,8,FALSE)),0,VLOOKUP($Q11,data,8,FALSE)) -> 1252.383 | AK11: ='Report Inputs'!$F$2 -> 55.9 | AL11: ='Report Inputs'!$E$2 -> 1080 | AM11: =IF(ISNA(VLOOKUP($Q11,data,14,FALSE)),0,VLOOKUP($Q11,data,14,FALSE)) -> 25.885 | AN11: C | AS11: BARBARA EPHRAIM | AT11: Y | AU11: PROD. ACCOUNTANT | AV11: =NOW() -> 42376.365
A12: 7 | B12: =MONTH('Report Inputs'!$B$2) -> 11 | C12: =YEAR('Report Inputs'!$B$2) -> 2015 | D12: 66571 | F12: OXY USA WTP LP | G12: PO BOX 27570 | H12: HOUSTON | I12: TEXAS | J12: 77227-7570 | K12: 713 | L12: 215-7309 | M12: 713 | N12: 985-1893 | O12: N | P12: 45 | Q12: 7519 | R12: 0 | S12: CASCADE CREEK 608-41 | T12: WMFK | U12: =IF(V12>0,"PR","SI") -> PR | V12: =IF(ISNA(VLOOKUP($Q12,data,4,FALSE)),0,VLOOKUP($Q12,data,4,FALSE)) -> 30 | W12: NENE | X12: 8 | Y12: 6S | Z12: 97W | AA12: =IF(ISNA(VLOOKUP($Q12,data,5,FALSE)),0,VLOOKUP($Q12,data,5,FALSE)) -> 0.224 | AB12: =IF(ISNA(VLOOKUP($Q12,data,7,FALSE)),0,VLOOKUP($Q12,data,7,FALSE)) -> 0.229 | AC12: =IF(ISNA(VLOOKUP($Q12,data,6,FALSE)),0,VLOOKUP($Q12,data,6,FALSE)) -> 0.374 | AD12: =ROUND(AC12,0)+ROUND(AE12,0)-ROUND(AA12,0)-ROUND(AB12,0) -> 0 | AE12: =IF(ISNA(VLOOKUP($Q12,data,13,FALSE)),0,VLOOKUP($Q12,data,13,FALSE)) -> 0.079 | AF12: =IF(ISNA(VLOOKUP($Q12,data,9,FALSE)),0,VLOOKUP($Q12,data,9,FALSE)) -> 1825.78 | AG12: =IF(ISNA(VLOOKUP($Q12,data,10,FALSE)),0,VLOOKUP($Q12,data,10,FALSE)) -> 0 | AH12: =IF(ISNA(VLOOKUP($Q12,data,11,FALSE)),0,VLOOKUP($Q12,data,11,FALSE)) -> 508.157 | AI12: =ROUND(AF12,0)-ROUND(AG12,0)-ROUND(AH12,0)-ROUND(AJ12,0) -> 0 | AJ12: =IF(ISNA(VLOOKUP($Q12,data,8,FALSE)),0,VLOOKUP($Q12,data,8,FALSE)) -> 1317.623 | AL12: ='Report Inputs'!$E$2 -> 1080 | AM12: =IF(ISNA(VLOOKUP($Q12,data,14,FALSE)),0,VLOOKUP($Q12,data,14,FALSE)) -> 40.461 | AN12: C | AS12: BARBARA EPHRAIM | AT12: Y | AU12: PROD. ACCOUNTANT | AV12: =NOW() -> 42376.365
A13: 7 | B13: =MONTH('Report Inputs'!$B$2) -> 11 | C13: =YEAR('Report Inputs'!$B$2) -> 2015 | D13: 66571 | F13: OXY USA WTP LP | G13: PO BOX 27570 | H13: HOUSTON | I13: TEXAS | J13: 77227-7570 | K13: 713 | L13: 215-7309 | M13: 713 | N13: 985-1893 | O13: N | P13: 45 | Q13: 7521 | R13: 0 | S13: CASCADE CREEK 620-33 | T13: WMFK | U13: =IF(V13>0,"PR","SI") -> PR | V13: =IF(ISNA(VLOOKUP($Q13,data,4,FALSE)),0,VLOOKUP($Q13,data,4,FALSE)) -> 30 | W13: NWSE | X13: 20 | Y13: 6S | Z13: 97W | AA13: =IF(ISNA(VLOOKUP($Q13,data,5,FALSE)),0,VLOOKUP($Q13,data,5,FALSE)) -> 0.497 | AB13: =IF(ISNA(VLOOKUP($Q13,data,7,FALSE)),0,VLOOKUP($Q13,data,7,FALSE)) -> 13.048 | AC13: =IF(ISNA(VLOOKUP($Q13,data,6,FALSE)),0,VLOOKUP($Q13,data,6,FALSE)) -> 13.014 | AD13: =ROUND(AC13,0)+ROUND(AE13,0)-ROUND(AA13,0)-ROUND(AB13,0) -> 1 | AE13: =IF(ISNA(VLOOKUP($Q13,data,13,FALSE)),0,VLOOKUP($Q13,data,13,FALSE)) -> 0.531 | AF13: =IF(ISNA(VLOOKUP($Q13,data,9,FALSE)),0,VLOOKUP($Q13,data,9,FALSE)) -> 1647.37 | AG13: =IF(ISNA(VLOOKUP($Q13,data,10,FALSE)),0,VLOOKUP($Q13,data,10,FALSE)) -> 2.6 | AH13: =IF(ISNA(VLOOKUP($Q13,data,11,FALSE)),0,VLOOKUP($Q13,data,11,FALSE)) -> 341.208 | AI13: =ROUND(AF13,0)-ROUND(AG13,0)-ROUND(AH13,0)-ROUND(AJ13,0) -> -1 | AJ13: =IF(ISNA(VLOOKUP($Q13,data,8,FALSE)),0,VLOOKUP($Q13,data,8,FALSE)) -> 1303.562 | AK13: ='Report Inputs'!$F$2 -> 55.9 | AL13: ='Report Inputs'!$E$2 -> 1080 | AM13: =IF(ISNA(VLOOKUP($Q13,data,14,FALSE)),0,VLOOKUP($Q13,data,14,FALSE)) -> 165.222 | AN13: C | AS13: BARBARA EPHRAIM | AT13: Y | AU13: PROD. ACCOUNTANT | AV13: =NOW() -> 42376.365
A14: 7 | B14: =MONTH('Report Inputs'!$B$2) -> 11 | C14: =YEAR('Report Inputs'!$B$2) -> 2015 | D14: 66571 | F14: OXY USA WTP LP | G14: PO BOX 27570 | H14: HOUSTON | I14: TEXAS | J14: 77227-7570 | K14: 713 | L14: 215-7309 | M14: 713 | N14: 985-1893 | O14: N | P14: 45 | Q14: 7522 | R14: 0 | S14: CASCADE CREEK 605-23 | T14: WMFK | U14: =IF(V14>0,"PR","SI") -> PR | V14: =IF(ISNA(VLOOKUP($Q14,data,4,FALSE)),0,VLOOKUP($Q14,data,4,FALSE)) -> 30 | W14: NESW | X14: 5 | Y14: 6S | Z14: 97W | AA14: =IF(ISNA(VLOOKUP($Q14,data,5,FALSE)),0,VLOOKUP($Q14,data,5,FALSE)) -> 0.95 | AB14: =IF(ISNA(VLOOKUP($Q14,data,7,FALSE)),0,VLOOKUP($Q14,data,7,FALSE)) -> 13.816 | AC14: =IF(ISNA(VLOOKUP($Q14,data,6,FALSE)),0,VLOOKUP($Q14,data,6,FALSE)) -> 13.958 | AD14: =ROUND(AC14,0)+ROUND(AE14,0)-ROUND(AA14,0)-ROUND(AB14,0) -> 0 | AE14: =IF(ISNA(VLOOKUP($Q14,data,13,FALSE)),0,VLOOKUP($Q14,data,13,FALSE)) -> 0.808 | AF14: =IF(ISNA(VLOOKUP($Q14,data,9,FALSE)),0,VLOOKUP($Q14,data,9,FALSE)) -> 6440.96 | AG14: =IF(ISNA(VLOOKUP($Q14,data,10,FALSE)),0,VLOOKUP($Q14,data,10,FALSE)) -> 2.59 | AH14: =IF(ISNA(VLOOKUP($Q14,data,11,FALSE)),0,VLOOKUP($Q14,data,11,FALSE)) -> 482.28 | AI14: =ROUND(AF14,0)-ROUND(AG14,0)-ROUND(AH14,0)-ROUND(AJ14,0) -> 0 | AJ14: =IF(ISNA(VLOOKUP($Q14,data,8,FALSE)),0,VLOOKUP($Q14,data,8,FALSE)) -> 5956.09 | AK14: ='Report Inputs'!$F$2 -> 55.9 | AL14: ='Report Inputs'!$E$2 -> 1080 | AM14: =IF(ISNA(VLOOKUP($Q14,data,14,FALSE)),0,VLOOKUP($Q14,data,14,FALSE)) -> 274.88 | AN14: C | AS14: BARBARA EPHRAIM | AT14: Y | AU14: PROD. ACCOUNTANT | AV14: =NOW() -> 42376.365
A15: 7 | B15: =MONTH('Report Inputs'!$B$2) -> 11 | C15: =YEAR('Report Inputs'!$B$2) -> 2015 | D15: 66571 | F15: OXY USA WTP LP | G15: PO BOX 27570 | H15: HOUSTON | I15: TEXAS | J15: 77227-7570 | K15: 713 | L15: 215-7309 | M15: 713 | N15: 985-1893 | O15: N | P15: 45 | Q15: 7810 | R15: 0 | S15: CASCADE CREEK 617-41 | T15: WFCM | U15: =IF(V15>0,"PR","SI") -> PR | V15: =IF(ISNA(VLOOKUP($Q15,data,4,FALSE)),0,VLOOKUP($Q15,data,4,FALSE)) -> 30 | W15: NENE | X15: 17 | Y15: 6S | Z15: 97W | AA15: =IF(ISNA(VLOOKUP($Q15,data,5,FALSE)),0,VLOOKUP($Q15,data,5,FALSE)) -> 0.333 | AB15: =IF(ISNA(VLOOKUP($Q15,data,7,FALSE)),0,VLOOKUP($Q15,data,7,FALSE)) -> 11.132 | AC15: =IF(ISNA(VLOOKUP($Q15,data,6,FALSE)),0,VLOOKUP($Q15,data,6,FALSE)) -> 10.909 | AD15: =ROUND(AC15,0)+ROUND(AE15,0)-ROUND(AA15,0)-ROUND(AB15,0) -> 1 | AE15: =IF(ISNA(VLOOKUP($Q15,data,13,FALSE)),0,VLOOKUP($Q15,data,13,FALSE)) -> 0.556 | AF15: =IF(ISNA(VLOOKUP($Q15,data,9,FALSE)),0,VLOOKUP($Q15,data,9,FALSE)) -> 3439.1 | AG15: =IF(ISNA(VLOOKUP($Q15,data,10,FALSE)),0,VLOOKUP($Q15,data,10,FALSE)) -> 2.15 | AH15: =IF(ISNA(VLOOKUP($Q15,data,11,FALSE)),0,VLOOKUP($Q15,data,11,FALSE)) -> 419.541 | AI15: =ROUND(AF15,0)-ROUND(AG15,0)-ROUND(AH15,0)-ROUND(AJ15,0) -> 0 | AJ15: =IF(ISNA(VLOOKUP($Q15,data,8,FALSE)),0,VLOOKUP($Q15,data,8,FALSE)) -> 3017.409 | AK15: ='Report Inputs'!$F$2 -> 55.9 | AL15: ='Report Inputs'!$E$2 -> 1080 | AM15: =IF(ISNA(VLOOKUP($Q15,data,14,FALSE)),0,VLOOKUP($Q15,data,14,FALSE)) -> 49.227 | AN15: C | AS15: BARBARA EPHRAIM | AT15: Y | AU15: PROD. ACCOUNTANT | AV15: =NOW() -> 42376.365
A16: 7 | B16: =MONTH('Report Inputs'!$B$2) -> 11 | C16: =YEAR('Report Inputs'!$B$2) -> 2015 | D16: 66571 | F16: OXY USA WTP LP | G16: PO BOX 27570 | H16: HOUSTON | I16: TEXAS | J16: 77227-7570 | K16: 713 | L16: 215-7309 | M16: 713 | N16: 985-1893 | O16: N | P16: 45 | Q16: 7811 | R16: 0 | S16: CASCADE CREEK 629-31-11 | T16: WMFK | U16: =IF(V16>0,"PR","SI") -> PR | V16: =IF(ISNA(VLOOKUP($Q16,data,4,FALSE)),0,VLOOKUP($Q16,data,4,FALSE)) -> 30 | W16: NWNE | X16: 29 | Y16: 6S | Z16: 97W | AA16: =IF(ISNA(VLOOKUP($Q16,data,5,FALSE)),0,VLOOKUP($Q16,data,5,FALSE)) -> 0.96 | AB16: =IF(ISNA(VLOOKUP($Q16,data,7,FALSE)),0,VLOOKUP($Q16,data,7,FALSE)) -> 14.025 | AC16: =IF(ISNA(VLOOKUP($Q16,data,6,FALSE)),0,VLOOKUP($Q16,data,6,FALSE)) -> 14.386 | AD16: =ROUND(AC16,0)+ROUND(AE16,0)-ROUND(AA16,0)-ROUND(AB16,0) -> 0 | AE16: =IF(ISNA(VLOOKUP($Q16,data,13,FALSE)),0,VLOOKUP($Q16,data,13,FALSE)) -> 0.599 | AF16: =IF(ISNA(VLOOKUP($Q16,data,9,FALSE)),0,VLOOKUP($Q16,data,9,FALSE)) -> 2252.45 | AG16: =IF(ISNA(VLOOKUP($Q16,data,10,FALSE)),0,VLOOKUP($Q16,data,10,FALSE)) -> 2.78 | AH16: =IF(ISNA(VLOOKUP($Q16,data,11,FALSE)),0,VLOOKUP($Q16,data,11,FALSE)) -> 300.498 | AI16: =ROUND(AF16,0)-ROUND(AG16,0)-ROUND(AH16,0)-ROUND(AJ16,0) -> 0 | AJ16: =IF(ISNA(VLOOKUP($Q16,data,8,FALSE)),0,VLOOKUP($Q16,data,8,FALSE)) -> 1949.172 | AK16: ='Report Inputs'!$F$2 -> 55.9 | AL16: ='Report Inputs'!$E$2 -> 1080 | AM16: =IF(ISNA(VLOOKUP($Q16,data,14,FALSE)),0,VLOOKUP($Q16,data,14,FALSE)) -> 21.996 | AN16: C | AS16: BARBARA EPHRAIM | AT16: Y | AU16: PROD. ACCOUNTANT | AV16: =NOW() -> 42376.365
A17: 7 | B17: =MONTH('Report Inputs'!$B$2) -> 11 | C17: =YEAR('Report Inputs'!$B$2) -> 2015 | D17: 66571 | F17: OXY USA WTP LP | G17: PO BOX 27570 | H17: HOUSTON | I17: TEXAS | J17: 77227-7570 | K17: 713 | L17: 215-7309 | M17: 713 | N17: 985-1893 | O17: N | P17: 45 | Q17: 9844 | R17: 0 | S17: OXY FEDERAL 23-15 | T17: WMFK | U17: =IF(V17>0,"PR","SI") -> PR | V17: =IF(ISNA(VLOOKUP($Q17,data,4,FALSE)),0,VLOOKUP($Q17,data,4,FALSE)) -> 30 | W17: NWSW | X17: 15 | Y17: 6S | Z17: 97W | AA17: =IF(ISNA(VLOOKUP($Q17,data,5,FALSE)),0,VLOOKUP($Q17,data,5,FALSE)) -> 230.286 | AB17: =IF(ISNA(VLOOKUP($Q17,data,7,FALSE)),0,VLOOKUP($Q17,data,7,FALSE)) -> 0.896 | AC17: =IF(ISNA(VLOOKUP($Q17,data,6,FALSE)),0,VLOOKUP($Q17,data,6,FALSE)) -> 0.554 | AD17: =ROUND(AC17,0)+ROUND(AE17,0)-ROUND(AA17,0)-ROUND(AB17,0) -> 1 | AE17: =IF(ISNA(VLOOKUP($Q17,data,13,FALSE)),0,VLOOKUP($Q17,data,13,FALSE)) -> 230.628 | AF17: =IF(ISNA(VLOOKUP($Q17,data,9,FALSE)),0,VLOOKUP($Q17,data,9,FALSE)) -> 3507.32 | AG17: =IF(ISNA(VLOOKUP($Q17,data,10,FALSE)),0,VLOOKUP($Q17,data,10,FALSE)) -> 0.07 | AH17: =IF(ISNA(VLOOKUP($Q17,data,11,FALSE)),0,VLOOKUP($Q17,data,11,FALSE)) -> 422.592 | AI17: =ROUND(AF17,0)-ROUND(AG17,0)-ROUND(AH17,0)-ROUND(AJ17,0) -> -1 | AJ17: =IF(ISNA(VLOOKUP($Q17,data,8,FALSE)),0,VLOOKUP($Q17,data,8,FALSE)) -> 3084.658 | AK17: ='Report Inputs'!$F$2 -> 55.9 | AL17: ='Report Inputs'!$E$2 -> 1080 | AM17: =IF(ISNA(VLOOKUP($Q17,data,14,FALSE)),0,VLOOKUP($Q17,data,14,FALSE)) -> 32.582 | AN17: C | AS17: BARBARA EPHRAIM | AT17: Y | AU17: PROD. ACCOUNTANT | AV17: =NOW() -> 42376.365
A18: 7 | B18: =MONTH('Report Inputs'!$B$2) -> 11 | C18: =YEAR('Report Inputs'!$B$2) -> 2015 | D18: 66571 | F18: OXY USA WTP LP | G18: PO BOX 27570 | H18: HOUSTON | I18: TEXAS | J18: 77227-7570 | K18: 713 | L18: 215-7309 | M18: 713 | N18: 985-1893 | O18: N | P18: 45 | Q18: 10185 | R18: 0 | S18: CASCADE CREEK 604-44 | T18: WFCM | U18: =IF(V18>0,"PR","SI") -> PR | V18: =IF(ISNA(VLOOKUP($Q18,data,4,FALSE)),0,VLOOKUP($Q18,data,4,FALSE)) -> 30 | W18: NESE | X18: 4 | Y18: 6S | Z18: 97W | AA18: =IF(ISNA(VLOOKUP($Q18,data,5,FALSE)),0,VLOOKUP($Q18,data,5,FALSE)) -> 0.95 | AB18: =IF(ISNA(VLOOKUP($Q18,data,7,FALSE)),0,VLOOKUP($Q18,data,7,FALSE)) -> 7.08 | AC18: =IF(ISNA(VLOOKUP($Q18,data,6,FALSE)),0,VLOOKUP($Q18,data,6,FALSE)) -> 7.685 | AD18: =ROUND(AC18,0)+ROUND(AE18,0)-ROUND(AA18,0)-ROUND(AB18,0) -> 0 | AE18: =IF(ISNA(VLOOKUP($Q18,data,13,FALSE)),0,VLOOKUP($Q18,data,13,FALSE)) -> 0.345 | AF18: =IF(ISNA(VLOOKUP($Q18,data,9,FALSE)),0,VLOOKUP($Q18,data,9,FALSE)) -> 2128.84 | AG18: =IF(ISNA(VLOOKUP($Q18,data,10,FALSE)),0,VLOOKUP($Q18,data,10,FALSE)) -> 1.37 | AH18: =IF(ISNA(VLOOKUP($Q18,data,11,FALSE)),0,VLOOKUP($Q18,data,11,FALSE)) -> 362.157 | AI18: =ROUND(AF18,0)-ROUND(AG18,0)-ROUND(AH18,0)-ROUND(AJ18,0) -> 1 | AJ18: =IF(ISNA(VLOOKUP($Q18,data,8,FALSE)),0,VLOOKUP($Q18,data,8,FALSE)) -> 1765.313 | AK18: ='Report Inputs'!$F$2 -> 55.9 | AL18: ='Report Inputs'!$E$2 -> 1080 | AM18: =IF(ISNA(VLOOKUP($Q18,data,14,FALSE)),0,VLOOKUP($Q18,data,14,FALSE)) -> 112.629 | AN18: C | AS18: BARBARA EPHRAIM | AT18: Y | AU18: PROD. ACCOUNTANT | AV18: =NOW() -> 42376.365
A19: 7 | B19: =MONTH('Report Inputs'!$B$2) -> 11 | C19: =YEAR('Report Inputs'!$B$2) -> 2015 | D19: 66571 | F19: OXY USA WTP LP | G19: PO BOX 27570 | H19: HOUSTON | I19: TEXAS | J19: 77227-7570 | K19: 713 | L19: 215-7309 | M19: 713 | N19: 985-1893 | O19: N | P19: 45 | Q19: 10194 | R19: 0 | S19: OXY FEDERAL 604-11 | T19: WMFK | U19: =IF(V19>0,"PR","SI") -> PR | V19: =IF(ISNA(VLOOKUP($Q19,data,4,FALSE)),0,VLOOKUP($Q19,data,4,FALSE)) -> 30 | W19: NWNW | X19: 4 | Y19: 6S | Z19: 97W | AA19: =IF(ISNA(VLOOKUP($Q19,data,5,FALSE)),0,VLOOKUP($Q19,data,5,FALSE)) -> 88.807 | AB19: =IF(ISNA(VLOOKUP($Q19,data,7,FALSE)),0,VLOOKUP($Q19,data,7,FALSE)) -> 5.408 | AC19: =IF(ISNA(VLOOKUP($Q19,data,6,FALSE)),0,VLOOKUP($Q19,data,6,FALSE)) -> 0.409 | AD19: =ROUND(AC19,0)+ROUND(AE19,0)-ROUND(AA19,0)-ROUND(AB19,0) -> 0 | AE19: =IF(ISNA(VLOOKUP($Q19,data,13,FALSE)),0,VLOOKUP($Q19,data,13,FALSE)) -> 93.806 | AF19: =IF(ISNA(VLOOKUP($Q19,data,9,FALSE)),0,VLOOKUP($Q19,data,9,FALSE)) -> 2655.67 | AG19: =IF(ISNA(VLOOKUP($Q19,data,10,FALSE)),0,VLOOKUP($Q19,data,10,FALSE)) -> 1.02 | AH19: =IF(ISNA(VLOOKUP($Q19,data,11,FALSE)),0,VLOOKUP($Q19,data,11,FALSE)) -> 385.59 | AI19: =ROUND(AF19,0)-ROUND(AG19,0)-ROUND(AH19,0)-ROUND(AJ19,0) -> 0 | AJ19: =IF(ISNA(VLOOKUP($Q19,data,8,FALSE)),0,VLOOKUP($Q19,data,8,FALSE)) -> 2269.06 | AL19: ='Report Inputs'!$E$2 -> 1080 | AM19: =IF(ISNA(VLOOKUP($Q19,data,14,FALSE)),0,VLOOKUP($Q19,data,14,FALSE)) -> 194.27 | AN19: C | AS19: BARBARA EPHRAIM | AT19: Y | AU19: PROD. ACCOUNTANT | AV19: =NOW() -> 42376.365
A20: 7 | B20: =MONTH('Report Inputs'!$B$2) -> 11 | C20: =YEAR('Report Inputs'!$B$2) -> 2015 | D20: 66571 | F20: OXY USA WTP LP | G20: PO BOX 27570 | H20: HOUSTON | I20: TEXAS | J20: 77227-7570 | K20: 713 | L20: 215-7309 | M20: 713 | N20: 985-1893 | O20: N | P20: 45 | Q20: 10201 | R20: 0 | S20: CASCADE CREEK 609-14 | T20: WMFK | U20: =IF(V20>0,"PR","SI") -> PR | V20: =IF(ISNA(VLOOKUP($Q20,data,4,FALSE)),0,VLOOKUP($Q20,data,4,FALSE)) -> 30 | W20: SWSW | X20: 9 | Y20: 6S | Z20: 97W | AA20: =IF(ISNA(VLOOKUP($Q20,data,5,FALSE)),0,VLOOKUP($Q20,data,5,FALSE)) -> 0.521 | AB20: =IF(ISNA(VLOOKUP($Q20,data,7,FALSE)),0,VLOOKUP($Q20,data,7,FALSE)) -> 11.108 | AC20: =IF(ISNA(VLOOKUP($Q20,data,6,FALSE)),0,VLOOKUP($Q20,data,6,FALSE)) -> 11.038 | AD20: =ROUND(AC20,0)+ROUND(AE20,0)-ROUND(AA20,0)-ROUND(AB20,0) -> 0 | AE20: =IF(ISNA(VLOOKUP($Q20,data,13,FALSE)),0,VLOOKUP($Q20,data,13,FALSE)) -> 0.591 | AF20: =IF(ISNA(VLOOKUP($Q20,data,9,FALSE)),0,VLOOKUP($Q20,data,9,FALSE)) -> 4165.19 | AG20: =IF(ISNA(VLOOKUP($Q20,data,10,FALSE)),0,VLOOKUP($Q20,data,10,FALSE)) -> 2.12 | AH20: =IF(ISNA(VLOOKUP($Q20,data,11,FALSE)),0,VLOOKUP($Q20,data,11,FALSE)) -> 450.498 | AI20: =ROUND(AF20,0)-ROUND(AG20,0)-ROUND(AH20,0)-ROUND(AJ20,0) -> 0 | AJ20: =IF(ISNA(VLOOKUP($Q20,data,8,FALSE)),0,VLOOKUP($Q20,data,8,FALSE)) -> 3712.572 | AK20: ='Report Inputs'!$F$2 -> 55.9 | AL20: ='Report Inputs'!$E$2 -> 1080 | AM20: =IF(ISNA(VLOOKUP($Q20,data,14,FALSE)),0,VLOOKUP($Q20,data,14,FALSE)) -> 73.361 | AN20: C | AS20: BARBARA EPHRAIM | AT20: Y | AU20: PROD. ACCOUNTANT | AV20: =NOW() -> 42376.365
A21: 7 | B21: =MONTH('Report Inputs'!$B$2) -> 11 | C21: =YEAR('Report Inputs'!$B$2) -> 2015 | D21: 66571 | F21: OXY USA WTP LP | G21: PO BOX 27570 | H21: HOUSTON | I21: TEXAS | J21: 77227-7570 | K21: 713 | L21: 215-7309 | M21: 713 | N21: 985-1893 | O21: N | P21: 45 | Q21: 10258 | R21: 0 | S21: OXY FEDERAL 708-11 | T21: WMFK | U21: =IF(V21>0,"PR","SI") -> PR | V21: =IF(ISNA(VLOOKUP($Q21,data,4,FALSE)),0,VLOOKUP($Q21,data,4,FALSE)) -> 30 | W21: LOT 2 | X21: 8 | Y21: 7S | Z21: 97W | AA21: =IF(ISNA(VLOOKUP($Q21,data,5,FALSE)),0,VLOOKUP($Q21,data,5,FALSE)) -> 40.274 | AB21: =IF(ISNA(VLOOKUP($Q21,data,7,FALSE)),0,VLOOKUP($Q21,data,7,FALSE)) -> 0.182 | AC21: =IF(ISNA(VLOOKUP($Q21,data,6,FALSE)),0,VLOOKUP($Q21,data,6,FALSE)) -> 0.191 | AD21: =ROUND(AC21,0)+ROUND(AE21,0)-ROUND(AA21,0)-ROUND(AB21,0) -> 0 | AE21: =IF(ISNA(VLOOKUP($Q21,data,13,FALSE)),0,VLOOKUP($Q21,data,13,FALSE)) -> 40.265 | AF21: =IF(ISNA(VLOOKUP($Q21,data,9,FALSE)),0,VLOOKUP($Q21,data,9,FALSE)) -> 1377.95 | AG21: =IF(ISNA(VLOOKUP($Q21,data,10,FALSE)),0,VLOOKUP($Q21,data,10,FALSE)) -> 0 | AH21: =IF(ISNA(VLOOKUP($Q21,data,11,FALSE)),0,VLOOKUP($Q21,data,11,FALSE)) -> 330.184 | AI21: =ROUND(AF21,0)-ROUND(AG21,0)-ROUND(AH21,0)-ROUND(AJ21,0) -> 0 | AJ21: =IF(ISNA(VLOOKUP($Q21,data,8,FALSE)),0,VLOOKUP($Q21,data,8,FALSE)) -> 1047.766 | AL21: ='Report Inputs'!$E$2 -> 1080 | AM21: =IF(ISNA(VLOOKUP($Q21,data,14,FALSE)),0,VLOOKUP($Q21,data,14,FALSE)) -> 0.309 | AN21: C | AS21: BARBARA EPHRAIM | AT21: Y | AU21: PROD. ACCOUNTANT | AV21: =NOW() -> 42376.365
A22: 7 | B22: =MONTH('Report Inputs'!$B$2) -> 11 | C22: =YEAR('Report Inputs'!$B$2) -> 2015 | D22: 66571 | F22: OXY USA WTP LP | G22: PO BOX 27570 | H22: HOUSTON | I22: TEXAS | J22: 77227-7570 | K22: 713 | L22: 215-7309 | M22: 713 | N22: 985-1893 | O22: N | P22: 45 | Q22: 10336 | R22: 0 | S22: CASCADE CREEK 632-21-41 | T22: WFCM | U22: =IF(V22>0,"PR","SI") -> PR | V22: =IF(ISNA(VLOOKUP($Q22,data,4,FALSE)),0,VLOOKUP($Q22,data,4,FALSE)) -> 24 | W22: LOT 3 | X22: 32 | Y22: 6S | Z22: 97W | AA22: =IF(ISNA(VLOOKUP($Q22,data,5,FALSE)),0,VLOOKUP($Q22,data,5,FALSE)) -> 3.145 | AB22: =IF(ISNA(VLOOKUP($Q22,data,7,FALSE)),0,VLOOKUP($Q22,data,7,FALSE)) -> 16.111 | AC22: =IF(ISNA(VLOOKUP($Q22,data,6,FALSE)),0,VLOOKUP($Q22,data,6,FALSE)) -> 18.624 | AD22: =ROUND(AC22,0)+ROUND(AE22,0)-ROUND(AA22,0)-ROUND(AB22,0) -> 1 | AE22: =IF(ISNA(VLOOKUP($Q22,data,13,FALSE)),0,VLOOKUP($Q22,data,13,FALSE)) -> 0.632 | AF22: =IF(ISNA(VLOOKUP($Q22,data,9,FALSE)),0,VLOOKUP($Q22,data,9,FALSE)) -> 1491.88 | AG22: =IF(ISNA(VLOOKUP($Q22,data,10,FALSE)),0,VLOOKUP($Q22,data,10,FALSE)) -> 3.23 | AH22: =IF(ISNA(VLOOKUP($Q22,data,11,FALSE)),0,VLOOKUP($Q22,data,11,FALSE)) -> 334.988 | AI22: =ROUND(AF22,0)-ROUND(AG22,0)-ROUND(AH22,0)-ROUND(AJ22,0) -> 0 | AJ22: =IF(ISNA(VLOOKUP($Q22,data,8,FALSE)),0,VLOOKUP($Q22,data,8,FALSE)) -> 1153.662 | AK22: ='Report Inputs'!$F$2 -> 55.9 | AL22: ='Report Inputs'!$E$2 -> 1080 | AM22: =IF(ISNA(VLOOKUP($Q22,data,14,FALSE)),0,VLOOKUP($Q22,data,14,FALSE)) -> 573.041 | AN22: C | AS22: BARBARA EPHRAIM | AT22: Y | AU22: PROD. ACCOUNTANT | AV22: =NOW() -> 42376.365
A23: 7 | B23: =MONTH('Report Inputs'!$B$2) -> 11 | C23: =YEAR('Report Inputs'!$B$2) -> 2015 | D23: 66571 | F23: OXY USA WTP LP | G23: PO BOX 27570 | H23: HOUSTON | I23: TEXAS | J23: 77227-7570 | K23: 713 | L23: 215-7309 | M23: 713 | N23: 985-1893 | O23: N | P23: 45 | Q23: 10345 | R23: 0 | S23: CASCADE CREEK 705-22-43 | T23: WMFK | U23: =IF(V23>0,"PR","SI") -> PR | V23: =IF(ISNA(VLOOKUP($Q23,data,4,FALSE)),0,VLOOKUP($Q23,data,4,FALSE)) -> 30 | W23: SENW | X23: 5 | Y23: 7S | Z23: 97W | AA23: =IF(ISNA(VLOOKUP($Q23,data,5,FALSE)),0,VLOOKUP($Q23,data,5,FALSE)) -> 0.95 | AB23: =IF(ISNA(VLOOKUP($Q23,data,7,FALSE)),0,VLOOKUP($Q23,data,7,FALSE)) -> 3.602 | AC23: =IF(ISNA(VLOOKUP($Q23,data,6,FALSE)),0,VLOOKUP($Q23,data,6,FALSE)) -> 4.332 | AD23: =ROUND(AC23,0)+ROUND(AE23,0)-ROUND(AA23,0)-ROUND(AB23,0) -> -1 | AE23: =IF(ISNA(VLOOKUP($Q23,data,13,FALSE)),0,VLOOKUP($Q23,data,13,FALSE)) -> 0.22 | AF23: =IF(ISNA(VLOOKUP($Q23,data,9,FALSE)),0,VLOOKUP($Q23,data,9,FALSE)) -> 1964.94 | AG23: =IF(ISNA(VLOOKUP($Q23,data,10,FALSE)),0,VLOOKUP($Q23,data,10,FALSE)) -> 0.67 | AH23: =IF(ISNA(VLOOKUP($Q23,data,11,FALSE)),0,VLOOKUP($Q23,data,11,FALSE)) -> 247.457 | AI23: =ROUND(AF23,0)-ROUND(AG23,0)-ROUND(AH23,0)-ROUND(AJ23,0) -> 0 | AJ23: =IF(ISNA(VLOOKUP($Q23,data,8,FALSE)),0,VLOOKUP($Q23,data,8,FALSE)) -> 1716.813 | AK23: ='Report Inputs'!$F$2 -> 55.9 | AL23: ='Report Inputs'!$E$2 -> 1080 | AM23: =IF(ISNA(VLOOKUP($Q23,data,14,FALSE)),0,VLOOKUP($Q23,data,14,FALSE)) -> 88.383 | AN23: C | AS23: BARBARA EPHRAIM | AT23: Y | AU23: PROD. ACCOUNTANT | AV23: =NOW() -> 42376.365
A24: 7 | B24: =MONTH('Report Inputs'!$B$2) -> 11 | C24: =YEAR('Report Inputs'!$B$2) -> 2015 | D24: 66571 | F24: OXY USA WTP LP | G24: PO BOX 27570 | H24: HOUSTON | I24: TEXAS | J24: 77227-7570 | K24: 713 | L24: 215-7309 | M24: 713 | N24: 985-1893 | O24: N | P24: 45 | Q24: 10444 | R24: 0 | S24: CASCADE CREEK 616-21-32 | T24: WFCM | U24: =IF(V24>0,"PR","SI") -> PR | V24: =IF(ISNA(VLOOKUP($Q24,data,4,FALSE)),0,VLOOKUP($Q24,data,4,FALSE)) -> 30 | W24: NENW | X24: 16 | Y24: 6S | Z24: 97W | AA24: =IF(ISNA(VLOOKUP($Q24,data,5,FALSE)),0,VLOOKUP($Q24,data,5,FALSE)) -> 3.365 | AB24: =IF(ISNA(VLOOKUP($Q24,data,7,FALSE)),0,VLOOKUP($Q24,data,7,FALSE)) -> 0.858 | AC24: =IF(ISNA(VLOOKUP($Q24,data,6,FALSE)),0,VLOOKUP($Q24,data,6,FALSE)) -> 3.942 | AD24: =ROUND(AC24,0)+ROUND(AE24,0)-ROUND(AA24,0)-ROUND(AB24,0) -> 0 | AE24: =IF(ISNA(VLOOKUP($Q24,data,13,FALSE)),0,VLOOKUP($Q24,data,13,FALSE)) -> 0.281 | AF24: =IF(ISNA(VLOOKUP($Q24,data,9,FALSE)),0,VLOOKUP($Q24,data,9,FALSE)) -> 5434.87 | AG24: =IF(ISNA(VLOOKUP($Q24,data,10,FALSE)),0,VLOOKUP($Q24,data,10,FALSE)) -> 0 | AH24: =IF(ISNA(VLOOKUP($Q24,data,11,FALSE)),0,VLOOKUP($Q24,data,11,FALSE)) -> 505.692 | AI24: =ROUND(AF24,0)-ROUND(AG24,0)-ROUND(AH24,0)-ROUND(AJ24,0) -> 0 | AJ24: =IF(ISNA(VLOOKUP($Q24,data,8,FALSE)),0,VLOOKUP($Q24,data,8,FALSE)) -> 4929.178 | AK24: ='Report Inputs'!$F$2 -> 55.9 | AL24: ='Report Inputs'!$E$2 -> 1080 | AM24: =IF(ISNA(VLOOKUP($Q24,data,14,FALSE)),0,VLOOKUP($Q24,data,14,FALSE)) -> 1.459 | AN24: C | AS24: BARBARA EPHRAIM | AT24: Y | AU24: PROD. ACCOUNTANT | AV24: =NOW() -> 42376.365
A25: 7 | B25: =MONTH('Report Inputs'!$B$2) -> 11 | C25: =YEAR('Report Inputs'!$B$2) -> 2015 | D25: 66571 | F25: OXY USA WTP LP | G25: PO BOX 27570 | H25: HOUSTON | I25: TEXAS | J25: 77227-7570 | K25: 713 | L25: 215-7309 | M25: 713 | N25: 985-1893 | O25: N | P25: 45 | Q25: 10477 | R25: 0 | S25: CASCADE CREEK 697-20-28 | T25: WFCM | U25: =IF(V25>0,"PR","SI") -> PR | V25: =IF(ISNA(VLOOKUP($Q25,data,4,FALSE)),0,VLOOKUP($Q25,data,4,FALSE)) -> 30 | W25: SENW | X25: 20 | Y25: 6S | Z25: 97W | AA25: =IF(ISNA(VLOOKUP($Q25,data,5,FALSE)),0,VLOOKUP($Q25,data,5,FALSE)) -> 1.142 | AB25: =IF(ISNA(VLOOKUP($Q25,data,7,FALSE)),0,VLOOKUP($Q25,data,7,FALSE)) -> 3.486 | AC25: =IF(ISNA(VLOOKUP($Q25,data,6,FALSE)),0,VLOOKUP($Q25,data,6,FALSE)) -> 4.339 | AD25: =ROUND(AC25,0)+ROUND(AE25,0)-ROUND(AA25,0)-ROUND(AB25,0) -> 0 | AE25: =IF(ISNA(VLOOKUP($Q25,data,13,FALSE)),0,VLOOKUP($Q25,data,13,FALSE)) -> 0.289 | AF25: =IF(ISNA(VLOOKUP($Q25,data,9,FALSE)),0,VLOOKUP($Q25,data,9,FALSE)) -> 3454.17 | AG25: =IF(ISNA(VLOOKUP($Q25,data,10,FALSE)),0,VLOOKUP($Q25,data,10,FALSE)) -> 0.6 | AH25: =IF(ISNA(VLOOKUP($Q25,data,11,FALSE)),0,VLOOKUP($Q25,data,11,FALSE)) -> 352.745 | AI25: =ROUND(AF25,0)-ROUND(AG25,0)-ROUND(AH25,0)-ROUND(AJ25,0) -> -1 | AJ25: =IF(ISNA(VLOOKUP($Q25,data,8,FALSE)),0,VLOOKUP($Q25,data,8,FALSE)) -> 3100.825 | AK25: ='Report Inputs'!$F$2 -> 55.9 | AL25: ='Report Inputs'!$E$2 -> 1080 | AM25: =IF(ISNA(VLOOKUP($Q25,data,14,FALSE)),0,VLOOKUP($Q25,data,14,FALSE)) -> 41.257 | AN25: C | AS25: BARBARA EPHRAIM | AT25: Y | AU25: PROD. ACCOUNTANT | AV25: =NOW() -> 42376.365
A26: 7 | B26: =MONTH('Report Inputs'!$B$2) -> 11 | C26: =YEAR('Report Inputs'!$B$2) -> 2015 | D26: 66571 | F26: OXY USA WTP LP | G26: PO BOX 27570 | H26: HOUSTON | I26: TEXAS | J26: 77227-7570 | K26: 713 | L26: 215-7309 | M26: 713 | N26: 985-1893 | O26: N | P26: 45 | Q26: 10509 | R26: 0 | S26: CASCADE CREEK 797-05-36 | T26: WMFK | U26: =IF(V26>0,"PR","SI") -> SI | V26: =IF(ISNA(VLOOKUP($Q26,data,4,FALSE)),0,VLOOKUP($Q26,data,4,FALSE)) -> 0 | W26: NESW | X26: 5 | Y26: 7S | Z26: 97W | AA26: =IF(ISNA(VLOOKUP($Q26,data,5,FALSE)),0,VLOOKUP($Q26,data,5,FALSE)) -> 0.018 | AB26: =IF(ISNA(VLOOKUP($Q26,data,7,FALSE)),0,VLOOKUP($Q26,data,7,FALSE)) -> 0 | AC26: =IF(ISNA(VLOOKUP($Q26,data,6,FALSE)),0,VLOOKUP($Q26,data,6,FALSE)) -> 0.017 | AD26: =ROUND(AC26,0)+ROUND(AE26,0)-ROUND(AA26,0)-ROUND(AB26,0) -> 0 | AE26: =IF(ISNA(VLOOKUP($Q26,data,13,FALSE)),0,VLOOKUP($Q26,data,13,FALSE)) -> 0.001 | AF26: =IF(ISNA(VLOOKUP($Q26,data,9,FALSE)),0,VLOOKUP($Q26,data,9,FALSE)) -> 0 | AG26: =IF(ISNA(VLOOKUP($Q26,data,10,FALSE)),0,VLOOKUP($Q26,data,10,FALSE)) -> 0 | AH26: =IF(ISNA(VLOOKUP($Q26,data,11,FALSE)),0,VLOOKUP($Q26,data,11,FALSE)) -> 0 | AI26: =ROUND(AF26,0)-ROUND(AG26,0)-ROUND(AH26,0)-ROUND(AJ26,0) -> 0 | AJ26: =IF(ISNA(VLOOKUP($Q26,data,8,FALSE)),0,VLOOKUP($Q26,data,8,FALSE)) -> 0 | AM26: =IF(ISNA(VLOOKUP($Q26,data,14,FALSE)),0,VLOOKUP($Q26,data,14,FALSE)) -> 0 | AN26: C | AS26: BARBARA EPHRAIM | AT26: Y | AU26: PROD. ACCOUNTANT | AV26: =NOW() -> 42376.365
A27: 7 | B27: =MONTH('Report Inputs'!$B$2) -> 11 | C27: =YEAR('Report Inputs'!$B$2) -> 2015 | D27: 66571 | F27: OXY USA WTP LP | G27: PO BOX 27570 | H27: HOUSTON | I27: TEXAS | J27: 77227-7570 | K27: 713 | L27: 215-7309 | M27: 713 | N27: 985-1893 | O27: N | P27: 45 | Q27: 10512 | R27: 0 | S27: CASCADE CREEK 797-05-52 | T27: WFCM | U27: =IF(V27>0,"PR","SI") -> PR | V27: =IF(ISNA(VLOOKUP($Q27,data,4,FALSE)),0,VLOOKUP($Q27,data,4,FALSE)) -> 30 | W27: SESW | X27: 5 | Y27: 7S | Z27: 97W | AA27: =IF(ISNA(VLOOKUP($Q27,data,5,FALSE)),0,VLOOKUP($Q27,data,5,FALSE)) -> 0.674 | AB27: =IF(ISNA(VLOOKUP($Q27,data,7,FALSE)),0,VLOOKUP($Q27,data,7,FALSE)) -> 18.331 | AC27: =IF(ISNA(VLOOKUP($Q27,data,6,FALSE)),0,VLOOKUP($Q27,data,6,FALSE)) -> 18.306 | AD27: =ROUND(AC27,0)+ROUND(AE27,0)-ROUND(AA27,0)-ROUND(AB27,0) -> 0 | AE27: =IF(ISNA(VLOOKUP($Q27,data,13,FALSE)),0,VLOOKUP($Q27,data,13,FALSE)) -> 0.699 | AF27: =IF(ISNA(VLOOKUP($Q27,data,9,FALSE)),0,VLOOKUP($Q27,data,9,FALSE)) -> 1191.86 | AG27: =IF(ISNA(VLOOKUP($Q27,data,10,FALSE)),0,VLOOKUP($Q27,data,10,FALSE)) -> 3.69 | AH27: =IF(ISNA(VLOOKUP($Q27,data,11,FALSE)),0,VLOOKUP($Q27,data,11,FALSE)) -> 254.431 | AI27: =ROUND(AF27,0)-ROUND(AG27,0)-ROUND(AH27,0)-ROUND(AJ27,0) -> 0 | AJ27: =IF(ISNA(VLOOKUP($Q27,data,8,FALSE)),0,VLOOKUP($Q27,data,8,FALSE)) -> 933.739 | AK27: ='Report Inputs'!$F$2 -> 55.9 | AL27: ='Report Inputs'!$E$2 -> 1080 | AM27: =IF(ISNA(VLOOKUP($Q27,data,14,FALSE)),0,VLOOKUP($Q27,data,14,FALSE)) -> 32.264 | AN27: C | AS27: BARBARA EPHRAIM | AT27: Y | AU27: PROD. ACCOUNTANT | AV27: =NOW() -> 42376.365
A28: 7 | B28: =MONTH('Report Inputs'!$B$2) -> 11 | C28: =YEAR('Report Inputs'!$B$2) -> 2015 | D28: 66571 | F28: OXY USA WTP LP | G28: PO BOX 27570 | H28: HOUSTON | I28: TEXAS | J28: 77227-7570 | K28: 713 | L28: 215-7309 | M28: 713 | N28: 985-1893 | O28: N | P28: 45 | Q28: 10547 | R28: 0 | S28: CASCADE CREEK 605-13-22 | T28: WFCM | U28: =IF(V28>0,"PR","SI") -> PR | V28: =IF(ISNA(VLOOKUP($Q28,data,4,FALSE)),0,VLOOKUP($Q28,data,4,FALSE)) -> 30 | W28: NWSW | X28: 5 | Y28: 6S | Z28: 97W | AA28: =IF(ISNA(VLOOKUP($Q28,data,5,FALSE)),0,VLOOKUP($Q28,data,5,FALSE)) -> 1 | AB28: =IF(ISNA(VLOOKUP($Q28,data,7,FALSE)),0,VLOOKUP($Q28,data,7,FALSE)) -> 2.651 | AC28: =IF(ISNA(VLOOKUP($Q28,data,6,FALSE)),0,VLOOKUP($Q28,data,6,FALSE)) -> 3.371 | AD28: =ROUND(AC28,0)+ROUND(AE28,0)-ROUND(AA28,0)-ROUND(AB28,0) -> -1 | AE28: =IF(ISNA(VLOOKUP($Q28,data,13,FALSE)),0,VLOOKUP($Q28,data,13,FALSE)) -> 0.28 | AF28: =IF(ISNA(VLOOKUP($Q28,data,9,FALSE)),0,VLOOKUP($Q28,data,9,FALSE)) -> 3923.37 | AG28: =IF(ISNA(VLOOKUP($Q28,data,10,FALSE)),0,VLOOKUP($Q28,data,10,FALSE)) -> 0.42 | AH28: =IF(ISNA(VLOOKUP($Q28,data,11,FALSE)),0,VLOOKUP($Q28,data,11,FALSE)) -> 440.632 | AI28: =ROUND(AF28,0)-ROUND(AG28,0)-ROUND(AH28,0)-ROUND(AJ28,0) -> 0 | AJ28: =IF(ISNA(VLOOKUP($Q28,data,8,FALSE)),0,VLOOKUP($Q28,data,8,FALSE)) -> 3482.318 | AK28: ='Report Inputs'!$F$2 -> 55.9 | AL28: ='Report Inputs'!$E$2 -> 1080 | AM28: =IF(ISNA(VLOOKUP($Q28,data,14,FALSE)),0,VLOOKUP($Q28,data,14,FALSE)) -> 98.099 | AN28: C | AS28: BARBARA EPHRAIM | AT28: Y | AU28: PROD. ACCOUNTANT | AV28: =NOW() -> 42376.365
A29: 7 | B29: =MONTH('Report Inputs'!$B$2) -> 11 | C29: =YEAR('Report Inputs'!$B$2) -> 2015 | D29: 66571 | F29: OXY USA WTP LP | G29: PO BOX 27570 | H29: HOUSTON | I29: TEXAS | J29: 77227-7570 | K29: 713 | L29: 215-7309 | M29: 713 | N29: 985-1893 | O29: N | P29: 45 | Q29: 10563 | R29: 0 | S29: CASCADE CREEK 697-29-38D | T29: WFCM | U29: =IF(V29>0,"PR","SI") -> PR | V29: =IF(ISNA(VLOOKUP($Q29,data,4,FALSE)),0,VLOOKUP($Q29,data,4,FALSE)) -> 30 | W29: SENW | X29: 29 | Y29: 6S | Z29: 97W | AA29: =IF(ISNA(VLOOKUP($Q29,data,5,FALSE)),0,VLOOKUP($Q29,data,5,FALSE)) -> 1.061 | AB29: =IF(ISNA(VLOOKUP($Q29,data,7,FALSE)),0,VLOOKUP($Q29,data,7,FALSE)) -> 32.204 | AC29: =IF(ISNA(VLOOKUP($Q29,data,6,FALSE)),0,VLOOKUP($Q29,data,6,FALSE)) -> 32.032 | AD29: =ROUND(AC29,0)+ROUND(AE29,0)-ROUND(AA29,0)-ROUND(AB29,0) -> 0 | AE29: =IF(ISNA(VLOOKUP($Q29,data,13,FALSE)),0,VLOOKUP($Q29,data,13,FALSE)) -> 1.233 | AF29: =IF(ISNA(VLOOKUP($Q29,data,9,FALSE)),0,VLOOKUP($Q29,data,9,FALSE)) -> 2065.64 | AG29: =IF(ISNA(VLOOKUP($Q29,data,10,FALSE)),0,VLOOKUP($Q29,data,10,FALSE)) -> 6.47 | AH29: =IF(ISNA(VLOOKUP($Q29,data,11,FALSE)),0,VLOOKUP($Q29,data,11,FALSE)) -> 292.231 | AI29: =ROUND(AF29,0)-ROUND(AG29,0)-ROUND(AH29,0)-ROUND(AJ29,0) -> 1 | AJ29: =IF(ISNA(VLOOKUP($Q29,data,8,FALSE)),0,VLOOKUP($Q29,data,8,FALSE)) -> 1766.939 | AK29: ='Report Inputs'!$F$2 -> 55.9 | AL29: ='Report Inputs'!$E$2 -> 1080 | AM29: =IF(ISNA(VLOOKUP($Q29,data,14,FALSE)),0,VLOOKUP($Q29,data,14,FALSE)) -> 80.392 | AN29: C | AS29: BARBARA EPHRAIM | AT29: Y | AU29: PROD. ACCOUNTANT | AV29: =NOW() -> 42376.365
A30: 7 | B30: =MONTH('Report Inputs'!$B$2) -> 11 | C30: =YEAR('Report Inputs'!$B$2) -> 2015 | D30: 66571 | F30: OXY USA WTP LP | G30: PO BOX 27570 | H30: HOUSTON | I30: TEXAS | J30: 77227-7570 | K30: 713 | L30: 215-7309 | M30: 713 | N30: 985-1893 | O30: N | P30: 45 | Q30: 10564 | R30: 0 | S30: CASCADE CREEK 697-29-30D | T30: WMFK | U30: =IF(V30>0,"PR","SI") -> PR | V30: =IF(ISNA(VLOOKUP($Q30,data,4,FALSE)),0,VLOOKUP($Q30,data,4,FALSE)) -> 29 | W30: SENW | X30: 29 | Y30: 6S | Z30: 97W | AA30: =IF(ISNA(VLOOKUP($Q30,data,5,FALSE)),0,VLOOKUP($Q30,data,5,FALSE)) -> 0.566 | AB30: =IF(ISNA(VLOOKUP($Q30,data,7,FALSE)),0,VLOOKUP($Q30,data,7,FALSE)) -> 15.215 | AC30: =IF(ISNA(VLOOKUP($Q30,data,6,FALSE)),0,VLOOKUP($Q30,data,6,FALSE)) -> 15.198 | AD30: =ROUND(AC30,0)+ROUND(AE30,0)-ROUND(AA30,0)-ROUND(AB30,0) -> 0 | AE30: =IF(ISNA(VLOOKUP($Q30,data,13,FALSE)),0,VLOOKUP($Q30,data,13,FALSE)) -> 0.583 | AF30: =IF(ISNA(VLOOKUP($Q30,data,9,FALSE)),0,VLOOKUP($Q30,data,9,FALSE)) -> 1087.83 | AG30: =IF(ISNA(VLOOKUP($Q30,data,10,FALSE)),0,VLOOKUP($Q30,data,10,FALSE)) -> 3.06 | AH30: =IF(ISNA(VLOOKUP($Q30,data,11,FALSE)),0,VLOOKUP($Q30,data,11,FALSE)) -> 249.944 | AI30: =ROUND(AF30,0)-ROUND(AG30,0)-ROUND(AH30,0)-ROUND(AJ30,0) -> 0 | AJ30: =IF(ISNA(VLOOKUP($Q30,data,8,FALSE)),0,VLOOKUP($Q30,data,8,FALSE)) -> 834.826 | AK30: ='Report Inputs'!$F$2 -> 55.9 | AL30: ='Report Inputs'!$E$2 -> 1080 | AM30: =IF(ISNA(VLOOKUP($Q30,data,14,FALSE)),0,VLOOKUP($Q30,data,14,FALSE)) -> 37.983 | AN30: C | AS30: BARBARA EPHRAIM | AT30: Y | AU30: PROD. ACCOUNTANT | AV30: =NOW() -> 42376.365
A31: 7 | B31: =MONTH('Report Inputs'!$B$2) -> 11 | C31: =YEAR('Report Inputs'!$B$2) -> 2015 | D31: 66571 | F31: OXY USA WTP LP | G31: PO BOX 27570 | H31: HOUSTON | I31: TEXAS | J31: 77227-7570 | K31: 713 | L31: 215-7309 | M31: 713 | N31: 985-1893 | O31: N | P31: 45 | Q31: 10565 | R31: 0 | S31: CASCADE CREEK 697-29-26D | T31: WMFK | U31: =IF(V31>0,"PR","SI") -> PR | V31: =IF(ISNA(VLOOKUP($Q31,data,4,FALSE)),0,VLOOKUP($Q31,data,4,FALSE)) -> 2 | W31: SENW | X31: 29 | Y31: 6S | Z31: 97W | AA31: =IF(ISNA(VLOOKUP($Q31,data,5,FALSE)),0,VLOOKUP($Q31,data,5,FALSE)) -> 0.409 | AB31: =IF(ISNA(VLOOKUP($Q31,data,7,FALSE)),0,VLOOKUP($Q31,data,7,FALSE)) -> 15.58 | AC31: =IF(ISNA(VLOOKUP($Q31,data,6,FALSE)),0,VLOOKUP($Q31,data,6,FALSE)) -> 15.396 | AD31: =ROUND(AC31,0)+ROUND(AE31,0)-ROUND(AA31,0)-ROUND(AB31,0) -> 0 | AE31: =IF(ISNA(VLOOKUP($Q31,data,13,FALSE)),0,VLOOKUP($Q31,data,13,FALSE)) -> 0.593 | AF31: =IF(ISNA(VLOOKUP($Q31,data,9,FALSE)),0,VLOOKUP($Q31,data,9,FALSE)) -> 1108.8 | AG31: =IF(ISNA(VLOOKUP($Q31,data,10,FALSE)),0,VLOOKUP($Q31,data,10,FALSE)) -> 3.13 | AH31: =IF(ISNA(VLOOKUP($Q31,data,11,FALSE)),0,VLOOKUP($Q31,data,11,FALSE)) -> 250.851 | AI31: =ROUND(AF31,0)-ROUND(AG31,0)-ROUND(AH31,0)-ROUND(AJ31,0) -> 0 | AJ31: =IF(ISNA(VLOOKUP($Q31,data,8,FALSE)),0,VLOOKUP($Q31,data,8,FALSE)) -> 854.819 | AK31: ='Report Inputs'!$F$2 -> 55.9 | AL31: ='Report Inputs'!$E$2 -> 1080 | AM31: =IF(ISNA(VLOOKUP($Q31,data,14,FALSE)),0,VLOOKUP($Q31,data,14,FALSE)) -> 38.893 | AN31: C | AS31: BARBARA EPHRAIM | AT31: Y | AU31: PROD. ACCOUNTANT | AV31: =NOW() -> 42376.365
A32: 7 | B32: =MONTH('Report Inputs'!$B$2) -> 11 | C32: =YEAR('Report Inputs'!$B$2) -> 2015 | D32: 66571 | F32: OXY USA WTP LP | G32: PO BOX 27570 | H32: HOUSTON | I32: TEXAS | J32: 77227-7570 | K32: 713 | L32: 215-7309 | M32: 713 | N32: 985-1893 | O32: N | P32: 45 | Q32: 10566 | R32: 0 | S32: CASCADE CREEK 697-29-10D | T32: WFCM | U32: =IF(V32>0,"PR","SI") -> PR | V32: 4 | W32: SENW | X32: 29 | Y32: 6S | Z32: 97W | AA32: =IF(ISNA(VLOOKUP($Q32,data,5,FALSE)),0,VLOOKUP($Q32,data,5,FALSE)) -> 0.602 | AB32: =IF(ISNA(VLOOKUP($Q32,data,7,FALSE)),0,VLOOKUP($Q32,data,7,FALSE)) -> 12.761 | AC32: =IF(ISNA(VLOOKUP($Q32,data,6,FALSE)),0,VLOOKUP($Q32,data,6,FALSE)) -> 12.874 | AD32: =ROUND(AC32,0)+ROUND(AE32,0)-ROUND(AA32,0)-ROUND(AB32,0) -> -1 | AE32: =IF(ISNA(VLOOKUP($Q32,data,13,FALSE)),0,VLOOKUP($Q32,data,13,FALSE)) -> 0.489 | AF32: =IF(ISNA(VLOOKUP($Q32,data,9,FALSE)),0,VLOOKUP($Q32,data,9,FALSE)) -> 948.27 | AG32: =IF(ISNA(VLOOKUP($Q32,data,10,FALSE)),0,VLOOKUP($Q32,data,10,FALSE)) -> 2.57 | AH32: =IF(ISNA(VLOOKUP($Q32,data,11,FALSE)),0,VLOOKUP($Q32,data,11,FALSE)) -> 245.563 | AI32: =ROUND(AF32,0)-ROUND(AG32,0)-ROUND(AH32,0)-ROUND(AJ32,0) -> -1 | AJ32: =IF(ISNA(VLOOKUP($Q32,data,8,FALSE)),0,VLOOKUP($Q32,data,8,FALSE)) -> 700.137 | AK32: ='Report Inputs'!$F$2 -> 55.9 | AL32: ='Report Inputs'!$E$2 -> 1080 | AM32: =IF(ISNA(VLOOKUP($Q32,data,14,FALSE)),0,VLOOKUP($Q32,data,14,FALSE)) -> 31.855 | AN32: C | AS32: BARBARA EPHRAIM | AT32: Y | AU32: PROD. ACCOUNTANT | AV32: =NOW() -> 42376.365
A33: 7 | B33: =MONTH('Report Inputs'!$B$2) -> 11 | C33: =YEAR('Report Inputs'!$B$2) -> 2015 | D33: 66571 | F33: OXY USA WTP LP | G33: PO BOX 27570 | H33: HOUSTON | I33: TEXAS | J33: 77227-7570 | K33: 713 | L33: 215-7309 | M33: 713 | N33: 985-1893 | O33: N | P33: 45 | Q33: 10567 | R33: 0 | S33: CASCADE CREEK 697-29-07DA | T33: WMFK | U33: =IF(V33>0,"PR","SI") -> PR | V33: =IF(ISNA(VLOOKUP($Q33,data,4,FALSE)),0,VLOOKUP($Q33,data,4,FALSE)) -> 30 | W33: SWSE | X33: 20 | Y33: 6S | Z33: 97W | AA33: =IF(ISNA(VLOOKUP($Q33,data,5,FALSE)),0,VLOOKUP($Q33,data,5,FALSE)) -> 0.163 | AB33: =IF(ISNA(VLOOKUP($Q33,data,7,FALSE)),0,VLOOKUP($Q33,data,7,FALSE)) -> 2.236 | AC33: =IF(ISNA(VLOOKUP($Q33,data,6,FALSE)),0,VLOOKUP($Q33,data,6,FALSE)) -> 2.235 | AD33: =ROUND(AC33,0)+ROUND(AE33,0)-ROUND(AA33,0)-ROUND(AB33,0) -> 0 | AE33: =IF(ISNA(VLOOKUP($Q33,data,13,FALSE)),0,VLOOKUP($Q33,data,13,FALSE)) -> 0.164 | AF33: =IF(ISNA(VLOOKUP($Q33,data,9,FALSE)),0,VLOOKUP($Q33,data,9,FALSE)) -> 1741.97 | AG33: =IF(ISNA(VLOOKUP($Q33,data,10,FALSE)),0,VLOOKUP($Q33,data,10,FALSE)) -> 0.4 | AH33: =IF(ISNA(VLOOKUP($Q33,data,11,FALSE)),0,VLOOKUP($Q33,data,11,FALSE)) -> 156.481 | AI33: =ROUND(AF33,0)-ROUND(AG33,0)-ROUND(AH33,0)-ROUND(AJ33,0) -> 1 | AJ33: =IF(ISNA(VLOOKUP($Q33,data,8,FALSE)),0,VLOOKUP($Q33,data,8,FALSE)) -> 1585.089 | AK33: ='Report Inputs'!$F$2 -> 55.9 | AL33: ='Report Inputs'!$E$2 -> 1080 | AM33: =IF(ISNA(VLOOKUP($Q33,data,14,FALSE)),0,VLOOKUP($Q33,data,14,FALSE)) -> 98.619 | AN33: C | AS33: BARBARA EPHRAIM | AT33: Y | AU33: PROD. ACCOUNTANT | AV33: =NOW() -> 42376.365
A34: 7 | B34: =MONTH('Report Inputs'!$B$2) -> 11 | C34: =YEAR('Report Inputs'!$B$2) -> 2015 | D34: 66571 | F34: OXY USA WTP LP | G34: PO BOX 27570 | H34: HOUSTON | I34: TEXAS | J34: 77227-7570 | K34: 713 | L34: 215-7309 | M34: 713 | N34: 985-1893 | O34: N | P34: 45 | Q34: 10652 | R34: 0 | S34: CASCADE CREEK 697-17-43D | T34: WFCM | U34: =IF(V34>0,"PR","SI") -> PR | V34: =IF(ISNA(VLOOKUP($Q34,data,4,FALSE)),0,VLOOKUP($Q34,data,4,FALSE)) -> 30 | W34: SESW | X34: 17 | Y34: 6S | Z34: 97W | AA34: =IF(ISNA(VLOOKUP($Q34,data,5,FALSE)),0,VLOOKUP($Q34,data,5,FALSE)) -> 0.429 | AB34: =IF(ISNA(VLOOKUP($Q34,data,7,FALSE)),0,VLOOKUP($Q34,data,7,FALSE)) -> 6.394 | AC34: =IF(ISNA(VLOOKUP($Q34,data,6,FALSE)),0,VLOOKUP($Q34,data,6,FALSE)) -> 6.416 | AD34: =ROUND(AC34,0)+ROUND(AE34,0)-ROUND(AA34,0)-ROUND(AB34,0) -> 0 | AE34: =IF(ISNA(VLOOKUP($Q34,data,13,FALSE)),0,VLOOKUP($Q34,data,13,FALSE)) -> 0.407 | AF34: =IF(ISNA(VLOOKUP($Q34,data,9,FALSE)),0,VLOOKUP($Q34,data,9,FALSE)) -> 3713.75 | AG34: =IF(ISNA(VLOOKUP($Q34,data,10,FALSE)),0,VLOOKUP($Q34,data,10,FALSE)) -> 1.18 | AH34: =IF(ISNA(VLOOKUP($Q34,data,11,FALSE)),0,VLOOKUP($Q34,data,11,FALSE)) -> 363.985 | AI34: =ROUND(AF34,0)-ROUND(AG34,0)-ROUND(AH34,0)-ROUND(AJ34,0) -> 0 | AJ34: =IF(ISNA(VLOOKUP($Q34,data,8,FALSE)),0,VLOOKUP($Q34,data,8,FALSE)) -> 3348.585 | AK34: ='Report Inputs'!$F$2 -> 55.9 | AL34: ='Report Inputs'!$E$2 -> 1080 | AM34: =IF(ISNA(VLOOKUP($Q34,data,14,FALSE)),0,VLOOKUP($Q34,data,14,FALSE)) -> 69.21 | AN34: C | AS34: BARBARA EPHRAIM | AT34: Y | AU34: PROD. ACCOUNTANT | AV34: =NOW() -> 42376.365
A35: 7 | B35: =MONTH('Report Inputs'!$B$2) -> 11 | C35: =YEAR('Report Inputs'!$B$2) -> 2015 | D35: 66571 | F35: OXY USA WTP LP | G35: PO BOX 27570 | H35: HOUSTON | I35: TEXAS | J35: 77227-7570 | K35: 713 | L35: 215-7309 | M35: 713 | N35: 985-1893 | O35: N | P35: 45 | Q35: 10653 | R35: 0 | S35: CASCADE CREEK 608-43-31 | T35: WFCM | U35: =IF(V35>0,"PR","SI") -> PR | V35: =IF(ISNA(VLOOKUP($Q35,data,4,FALSE)),0,VLOOKUP($Q35,data,4,FALSE)) -> 30 | W35: NESE | X35: 8 | Y35: 6S | Z35: 97W | AA35: =IF(ISNA(VLOOKUP($Q35,data,5,FALSE)),0,VLOOKUP($Q35,data,5,FALSE)) -> 0.189 | AB35: =IF(ISNA(VLOOKUP($Q35,data,7,FALSE)),0,VLOOKUP($Q35,data,7,FALSE)) -> 0.174 | AC35: =IF(ISNA(VLOOKUP($Q35,data,6,FALSE)),0,VLOOKUP($Q35,data,6,FALSE)) -> 0.303 | AD35: =ROUND(AC35,0)+ROUND(AE35,0)-ROUND(AA35,0)-ROUND(AB35,0) -> 0 | AE35: =IF(ISNA(VLOOKUP($Q35,data,13,FALSE)),0,VLOOKUP($Q35,data,13,FALSE)) -> 0.06 | AF35: =IF(ISNA(VLOOKUP($Q35,data,9,FALSE)),0,VLOOKUP($Q35,data,9,FALSE)) -> 1255.65 | AG35: =IF(ISNA(VLOOKUP($Q35,data,10,FALSE)),0,VLOOKUP($Q35,data,10,FALSE)) -> 0 | AH35: =IF(ISNA(VLOOKUP($Q35,data,11,FALSE)),0,VLOOKUP($Q35,data,11,FALSE)) -> 257.914 | AI35: =ROUND(AF35,0)-ROUND(AG35,0)-ROUND(AH35,0)-ROUND(AJ35,0) -> 0 | AJ35: =IF(ISNA(VLOOKUP($Q35,data,8,FALSE)),0,VLOOKUP($Q35,data,8,FALSE)) -> 997.736 | AL35: ='Report Inputs'!$E$2 -> 1080 | AM35: =IF(ISNA(VLOOKUP($Q35,data,14,FALSE)),0,VLOOKUP($Q35,data,14,FALSE)) -> 44.225 | AN35: C | AS35: BARBARA EPHRAIM | AT35: Y | AU35: PROD. ACCOUNTANT | AV35: =NOW() -> 42376.365
A36: 7 | B36: =MONTH('Report Inputs'!$B$2) -> 11 | C36: =YEAR('Report Inputs'!$B$2) -> 2015 | D36: 66571 | F36: OXY USA WTP LP | G36: PO BOX 27570 | H36: HOUSTON | I36: TEXAS | J36: 77227-7570 | K36: 713 | L36: 215-7309 | M36: 713 | N36: 985-1893 | O36: N | P36: 45 | Q36: 10663 | R36: 0 | S36: CASCADE CREEK 697-20-02D | T36: WMFK | U36: =IF(V36>0,"PR","SI") -> PR | V36: =IF(ISNA(VLOOKUP($Q36,data,4,FALSE)),0,VLOOKUP($Q36,data,4,FALSE)) -> 30 | W36: SESW | X36: 17 | Y36: 6S | Z36: 97W | AA36: =IF(ISNA(VLOOKUP($Q36,data,5,FALSE)),0,VLOOKUP($Q36,data,5,FALSE)) -> 0.453 | AB36: =IF(ISNA(VLOOKUP($Q36,data,7,FALSE)),0,VLOOKUP($Q36,data,7,FALSE)) -> 7.009 | AC36: =IF(ISNA(VLOOKUP($Q36,data,6,FALSE)),0,VLOOKUP($Q36,data,6,FALSE)) -> 7.018 | AD36: =ROUND(AC36,0)+ROUND(AE36,0)-ROUND(AA36,0)-ROUND(AB36,0) -> 0 | AE36: =IF(ISNA(VLOOKUP($Q36,data,13,FALSE)),0,VLOOKUP($Q36,data,13,FALSE)) -> 0.444 | AF36: =IF(ISNA(VLOOKUP($Q36,data,9,FALSE)),0,VLOOKUP($Q36,data,9,FALSE)) -> 4050.16 | AG36: =IF(ISNA(VLOOKUP($Q36,data,10,FALSE)),0,VLOOKUP($Q36,data,10,FALSE)) -> 1.29 | AH36: =IF(ISNA(VLOOKUP($Q36,data,11,FALSE)),0,VLOOKUP($Q36,data,11,FALSE)) -> 378.58 | AI36: =ROUND(AF36,0)-ROUND(AG36,0)-ROUND(AH36,0)-ROUND(AJ36,0) -> 0 | AJ36: =IF(ISNA(VLOOKUP($Q36,data,8,FALSE)),0,VLOOKUP($Q36,data,8,FALSE)) -> 3670.29 | AK36: ='Report Inputs'!$F$2 -> 55.9 | AL36: ='Report Inputs'!$E$2 -> 1080 | AM36: =IF(ISNA(VLOOKUP($Q36,data,14,FALSE)),0,VLOOKUP($Q36,data,14,FALSE)) -> 75.859 | AN36: C | AS36: BARBARA EPHRAIM | AT36: Y | AU36: PROD. ACCOUNTANT | AV36: =NOW() -> 42376.365
A37: 7 | B37: =MONTH('Report Inputs'!$B$2) -> 11 | C37: =YEAR('Report Inputs'!$B$2) -> 2015 | D37: 66571 | F37: OXY USA WTP LP | G37: PO BOX 27570 | H37: HOUSTON | I37: TEXAS | J37: 77227-7570 | K37: 713 | L37: 215-7309 | M37: 713 | N37: 985-1893 | O37: N | P37: 45 | Q37: 10673 | R37: 0 | S37: CASCADE CREEK 697-17-49D | T37: WMFK | U37: =IF(V37>0,"PR","SI") -> PR | V37: =IF(ISNA(VLOOKUP($Q37,data,4,FALSE)),0,VLOOKUP($Q37,data,4,FALSE)) -> 30 | W37: SESW | X37: 17 | Y37: 6S | Z37: 97W | AA37: =IF(ISNA(VLOOKUP($Q37,data,5,FALSE)),0,VLOOKUP($Q37,data,5,FALSE)) -> 0.181 | AB37: =IF(ISNA(VLOOKUP($Q37,data,7,FALSE)),0,VLOOKUP($Q37,data,7,FALSE)) -> 3.141 | AC37: =IF(ISNA(VLOOKUP($Q37,data,6,FALSE)),0,VLOOKUP($Q37,data,6,FALSE)) -> 3.125 | AD37: =ROUND(AC37,0)+ROUND(AE37,0)-ROUND(AA37,0)-ROUND(AB37,0) -> 0 | AE37: =IF(ISNA(VLOOKUP($Q37,data,13,FALSE)),0,VLOOKUP($Q37,data,13,FALSE)) -> 0.197 | AF37: =IF(ISNA(VLOOKUP($Q37,data,9,FALSE)),0,VLOOKUP($Q37,data,9,FALSE)) -> 1931.95 | AG37: =IF(ISNA(VLOOKUP($Q37,data,10,FALSE)),0,VLOOKUP($Q37,data,10,FALSE)) -> 0.58 | AH37: =IF(ISNA(VLOOKUP($Q37,data,11,FALSE)),0,VLOOKUP($Q37,data,11,FALSE)) -> 286.684 | AI37: =ROUND(AF37,0)-ROUND(AG37,0)-ROUND(AH37,0)-ROUND(AJ37,0) -> -1 | AJ37: =IF(ISNA(VLOOKUP($Q37,data,8,FALSE)),0,VLOOKUP($Q37,data,8,FALSE)) -> 1644.686 | AK37: ='Report Inputs'!$F$2 -> 55.9 | AL37: ='Report Inputs'!$E$2 -> 1080 | AM37: =IF(ISNA(VLOOKUP($Q37,data,14,FALSE)),0,VLOOKUP($Q37,data,14,FALSE)) -> 33.992 | AN37: C | AS37: BARBARA EPHRAIM | AT37: Y | AU37: PROD. ACCOUNTANT | AV37: =NOW() -> 42376.365
A38: 7 | B38: =MONTH('Report Inputs'!$B$2) -> 11 | C38: =YEAR('Report Inputs'!$B$2) -> 2015 | D38: 66571 | F38: OXY USA WTP LP | G38: PO BOX 27570 | H38: HOUSTON | I38: TEXAS | J38: 77227-7570 | K38: 713 | L38: 215-7309 | M38: 713 | N38: 985-1893 | O38: N | P38: 45 | Q38: 10674 | R38: 0 | S38: CASCADE CREEK 697-17-53D | T38: WFCM | U38: =IF(V38>0,"PR","SI") -> PR | V38: =IF(ISNA(VLOOKUP($Q38,data,4,FALSE)),0,VLOOKUP($Q38,data,4,FALSE)) -> 30 | W38: SESW | X38: 17 | Y38: 6S | Z38: 97W | AA38: =IF(ISNA(VLOOKUP($Q38,data,5,FALSE)),0,VLOOKUP($Q38,data,5,FALSE)) -> 0.59 | AB38: =IF(ISNA(VLOOKUP($Q38,data,7,FALSE)),0,VLOOKUP($Q38,data,7,FALSE)) -> 9.026 | AC38: =IF(ISNA(VLOOKUP($Q38,data,6,FALSE)),0,VLOOKUP($Q38,data,6,FALSE)) -> 9.043 | AD38: =ROUND(AC38,0)+ROUND(AE38,0)-ROUND(AA38,0)-ROUND(AB38,0) -> 0 | AE38: =IF(ISNA(VLOOKUP($Q38,data,13,FALSE)),0,VLOOKUP($Q38,data,13,FALSE)) -> 0.573 | AF38: =IF(ISNA(VLOOKUP($Q38,data,9,FALSE)),0,VLOOKUP($Q38,data,9,FALSE)) -> 5154.74 | AG38: =IF(ISNA(VLOOKUP($Q38,data,10,FALSE)),0,VLOOKUP($Q38,data,10,FALSE)) -> 1.67 | AH38: =IF(ISNA(VLOOKUP($Q38,data,11,FALSE)),0,VLOOKUP($Q38,data,11,FALSE)) -> 426.5 | AI38: =ROUND(AF38,0)-ROUND(AG38,0)-ROUND(AH38,0)-ROUND(AJ38,0) -> -1 | AJ38: =IF(ISNA(VLOOKUP($Q38,data,8,FALSE)),0,VLOOKUP($Q38,data,8,FALSE)) -> 4726.57 | AK38: ='Report Inputs'!$F$2 -> 55.9 | AL38: ='Report Inputs'!$E$2 -> 1080 | AM38: =IF(ISNA(VLOOKUP($Q38,data,14,FALSE)),0,VLOOKUP($Q38,data,14,FALSE)) -> 97.69 | AN38: C | AS38: BARBARA EPHRAIM | AT38: Y | AU38: PROD. ACCOUNTANT | AV38: =NOW() -> 42376.365
A39: 7 | B39: =MONTH('Report Inputs'!$B$2) -> 11 | C39: =YEAR('Report Inputs'!$B$2) -> 2015 | D39: 66571 | F39: OXY USA WTP LP | G39: PO BOX 27570 | H39: HOUSTON | I39: TEXAS | J39: 77227-7570 | K39: 713 | L39: 215-7309 | M39: 713 | N39: 985-1893 | O39: N | P39: 45 | Q39: 10675 | R39: 0 | S39: CASCADE CREEK 697-08-53 | T39: WFCM | U39: =IF(V39>0,"PR","SI") -> SI | V39: =IF(ISNA(VLOOKUP($Q39,data,4,FALSE)),0,VLOOKUP($Q39,data,4,FALSE)) -> 0 | W39: SWSE | X39: 8 | Y39: 6S | Z39: 97W | AA39: =IF(ISNA(VLOOKUP($Q39,data,5,FALSE)),0,VLOOKUP($Q39,data,5,FALSE)) -> 0 | AB39: =IF(ISNA(VLOOKUP($Q39,data,7,FALSE)),0,VLOOKUP($Q39,data,7,FALSE)) -> 0 | AC39: =IF(ISNA(VLOOKUP($Q39,data,6,FALSE)),0,VLOOKUP($Q39,data,6,FALSE)) -> 0 | AD39: =ROUND(AC39,0)+ROUND(AE39,0)-ROUND(AA39,0)-ROUND(AB39,0) -> 0 | AE39: =IF(ISNA(VLOOKUP($Q39,data,13,FALSE)),0,VLOOKUP($Q39,data,13,FALSE)) -> 0 | AF39: =IF(ISNA(VLOOKUP($Q39,data,9,FALSE)),0,VLOOKUP($Q39,data,9,FALSE)) -> 0 | AG39: =IF(ISNA(VLOOKUP($Q39,data,10,FALSE)),0,VLOOKUP($Q39,data,10,FALSE)) -> 0 | AH39: =IF(ISNA(VLOOKUP($Q39,data,11,FALSE)),0,VLOOKUP($Q39,data,11,FALSE)) -> 0 | AI39: =ROUND(AF39,0)-ROUND(AG39,0)-ROUND(AH39,0)-ROUND(AJ39,0) -> 0 | AJ39: =IF(ISNA(VLOOKUP($Q39,data,8,FALSE)),0,VLOOKUP($Q39,data,8,FALSE)) -> 0 | AM39: =IF(ISNA(VLOOKUP($Q39,data,14,FALSE)),0,VLOOKUP($Q39,data,14,FALSE)) -> 0 | AN39: C | AS39: BARBARA EPHRAIM | AT39: Y | AU39: PROD. ACCOUNTANT | AV39: =NOW() -> 42376.365
A40: 7 | B40: =MONTH('Report Inputs'!$B$2) -> 11 | C40: =YEAR('Report Inputs'!$B$2) -> 2015 | D40: 66571 | F40: OXY USA WTP LP | G40: PO BOX 27570 | H40: HOUSTON | I40: TEXAS | J40: 77227-7570 | K40: 713 | L40: 215-7309 | M40: 713 | N40: 985-1893 | O40: N | P40: 45 | Q40: 10677 | R40: 0 | S40: CASCADE CREEK 697-20-05D | T40: WFCM | U40: =IF(V40>0,"PR","SI") -> PR | V40: =IF(ISNA(VLOOKUP($Q40,data,4,FALSE)),0,VLOOKUP($Q40,data,4,FALSE)) -> 30 | W40: SESW | X40: 17 | Y40: 6S | Z40: 97W | AA40: =IF(ISNA(VLOOKUP($Q40,data,5,FALSE)),0,VLOOKUP($Q40,data,5,FALSE)) -> 0.466 | AB40: =IF(ISNA(VLOOKUP($Q40,data,7,FALSE)),0,VLOOKUP($Q40,data,7,FALSE)) -> 7.048 | AC40: =IF(ISNA(VLOOKUP($Q40,data,6,FALSE)),0,VLOOKUP($Q40,data,6,FALSE)) -> 7.066 | AD40: =ROUND(AC40,0)+ROUND(AE40,0)-ROUND(AA40,0)-ROUND(AB40,0) -> 0 | AE40: =IF(ISNA(VLOOKUP($Q40,data,13,FALSE)),0,VLOOKUP($Q40,data,13,FALSE)) -> 0.448 | AF40: =IF(ISNA(VLOOKUP($Q40,data,9,FALSE)),0,VLOOKUP($Q40,data,9,FALSE)) -> 4071.97 | AG40: =IF(ISNA(VLOOKUP($Q40,data,10,FALSE)),0,VLOOKUP($Q40,data,10,FALSE)) -> 1.3 | AH40: =IF(ISNA(VLOOKUP($Q40,data,11,FALSE)),0,VLOOKUP($Q40,data,11,FALSE)) -> 379.526 | AI40: =ROUND(AF40,0)-ROUND(AG40,0)-ROUND(AH40,0)-ROUND(AJ40,0) -> 0 | AJ40: =IF(ISNA(VLOOKUP($Q40,data,8,FALSE)),0,VLOOKUP($Q40,data,8,FALSE)) -> 3691.144 | AK40: ='Report Inputs'!$F$2 -> 55.9 | AL40: ='Report Inputs'!$E$2 -> 1080 | AM40: =IF(ISNA(VLOOKUP($Q40,data,14,FALSE)),0,VLOOKUP($Q40,data,14,FALSE)) -> 76.289 | AN40: C | AS40: BARBARA EPHRAIM | AT40: Y | AU40: PROD. ACCOUNTANT | AV40: =NOW() -> 42376.365
A41: 7 | B41: =MONTH('Report Inputs'!$B$2) -> 11 | C41: =YEAR('Report Inputs'!$B$2) -> 2015 | D41: 66571 | F41: OXY USA WTP LP | G41: PO BOX 27570 | H41: HOUSTON | I41: TEXAS | J41: 77227-7570 | K41: 713 | L41: 215-7309 | M41: 713 | N41: 985-1893 | O41: N | P41: 45 | Q41: 10684 | R41: 0 | S41: CASCADE CREEK 697-20-30D | T41: WFCM | U41: =IF(V41>0,"PR","SI") -> PR | V41: =IF(ISNA(VLOOKUP($Q41,data,4,FALSE)),0,VLOOKUP($Q41,data,4,FALSE)) -> 30 | W41: NWSE | X41: 20 | Y41: 6S | Z41: 97W | AA41: =IF(ISNA(VLOOKUP($Q41,data,5,FALSE)),0,VLOOKUP($Q41,data,5,FALSE)) -> 1.743 | AB41: =IF(ISNA(VLOOKUP($Q41,data,7,FALSE)),0,VLOOKUP($Q41,data,7,FALSE)) -> 44.415 | AC41: =IF(ISNA(VLOOKUP($Q41,data,6,FALSE)),0,VLOOKUP($Q41,data,6,FALSE)) -> 44.347 | AD41: =ROUND(AC41,0)+ROUND(AE41,0)-ROUND(AA41,0)-ROUND(AB41,0) -> 0 | AE41: =IF(ISNA(VLOOKUP($Q41,data,13,FALSE)),0,VLOOKUP($Q41,data,13,FALSE)) -> 1.811 | AF41: =IF(ISNA(VLOOKUP($Q41,data,9,FALSE)),0,VLOOKUP($Q41,data,9,FALSE)) -> 4861.82 | AG41: =IF(ISNA(VLOOKUP($Q41,data,10,FALSE)),0,VLOOKUP($Q41,data,10,FALSE)) -> 8.86 | AH41: =IF(ISNA(VLOOKUP($Q41,data,11,FALSE)),0,VLOOKUP($Q41,data,11,FALSE)) -> 416.241 | AI41: =ROUND(AF41,0)-ROUND(AG41,0)-ROUND(AH41,0)-ROUND(AJ41,0) -> 0 | AJ41: =IF(ISNA(VLOOKUP($Q41,data,8,FALSE)),0,VLOOKUP($Q41,data,8,FALSE)) -> 4436.719 | AK41: ='Report Inputs'!$F$2 -> 55.9 | AL41: ='Report Inputs'!$E$2 -> 1080 | AM41: =IF(ISNA(VLOOKUP($Q41,data,14,FALSE)),0,VLOOKUP($Q41,data,14,FALSE)) -> 562.343 | AN41: C | AS41: BARBARA EPHRAIM | AT41: Y | AU41: PROD. ACCOUNTANT | AV41: =NOW() -> 42376.365
A42: 7 | B42: =MONTH('Report Inputs'!$B$2) -> 11 | C42: =YEAR('Report Inputs'!$B$2) -> 2015 | D42: 66571 | F42: OXY USA WTP LP | G42: PO BOX 27570 | H42: HOUSTON | I42: TEXAS | J42: 77227-7570 | K42: 713 | L42: 215-7309 | M42: 713 | N42: 985-1893 | O42: N | P42: 45 | Q42: 10685 | R42: 0 | S42: CASCADE CREEK 697-20-35D | T42: WMFK | U42: =IF(V42>0,"PR","SI") -> PR | V42: =IF(ISNA(VLOOKUP($Q42,data,4,FALSE)),0,VLOOKUP($Q42,data,4,FALSE)) -> 30 | W42: NWSE | X42: 20 | Y42: 6S | Z42: 97W | AA42: =IF(ISNA(VLOOKUP($Q42,data,5,FALSE)),0,VLOOKUP($Q42,data,5,FALSE)) -> 0.92 | AB42: =IF(ISNA(VLOOKUP($Q42,data,7,FALSE)),0,VLOOKUP($Q42,data,7,FALSE)) -> 23.715 | AC42: =IF(ISNA(VLOOKUP($Q42,data,6,FALSE)),0,VLOOKUP($Q42,data,6,FALSE)) -> 23.668 | AD42: =ROUND(AC42,0)+ROUND(AE42,0)-ROUND(AA42,0)-ROUND(AB42,0) -> 0 | AE42: =IF(ISNA(VLOOKUP($Q42,data,13,FALSE)),0,VLOOKUP($Q42,data,13,FALSE)) -> 0.967 | AF42: =IF(ISNA(VLOOKUP($Q42,data,9,FALSE)),0,VLOOKUP($Q42,data,9,FALSE)) -> 2693.2 | AG42: =IF(ISNA(VLOOKUP($Q42,data,10,FALSE)),0,VLOOKUP($Q42,data,10,FALSE)) -> 4.73 | AH42: =IF(ISNA(VLOOKUP($Q42,data,11,FALSE)),0,VLOOKUP($Q42,data,11,FALSE)) -> 319.541 | AI42: =ROUND(AF42,0)-ROUND(AG42,0)-ROUND(AH42,0)-ROUND(AJ42,0) -> -1 | AJ42: =IF(ISNA(VLOOKUP($Q42,data,8,FALSE)),0,VLOOKUP($Q42,data,8,FALSE)) -> 2368.929 | AK42: ='Report Inputs'!$F$2 -> 55.9 | AL42: ='Report Inputs'!$E$2 -> 1080 | AM42: =IF(ISNA(VLOOKUP($Q42,data,14,FALSE)),0,VLOOKUP($Q42,data,14,FALSE)) -> 300.256 | AN42: C | AS42: BARBARA EPHRAIM | AT42: Y | AU42: PROD. ACCOUNTANT | AV42: =NOW() -> 42376.365
A43: 7 | B43: =MONTH('Report Inputs'!$B$2) -> 11 | C43: =YEAR('Report Inputs'!$B$2) -> 2015 | D43: 66571 | F43: OXY USA WTP LP | G43: PO BOX 27570 | H43: HOUSTON | I43: TEXAS | J43: 77227-7570 | K43: 713 | L43: 215-7309 | M43: 713 | N43: 985-1893 | O43: N | P43: 45 | Q43: 10686 | R43: 0 | S43: CASCADE CREEK 697-15-01 | T43: WSTC | U43: =IF(V43>0,"PR","SI") -> PR | V43: =IF(ISNA(VLOOKUP($Q43,data,4,FALSE)),0,VLOOKUP($Q43,data,4,FALSE)) -> 30 | W43: NWNW | X43: 15 | Y43: 6S | Z43: 97W | AA43: =IF(ISNA(VLOOKUP($Q43,data,5,FALSE)),0,VLOOKUP($Q43,data,5,FALSE)) -> 1.017 | AB43: =IF(ISNA(VLOOKUP($Q43,data,7,FALSE)),0,VLOOKUP($Q43,data,7,FALSE)) -> 21.153 | AC43: =IF(ISNA(VLOOKUP($Q43,data,6,FALSE)),0,VLOOKUP($Q43,data,6,FALSE)) -> 21.092 | AD43: =ROUND(AC43,0)+ROUND(AE43,0)-ROUND(AA43,0)-ROUND(AB43,0) -> 0 | AE43: =IF(ISNA(VLOOKUP($Q43,data,13,FALSE)),0,VLOOKUP($Q43,data,13,FALSE)) -> 1.078 | AF43: =IF(ISNA(VLOOKUP($Q43,data,9,FALSE)),0,VLOOKUP($Q43,data,9,FALSE)) -> 6793.42 | AG43: =IF(ISNA(VLOOKUP($Q43,data,10,FALSE)),0,VLOOKUP($Q43,data,10,FALSE)) -> 4.07 | AH43: =IF(ISNA(VLOOKUP($Q43,data,11,FALSE)),0,VLOOKUP($Q43,data,11,FALSE)) -> 565.029 | AI43: =ROUND(AF43,0)-ROUND(AG43,0)-ROUND(AH43,0)-ROUND(AJ43,0) -> 0 | AJ43: =IF(ISNA(VLOOKUP($Q43,data,8,FALSE)),0,VLOOKUP($Q43,data,8,FALSE)) -> 6224.321 | AK43: ='Report Inputs'!$F$2 -> 55.9 | AL43: ='Report Inputs'!$E$2 -> 1080 | AM43: =IF(ISNA(VLOOKUP($Q43,data,14,FALSE)),0,VLOOKUP($Q43,data,14,FALSE)) -> 197.14 | AN43: C | AS43: BARBARA EPHRAIM | AT43: Y | AU43: PROD. ACCOUNTANT | AV43: =NOW() -> 42376.365
A44: 7 | B44: =MONTH('Report Inputs'!$B$2) -> 11 | C44: =YEAR('Report Inputs'!$B$2) -> 2015 | D44: 66571 | F44: OXY USA WTP LP | G44: PO BOX 27570 | H44: HOUSTON | I44: TEXAS | J44: 77227-7570 | K44: 713 | L44: 215-7309 | M44: 713 | N44: 985-1893 | O44: N | P44: 45 | Q44: 10687 | R44: 0 | S44: CASCADE CREEK 697-15-54 | T44: WMFK | U44: =IF(V44>0,"PR","SI") -> PR | V44: =IF(ISNA(VLOOKUP($Q44,data,4,FALSE)),0,VLOOKUP($Q44,data,4,FALSE)) -> 30 | W44: SWSE | X44: 15 | Y44: 6S | Z44: 97W | AA44: =IF(ISNA(VLOOKUP($Q44,data,5,FALSE)),0,VLOOKUP($Q44,data,5,FALSE)) -> 0.388 | AB44: =IF(ISNA(VLOOKUP($Q44,data,7,FALSE)),0,VLOOKUP($Q44,data,7,FALSE)) -> 1.01 | AC44: =IF(ISNA(VLOOKUP($Q44,data,6,FALSE)),0,VLOOKUP($Q44,data,6,FALSE)) -> 1.052 | AD44: =ROUND(AC44,0)+ROUND(AE44,0)-ROUND(AA44,0)-ROUND(AB44,0) -> 0 | AE44: =IF(ISNA(VLOOKUP($Q44,data,13,FALSE)),0,VLOOKUP($Q44,data,13,FALSE)) -> 0.346 | AF44: =IF(ISNA(VLOOKUP($Q44,data,9,FALSE)),0,VLOOKUP($Q44,data,9,FALSE)) -> 6493.91 | AG44: =IF(ISNA(VLOOKUP($Q44,data,10,FALSE)),0,VLOOKUP($Q44,data,10,FALSE)) -> 0 | AH44: =IF(ISNA(VLOOKUP($Q44,data,11,FALSE)),0,VLOOKUP($Q44,data,11,FALSE)) -> 687.719 | AI44: =ROUND(AF44,0)-ROUND(AG44,0)-ROUND(AH44,0)-ROUND(AJ44,0) -> 0 | AJ44: =IF(ISNA(VLOOKUP($Q44,data,8,FALSE)),0,VLOOKUP($Q44,data,8,FALSE)) -> 5806.191 | AK44: ='Report Inputs'!$F$2 -> 55.9 | AL44: ='Report Inputs'!$E$2 -> 1080 | AM44: =IF(ISNA(VLOOKUP($Q44,data,14,FALSE)),0,VLOOKUP($Q44,data,14,FALSE)) -> 1.718 | AN44: C | AS44: BARBARA EPHRAIM | AT44: Y | AU44: PROD. ACCOUNTANT | AV44: =NOW() -> 42376.365
A45: 7 | B45: =MONTH('Report Inputs'!$B$2) -> 11 | C45: =YEAR('Report Inputs'!$B$2) -> 2015 | D45: 66571 | F45: OXY USA WTP LP | G45: PO BOX 27570 | H45: HOUSTON | I45: TEXAS | J45: 77227-7570 | K45: 713 | L45: 215-7309 | M45: 713 | N45: 985-1893 | O45: N | P45: 45 | Q45: 10854 | R45: 0 | S45: CASCADE CREEK 610-24-43 | T45: WFCM | U45: =IF(V45>0,"PR","SI") -> PR | V45: =IF(ISNA(VLOOKUP($Q45,data,4,FALSE)),0,VLOOKUP($Q45,data,4,FALSE)) -> 30 | W45: SESW | X45: 10 | Y45: 6S | Z45: 97W | AA45: =IF(ISNA(VLOOKUP($Q45,data,5,FALSE)),0,VLOOKUP($Q45,data,5,FALSE)) -> 0.826 | AB45: 0 | AC45: 0 | AD45: =ROUND(AC45,0)+ROUND(AE45,0)-ROUND(AA45,0)-ROUND(AB45,0) -> -1 | AE45: 0 | AF45: =IF(ISNA(VLOOKUP($Q45,data,9,FALSE)),0,VLOOKUP($Q45,data,9,FALSE)) -> 4348.5 | AG45: =IF(ISNA(VLOOKUP($Q45,data,10,FALSE)),0,VLOOKUP($Q45,data,10,FALSE)) -> 2.15 | AH45: =IF(ISNA(VLOOKUP($Q45,data,11,FALSE)),0,VLOOKUP($Q45,data,11,FALSE)) -> 459.007 | AI45: =ROUND(AF45,0)-ROUND(AG45,0)-ROUND(AH45,0)-ROUND(AJ45,0) -> 1 | AJ45: =IF(ISNA(VLOOKUP($Q45,data,8,FALSE)),0,VLOOKUP($Q45,data,8,FALSE)) -> 3887.343 | AL45: ='Report Inputs'!$E$2 -> 1080 | AM45: =IF(ISNA(VLOOKUP($Q45,data,14,FALSE)),0,VLOOKUP($Q45,data,14,FALSE)) -> 111.321 | AN45: C | AS45: BARBARA EPHRAIM | AT45: Y | AU45: PROD. ACCOUNTANT | AV45: =NOW() -> 42376.365
A46: 7 | B46: =MONTH('Report Inputs'!$B$2) -> 11 | C46: =YEAR('Report Inputs'!$B$2) -> 2015 | D46: 66571 | F46: OXY USA WTP LP | G46: PO BOX 27570 | H46: HOUSTON | I46: TEXAS | J46: 77227-7570 | K46: 713 | L46: 215-7309 | M46: 713 | N46: 985-1893 | O46: N | P46: 45 | Q46: 10855 | R46: 0 | S46: CASCADE CREEK 610-22-43 | T46: WFCM | U46: =IF(V46>0,"PR","SI") -> PR | V46: =IF(ISNA(VLOOKUP($Q46,data,4,FALSE)),0,VLOOKUP($Q46,data,4,FALSE)) -> 30 | W46: SENW | X46: 10 | Y46: 6S | Z46: 97W | AA46: =IF(ISNA(VLOOKUP($Q46,data,5,FALSE)),0,VLOOKUP($Q46,data,5,FALSE)) -> 0.43 | AB46: =IF(ISNA(VLOOKUP($Q46,data,7,FALSE)),0,VLOOKUP($Q46,data,7,FALSE)) -> 104.254 | AC46: =IF(ISNA(VLOOKUP($Q46,data,6,FALSE)),0,VLOOKUP($Q46,data,6,FALSE)) -> 100.805 | AD46: =ROUND(AC46,0)+ROUND(AE46,0)-ROUND(AA46,0)-ROUND(AB46,0) -> 1 | AE46: =IF(ISNA(VLOOKUP($Q46,data,13,FALSE)),0,VLOOKUP($Q46,data,13,FALSE)) -> 3.879 | AF46: =IF(ISNA(VLOOKUP($Q46,data,9,FALSE)),0,VLOOKUP($Q46,data,9,FALSE)) -> 3978.49 | AG46: =IF(ISNA(VLOOKUP($Q46,data,10,FALSE)),0,VLOOKUP($Q46,data,10,FALSE)) -> 21.04 | AH46: =IF(ISNA(VLOOKUP($Q46,data,11,FALSE)),0,VLOOKUP($Q46,data,11,FALSE)) -> 442.129 | AI46: =ROUND(AF46,0)-ROUND(AG46,0)-ROUND(AH46,0)-ROUND(AJ46,0) -> 0 | AJ46: =IF(ISNA(VLOOKUP($Q46,data,8,FALSE)),0,VLOOKUP($Q46,data,8,FALSE)) -> 3515.321 | AK46: ='Report Inputs'!$F$2 -> 55.9 | AL46: ='Report Inputs'!$E$2 -> 1080 | AM46: =IF(ISNA(VLOOKUP($Q46,data,14,FALSE)),0,VLOOKUP($Q46,data,14,FALSE)) -> 155.92 | AN46: C | AS46: BARBARA EPHRAIM | AT46: Y | AU46: PROD. ACCOUNTANT | AV46: =NOW() -> 42376.365
A47: 7 | B47: =MONTH('Report Inputs'!$B$2) -> 11 | C47: =YEAR('Report Inputs'!$B$2) -> 2015 | D47: 66571 | F47: OXY USA WTP LP | G47: PO BOX 27570 | H47: HOUSTON | I47: TEXAS | J47: 77227-7570 | K47: 713 | L47: 215-7309 | M47: 713 | N47: 985-1893 | O47: N | P47: 45 | Q47: 10930 | R47: 0 | S47: LOGAN WASH 797-23-16 | T47: WMFK | U47: =IF(V47>0,"PR","SI") -> PR | V47: =IF(ISNA(VLOOKUP($Q47,data,4,FALSE)),0,VLOOKUP($Q47,data,4,FALSE)) -> 30 | W47: NENE | X47: 23 | Y47: 7S | Z47: 97W | AA47: =IF(ISNA(VLOOKUP($Q47,data,5,FALSE)),0,VLOOKUP($Q47,data,5,FALSE)) -> 10.293 | AB47: =IF(ISNA(VLOOKUP($Q47,data,7,FALSE)),0,VLOOKUP($Q47,data,7,FALSE)) -> 4.58 | AC47: =IF(ISNA(VLOOKUP($Q47,data,6,FALSE)),0,VLOOKUP($Q47,data,6,FALSE)) -> 6.16 | AD47: =ROUND(AC47,0)+ROUND(AE47,0)-ROUND(AA47,0)-ROUND(AB47,0) -> 0 | AE47: =IF(ISNA(VLOOKUP($Q47,data,13,FALSE)),0,VLOOKUP($Q47,data,13,FALSE)) -> 8.713 | AF47: =IF(ISNA(VLOOKUP($Q47,data,9,FALSE)),0,VLOOKUP($Q47,data,9,FALSE)) -> 2291.65 | AG47: =IF(ISNA(VLOOKUP($Q47,data,10,FALSE)),0,VLOOKUP($Q47,data,10,FALSE)) -> 0 | AH47: =IF(ISNA(VLOOKUP($Q47,data,11,FALSE)),0,VLOOKUP($Q47,data,11,FALSE)) -> 369.837 | AI47: =ROUND(AF47,0)-ROUND(AG47,0)-ROUND(AH47,0)-ROUND(AJ47,0) -> 0 | AJ47: =IF(ISNA(VLOOKUP($Q47,data,8,FALSE)),0,VLOOKUP($Q47,data,8,FALSE)) -> 1921.813 | AK47: ='Report Inputs'!$F$2 -> 55.9 | AL47: ='Report Inputs'!$E$2 -> 1080 | AM47: =IF(ISNA(VLOOKUP($Q47,data,14,FALSE)),0,VLOOKUP($Q47,data,14,FALSE)) -> 33.522 | AN47: C | AS47: BARBARA EPHRAIM | AT47: Y | AU47: PROD. ACCOUNTANT | AV47: =NOW() -> 42376.365
A48: 7 | B48: =MONTH('Report Inputs'!$B$2) -> 11 | C48: =YEAR('Report Inputs'!$B$2) -> 2015 | D48: 66571 | F48: OXY USA WTP LP | G48: PO BOX 27570 | H48: HOUSTON | I48: TEXAS | J48: 77227-7570 | K48: 713 | L48: 215-7309 | M48: 713 | N48: 985-1893 | O48: N | P48: 45 | Q48: 11171 | R48: 0 | S48: OXY FEDERAL 797-08-51D | T48: WMFK | U48: =IF(V48>0,"PR","SI") -> PR | V48: =IF(ISNA(VLOOKUP($Q48,data,4,FALSE)),0,VLOOKUP($Q48,data,4,FALSE)) -> 30 | W48: SWSW | X48: 8 | Y48: 7S | Z48: 97W | AA48: =IF(ISNA(VLOOKUP($Q48,data,5,FALSE)),0,VLOOKUP($Q48,data,5,FALSE)) -> 26.968 | AB48: =IF(ISNA(VLOOKUP($Q48,data,7,FALSE)),0,VLOOKUP($Q48,data,7,FALSE)) -> 0.752 | AC48: =IF(ISNA(VLOOKUP($Q48,data,6,FALSE)),0,VLOOKUP($Q48,data,6,FALSE)) -> 0.415 | AD48: =ROUND(AC48,0)+ROUND(AE48,0)-ROUND(AA48,0)-ROUND(AB48,0) -> -1 | AE48: =IF(ISNA(VLOOKUP($Q48,data,13,FALSE)),0,VLOOKUP($Q48,data,13,FALSE)) -> 27.305 | AF48: =IF(ISNA(VLOOKUP($Q48,data,9,FALSE)),0,VLOOKUP($Q48,data,9,FALSE)) -> 2675.62 | AG48: =IF(ISNA(VLOOKUP($Q48,data,10,FALSE)),0,VLOOKUP($Q48,data,10,FALSE)) -> 0.07 | AH48: =IF(ISNA(VLOOKUP($Q48,data,11,FALSE)),0,VLOOKUP($Q48,data,11,FALSE)) -> 386.497 | AI48: =ROUND(AF48,0)-ROUND(AG48,0)-ROUND(AH48,0)-ROUND(AJ48,0) -> 1 | AJ48: =IF(ISNA(VLOOKUP($Q48,data,8,FALSE)),0,VLOOKUP($Q48,data,8,FALSE)) -> 2289.053 | AL48: ='Report Inputs'!$E$2 -> 1080 | AM48: =IF(ISNA(VLOOKUP($Q48,data,14,FALSE)),0,VLOOKUP($Q48,data,14,FALSE)) -> 124.253 | AN48: C | AS48: BARBARA EPHRAIM | AT48: Y | AU48: PROD. ACCOUNTANT | AV48: =NOW() -> 42376.365
A49: 7 | B49: =MONTH('Report Inputs'!$B$2) -> 11 | C49: =YEAR('Report Inputs'!$B$2) -> 2015 | D49: 66571 | F49: OXY USA WTP LP | G49: PO BOX 27570 | H49: HOUSTON | I49: TEXAS | J49: 77227-7570 | K49: 713 | L49: 215-7309 | M49: 713 | N49: 985-1893 | O49: N | P49: 45 | Q49: 11172 | R49: 0 | S49: OXY FEDERAL 797-08-19D | T49: WMFK | U49: =IF(V49>0,"PR","SI") -> PR | V49: =IF(ISNA(VLOOKUP($Q49,data,4,FALSE)),0,VLOOKUP($Q49,data,4,FALSE)) -> 30 | W49: SENW | X49: 8 | Y49: 7S | Z49: 97W | AA49: =IF(ISNA(VLOOKUP($Q49,data,5,FALSE)),0,VLOOKUP($Q49,data,5,FALSE)) -> 87.189 | AB49: =IF(ISNA(VLOOKUP($Q49,data,7,FALSE)),0,VLOOKUP($Q49,data,7,FALSE)) -> 3.381 | AC49: =IF(ISNA(VLOOKUP($Q49,data,6,FALSE)),0,VLOOKUP($Q49,data,6,FALSE)) -> 0.364 | AD49: =ROUND(AC49,0)+ROUND(AE49,0)-ROUND(AA49,0)-ROUND(AB49,0) -> 0 | AE49: =IF(ISNA(VLOOKUP($Q49,data,13,FALSE)),0,VLOOKUP($Q49,data,13,FALSE)) -> 90.206 | AF49: =IF(ISNA(VLOOKUP($Q49,data,9,FALSE)),0,VLOOKUP($Q49,data,9,FALSE)) -> 2390.37 | AG49: =IF(ISNA(VLOOKUP($Q49,data,10,FALSE)),0,VLOOKUP($Q49,data,10,FALSE)) -> 0.62 | AH49: =IF(ISNA(VLOOKUP($Q49,data,11,FALSE)),0,VLOOKUP($Q49,data,11,FALSE)) -> 374.094 | AI49: =ROUND(AF49,0)-ROUND(AG49,0)-ROUND(AH49,0)-ROUND(AJ49,0) -> -1 | AJ49: =IF(ISNA(VLOOKUP($Q49,data,8,FALSE)),0,VLOOKUP($Q49,data,8,FALSE)) -> 2015.656 | AL49: ='Report Inputs'!$E$2 -> 1080 | AM49: =IF(ISNA(VLOOKUP($Q49,data,14,FALSE)),0,VLOOKUP($Q49,data,14,FALSE)) -> 55.926 | AN49: C | AS49: BARBARA EPHRAIM | AT49: Y | AU49: PROD. ACCOUNTANT | AV49: =NOW() -> 42376.365
A50: 7 | B50: =MONTH('Report Inputs'!$B$2) -> 11 | C50: =YEAR('Report Inputs'!$B$2) -> 2015 | D50: 66571 | F50: OXY USA WTP LP | G50: PO BOX 27570 | H50: HOUSTON | I50: TEXAS | J50: 77227-7570 | K50: 713 | L50: 215-7309 | M50: 713 | N50: 985-1893 | O50: N | P50: 45 | Q50: 11546 | R50: 0 | S50: CASCADE CREEK 697-20-34D | T50: WMFK | U50: =IF(V50>0,"PR","SI") -> PR | V50: =IF(ISNA(VLOOKUP($Q50,data,4,FALSE)),0,VLOOKUP($Q50,data,4,FALSE)) -> 30 | W50: SENW | X50: 20 | Y50: 6S | Z50: 97W | AA50: =IF(ISNA(VLOOKUP($Q50,data,5,FALSE)),0,VLOOKUP($Q50,data,5,FALSE)) -> 0.615 | AB50: =IF(ISNA(VLOOKUP($Q50,data,7,FALSE)),0,VLOOKUP($Q50,data,7,FALSE)) -> 1.88 | AC50: =IF(ISNA(VLOOKUP($Q50,data,6,FALSE)),0,VLOOKUP($Q50,data,6,FALSE)) -> 2.339 | AD50: =ROUND(AC50,0)+ROUND(AE50,0)-ROUND(AA50,0)-ROUND(AB50,0) -> -1 | AE50: =IF(ISNA(VLOOKUP($Q50,data,13,FALSE)),0,VLOOKUP($Q50,data,13,FALSE)) -> 0.156 | AF50: =IF(ISNA(VLOOKUP($Q50,data,9,FALSE)),0,VLOOKUP($Q50,data,9,FALSE)) -> 1964.18 | AG50: =IF(ISNA(VLOOKUP($Q50,data,10,FALSE)),0,VLOOKUP($Q50,data,10,FALSE)) -> 0.32 | AH50: =IF(ISNA(VLOOKUP($Q50,data,11,FALSE)),0,VLOOKUP($Q50,data,11,FALSE)) -> 290.859 | AI50: =ROUND(AF50,0)-ROUND(AG50,0)-ROUND(AH50,0)-ROUND(AJ50,0) -> 0 | AJ50: =IF(ISNA(VLOOKUP($Q50,data,8,FALSE)),0,VLOOKUP($Q50,data,8,FALSE)) -> 1673.001 | AK50: ='Report Inputs'!$F$2 -> 55.9 | AL50: ='Report Inputs'!$E$2 -> 1080 | AM50: =IF(ISNA(VLOOKUP($Q50,data,14,FALSE)),0,VLOOKUP($Q50,data,14,FALSE)) -> 22.26 | AN50: C | AS50: BARBARA EPHRAIM | AT50: Y | AU50: PROD. ACCOUNTANT | AV50: =NOW() -> 42376.365
A51: 7 | B51: =MONTH('Report Inputs'!$B$2) -> 11 | C51: =YEAR('Report Inputs'!$B$2) -> 2015 | D51: 66571 | F51: OXY USA WTP LP | G51: PO BOX 27570 | H51: HOUSTON | I51: TEXAS | J51: 77227-7570 | K51: 713 | L51: 215-7309 | M51: 713 | N51: 985-1893 | O51: N | P51: 45 | Q51: 11547 | R51: 0 | S51: CASCADE CREEK 697-20-26D | T51: WFCM | U51: =IF(V51>0,"PR","SI") -> PR | V51: =IF(ISNA(VLOOKUP($Q51,data,4,FALSE)),0,VLOOKUP($Q51,data,4,FALSE)) -> 30 | W51: SENW | X51: 20 | Y51: 6S | Z51: 97W | AA51: =IF(ISNA(VLOOKUP($Q51,data,5,FALSE)),0,VLOOKUP($Q51,data,5,FALSE)) -> 1.138 | AB51: =IF(ISNA(VLOOKUP($Q51,data,7,FALSE)),0,VLOOKUP($Q51,data,7,FALSE)) -> 3.496 | AC51: =IF(ISNA(VLOOKUP($Q51,data,6,FALSE)),0,VLOOKUP($Q51,data,6,FALSE)) -> 4.344 | AD51: =ROUND(AC51,0)+ROUND(AE51,0)-ROUND(AA51,0)-ROUND(AB51,0) -> 0 | AE51: =IF(ISNA(VLOOKUP($Q51,data,13,FALSE)),0,VLOOKUP($Q51,data,13,FALSE)) -> 0.29 | AF51: =IF(ISNA(VLOOKUP($Q51,data,9,FALSE)),0,VLOOKUP($Q51,data,9,FALSE)) -> 3534.67 | AG51: =IF(ISNA(VLOOKUP($Q51,data,10,FALSE)),0,VLOOKUP($Q51,data,10,FALSE)) -> 0.6 | AH51: =IF(ISNA(VLOOKUP($Q51,data,11,FALSE)),0,VLOOKUP($Q51,data,11,FALSE)) -> 423.201 | AI51: =ROUND(AF51,0)-ROUND(AG51,0)-ROUND(AH51,0)-ROUND(AJ51,0) -> 0 | AJ51: =IF(ISNA(VLOOKUP($Q51,data,8,FALSE)),0,VLOOKUP($Q51,data,8,FALSE)) -> 3110.869 | AK51: ='Report Inputs'!$F$2 -> 55.9 | AL51: ='Report Inputs'!$E$2 -> 1080 | AM51: =IF(ISNA(VLOOKUP($Q51,data,14,FALSE)),0,VLOOKUP($Q51,data,14,FALSE)) -> 41.392 | AN51: C | AS51: BARBARA EPHRAIM | AT51: Y | AU51: PROD. ACCOUNTANT | AV51: =NOW() -> 42376.365
A52: 7 | B52: =MONTH('Report Inputs'!$B$2) -> 11 | C52: =YEAR('Report Inputs'!$B$2) -> 2015 | D52: 66571 | F52: OXY USA WTP LP | G52: PO BOX 27570 | H52: HOUSTON | I52: TEXAS | J52: 77227-7570 | K52: 713 | L52: 215-7309 | M52: 713 | N52: 985-1893 | O52: N | P52: 45 | Q52: 11549 | R52: 0 | S52: CASCADE CREEK 697-20-36D | T52: WMFK | U52: =IF(V52>0,"PR","SI") -> PR | V52: =IF(ISNA(VLOOKUP($Q52,data,4,FALSE)),0,VLOOKUP($Q52,data,4,FALSE)) -> 30 | W52: SENW | X52: 20 | Y52: 6S | Z52: 97W | AA52: =IF(ISNA(VLOOKUP($Q52,data,5,FALSE)),0,VLOOKUP($Q52,data,5,FALSE)) -> 0.837 | AB52: =IF(ISNA(VLOOKUP($Q52,data,7,FALSE)),0,VLOOKUP($Q52,data,7,FALSE)) -> 2.328 | AC52: =IF(ISNA(VLOOKUP($Q52,data,6,FALSE)),0,VLOOKUP($Q52,data,6,FALSE)) -> 2.969 | AD52: =ROUND(AC52,0)+ROUND(AE52,0)-ROUND(AA52,0)-ROUND(AB52,0) -> 0 | AE52: =IF(ISNA(VLOOKUP($Q52,data,13,FALSE)),0,VLOOKUP($Q52,data,13,FALSE)) -> 0.196 | AF52: =IF(ISNA(VLOOKUP($Q52,data,9,FALSE)),0,VLOOKUP($Q52,data,9,FALSE)) -> 2377.67 | AG52: =IF(ISNA(VLOOKUP($Q52,data,10,FALSE)),0,VLOOKUP($Q52,data,10,FALSE)) -> 0.4 | AH52: =IF(ISNA(VLOOKUP($Q52,data,11,FALSE)),0,VLOOKUP($Q52,data,11,FALSE)) -> 306.035 | AI52: =ROUND(AF52,0)-ROUND(AG52,0)-ROUND(AH52,0)-ROUND(AJ52,0) -> 1 | AJ52: =IF(ISNA(VLOOKUP($Q52,data,8,FALSE)),0,VLOOKUP($Q52,data,8,FALSE)) -> 2071.235 | AK52: ='Report Inputs'!$F$2 -> 55.9 | AL52: ='Report Inputs'!$E$2 -> 1080 | AM52: =IF(ISNA(VLOOKUP($Q52,data,14,FALSE)),0,VLOOKUP($Q52,data,14,FALSE)) -> 27.559 | AN52: C | AS52: BARBARA EPHRAIM | AT52: Y | AU52: PROD. ACCOUNTANT | AV52: =NOW() -> 42376.365
A53: 7 | B53: =MONTH('Report Inputs'!$B$2) -> 11 | C53: =YEAR('Report Inputs'!$B$2) -> 2015 | D53: 66571 | F53: OXY USA WTP LP | G53: PO BOX 27570 | H53: HOUSTON | I53: TEXAS | J53: 77227-7570 | K53: 713 | L53: 215-7309 | M53: 713 | N53: 985-1893 | O53: N | P53: 45 | Q53: 11678 | R53: 0 | S53: CASCADE CREEK 697-20-54D | T53: WMFK | U53: =IF(V53>0,"PR","SI") -> PR | V53: =IF(ISNA(VLOOKUP($Q53,data,4,FALSE)),0,VLOOKUP($Q53,data,4,FALSE)) -> 26 | W53: NWSE | X53: 20 | Y53: 6S | Z53: 97W | AA53: =IF(ISNA(VLOOKUP($Q53,data,5,FALSE)),0,VLOOKUP($Q53,data,5,FALSE)) -> 0.603 | AB53: =IF(ISNA(VLOOKUP($Q53,data,7,FALSE)),0,VLOOKUP($Q53,data,7,FALSE)) -> 15.723 | AC53: =IF(ISNA(VLOOKUP($Q53,data,6,FALSE)),0,VLOOKUP($Q53,data,6,FALSE)) -> 15.686 | AD53: =ROUND(AC53,0)+ROUND(AE53,0)-ROUND(AA53,0)-ROUND(AB53,0) -> 0 | AE53: =IF(ISNA(VLOOKUP($Q53,data,13,FALSE)),0,VLOOKUP($Q53,data,13,FALSE)) -> 0.64 | AF53: =IF(ISNA(VLOOKUP($Q53,data,9,FALSE)),0,VLOOKUP($Q53,data,9,FALSE)) -> 1857.11 | AG53: =IF(ISNA(VLOOKUP($Q53,data,10,FALSE)),0,VLOOKUP($Q53,data,10,FALSE)) -> 3.14 | AH53: =IF(ISNA(VLOOKUP($Q53,data,11,FALSE)),0,VLOOKUP($Q53,data,11,FALSE)) -> 283.325 | AI53: =ROUND(AF53,0)-ROUND(AG53,0)-ROUND(AH53,0)-ROUND(AJ53,0) -> 0 | AJ53: =IF(ISNA(VLOOKUP($Q53,data,8,FALSE)),0,VLOOKUP($Q53,data,8,FALSE)) -> 1570.645 | AK53: ='Report Inputs'!$F$2 -> 55.9 | AL53: ='Report Inputs'!$E$2 -> 1080 | AM53: =IF(ISNA(VLOOKUP($Q53,data,14,FALSE)),0,VLOOKUP($Q53,data,14,FALSE)) -> 199.074 | AN53: C | AS53: BARBARA EPHRAIM | AT53: Y | AU53: PROD. ACCOUNTANT | AV53: =NOW() -> 42376.365
A54: 7 | B54: =MONTH('Report Inputs'!$B$2) -> 11 | C54: =YEAR('Report Inputs'!$B$2) -> 2015 | D54: 66571 | F54: OXY USA WTP LP | G54: PO BOX 27570 | H54: HOUSTON | I54: TEXAS | J54: 77227-7570 | K54: 713 | L54: 215-7309 | M54: 713 | N54: 985-1893 | O54: N | P54: 45 | Q54: 11686 | R54: 0 | S54: CASCADE CREEK 697-20-43D | T54: WMFK | U54: =IF(V54>0,"PR","SI") -> PR | V54: =IF(ISNA(VLOOKUP($Q54,data,4,FALSE)),0,VLOOKUP($Q54,data,4,FALSE)) -> 30 | W54: NWSE | X54: 20 | Y54: 6S | Z54: 97W | AA54: =IF(ISNA(VLOOKUP($Q54,data,5,FALSE)),0,VLOOKUP($Q54,data,5,FALSE)) -> 0.554 | AB54: =IF(ISNA(VLOOKUP($Q54,data,7,FALSE)),0,VLOOKUP($Q54,data,7,FALSE)) -> 16.444 | AC54: =IF(ISNA(VLOOKUP($Q54,data,6,FALSE)),0,VLOOKUP($Q54,data,6,FALSE)) -> 16.329 | AD54: =ROUND(AC54,0)+ROUND(AE54,0)-ROUND(AA54,0)-ROUND(AB54,0) -> 0 | AE54: =IF(ISNA(VLOOKUP($Q54,data,13,FALSE)),0,VLOOKUP($Q54,data,13,FALSE)) -> 0.669 | AF54: =IF(ISNA(VLOOKUP($Q54,data,9,FALSE)),0,VLOOKUP($Q54,data,9,FALSE)) -> 1932.55 | AG54: =IF(ISNA(VLOOKUP($Q54,data,10,FALSE)),0,VLOOKUP($Q54,data,10,FALSE)) -> 3.28 | AH54: =IF(ISNA(VLOOKUP($Q54,data,11,FALSE)),0,VLOOKUP($Q54,data,11,FALSE)) -> 286.593 | AI54: =ROUND(AF54,0)-ROUND(AG54,0)-ROUND(AH54,0)-ROUND(AJ54,0) -> 0 | AJ54: =IF(ISNA(VLOOKUP($Q54,data,8,FALSE)),0,VLOOKUP($Q54,data,8,FALSE)) -> 1642.677 | AK54: ='Report Inputs'!$F$2 -> 55.9 | AL54: ='Report Inputs'!$E$2 -> 1080 | AM54: =IF(ISNA(VLOOKUP($Q54,data,14,FALSE)),0,VLOOKUP($Q54,data,14,FALSE)) -> 208.205 | AN54: C | AS54: BARBARA EPHRAIM | AT54: Y | AU54: PROD. ACCOUNTANT | AV54: =NOW() -> 42376.365
A55: 7 | B55: =MONTH('Report Inputs'!$B$2) -> 11 | C55: =YEAR('Report Inputs'!$B$2) -> 2015 | D55: 66571 | F55: OXY USA WTP LP | G55: PO BOX 27570 | H55: HOUSTON | I55: TEXAS | J55: 77227-7570 | K55: 713 | L55: 215-7309 | M55: 713 | N55: 985-1893 | O55: N | P55: 45 | Q55: 11766 | R55: 0 | S55: CASCADE CREEK 697-32-12D | T55: WMFK | U55: =IF(V55>0,"PR","SI") -> PR | V55: =IF(ISNA(VLOOKUP($Q55,data,4,FALSE)),0,VLOOKUP($Q55,data,4,FALSE)) -> 30 | W55: LOT 4 | X55: 32 | Y55: 6S | Z55: 97W | AA55: =IF(ISNA(VLOOKUP($Q55,data,5,FALSE)),0,VLOOKUP($Q55,data,5,FALSE)) -> 0.291 | AB55: =IF(ISNA(VLOOKUP($Q55,data,7,FALSE)),0,VLOOKUP($Q55,data,7,FALSE)) -> 2.189 | AC55: =IF(ISNA(VLOOKUP($Q55,data,6,FALSE)),0,VLOOKUP($Q55,data,6,FALSE)) -> 2.323 | AD55: =ROUND(AC55,0)+ROUND(AE55,0)-ROUND(AA55,0)-ROUND(AB55,0) -> 0 | AE55: =IF(ISNA(VLOOKUP($Q55,data,13,FALSE)),0,VLOOKUP($Q55,data,13,FALSE)) -> 0.157 | AF55: =IF(ISNA(VLOOKUP($Q55,data,9,FALSE)),0,VLOOKUP($Q55,data,9,FALSE)) -> 1734.25 | AG55: =IF(ISNA(VLOOKUP($Q55,data,10,FALSE)),0,VLOOKUP($Q55,data,10,FALSE)) -> 0.39 | AH55: =IF(ISNA(VLOOKUP($Q55,data,11,FALSE)),0,VLOOKUP($Q55,data,11,FALSE)) -> 240.222 | AI55: =ROUND(AF55,0)-ROUND(AG55,0)-ROUND(AH55,0)-ROUND(AJ55,0) -> 0 | AJ55: =IF(ISNA(VLOOKUP($Q55,data,8,FALSE)),0,VLOOKUP($Q55,data,8,FALSE)) -> 1493.638 | AK55: ='Report Inputs'!$F$2 -> 55.9 | AL55: ='Report Inputs'!$E$2 -> 1080 | AM55: =IF(ISNA(VLOOKUP($Q55,data,14,FALSE)),0,VLOOKUP($Q55,data,14,FALSE)) -> 78.926 | AN55: C | AS55: BARBARA EPHRAIM | AT55: Y | AU55: PROD. ACCOUNTANT | AV55: =NOW() -> 42376.365
A56: 7 | B56: =MONTH('Report Inputs'!$B$2) -> 11 | C56: =YEAR('Report Inputs'!$B$2) -> 2015 | D56: 66571 | F56: OXY USA WTP LP | G56: PO BOX 27570 | H56: HOUSTON | I56: TEXAS | J56: 77227-7570 | K56: 713 | L56: 215-7309 | M56: 713 | N56: 985-1893 | O56: N | P56: 45 | Q56: 11767 | R56: 0 | S56: CASCADE CREEK 697-29-59D | T56: WMFK | U56: =IF(V56>0,"PR","SI") -> PR | V56: =IF(ISNA(VLOOKUP($Q56,data,4,FALSE)),0,VLOOKUP($Q56,data,4,FALSE)) -> 30 | W56: LOT 4 | X56: 32 | Y56: 6S | Z56: 97W | AA56: =IF(ISNA(VLOOKUP($Q56,data,5,FALSE)),0,VLOOKUP($Q56,data,5,FALSE)) -> 0.25 | AB56: =IF(ISNA(VLOOKUP($Q56,data,7,FALSE)),0,VLOOKUP($Q56,data,7,FALSE)) -> 1.913 | AC56: =IF(ISNA(VLOOKUP($Q56,data,6,FALSE)),0,VLOOKUP($Q56,data,6,FALSE)) -> 2.025 | AD56: =ROUND(AC56,0)+ROUND(AE56,0)-ROUND(AA56,0)-ROUND(AB56,0) -> 0 | AE56: =IF(ISNA(VLOOKUP($Q56,data,13,FALSE)),0,VLOOKUP($Q56,data,13,FALSE)) -> 0.138 | AF56: =IF(ISNA(VLOOKUP($Q56,data,9,FALSE)),0,VLOOKUP($Q56,data,9,FALSE)) -> 1533.71 | AG56: =IF(ISNA(VLOOKUP($Q56,data,10,FALSE)),0,VLOOKUP($Q56,data,10,FALSE)) -> 0.34 | AH56: =IF(ISNA(VLOOKUP($Q56,data,11,FALSE)),0,VLOOKUP($Q56,data,11,FALSE)) -> 228.756 | AI56: =ROUND(AF56,0)-ROUND(AG56,0)-ROUND(AH56,0)-ROUND(AJ56,0) -> 0 | AJ56: =IF(ISNA(VLOOKUP($Q56,data,8,FALSE)),0,VLOOKUP($Q56,data,8,FALSE)) -> 1304.614 | AK56: ='Report Inputs'!$F$2 -> 55.9 | AL56: ='Report Inputs'!$E$2 -> 1080 | AM56: =IF(ISNA(VLOOKUP($Q56,data,14,FALSE)),0,VLOOKUP($Q56,data,14,FALSE)) -> 68.938 | AN56: C | AS56: BARBARA EPHRAIM | AT56: Y | AU56: PROD. ACCOUNTANT | AV56: =NOW() -> 42376.365
A57: 7 | B57: =MONTH('Report Inputs'!$B$2) -> 11 | C57: =YEAR('Report Inputs'!$B$2) -> 2015 | D57: 66571 | F57: OXY USA WTP LP | G57: PO BOX 27570 | H57: HOUSTON | I57: TEXAS | J57: 77227-7570 | K57: 713 | L57: 215-7309 | M57: 713 | N57: 985-1893 | O57: N | P57: 45 | Q57: 11768 | R57: 0 | S57: CASCADE CREEK 697-29-60D | T57: WFCM | U57: =IF(V57>0,"PR","SI") -> PR | V57: =IF(ISNA(VLOOKUP($Q57,data,4,FALSE)),0,VLOOKUP($Q57,data,4,FALSE)) -> 30 | W57: LOT 4 | X57: 32 | Y57: 6S | Z57: 97W | AA57: =IF(ISNA(VLOOKUP($Q57,data,5,FALSE)),0,VLOOKUP($Q57,data,5,FALSE)) -> 0.213 | AB57: =IF(ISNA(VLOOKUP($Q57,data,7,FALSE)),0,VLOOKUP($Q57,data,7,FALSE)) -> 1.619 | AC57: =IF(ISNA(VLOOKUP($Q57,data,6,FALSE)),0,VLOOKUP($Q57,data,6,FALSE)) -> 1.715 | AD57: =ROUND(AC57,0)+ROUND(AE57,0)-ROUND(AA57,0)-ROUND(AB57,0) -> 0 | AE57: =IF(ISNA(VLOOKUP($Q57,data,13,FALSE)),0,VLOOKUP($Q57,data,13,FALSE)) -> 0.117 | AF57: =IF(ISNA(VLOOKUP($Q57,data,9,FALSE)),0,VLOOKUP($Q57,data,9,FALSE)) -> 1325.36 | AG57: =IF(ISNA(VLOOKUP($Q57,data,10,FALSE)),0,VLOOKUP($Q57,data,10,FALSE)) -> 0.29 | AH57: =IF(ISNA(VLOOKUP($Q57,data,11,FALSE)),0,VLOOKUP($Q57,data,11,FALSE)) -> 219.717 | AI57: =ROUND(AF57,0)-ROUND(AG57,0)-ROUND(AH57,0)-ROUND(AJ57,0) -> 0 | AJ57: =IF(ISNA(VLOOKUP($Q57,data,8,FALSE)),0,VLOOKUP($Q57,data,8,FALSE)) -> 1105.353 | AK57: ='Report Inputs'!$F$2 -> 55.9 | AL57: ='Report Inputs'!$E$2 -> 1080 | AM57: =IF(ISNA(VLOOKUP($Q57,data,14,FALSE)),0,VLOOKUP($Q57,data,14,FALSE)) -> 58.409 | AN57: C | AS57: BARBARA EPHRAIM | AT57: Y | AU57: PROD. ACCOUNTANT | AV57: =NOW() -> 42376.365
A58: 7 | B58: =MONTH('Report Inputs'!$B$2) -> 11 | C58: =YEAR('Report Inputs'!$B$2) -> 2015 | D58: 66571 | F58: OXY USA WTP LP | G58: PO BOX 27570 | H58: HOUSTON | I58: TEXAS | J58: 77227-7570 | K58: 713 | L58: 215-7309 | M58: 713 | N58: 985-1893 | O58: N | P58: 45 | Q58: 11769 | R58: 0 | S58: CASCADE CREEK 697-32-09D | T58: WMFK | U58: =IF(V58>0,"PR","SI") -> PR | V58: =IF(ISNA(VLOOKUP($Q58,data,4,FALSE)),0,VLOOKUP($Q58,data,4,FALSE)) -> 30 | W58: LOT 4 | X58: 32 | Y58: 6S | Z58: 97W | AA58: =IF(ISNA(VLOOKUP($Q58,data,5,FALSE)),0,VLOOKUP($Q58,data,5,FALSE)) -> 0.189 | AB58: =IF(ISNA(VLOOKUP($Q58,data,7,FALSE)),0,VLOOKUP($Q58,data,7,FALSE)) -> 1.426 | AC58: =IF(ISNA(VLOOKUP($Q58,data,6,FALSE)),0,VLOOKUP($Q58,data,6,FALSE)) -> 1.513 | AD58: =ROUND(AC58,0)+ROUND(AE58,0)-ROUND(AA58,0)-ROUND(AB58,0) -> 1 | AE58: =IF(ISNA(VLOOKUP($Q58,data,13,FALSE)),0,VLOOKUP($Q58,data,13,FALSE)) -> 0.102 | AF58: =IF(ISNA(VLOOKUP($Q58,data,9,FALSE)),0,VLOOKUP($Q58,data,9,FALSE)) -> 1229.72 | AG58: =IF(ISNA(VLOOKUP($Q58,data,10,FALSE)),0,VLOOKUP($Q58,data,10,FALSE)) -> 0.25 | AH58: =IF(ISNA(VLOOKUP($Q58,data,11,FALSE)),0,VLOOKUP($Q58,data,11,FALSE)) -> 256.223 | AI58: =ROUND(AF58,0)-ROUND(AG58,0)-ROUND(AH58,0)-ROUND(AJ58,0) -> 1 | AJ58: =IF(ISNA(VLOOKUP($Q58,data,8,FALSE)),0,VLOOKUP($Q58,data,8,FALSE)) -> 973.247 | AK58: ='Report Inputs'!$F$2 -> 55.9 | AL58: ='Report Inputs'!$E$2 -> 1080 | AM58: =IF(ISNA(VLOOKUP($Q58,data,14,FALSE)),0,VLOOKUP($Q58,data,14,FALSE)) -> 51.428 | AN58: C | AS58: BARBARA EPHRAIM | AT58: Y | AU58: PROD. ACCOUNTANT | AV58: =NOW() -> 42376.365
A59: 7 | B59: =MONTH('Report Inputs'!$B$2) -> 11 | C59: =YEAR('Report Inputs'!$B$2) -> 2015 | D59: 66571 | F59: OXY USA WTP LP | G59: PO BOX 27570 | H59: HOUSTON | I59: TEXAS | J59: 77227-7570 | K59: 713 | L59: 215-7309 | M59: 713 | N59: 985-1893 | O59: N | P59: 45 | Q59: 11770 | R59: 0 | S59: CASCADE CREEK 697-32-18D | T59: WMFK | U59: =IF(V59>0,"PR","SI") -> PR | V59: =IF(ISNA(VLOOKUP($Q59,data,4,FALSE)),0,VLOOKUP($Q59,data,4,FALSE)) -> 22 | W59: LOT 4 | X59: 32 | Y59: 6S | Z59: 97W | AA59: =IF(ISNA(VLOOKUP($Q59,data,5,FALSE)),0,VLOOKUP($Q59,data,5,FALSE)) -> 0.214 | AB59: =IF(ISNA(VLOOKUP($Q59,data,7,FALSE)),0,VLOOKUP($Q59,data,7,FALSE)) -> 1.692 | AC59: =IF(ISNA(VLOOKUP($Q59,data,6,FALSE)),0,VLOOKUP($Q59,data,6,FALSE)) -> 1.785 | AD59: =ROUND(AC59,0)+ROUND(AE59,0)-ROUND(AA59,0)-ROUND(AB59,0) -> 0 | AE59: =IF(ISNA(VLOOKUP($Q59,data,13,FALSE)),0,VLOOKUP($Q59,data,13,FALSE)) -> 0.121 | AF59: =IF(ISNA(VLOOKUP($Q59,data,9,FALSE)),0,VLOOKUP($Q59,data,9,FALSE)) -> 1421.98 | AG59: =IF(ISNA(VLOOKUP($Q59,data,10,FALSE)),0,VLOOKUP($Q59,data,10,FALSE)) -> 0.3 | AH59: =IF(ISNA(VLOOKUP($Q59,data,11,FALSE)),0,VLOOKUP($Q59,data,11,FALSE)) -> 266.775 | AI59: =ROUND(AF59,0)-ROUND(AG59,0)-ROUND(AH59,0)-ROUND(AJ59,0) -> 0 | AJ59: =IF(ISNA(VLOOKUP($Q59,data,8,FALSE)),0,VLOOKUP($Q59,data,8,FALSE)) -> 1154.905 | AK59: ='Report Inputs'!$F$2 -> 55.9 | AL59: ='Report Inputs'!$E$2 -> 1080 | AM59: =IF(ISNA(VLOOKUP($Q59,data,14,FALSE)),0,VLOOKUP($Q59,data,14,FALSE)) -> 61.026 | AN59: C | AS59: BARBARA EPHRAIM | AT59: Y | AU59: PROD. ACCOUNTANT | AV59: =NOW() -> 42376.365
A60: 7 | B60: =MONTH('Report Inputs'!$B$2) -> 11 | C60: =YEAR('Report Inputs'!$B$2) -> 2015 | D60: 66571 | F60: OXY USA WTP LP | G60: PO BOX 27570 | H60: HOUSTON | I60: TEXAS | J60: 77227-7570 | K60: 713 | L60: 215-7309 | M60: 713 | N60: 985-1893 | O60: N | P60: 45 | Q60: 11807 | R60: 0 | S60: CASCADE CREEK 697-20-56DA | T60: WFCM | U60: =IF(V60>0,"PR","SI") -> PR | V60: =IF(ISNA(VLOOKUP($Q60,data,4,FALSE)),0,VLOOKUP($Q60,data,4,FALSE)) -> 30 | W60: NESE | X60: 20 | Y60: 6S | Z60: 97W | AA60: =IF(ISNA(VLOOKUP($Q60,data,5,FALSE)),0,VLOOKUP($Q60,data,5,FALSE)) -> 1.47 | AB60: =IF(ISNA(VLOOKUP($Q60,data,7,FALSE)),0,VLOOKUP($Q60,data,7,FALSE)) -> 41.538 | AC60: =IF(ISNA(VLOOKUP($Q60,data,6,FALSE)),0,VLOOKUP($Q60,data,6,FALSE)) -> 41.413 | AD60: =ROUND(AC60,0)+ROUND(AE60,0)-ROUND(AA60,0)-ROUND(AB60,0) -> 0 | AE60: =IF(ISNA(VLOOKUP($Q60,data,13,FALSE)),0,VLOOKUP($Q60,data,13,FALSE)) -> 1.595 | AF60: =IF(ISNA(VLOOKUP($Q60,data,9,FALSE)),0,VLOOKUP($Q60,data,9,FALSE)) -> 2654.52 | AG60: =IF(ISNA(VLOOKUP($Q60,data,10,FALSE)),0,VLOOKUP($Q60,data,10,FALSE)) -> 8.35 | AH60: =IF(ISNA(VLOOKUP($Q60,data,11,FALSE)),0,VLOOKUP($Q60,data,11,FALSE)) -> 317.705 | AI60: =ROUND(AF60,0)-ROUND(AG60,0)-ROUND(AH60,0)-ROUND(AJ60,0) -> 1 | AJ60: =IF(ISNA(VLOOKUP($Q60,data,8,FALSE)),0,VLOOKUP($Q60,data,8,FALSE)) -> 2328.465 | AK60: ='Report Inputs'!$F$2 -> 55.9 | AL60: ='Report Inputs'!$E$2 -> 1080 | AM60: =IF(ISNA(VLOOKUP($Q60,data,14,FALSE)),0,VLOOKUP($Q60,data,14,FALSE)) -> 97.252 | AN60: C | AS60: BARBARA EPHRAIM | AT60: Y | AU60: PROD. ACCOUNTANT | AV60: =NOW() -> 42376.365
A61: 7 | B61: =MONTH('Report Inputs'!$B$2) -> 11 | C61: =YEAR('Report Inputs'!$B$2) -> 2015 | D61: 66571 | F61: OXY USA WTP LP | G61: PO BOX 27570 | H61: HOUSTON | I61: TEXAS | J61: 77227-7570 | K61: 713 | L61: 215-7309 | M61: 713 | N61: 985-1893 | O61: N | P61: 45 | Q61: 11808 | R61: 0 | S61: CASCADE CREEK 697-20-39D | T61: WMFK | U61: =IF(V61>0,"PR","SI") -> PR | V61: =IF(ISNA(VLOOKUP($Q61,data,4,FALSE)),0,VLOOKUP($Q61,data,4,FALSE)) -> 30 | W61: NESE | X61: 20 | Y61: 6S | Z61: 97W | AA61: =IF(ISNA(VLOOKUP($Q61,data,5,FALSE)),0,VLOOKUP($Q61,data,5,FALSE)) -> 1.721 | AB61: =IF(ISNA(VLOOKUP($Q61,data,7,FALSE)),0,VLOOKUP($Q61,data,7,FALSE)) -> 48.235 | AC61: =IF(ISNA(VLOOKUP($Q61,data,6,FALSE)),0,VLOOKUP($Q61,data,6,FALSE)) -> 48.103 | AD61: =ROUND(AC61,0)+ROUND(AE61,0)-ROUND(AA61,0)-ROUND(AB61,0) -> 0 | AE61: =IF(ISNA(VLOOKUP($Q61,data,13,FALSE)),0,VLOOKUP($Q61,data,13,FALSE)) -> 1.853 | AF61: =IF(ISNA(VLOOKUP($Q61,data,9,FALSE)),0,VLOOKUP($Q61,data,9,FALSE)) -> 3048.17 | AG61: =IF(ISNA(VLOOKUP($Q61,data,10,FALSE)),0,VLOOKUP($Q61,data,10,FALSE)) -> 9.7 | AH61: =IF(ISNA(VLOOKUP($Q61,data,11,FALSE)),0,VLOOKUP($Q61,data,11,FALSE)) -> 334.731 | AI61: =ROUND(AF61,0)-ROUND(AG61,0)-ROUND(AH61,0)-ROUND(AJ61,0) -> -1 | AJ61: =IF(ISNA(VLOOKUP($Q61,data,8,FALSE)),0,VLOOKUP($Q61,data,8,FALSE)) -> 2703.739 | AK61: ='Report Inputs'!$F$2 -> 55.9 | AL61: ='Report Inputs'!$E$2 -> 1080 | AM61: =IF(ISNA(VLOOKUP($Q61,data,14,FALSE)),0,VLOOKUP($Q61,data,14,FALSE)) -> 112.926 | AN61: C | AS61: BARBARA EPHRAIM | AT61: Y | AU61: PROD. ACCOUNTANT | AV61: =NOW() -> 42376.365
A62: 7 | B62: =MONTH('Report Inputs'!$B$2) -> 11 | C62: =YEAR('Report Inputs'!$B$2) -> 2015 | D62: 66571 | F62: OXY USA WTP LP | G62: PO BOX 27570 | H62: HOUSTON | I62: TEXAS | J62: 77227-7570 | K62: 713 | L62: 215-7309 | M62: 713 | N62: 985-1893 | O62: N | P62: 45 | Q62: 11809 | R62: 0 | S62: CASCADE CREEK 697-29-54D | T62: WMFK | U62: =IF(V62>0,"PR","SI") -> PR | V62: =IF(ISNA(VLOOKUP($Q62,data,4,FALSE)),0,VLOOKUP($Q62,data,4,FALSE)) -> 29 | W62: NESW | X62: 29 | Y62: 6S | Z62: 97W | AA62: =IF(ISNA(VLOOKUP($Q62,data,5,FALSE)),0,VLOOKUP($Q62,data,5,FALSE)) -> 0.229 | AB62: =IF(ISNA(VLOOKUP($Q62,data,7,FALSE)),0,VLOOKUP($Q62,data,7,FALSE)) -> 4.876 | AC62: =IF(ISNA(VLOOKUP($Q62,data,6,FALSE)),0,VLOOKUP($Q62,data,6,FALSE)) -> 4.856 | AD62: =ROUND(AC62,0)+ROUND(AE62,0)-ROUND(AA62,0)-ROUND(AB62,0) -> 0 | AE62: =IF(ISNA(VLOOKUP($Q62,data,13,FALSE)),0,VLOOKUP($Q62,data,13,FALSE)) -> 0.249 | AF62: =IF(ISNA(VLOOKUP($Q62,data,9,FALSE)),0,VLOOKUP($Q62,data,9,FALSE)) -> 1682.71 | AG62: =IF(ISNA(VLOOKUP($Q62,data,10,FALSE)),0,VLOOKUP($Q62,data,10,FALSE)) -> 0.94 | AH62: =IF(ISNA(VLOOKUP($Q62,data,11,FALSE)),0,VLOOKUP($Q62,data,11,FALSE)) -> 275.852 | AI62: =ROUND(AF62,0)-ROUND(AG62,0)-ROUND(AH62,0)-ROUND(AJ62,0) -> 0 | AJ62: =IF(ISNA(VLOOKUP($Q62,data,8,FALSE)),0,VLOOKUP($Q62,data,8,FALSE)) -> 1405.918 | AK62: ='Report Inputs'!$F$2 -> 55.9 | AL62: ='Report Inputs'!$E$2 -> 1080 | AM62: =IF(ISNA(VLOOKUP($Q62,data,14,FALSE)),0,VLOOKUP($Q62,data,14,FALSE)) -> 145.375 | AN62: C | AS62: BARBARA EPHRAIM | AT62: Y | AU62: PROD. ACCOUNTANT | AV62: =NOW() -> 42376.365
A63: 7 | B63: =MONTH('Report Inputs'!$B$2) -> 11 | C63: =YEAR('Report Inputs'!$B$2) -> 2015 | D63: 66571 | F63: OXY USA WTP LP | G63: PO BOX 27570 | H63: HOUSTON | I63: TEXAS | J63: 77227-7570 | K63: 713 | L63: 215-7309 | M63: 713 | N63: 985-1893 | O63: N | P63: 45 | Q63: 11810 | R63: 0 | S63: CASCADE CREEK 697-29-34D | T63: WFCM | U63: =IF(V63>0,"PR","SI") -> PR | V63: 3 | W63: NESW | X63: 29 | Y63: 6S | Z63: 97W | AA63: =IF(ISNA(VLOOKUP($Q63,data,5,FALSE)),0,VLOOKUP($Q63,data,5,FALSE)) -> 0.201 | AB63: =IF(ISNA(VLOOKUP($Q63,data,7,FALSE)),0,VLOOKUP($Q63,data,7,FALSE)) -> 3.981 | AC63: =IF(ISNA(VLOOKUP($Q63,data,6,FALSE)),0,VLOOKUP($Q63,data,6,FALSE)) -> 3.979 | AD63: =ROUND(AC63,0)+ROUND(AE63,0)-ROUND(AA63,0)-ROUND(AB63,0) -> 0 | AE63: =IF(ISNA(VLOOKUP($Q63,data,13,FALSE)),0,VLOOKUP($Q63,data,13,FALSE)) -> 0.203 | AF63: =IF(ISNA(VLOOKUP($Q63,data,9,FALSE)),0,VLOOKUP($Q63,data,9,FALSE)) -> 1412.84 | AG63: =IF(ISNA(VLOOKUP($Q63,data,10,FALSE)),0,VLOOKUP($Q63,data,10,FALSE)) -> 0.77 | AH63: =IF(ISNA(VLOOKUP($Q63,data,11,FALSE)),0,VLOOKUP($Q63,data,11,FALSE)) -> 264.148 | AI63: =ROUND(AF63,0)-ROUND(AG63,0)-ROUND(AH63,0)-ROUND(AJ63,0) -> 0 | AJ63: =IF(ISNA(VLOOKUP($Q63,data,8,FALSE)),0,VLOOKUP($Q63,data,8,FALSE)) -> 1147.922 | AK63: ='Report Inputs'!$F$2 -> 55.9 | AL63: ='Report Inputs'!$E$2 -> 1080 | AM63: =IF(ISNA(VLOOKUP($Q63,data,14,FALSE)),0,VLOOKUP($Q63,data,14,FALSE)) -> 118.697 | AN63: C | AS63: BARBARA EPHRAIM | AT63: Y | AU63: PROD. ACCOUNTANT | AV63: =NOW() -> 42376.365
A64: 7 | B64: =MONTH('Report Inputs'!$B$2) -> 11 | C64: =YEAR('Report Inputs'!$B$2) -> 2015 | D64: 66571 | F64: OXY USA WTP LP | G64: PO BOX 27570 | H64: HOUSTON | I64: TEXAS | J64: 77227-7570 | K64: 713 | L64: 215-7309 | M64: 713 | N64: 985-1893 | O64: N | P64: 45 | Q64: 11811 | R64: 0 | S64: CASCADE CREEK 697-29-29D | T64: WMFK | U64: =IF(V64>0,"PR","SI") -> SI | V64: =IF(ISNA(VLOOKUP($Q64,data,4,FALSE)),0,VLOOKUP($Q64,data,4,FALSE)) -> 0 | W64: NESW | X64: 29 | Y64: 6S | Z64: 97W | AA64: =IF(ISNA(VLOOKUP($Q64,data,5,FALSE)),0,VLOOKUP($Q64,data,5,FALSE)) -> 0.007 | AB64: =IF(ISNA(VLOOKUP($Q64,data,7,FALSE)),0,VLOOKUP($Q64,data,7,FALSE)) -> 0 | AC64: =IF(ISNA(VLOOKUP($Q64,data,6,FALSE)),0,VLOOKUP($Q64,data,6,FALSE)) -> 0.007 | AD64: =ROUND(AC64,0)+ROUND(AE64,0)-ROUND(AA64,0)-ROUND(AB64,0) -> 0 | AE64: =IF(ISNA(VLOOKUP($Q64,data,13,FALSE)),0,VLOOKUP($Q64,data,13,FALSE)) -> 0 | AF64: =IF(ISNA(VLOOKUP($Q64,data,9,FALSE)),0,VLOOKUP($Q64,data,9,FALSE)) -> 0 | AG64: =IF(ISNA(VLOOKUP($Q64,data,10,FALSE)),0,VLOOKUP($Q64,data,10,FALSE)) -> 0 | AH64: =IF(ISNA(VLOOKUP($Q64,data,11,FALSE)),0,VLOOKUP($Q64,data,11,FALSE)) -> 0 | AI64: =ROUND(AF64,0)-ROUND(AG64,0)-ROUND(AH64,0)-ROUND(AJ64,0) -> 0 | AJ64: =IF(ISNA(VLOOKUP($Q64,data,8,FALSE)),0,VLOOKUP($Q64,data,8,FALSE)) -> 0 | AM64: =IF(ISNA(VLOOKUP($Q64,data,14,FALSE)),0,VLOOKUP($Q64,data,14,FALSE)) -> 0 | AN64: C | AS64: BARBARA EPHRAIM | AT64: Y | AU64: PROD. ACCOUNTANT | AV64: =NOW() -> 42376.365
A65: 7 | B65: =MONTH('Report Inputs'!$B$2) -> 11 | C65: =YEAR('Report Inputs'!$B$2) -> 2015 | D65: 66571 | F65: OXY USA WTP LP | G65: PO BOX 27570 | H65: HOUSTON | I65: TEXAS | J65: 77227-7570 | K65: 713 | L65: 215-7309 | M65: 713 | N65: 985-1893 | O65: N | P65: 45 | Q65: 11812 | R65: 0 | S65: CASCADE CREEK 697-29-46D | T65: CMEO | U65: =IF(V65>0,"PR","SI") -> PR | V65: 24 | W65: NESW | X65: 29 | Y65: 6S | Z65: 97W | AA65: =IF(ISNA(VLOOKUP($Q65,data,5,FALSE)),0,VLOOKUP($Q65,data,5,FALSE)) -> 0.247 | AB65: =IF(ISNA(VLOOKUP($Q65,data,7,FALSE)),0,VLOOKUP($Q65,data,7,FALSE)) -> 4.425 | AC65: =IF(ISNA(VLOOKUP($Q65,data,6,FALSE)),0,VLOOKUP($Q65,data,6,FALSE)) -> 4.445 | AD65: =ROUND(AC65,0)+ROUND(AE65,0)-ROUND(AA65,0)-ROUND(AB65,0) -> 0 | AE65: =IF(ISNA(VLOOKUP($Q65,data,13,FALSE)),0,VLOOKUP($Q65,data,13,FALSE)) -> 0.227 | AF65: =IF(ISNA(VLOOKUP($Q65,data,9,FALSE)),0,VLOOKUP($Q65,data,9,FALSE)) -> 1546.82 | AG65: =IF(ISNA(VLOOKUP($Q65,data,10,FALSE)),0,VLOOKUP($Q65,data,10,FALSE)) -> 0.85 | AH65: =IF(ISNA(VLOOKUP($Q65,data,11,FALSE)),0,VLOOKUP($Q65,data,11,FALSE)) -> 269.959 | AI65: =ROUND(AF65,0)-ROUND(AG65,0)-ROUND(AH65,0)-ROUND(AJ65,0) -> 0 | AJ65: =IF(ISNA(VLOOKUP($Q65,data,8,FALSE)),0,VLOOKUP($Q65,data,8,FALSE)) -> 1276.011 | AK65: ='Report Inputs'!$F$2 -> 55.9 | AL65: ='Report Inputs'!$E$2 -> 1080 | AM65: =IF(ISNA(VLOOKUP($Q65,data,14,FALSE)),0,VLOOKUP($Q65,data,14,FALSE)) -> 131.941 | AN65: C | AS65: BARBARA EPHRAIM | AT65: Y | AU65: PROD. ACCOUNTANT | AV65: =NOW() -> 42376.365
A66: 7 | B66: =MONTH('Report Inputs'!$B$2) -> 11 | C66: =YEAR('Report Inputs'!$B$2) -> 2015 | D66: 66571 | F66: OXY USA WTP LP | G66: PO BOX 27570 | H66: HOUSTON | I66: TEXAS | J66: 77227-7570 | K66: 713 | L66: 215-7309 | M66: 713 | N66: 985-1893 | O66: N | P66: 45 | Q66: 11814 | R66: 0 | S66: CASCADE CREEK 697-20-59D | T66: WFCM | U66: TA | V66: =IF(ISNA(VLOOKUP($Q66,data,4,FALSE)),0,VLOOKUP($Q66,data,4,FALSE)) -> 0 | W66: NWNE | X66: 29 | Y66: 6S | Z66: 97W | AA66: =IF(ISNA(VLOOKUP($Q66,data,5,FALSE)),0,VLOOKUP($Q66,data,5,FALSE)) -> 0 | AB66: =IF(ISNA(VLOOKUP($Q66,data,7,FALSE)),0,VLOOKUP($Q66,data,7,FALSE)) -> 0 | AC66: =IF(ISNA(VLOOKUP($Q66,data,6,FALSE)),0,VLOOKUP($Q66,data,6,FALSE)) -> 0 | AD66: =ROUND(AC66,0)+ROUND(AE66,0)-ROUND(AA66,0)-ROUND(AB66,0) -> 0 | AE66: =IF(ISNA(VLOOKUP($Q66,data,13,FALSE)),0,VLOOKUP($Q66,data,13,FALSE)) -> 0 | AF66: =IF(ISNA(VLOOKUP($Q66,data,9,FALSE)),0,VLOOKUP($Q66,data,9,FALSE)) -> 0 | AG66: =IF(ISNA(VLOOKUP($Q66,data,10,FALSE)),0,VLOOKUP($Q66,data,10,FALSE)) -> 0 | AH66: =IF(ISNA(VLOOKUP($Q66,data,11,FALSE)),0,VLOOKUP($Q66,data,11,FALSE)) -> 0 | AI66: =ROUND(AF66,0)-ROUND(AG66,0)-ROUND(AH66,0)-ROUND(AJ66,0) -> 0 | AJ66: =IF(ISNA(VLOOKUP($Q66,data,8,FALSE)),0,VLOOKUP($Q66,data,8,FALSE)) -> 0 | AM66: =IF(ISNA(VLOOKUP($Q66,data,14,FALSE)),0,VLOOKUP($Q66,data,14,FALSE)) -> 0 | AN66: C | AS66: BARBARA EPHRAIM | AT66: Y | AU66: PROD. ACCOUNTANT | AV66: =NOW() -> 42376.365
A67: 7 | B67: =MONTH('Report Inputs'!$B$2) -> 11 | C67: =YEAR('Report Inputs'!$B$2) -> 2015 | D67: 66571 | F67: OXY USA WTP LP | G67: PO BOX 27570 | H67: HOUSTON | I67: TEXAS | J67: 77227-7570 | K67: 713 | L67: 215-7309 | M67: 713 | N67: 985-1893 | O67: N | P67: 45 | Q67: 11815 | R67: 0 | S67: CASCADE CREEK 697-29-20D | T67: WMFK | U67: =IF(V67>0,"PR","SI") -> PR | V67: =IF(ISNA(VLOOKUP($Q67,data,4,FALSE)),0,VLOOKUP($Q67,data,4,FALSE)) -> 30 | W67: NWNE | X67: 29 | Y67: 6S | Z67: 97W | AA67: =IF(ISNA(VLOOKUP($Q67,data,5,FALSE)),0,VLOOKUP($Q67,data,5,FALSE)) -> 0.233 | AB67: =IF(ISNA(VLOOKUP($Q67,data,7,FALSE)),0,VLOOKUP($Q67,data,7,FALSE)) -> 3.512 | AC67: =IF(ISNA(VLOOKUP($Q67,data,6,FALSE)),0,VLOOKUP($Q67,data,6,FALSE)) -> 3.595 | AD67: =ROUND(AC67,0)+ROUND(AE67,0)-ROUND(AA67,0)-ROUND(AB67,0) -> 0 | AE67: =IF(ISNA(VLOOKUP($Q67,data,13,FALSE)),0,VLOOKUP($Q67,data,13,FALSE)) -> 0.15 | AF67: =IF(ISNA(VLOOKUP($Q67,data,9,FALSE)),0,VLOOKUP($Q67,data,9,FALSE)) -> 722.97 | AG67: =IF(ISNA(VLOOKUP($Q67,data,10,FALSE)),0,VLOOKUP($Q67,data,10,FALSE)) -> 0.7 | AH67: =IF(ISNA(VLOOKUP($Q67,data,11,FALSE)),0,VLOOKUP($Q67,data,11,FALSE)) -> 234.212 | AI67: =ROUND(AF67,0)-ROUND(AG67,0)-ROUND(AH67,0)-ROUND(AJ67,0) -> 0 | AJ67: =IF(ISNA(VLOOKUP($Q67,data,8,FALSE)),0,VLOOKUP($Q67,data,8,FALSE)) -> 488.058 | AK67: ='Report Inputs'!$F$2 -> 55.9 | AL67: ='Report Inputs'!$E$2 -> 1080 | AM67: =IF(ISNA(VLOOKUP($Q67,data,14,FALSE)),0,VLOOKUP($Q67,data,14,FALSE)) -> 5.508 | AN67: C | AS67: BARBARA EPHRAIM | AT67: Y | AU67: PROD. ACCOUNTANT | AV67: =NOW() -> 42376.365
A68: 7 | B68: =MONTH('Report Inputs'!$B$2) -> 11 | C68: =YEAR('Report Inputs'!$B$2) -> 2015 | D68: 66571 | F68: OXY USA WTP LP | G68: PO BOX 27570 | H68: HOUSTON | I68: TEXAS | J68: 77227-7570 | K68: 713 | L68: 215-7309 | M68: 713 | N68: 985-1893 | O68: N | P68: 45 | Q68: 11816 | R68: 0 | S68: CASCADE CREEK 697-29-15DX | T68: WFCM | U68: =IF(V68>0,"PR","SI") -> PR | V68: =IF(ISNA(VLOOKUP($Q68,data,4,FALSE)),0,VLOOKUP($Q68,data,4,FALSE)) -> 30 | W68: NWNE | X68: 29 | Y68: 6S | Z68: 97W | AA68: =IF(ISNA(VLOOKUP($Q68,data,5,FALSE)),0,VLOOKUP($Q68,data,5,FALSE)) -> 0.595 | AB68: =IF(ISNA(VLOOKUP($Q68,data,7,FALSE)),0,VLOOKUP($Q68,data,7,FALSE)) -> 8.437 | AC68: =IF(ISNA(VLOOKUP($Q68,data,6,FALSE)),0,VLOOKUP($Q68,data,6,FALSE)) -> 8.67 | AD68: =ROUND(AC68,0)+ROUND(AE68,0)-ROUND(AA68,0)-ROUND(AB68,0) -> 0 | AE68: =IF(ISNA(VLOOKUP($Q68,data,13,FALSE)),0,VLOOKUP($Q68,data,13,FALSE)) -> 0.362 | AF68: =IF(ISNA(VLOOKUP($Q68,data,9,FALSE)),0,VLOOKUP($Q68,data,9,FALSE)) -> 1441.65 | AG68: =IF(ISNA(VLOOKUP($Q68,data,10,FALSE)),0,VLOOKUP($Q68,data,10,FALSE)) -> 1.67 | AH68: =IF(ISNA(VLOOKUP($Q68,data,11,FALSE)),0,VLOOKUP($Q68,data,11,FALSE)) -> 267.569 | AI68: =ROUND(AF68,0)-ROUND(AG68,0)-ROUND(AH68,0)-ROUND(AJ68,0) -> 0 | AJ68: =IF(ISNA(VLOOKUP($Q68,data,8,FALSE)),0,VLOOKUP($Q68,data,8,FALSE)) -> 1172.411 | AK68: ='Report Inputs'!$F$2 -> 55.9 | AL68: ='Report Inputs'!$E$2 -> 1080 | AM68: =IF(ISNA(VLOOKUP($Q68,data,14,FALSE)),0,VLOOKUP($Q68,data,14,FALSE)) -> 13.231 | AN68: C | AS68: BARBARA EPHRAIM | AT68: Y | AU68: PROD. ACCOUNTANT | AV68: =NOW() -> 42376.365
A69: 7 | B69: =MONTH('Report Inputs'!$B$2) -> 11 | C69: =YEAR('Report Inputs'!$B$2) -> 2015 | D69: 66571 | F69: OXY USA WTP LP | G69: PO BOX 27570 | H69: HOUSTON | I69: TEXAS | J69: 77227-7570 | K69: 713 | L69: 215-7309 | M69: 713 | N69: 985-1893 | O69: N | P69: 45 | Q69: 11818 | R69: 0 | S69: CASCADE CREEK 697-20-56DB | T69: WMFK | U69: =IF(V69>0,"PR","SI") -> PR | V69: =IF(ISNA(VLOOKUP($Q69,data,4,FALSE)),0,VLOOKUP($Q69,data,4,FALSE)) -> 30 | W69: NESE | X69: 20 | Y69: 6S | Z69: 97W | AA69: =IF(ISNA(VLOOKUP($Q69,data,5,FALSE)),0,VLOOKUP($Q69,data,5,FALSE)) -> 1.355 | AB69: =IF(ISNA(VLOOKUP($Q69,data,7,FALSE)),0,VLOOKUP($Q69,data,7,FALSE)) -> 38.202 | AC69: =IF(ISNA(VLOOKUP($Q69,data,6,FALSE)),0,VLOOKUP($Q69,data,6,FALSE)) -> 38.09 | AD69: =ROUND(AC69,0)+ROUND(AE69,0)-ROUND(AA69,0)-ROUND(AB69,0) -> 0 | AE69: =IF(ISNA(VLOOKUP($Q69,data,13,FALSE)),0,VLOOKUP($Q69,data,13,FALSE)) -> 1.467 | AF69: =IF(ISNA(VLOOKUP($Q69,data,9,FALSE)),0,VLOOKUP($Q69,data,9,FALSE)) -> 2458.25 | AG69: =IF(ISNA(VLOOKUP($Q69,data,10,FALSE)),0,VLOOKUP($Q69,data,10,FALSE)) -> 7.68 | AH69: =IF(ISNA(VLOOKUP($Q69,data,11,FALSE)),0,VLOOKUP($Q69,data,11,FALSE)) -> 309.217 | AI69: =ROUND(AF69,0)-ROUND(AG69,0)-ROUND(AH69,0)-ROUND(AJ69,0) -> 0 | AJ69: =IF(ISNA(VLOOKUP($Q69,data,8,FALSE)),0,VLOOKUP($Q69,data,8,FALSE)) -> 2141.353 | AK69: ='Report Inputs'!$F$2 -> 55.9 | AL69: ='Report Inputs'!$E$2 -> 1080 | AM69: =IF(ISNA(VLOOKUP($Q69,data,14,FALSE)),0,VLOOKUP($Q69,data,14,FALSE)) -> 89.437 | AN69: C | AS69: BARBARA EPHRAIM | AT69: Y | AU69: PROD. ACCOUNTANT | AV69: =NOW() -> 42376.365
A70: 7 | B70: =MONTH('Report Inputs'!$B$2) -> 11 | C70: =YEAR('Report Inputs'!$B$2) -> 2015 | D70: 66571 | F70: OXY USA WTP LP | G70: PO BOX 27570 | H70: HOUSTON | I70: TEXAS | J70: 77227-7570 | K70: 713 | L70: 215-7309 | M70: 713 | N70: 985-1893 | O70: N | P70: 45 | Q70: 11894 | R70: 0 | S70: CASCADE CREEK 697-20-21D | T70: WMFK | U70: =IF(V70>0,"PR","SI") -> PR | V70: =IF(ISNA(VLOOKUP($Q70,data,4,FALSE)),0,VLOOKUP($Q70,data,4,FALSE)) -> 30 | W70: SENW | X70: 20 | Y70: 6S | Z70: 97W | AA70: =IF(ISNA(VLOOKUP($Q70,data,5,FALSE)),0,VLOOKUP($Q70,data,5,FALSE)) -> 1.258 | AB70: =IF(ISNA(VLOOKUP($Q70,data,7,FALSE)),0,VLOOKUP($Q70,data,7,FALSE)) -> 3.869 | AC70: =IF(ISNA(VLOOKUP($Q70,data,6,FALSE)),0,VLOOKUP($Q70,data,6,FALSE)) -> 4.806 | AD70: =ROUND(AC70,0)+ROUND(AE70,0)-ROUND(AA70,0)-ROUND(AB70,0) -> 0 | AE70: =IF(ISNA(VLOOKUP($Q70,data,13,FALSE)),0,VLOOKUP($Q70,data,13,FALSE)) -> 0.321 | AF70: =IF(ISNA(VLOOKUP($Q70,data,9,FALSE)),0,VLOOKUP($Q70,data,9,FALSE)) -> 3810.83 | AG70: =IF(ISNA(VLOOKUP($Q70,data,10,FALSE)),0,VLOOKUP($Q70,data,10,FALSE)) -> 0.66 | AH70: =IF(ISNA(VLOOKUP($Q70,data,11,FALSE)),0,VLOOKUP($Q70,data,11,FALSE)) -> 368.221 | AI70: =ROUND(AF70,0)-ROUND(AG70,0)-ROUND(AH70,0)-ROUND(AJ70,0) -> 0 | AJ70: =IF(ISNA(VLOOKUP($Q70,data,8,FALSE)),0,VLOOKUP($Q70,data,8,FALSE)) -> 3441.949 | AK70: ='Report Inputs'!$F$2 -> 55.9 | AL70: ='Report Inputs'!$E$2 -> 1080 | AM70: =IF(ISNA(VLOOKUP($Q70,data,14,FALSE)),0,VLOOKUP($Q70,data,14,FALSE)) -> 45.796 | AN70: C | AS70: BARBARA EPHRAIM | AT70: Y | AU70: PROD. ACCOUNTANT | AV70: =NOW() -> 42376.365
A71: 7 | B71: =MONTH('Report Inputs'!$B$2) -> 11 | C71: =YEAR('Report Inputs'!$B$2) -> 2015 | D71: 66571 | F71: OXY USA WTP LP | G71: PO BOX 27570 | H71: HOUSTON | I71: TEXAS | J71: 77227-7570 | K71: 713 | L71: 215-7309 | M71: 713 | N71: 985-1893 | O71: N | P71: 45 | Q71: 11926 | R71: 0 | S71: CASCADE CREEK 697-29-36D | T71: WFCM | U71: =IF(V71>0,"PR","SI") -> PR | V71: =IF(ISNA(VLOOKUP($Q71,data,4,FALSE)),0,VLOOKUP($Q71,data,4,FALSE)) -> 2 | W71: NESW | X71: 29 | Y71: 6S | Z71: 97W | AA71: =IF(ISNA(VLOOKUP($Q71,data,5,FALSE)),0,VLOOKUP($Q71,data,5,FALSE)) -> 0.185 | AB71: =IF(ISNA(VLOOKUP($Q71,data,7,FALSE)),0,VLOOKUP($Q71,data,7,FALSE)) -> 3.469 | AC71: =IF(ISNA(VLOOKUP($Q71,data,6,FALSE)),0,VLOOKUP($Q71,data,6,FALSE)) -> 3.475 | AD71: =ROUND(AC71,0)+ROUND(AE71,0)-ROUND(AA71,0)-ROUND(AB71,0) -> 0 | AE71: =IF(ISNA(VLOOKUP($Q71,data,13,FALSE)),0,VLOOKUP($Q71,data,13,FALSE)) -> 0.179 | AF71: =IF(ISNA(VLOOKUP($Q71,data,9,FALSE)),0,VLOOKUP($Q71,data,9,FALSE)) -> 1187.4 | AG71: =IF(ISNA(VLOOKUP($Q71,data,10,FALSE)),0,VLOOKUP($Q71,data,10,FALSE)) -> 0.67 | AH71: =IF(ISNA(VLOOKUP($Q71,data,11,FALSE)),0,VLOOKUP($Q71,data,11,FALSE)) -> 186.603 | AI71: =ROUND(AF71,0)-ROUND(AG71,0)-ROUND(AH71,0)-ROUND(AJ71,0) -> -1 | AJ71: =IF(ISNA(VLOOKUP($Q71,data,8,FALSE)),0,VLOOKUP($Q71,data,8,FALSE)) -> 1000.127 | AK71: ='Report Inputs'!$F$2 -> 55.9 | AL71: ='Report Inputs'!$E$2 -> 1080 | AM71: =IF(ISNA(VLOOKUP($Q71,data,14,FALSE)),0,VLOOKUP($Q71,data,14,FALSE)) -> 103.415 | AN71: C | AS71: BARBARA EPHRAIM | AT71: Y | AU71: PROD. ACCOUNTANT | AV71: =NOW() -> 42376.365
A72: 7 | B72: =MONTH('Report Inputs'!$B$2) -> 11 | C72: =YEAR('Report Inputs'!$B$2) -> 2015 | D72: 66571 | F72: OXY USA WTP LP | G72: PO BOX 27570 | H72: HOUSTON | I72: TEXAS | J72: 77227-7570 | K72: 713 | L72: 215-7309 | M72: 713 | N72: 985-1893 | O72: N | P72: 45 | Q72: 11927 | R72: 0 | S72: CASCADE CREEK 797-05-06DA | T72: WMFK | U72: =IF(V72>0,"PR","SI") -> PR | V72: =IF(ISNA(VLOOKUP($Q72,data,4,FALSE)),0,VLOOKUP($Q72,data,4,FALSE)) -> 30 | W72: TRACT | X72: 5 | Y72: 7S | Z72: 97W | AA72: =IF(ISNA(VLOOKUP($Q72,data,5,FALSE)),0,VLOOKUP($Q72,data,5,FALSE)) -> 0.925 | AB72: =IF(ISNA(VLOOKUP($Q72,data,7,FALSE)),0,VLOOKUP($Q72,data,7,FALSE)) -> 3.476 | AC72: =IF(ISNA(VLOOKUP($Q72,data,6,FALSE)),0,VLOOKUP($Q72,data,6,FALSE)) -> 4.189 | AD72: =ROUND(AC72,0)+ROUND(AE72,0)-ROUND(AA72,0)-ROUND(AB72,0) -> 0 | AE72: =IF(ISNA(VLOOKUP($Q72,data,13,FALSE)),0,VLOOKUP($Q72,data,13,FALSE)) -> 0.212 | AF72: =IF(ISNA(VLOOKUP($Q72,data,9,FALSE)),0,VLOOKUP($Q72,data,9,FALSE)) -> 1905.11 | AG72: =IF(ISNA(VLOOKUP($Q72,data,10,FALSE)),0,VLOOKUP($Q72,data,10,FALSE)) -> 0.65 | AH72: =IF(ISNA(VLOOKUP($Q72,data,11,FALSE)),0,VLOOKUP($Q72,data,11,FALSE)) -> 247.625 | AI72: =ROUND(AF72,0)-ROUND(AG72,0)-ROUND(AH72,0)-ROUND(AJ72,0) -> -1 | AJ72: =IF(ISNA(VLOOKUP($Q72,data,8,FALSE)),0,VLOOKUP($Q72,data,8,FALSE)) -> 1656.835 | AK72: ='Report Inputs'!$F$2 -> 55.9 | AL72: ='Report Inputs'!$E$2 -> 1080 | AM72: =IF(ISNA(VLOOKUP($Q72,data,14,FALSE)),0,VLOOKUP($Q72,data,14,FALSE)) -> 85.295 | AN72: C | AS72: BARBARA EPHRAIM | AT72: Y | AU72: PROD. ACCOUNTANT | AV72: =NOW() -> 42376.365
A73: 7 | B73: =MONTH('Report Inputs'!$B$2) -> 11 | C73: =YEAR('Report Inputs'!$B$2) -> 2015 | D73: 66571 | F73: OXY USA WTP LP | G73: PO BOX 27570 | H73: HOUSTON | I73: TEXAS | J73: 77227-7570 | K73: 713 | L73: 215-7309 | M73: 713 | N73: 985-1893 | O73: N | P73: 45 | Q73: 11928 | R73: 0 | S73: CASCADE CREEK 797-05-12D | T73: WMFK | U73: =IF(V73>0,"PR","SI") -> PR | V73: =IF(ISNA(VLOOKUP($Q73,data,4,FALSE)),0,VLOOKUP($Q73,data,4,FALSE)) -> 30 | W73: SENW | X73: 5 | Y73: 7S | Z73: 97W | AA73: =IF(ISNA(VLOOKUP($Q73,data,5,FALSE)),0,VLOOKUP($Q73,data,5,FALSE)) -> 0.604 | AB73: =IF(ISNA(VLOOKUP($Q73,data,7,FALSE)),0,VLOOKUP($Q73,data,7,FALSE)) -> 2.321 | AC73: =IF(ISNA(VLOOKUP($Q73,data,6,FALSE)),0,VLOOKUP($Q73,data,6,FALSE)) -> 2.783 | AD73: =ROUND(AC73,0)+ROUND(AE73,0)-ROUND(AA73,0)-ROUND(AB73,0) -> 0 | AE73: =IF(ISNA(VLOOKUP($Q73,data,13,FALSE)),0,VLOOKUP($Q73,data,13,FALSE)) -> 0.142 | AF73: =IF(ISNA(VLOOKUP($Q73,data,9,FALSE)),0,VLOOKUP($Q73,data,9,FALSE)) -> 1327.1 | AG73: =IF(ISNA(VLOOKUP($Q73,data,10,FALSE)),0,VLOOKUP($Q73,data,10,FALSE)) -> 0.43 | AH73: =IF(ISNA(VLOOKUP($Q73,data,11,FALSE)),0,VLOOKUP($Q73,data,11,FALSE)) -> 219.786 | AI73: =ROUND(AF73,0)-ROUND(AG73,0)-ROUND(AH73,0)-ROUND(AJ73,0) -> 0 | AJ73: =IF(ISNA(VLOOKUP($Q73,data,8,FALSE)),0,VLOOKUP($Q73,data,8,FALSE)) -> 1106.884 | AK73: ='Report Inputs'!$F$2 -> 55.9 | AL73: ='Report Inputs'!$E$2 -> 1080 | AM73: =IF(ISNA(VLOOKUP($Q73,data,14,FALSE)),0,VLOOKUP($Q73,data,14,FALSE)) -> 56.984 | AN73: C | AS73: BARBARA EPHRAIM | AT73: Y | AU73: PROD. ACCOUNTANT | AV73: =NOW() -> 42376.365
A74: 7 | B74: =MONTH('Report Inputs'!$B$2) -> 11 | C74: =YEAR('Report Inputs'!$B$2) -> 2015 | D74: 66571 | F74: OXY USA WTP LP | G74: PO BOX 27570 | H74: HOUSTON | I74: TEXAS | J74: 77227-7570 | K74: 713 | L74: 215-7309 | M74: 713 | N74: 985-1893 | O74: N | P74: 45 | Q74: 11960 | R74: 0 | S74: CASCADE CREEK 797-05-14DA | T74: WFCM | U74: =IF(V74>0,"PR","SI") -> PR | V74: =IF(ISNA(VLOOKUP($Q74,data,4,FALSE)),0,VLOOKUP($Q74,data,4,FALSE)) -> 30 | W74: SENW | X74: 5 | Y74: 7S | Z74: 97W | AA74: =IF(ISNA(VLOOKUP($Q74,data,5,FALSE)),0,VLOOKUP($Q74,data,5,FALSE)) -> 1.23 | AB74: =IF(ISNA(VLOOKUP($Q74,data,7,FALSE)),0,VLOOKUP($Q74,data,7,FALSE)) -> 4.478 | AC74: =IF(ISNA(VLOOKUP($Q74,data,6,FALSE)),0,VLOOKUP($Q74,data,6,FALSE)) -> 5.434 | AD74: =ROUND(AC74,0)+ROUND(AE74,0)-ROUND(AA74,0)-ROUND(AB74,0) -> 0 | AE74: =IF(ISNA(VLOOKUP($Q74,data,13,FALSE)),0,VLOOKUP($Q74,data,13,FALSE)) -> 0.274 | AF74: =IF(ISNA(VLOOKUP($Q74,data,9,FALSE)),0,VLOOKUP($Q74,data,9,FALSE)) -> 2401.7 | AG74: =IF(ISNA(VLOOKUP($Q74,data,10,FALSE)),0,VLOOKUP($Q74,data,10,FALSE)) -> 0.83 | AH74: =IF(ISNA(VLOOKUP($Q74,data,11,FALSE)),0,VLOOKUP($Q74,data,11,FALSE)) -> 266.404 | AI74: =ROUND(AF74,0)-ROUND(AG74,0)-ROUND(AH74,0)-ROUND(AJ74,0) -> 1 | AJ74: =IF(ISNA(VLOOKUP($Q74,data,8,FALSE)),0,VLOOKUP($Q74,data,8,FALSE)) -> 2134.466 | AK74: ='Report Inputs'!$F$2 -> 55.9 | AL74: ='Report Inputs'!$E$2 -> 1080 | AM74: =IF(ISNA(VLOOKUP($Q74,data,14,FALSE)),0,VLOOKUP($Q74,data,14,FALSE)) -> 109.884 | AN74: C | AS74: BARBARA EPHRAIM | AT74: Y | AU74: PROD. ACCOUNTANT | AV74: =NOW() -> 42376.365
A75: 7 | B75: =MONTH('Report Inputs'!$B$2) -> 11 | C75: =YEAR('Report Inputs'!$B$2) -> 2015 | D75: 66571 | F75: OXY USA WTP LP | G75: PO BOX 27570 | H75: HOUSTON | I75: TEXAS | J75: 77227-7570 | K75: 713 | L75: 215-7309 | M75: 713 | N75: 985-1893 | O75: N | P75: 45 | Q75: 11961 | R75: 0 | S75: CASCADE CREEK 797-05-06DB | T75: WMFK | U75: =IF(V75>0,"PR","SI") -> PR | V75: =IF(ISNA(VLOOKUP($Q75,data,4,FALSE)),0,VLOOKUP($Q75,data,4,FALSE)) -> 30 | W75: TRACT | X75: 5 | Y75: 7S | Z75: 97W | AA75: =IF(ISNA(VLOOKUP($Q75,data,5,FALSE)),0,VLOOKUP($Q75,data,5,FALSE)) -> 0.937 | AB75: =IF(ISNA(VLOOKUP($Q75,data,7,FALSE)),0,VLOOKUP($Q75,data,7,FALSE)) -> 3.472 | AC75: =IF(ISNA(VLOOKUP($Q75,data,6,FALSE)),0,VLOOKUP($Q75,data,6,FALSE)) -> 4.196 | AD75: =ROUND(AC75,0)+ROUND(AE75,0)-ROUND(AA75,0)-ROUND(AB75,0) -> 0 | AE75: =IF(ISNA(VLOOKUP($Q75,data,13,FALSE)),0,VLOOKUP($Q75,data,13,FALSE)) -> 0.213 | AF75: =IF(ISNA(VLOOKUP($Q75,data,9,FALSE)),0,VLOOKUP($Q75,data,9,FALSE)) -> 1900.32 | AG75: =IF(ISNA(VLOOKUP($Q75,data,10,FALSE)),0,VLOOKUP($Q75,data,10,FALSE)) -> 0.65 | AH75: =IF(ISNA(VLOOKUP($Q75,data,11,FALSE)),0,VLOOKUP($Q75,data,11,FALSE)) -> 244.653 | AI75: =ROUND(AF75,0)-ROUND(AG75,0)-ROUND(AH75,0)-ROUND(AJ75,0) -> -1 | AJ75: =IF(ISNA(VLOOKUP($Q75,data,8,FALSE)),0,VLOOKUP($Q75,data,8,FALSE)) -> 1655.017 | AK75: ='Report Inputs'!$F$2 -> 55.9 | AL75: ='Report Inputs'!$E$2 -> 1080 | AM75: =IF(ISNA(VLOOKUP($Q75,data,14,FALSE)),0,VLOOKUP($Q75,data,14,FALSE)) -> 85.202 | AN75: C | AS75: BARBARA EPHRAIM | AT75: Y | AU75: PROD. ACCOUNTANT | AV75: =NOW() -> 42376.365
A76: 7 | B76: =MONTH('Report Inputs'!$B$2) -> 11 | C76: =YEAR('Report Inputs'!$B$2) -> 2015 | D76: 66571 | F76: OXY USA WTP LP | G76: PO BOX 27570 | H76: HOUSTON | I76: TEXAS | J76: 77227-7570 | K76: 713 | L76: 215-7309 | M76: 713 | N76: 985-1893 | O76: N | P76: 45 | Q76: 11963 | R76: 0 | S76: CASCADE CREEK 797-05-45D | T76: WMFK | U76: =IF(V76>0,"PR","SI") -> PR | V76: =IF(ISNA(VLOOKUP($Q76,data,4,FALSE)),0,VLOOKUP($Q76,data,4,FALSE)) -> 30 | W76: SESW | X76: 5 | Y76: 7S | Z76: 97W | AA76: =IF(ISNA(VLOOKUP($Q76,data,5,FALSE)),0,VLOOKUP($Q76,data,5,FALSE)) -> 1.151 | AB76: =IF(ISNA(VLOOKUP($Q76,data,7,FALSE)),0,VLOOKUP($Q76,data,7,FALSE)) -> 31.718 | AC76: =IF(ISNA(VLOOKUP($Q76,data,6,FALSE)),0,VLOOKUP($Q76,data,6,FALSE)) -> 31.658 | AD76: =ROUND(AC76,0)+ROUND(AE76,0)-ROUND(AA76,0)-ROUND(AB76,0) -> 0 | AE76: =IF(ISNA(VLOOKUP($Q76,data,13,FALSE)),0,VLOOKUP($Q76,data,13,FALSE)) -> 1.211 | AF76: =IF(ISNA(VLOOKUP($Q76,data,9,FALSE)),0,VLOOKUP($Q76,data,9,FALSE)) -> 1907.35 | AG76: =IF(ISNA(VLOOKUP($Q76,data,10,FALSE)),0,VLOOKUP($Q76,data,10,FALSE)) -> 6.38 | AH76: =IF(ISNA(VLOOKUP($Q76,data,11,FALSE)),0,VLOOKUP($Q76,data,11,FALSE)) -> 285.365 | AI76: =ROUND(AF76,0)-ROUND(AG76,0)-ROUND(AH76,0)-ROUND(AJ76,0) -> 0 | AJ76: =IF(ISNA(VLOOKUP($Q76,data,8,FALSE)),0,VLOOKUP($Q76,data,8,FALSE)) -> 1615.605 | AK76: ='Report Inputs'!$F$2 -> 55.9 | AL76: ='Report Inputs'!$E$2 -> 1080 | AM76: =IF(ISNA(VLOOKUP($Q76,data,14,FALSE)),0,VLOOKUP($Q76,data,14,FALSE)) -> 55.825 | AN76: C | AS76: BARBARA EPHRAIM | AT76: Y | AU76: PROD. ACCOUNTANT | AV76: =NOW() -> 42376.365
A77: 7 | B77: =MONTH('Report Inputs'!$B$2) -> 11 | C77: =YEAR('Report Inputs'!$B$2) -> 2015 | D77: 66571 | F77: OXY USA WTP LP | G77: PO BOX 27570 | H77: HOUSTON | I77: TEXAS | J77: 77227-7570 | K77: 713 | L77: 215-7309 | M77: 713 | N77: 985-1893 | O77: N | P77: 45 | Q77: 11965 | R77: 0 | S77: CASCADE CREEK 697-20-53D | T77: WMFK | U77: =IF(V77>0,"PR","SI") -> SI | V77: =IF(ISNA(VLOOKUP($Q77,data,4,FALSE)),0,VLOOKUP($Q77,data,4,FALSE)) -> 0 | W77: SESW | X77: 20 | Y77: 6S | Z77: 97W | AA77: =IF(ISNA(VLOOKUP($Q77,data,5,FALSE)),0,VLOOKUP($Q77,data,5,FALSE)) -> 0 | AB77: =IF(ISNA(VLOOKUP($Q77,data,7,FALSE)),0,VLOOKUP($Q77,data,7,FALSE)) -> 0 | AC77: =IF(ISNA(VLOOKUP($Q77,data,6,FALSE)),0,VLOOKUP($Q77,data,6,FALSE)) -> 0 | AD77: =ROUND(AC77,0)+ROUND(AE77,0)-ROUND(AA77,0)-ROUND(AB77,0) -> 0 | AE77: =IF(ISNA(VLOOKUP($Q77,data,13,FALSE)),0,VLOOKUP($Q77,data,13,FALSE)) -> 0 | AF77: =IF(ISNA(VLOOKUP($Q77,data,9,FALSE)),0,VLOOKUP($Q77,data,9,FALSE)) -> 0 | AG77: =IF(ISNA(VLOOKUP($Q77,data,10,FALSE)),0,VLOOKUP($Q77,data,10,FALSE)) -> 0 | AH77: =IF(ISNA(VLOOKUP($Q77,data,11,FALSE)),0,VLOOKUP($Q77,data,11,FALSE)) -> 0 | AI77: =ROUND(AF77,0)-ROUND(AG77,0)-ROUND(AH77,0)-ROUND(AJ77,0) -> 0 | AJ77: =IF(ISNA(VLOOKUP($Q77,data,8,FALSE)),0,VLOOKUP($Q77,data,8,FALSE)) -> 0 | AM77: =IF(ISNA(VLOOKUP($Q77,data,14,FALSE)),0,VLOOKUP($Q77,data,14,FALSE)) -> 0 | AN77: C | AS77: BARBARA EPHRAIM | AT77: Y | AU77: PROD. ACCOUNTANT | AV77: =NOW() -> 42376.365
A78: 7 | B78: =MONTH('Report Inputs'!$B$2) -> 11 | C78: =YEAR('Report Inputs'!$B$2) -> 2015 | D78: 66571 | F78: OXY USA WTP LP | G78: PO BOX 27570 | H78: HOUSTON | I78: TEXAS | J78: 77227-7570 | K78: 713 | L78: 215-7309 | M78: 713 | N78: 985-1893 | O78: N | P78: 45 | Q78: 11966 | R78: 0 | S78: CASCADE CREEK 697-20-61D | T78: WMFK | U78: =IF(V78>0,"PR","SI") -> PR | V78: =IF(ISNA(VLOOKUP($Q78,data,4,FALSE)),0,VLOOKUP($Q78,data,4,FALSE)) -> 30 | W78: SESW | X78: 20 | Y78: 6S | Z78: 97W | AA78: =IF(ISNA(VLOOKUP($Q78,data,5,FALSE)),0,VLOOKUP($Q78,data,5,FALSE)) -> 0.428 | AB78: =IF(ISNA(VLOOKUP($Q78,data,7,FALSE)),0,VLOOKUP($Q78,data,7,FALSE)) -> 9.914 | AC78: =IF(ISNA(VLOOKUP($Q78,data,6,FALSE)),0,VLOOKUP($Q78,data,6,FALSE)) -> 9.897 | AD78: =ROUND(AC78,0)+ROUND(AE78,0)-ROUND(AA78,0)-ROUND(AB78,0) -> 0 | AE78: =IF(ISNA(VLOOKUP($Q78,data,13,FALSE)),0,VLOOKUP($Q78,data,13,FALSE)) -> 0.445 | AF78: =IF(ISNA(VLOOKUP($Q78,data,9,FALSE)),0,VLOOKUP($Q78,data,9,FALSE)) -> 1990.38 | AG78: =IF(ISNA(VLOOKUP($Q78,data,10,FALSE)),0,VLOOKUP($Q78,data,10,FALSE)) -> 1.95 | AH78: =IF(ISNA(VLOOKUP($Q78,data,11,FALSE)),0,VLOOKUP($Q78,data,11,FALSE)) -> 221.395 | AI78: =ROUND(AF78,0)-ROUND(AG78,0)-ROUND(AH78,0)-ROUND(AJ78,0) -> 0 | AJ78: =IF(ISNA(VLOOKUP($Q78,data,8,FALSE)),0,VLOOKUP($Q78,data,8,FALSE)) -> 1767.035 | AK78: ='Report Inputs'!$F$2 -> 55.9 | AL78: ='Report Inputs'!$E$2 -> 1080 | AM78: =IF(ISNA(VLOOKUP($Q78,data,14,FALSE)),0,VLOOKUP($Q78,data,14,FALSE)) -> 120.804 | AN78: C | AS78: BARBARA EPHRAIM | AT78: Y | AU78: PROD. ACCOUNTANT | AV78: =NOW() -> 42376.365
A79: 7 | B79: =MONTH('Report Inputs'!$B$2) -> 11 | C79: =YEAR('Report Inputs'!$B$2) -> 2015 | D79: 66571 | F79: OXY USA WTP LP | G79: PO BOX 27570 | H79: HOUSTON | I79: TEXAS | J79: 77227-7570 | K79: 713 | L79: 215-7309 | M79: 713 | N79: 985-1893 | O79: N | P79: 45 | Q79: 12008 | R79: 0 | S79: CASCADE CREEK 797-05-62D | T79: WMFK | U79: =IF(V79>0,"PR","SI") -> PR | V79: =IF(ISNA(VLOOKUP($Q79,data,4,FALSE)),0,VLOOKUP($Q79,data,4,FALSE)) -> 30 | W79: SESW | X79: 5 | Y79: 7S | Z79: 97W | AA79: =IF(ISNA(VLOOKUP($Q79,data,5,FALSE)),0,VLOOKUP($Q79,data,5,FALSE)) -> 0.824 | AB79: =IF(ISNA(VLOOKUP($Q79,data,7,FALSE)),0,VLOOKUP($Q79,data,7,FALSE)) -> 24.82 | AC79: =IF(ISNA(VLOOKUP($Q79,data,6,FALSE)),0,VLOOKUP($Q79,data,6,FALSE)) -> 24.699 | AD79: =ROUND(AC79,0)+ROUND(AE79,0)-ROUND(AA79,0)-ROUND(AB79,0) -> 0 | AE79: =IF(ISNA(VLOOKUP($Q79,data,13,FALSE)),0,VLOOKUP($Q79,data,13,FALSE)) -> 0.945 | AF79: =IF(ISNA(VLOOKUP($Q79,data,9,FALSE)),0,VLOOKUP($Q79,data,9,FALSE)) -> 1538.66 | AG79: =IF(ISNA(VLOOKUP($Q79,data,10,FALSE)),0,VLOOKUP($Q79,data,10,FALSE)) -> 4.99 | AH79: =IF(ISNA(VLOOKUP($Q79,data,11,FALSE)),0,VLOOKUP($Q79,data,11,FALSE)) -> 269.425 | AI79: =ROUND(AF79,0)-ROUND(AG79,0)-ROUND(AH79,0)-ROUND(AJ79,0) -> 1 | AJ79: =IF(ISNA(VLOOKUP($Q79,data,8,FALSE)),0,VLOOKUP($Q79,data,8,FALSE)) -> 1264.245 | AK79: ='Report Inputs'!$F$2 -> 55.9 | AL79: ='Report Inputs'!$E$2 -> 1080 | AM79: =IF(ISNA(VLOOKUP($Q79,data,14,FALSE)),0,VLOOKUP($Q79,data,14,FALSE)) -> 43.685 | AN79: C | AS79: BARBARA EPHRAIM | AT79: Y | AU79: PROD. ACCOUNTANT | AV79: =NOW() -> 42376.365
A80: 7 | B80: =MONTH('Report Inputs'!$B$2) -> 11 | C80: =YEAR('Report Inputs'!$B$2) -> 2015 | D80: 66571 | F80: OXY USA WTP LP | G80: PO BOX 27570 | H80: HOUSTON | I80: TEXAS | J80: 77227-7570 | K80: 713 | L80: 215-7309 | M80: 713 | N80: 985-1893 | O80: N | P80: 45 | Q80: 12011 | R80: 0 | S80: CASCADE CREEK 797-05-61D | T80: WMFK | U80: =IF(V80>0,"PR","SI") -> PR | V80: =IF(ISNA(VLOOKUP($Q80,data,4,FALSE)),0,VLOOKUP($Q80,data,4,FALSE)) -> 30 | W80: SESW | X80: 5 | Y80: 7S | Z80: 97W | AA80: =IF(ISNA(VLOOKUP($Q80,data,5,FALSE)),0,VLOOKUP($Q80,data,5,FALSE)) -> 1.869 | AB80: =IF(ISNA(VLOOKUP($Q80,data,7,FALSE)),0,VLOOKUP($Q80,data,7,FALSE)) -> 53.555 | AC80: =IF(ISNA(VLOOKUP($Q80,data,6,FALSE)),0,VLOOKUP($Q80,data,6,FALSE)) -> 53.383 | AD80: =ROUND(AC80,0)+ROUND(AE80,0)-ROUND(AA80,0)-ROUND(AB80,0) -> -1 | AE80: =IF(ISNA(VLOOKUP($Q80,data,13,FALSE)),0,VLOOKUP($Q80,data,13,FALSE)) -> 2.041 | AF80: =IF(ISNA(VLOOKUP($Q80,data,9,FALSE)),0,VLOOKUP($Q80,data,9,FALSE)) -> 3076.86 | AG80: =IF(ISNA(VLOOKUP($Q80,data,10,FALSE)),0,VLOOKUP($Q80,data,10,FALSE)) -> 10.78 | AH80: =IF(ISNA(VLOOKUP($Q80,data,11,FALSE)),0,VLOOKUP($Q80,data,11,FALSE)) -> 338.138 | AI80: =ROUND(AF80,0)-ROUND(AG80,0)-ROUND(AH80,0)-ROUND(AJ80,0) -> 0 | AJ80: =IF(ISNA(VLOOKUP($Q80,data,8,FALSE)),0,VLOOKUP($Q80,data,8,FALSE)) -> 2727.942 | AK80: ='Report Inputs'!$F$2 -> 55.9 | AL80: ='Report Inputs'!$E$2 -> 1080 | AM80: =IF(ISNA(VLOOKUP($Q80,data,14,FALSE)),0,VLOOKUP($Q80,data,14,FALSE)) -> 94.261 | AN80: C | AS80: BARBARA EPHRAIM | AT80: Y | AU80: PROD. ACCOUNTANT | AV80: =NOW() -> 42376.365
A81: 7 | B81: =MONTH('Report Inputs'!$B$2) -> 11 | C81: =YEAR('Report Inputs'!$B$2) -> 2015 | D81: 66571 | F81: OXY USA WTP LP | G81: PO BOX 27570 | H81: HOUSTON | I81: TEXAS | J81: 77227-7570 | K81: 713 | L81: 215-7309 | M81: 713 | N81: 985-1893 | O81: N | P81: 45 | Q81: 12181 | R81: 0 | S81: CASCADE CREEK 697-29-22D | T81: WMFK | U81: =IF(V81>0,"PR","SI") -> PR | V81: =IF(ISNA(VLOOKUP($Q81,data,4,FALSE)),0,VLOOKUP($Q81,data,4,FALSE)) -> 30 | W81: NWNE | X81: 29 | Y81: 6S | Z81: 97W | AA81: =IF(ISNA(VLOOKUP($Q81,data,5,FALSE)),0,VLOOKUP($Q81,data,5,FALSE)) -> 0.543 | AB81: =IF(ISNA(VLOOKUP($Q81,data,7,FALSE)),0,VLOOKUP($Q81,data,7,FALSE)) -> 6.636 | AC81: =IF(ISNA(VLOOKUP($Q81,data,6,FALSE)),0,VLOOKUP($Q81,data,6,FALSE)) -> 6.893 | AD81: =ROUND(AC81,0)+ROUND(AE81,0)-ROUND(AA81,0)-ROUND(AB81,0) -> -1 | AE81: =IF(ISNA(VLOOKUP($Q81,data,13,FALSE)),0,VLOOKUP($Q81,data,13,FALSE)) -> 0.286 | AF81: =IF(ISNA(VLOOKUP($Q81,data,9,FALSE)),0,VLOOKUP($Q81,data,9,FALSE)) -> 1177.38 | AG81: =IF(ISNA(VLOOKUP($Q81,data,10,FALSE)),0,VLOOKUP($Q81,data,10,FALSE)) -> 1.31 | AH81: =IF(ISNA(VLOOKUP($Q81,data,11,FALSE)),0,VLOOKUP($Q81,data,11,FALSE)) -> 253.906 | AI81: =ROUND(AF81,0)-ROUND(AG81,0)-ROUND(AH81,0)-ROUND(AJ81,0) -> 0 | AJ81: =IF(ISNA(VLOOKUP($Q81,data,8,FALSE)),0,VLOOKUP($Q81,data,8,FALSE)) -> 922.164 | AK81: ='Report Inputs'!$F$2 -> 55.9 | AL81: ='Report Inputs'!$E$2 -> 1080 | AM81: =IF(ISNA(VLOOKUP($Q81,data,14,FALSE)),0,VLOOKUP($Q81,data,14,FALSE)) -> 10.407 | AN81: C | AS81: BARBARA EPHRAIM | AT81: Y | AU81: PROD. ACCOUNTANT | AV81: =NOW() -> 42376.365
A82: 7 | B82: =MONTH('Report Inputs'!$B$2) -> 11 | C82: =YEAR('Report Inputs'!$B$2) -> 2015 | D82: 66571 | F82: OXY USA WTP LP | G82: PO BOX 27570 | H82: HOUSTON | I82: TEXAS | J82: 77227-7570 | K82: 713 | L82: 215-7309 | M82: 713 | N82: 985-1893 | O82: N | P82: 45 | Q82: 12219 | R82: 0 | S82: CASCADE CREEK 697-16-25A | T82: WMFK | U82: =IF(V82>0,"PR","SI") -> PR | V82: =IF(ISNA(VLOOKUP($Q82,data,4,FALSE)),0,VLOOKUP($Q82,data,4,FALSE)) -> 30 | W82: NWSW | X82: 16 | Y82: 6S | Z82: 97W | AA82: =IF(ISNA(VLOOKUP($Q82,data,5,FALSE)),0,VLOOKUP($Q82,data,5,FALSE)) -> 0.403 | AB82: =IF(ISNA(VLOOKUP($Q82,data,7,FALSE)),0,VLOOKUP($Q82,data,7,FALSE)) -> 9.467 | AC82: =IF(ISNA(VLOOKUP($Q82,data,6,FALSE)),0,VLOOKUP($Q82,data,6,FALSE)) -> 9.366 | AD82: =ROUND(AC82,0)+ROUND(AE82,0)-ROUND(AA82,0)-ROUND(AB82,0) -> 1 | AE82: =IF(ISNA(VLOOKUP($Q82,data,13,FALSE)),0,VLOOKUP($Q82,data,13,FALSE)) -> 0.504 | AF82: =IF(ISNA(VLOOKUP($Q82,data,9,FALSE)),0,VLOOKUP($Q82,data,9,FALSE)) -> 3495.18 | AG82: =IF(ISNA(VLOOKUP($Q82,data,10,FALSE)),0,VLOOKUP($Q82,data,10,FALSE)) -> 1.81 | AH82: =IF(ISNA(VLOOKUP($Q82,data,11,FALSE)),0,VLOOKUP($Q82,data,11,FALSE)) -> 354.472 | AI82: =ROUND(AF82,0)-ROUND(AG82,0)-ROUND(AH82,0)-ROUND(AJ82,0) -> 0 | AJ82: =IF(ISNA(VLOOKUP($Q82,data,8,FALSE)),0,VLOOKUP($Q82,data,8,FALSE)) -> 3138.898 | AK82: ='Report Inputs'!$F$2 -> 55.9 | AL82: ='Report Inputs'!$E$2 -> 1080 | AM82: =IF(ISNA(VLOOKUP($Q82,data,14,FALSE)),0,VLOOKUP($Q82,data,14,FALSE)) -> 67.729 | AN82: C | AS82: BARBARA EPHRAIM | AT82: Y | AU82: PROD. ACCOUNTANT | AV82: =NOW() -> 42376.365
A83: 7 | B83: =MONTH('Report Inputs'!$B$2) -> 11 | C83: =YEAR('Report Inputs'!$B$2) -> 2015 | D83: 66571 | F83: OXY USA WTP LP | G83: PO BOX 27570 | H83: HOUSTON | I83: TEXAS | J83: 77227-7570 | K83: 713 | L83: 215-7309 | M83: 713 | N83: 985-1893 | O83: N | P83: 45 | Q83: 12222 | R83: 0 | S83: CASCADE CREEK 697-15-31D | T83: WMFK | U83: =IF(V83>0,"PR","SI") -> PR | V83: =IF(ISNA(VLOOKUP($Q83,data,4,FALSE)),0,VLOOKUP($Q83,data,4,FALSE)) -> 30 | W83: SENE | X83: 15 | Y83: 6S | Z83: 97W | AA83: =IF(ISNA(VLOOKUP($Q83,data,5,FALSE)),0,VLOOKUP($Q83,data,5,FALSE)) -> 0.657 | AB83: =IF(ISNA(VLOOKUP($Q83,data,7,FALSE)),0,VLOOKUP($Q83,data,7,FALSE)) -> 14.967 | AC83: =IF(ISNA(VLOOKUP($Q83,data,6,FALSE)),0,VLOOKUP($Q83,data,6,FALSE)) -> 14.964 | AD83: =ROUND(AC83,0)+ROUND(AE83,0)-ROUND(AA83,0)-ROUND(AB83,0) -> 0 | AE83: =IF(ISNA(VLOOKUP($Q83,data,13,FALSE)),0,VLOOKUP($Q83,data,13,FALSE)) -> 0.66 | AF83: =IF(ISNA(VLOOKUP($Q83,data,9,FALSE)),0,VLOOKUP($Q83,data,9,FALSE)) -> 2785.03 | AG83: =IF(ISNA(VLOOKUP($Q83,data,10,FALSE)),0,VLOOKUP($Q83,data,10,FALSE)) -> 2.95 | AH83: =IF(ISNA(VLOOKUP($Q83,data,11,FALSE)),0,VLOOKUP($Q83,data,11,FALSE)) -> 325.813 | AI83: =ROUND(AF83,0)-ROUND(AG83,0)-ROUND(AH83,0)-ROUND(AJ83,0) -> 0 | AJ83: =IF(ISNA(VLOOKUP($Q83,data,8,FALSE)),0,VLOOKUP($Q83,data,8,FALSE)) -> 2456.267 | AK83: ='Report Inputs'!$F$2 -> 55.9 | AL83: ='Report Inputs'!$E$2 -> 1080 | AM83: =IF(ISNA(VLOOKUP($Q83,data,14,FALSE)),0,VLOOKUP($Q83,data,14,FALSE)) -> 53.175 | AN83: C | AS83: BARBARA EPHRAIM | AT83: Y | AU83: PROD. ACCOUNTANT | AV83: =NOW() -> 42376.365
A84: 7 | B84: =MONTH('Report Inputs'!$B$2) -> 11 | C84: =YEAR('Report Inputs'!$B$2) -> 2015 | D84: 66571 | F84: OXY USA WTP LP | G84: PO BOX 27570 | H84: HOUSTON | I84: TEXAS | J84: 77227-7570 | K84: 713 | L84: 215-7309 | M84: 713 | N84: 985-1893 | O84: N | P84: 45 | Q84: 12223 | R84: 0 | S84: CASCADE CREEK 697-15-29D | T84: WMFK | U84: =IF(V84>0,"PR","SI") -> PR | V84: =IF(ISNA(VLOOKUP($Q84,data,4,FALSE)),0,VLOOKUP($Q84,data,4,FALSE)) -> 30 | W84: SENE | X84: 15 | Y84: 6S | Z84: 97W | AA84: =IF(ISNA(VLOOKUP($Q84,data,5,FALSE)),0,VLOOKUP($Q84,data,5,FALSE)) -> 1.484 | AB84: =IF(ISNA(VLOOKUP($Q84,data,7,FALSE)),0,VLOOKUP($Q84,data,7,FALSE)) -> 34.232 | AC84: =IF(ISNA(VLOOKUP($Q84,data,6,FALSE)),0,VLOOKUP($Q84,data,6,FALSE)) -> 34.204 | AD84: =ROUND(AC84,0)+ROUND(AE84,0)-ROUND(AA84,0)-ROUND(AB84,0) -> 1 | AE84: =IF(ISNA(VLOOKUP($Q84,data,13,FALSE)),0,VLOOKUP($Q84,data,13,FALSE)) -> 1.512 | AF84: =IF(ISNA(VLOOKUP($Q84,data,9,FALSE)),0,VLOOKUP($Q84,data,9,FALSE)) -> 6091.52 | AG84: =IF(ISNA(VLOOKUP($Q84,data,10,FALSE)),0,VLOOKUP($Q84,data,10,FALSE)) -> 6.75 | AH84: =IF(ISNA(VLOOKUP($Q84,data,11,FALSE)),0,VLOOKUP($Q84,data,11,FALSE)) -> 466.934 | AI84: =ROUND(AF84,0)-ROUND(AG84,0)-ROUND(AH84,0)-ROUND(AJ84,0) -> 0 | AJ84: =IF(ISNA(VLOOKUP($Q84,data,8,FALSE)),0,VLOOKUP($Q84,data,8,FALSE)) -> 5617.836 | AK84: ='Report Inputs'!$F$2 -> 55.9 | AL84: ='Report Inputs'!$E$2 -> 1080 | AM84: =IF(ISNA(VLOOKUP($Q84,data,14,FALSE)),0,VLOOKUP($Q84,data,14,FALSE)) -> 121.62 | AN84: C | AS84: BARBARA EPHRAIM | AT84: Y | AU84: PROD. ACCOUNTANT | AV84: =NOW() -> 42376.365
A85: 7 | B85: =MONTH('Report Inputs'!$B$2) -> 11 | C85: =YEAR('Report Inputs'!$B$2) -> 2015 | D85: 66571 | F85: OXY USA WTP LP | G85: PO BOX 27570 | H85: HOUSTON | I85: TEXAS | J85: 77227-7570 | K85: 713 | L85: 215-7309 | M85: 713 | N85: 985-1893 | O85: N | P85: 45 | Q85: 12224 | R85: 0 | S85: CASCADE CREEK 697-15-30D | T85: WMFK | U85: =IF(V85>0,"PR","SI") -> PR | V85: =IF(ISNA(VLOOKUP($Q85,data,4,FALSE)),0,VLOOKUP($Q85,data,4,FALSE)) -> 30 | W85: SENE | X85: 15 | Y85: 6S | Z85: 97W | AA85: =IF(ISNA(VLOOKUP($Q85,data,5,FALSE)),0,VLOOKUP($Q85,data,5,FALSE)) -> 0.599 | AB85: =IF(ISNA(VLOOKUP($Q85,data,7,FALSE)),0,VLOOKUP($Q85,data,7,FALSE)) -> 13.447 | AC85: =IF(ISNA(VLOOKUP($Q85,data,6,FALSE)),0,VLOOKUP($Q85,data,6,FALSE)) -> 13.454 | AD85: =ROUND(AC85,0)+ROUND(AE85,0)-ROUND(AA85,0)-ROUND(AB85,0) -> 0 | AE85: =IF(ISNA(VLOOKUP($Q85,data,13,FALSE)),0,VLOOKUP($Q85,data,13,FALSE)) -> 0.592 | AF85: =IF(ISNA(VLOOKUP($Q85,data,9,FALSE)),0,VLOOKUP($Q85,data,9,FALSE)) -> 2521.72 | AG85: =IF(ISNA(VLOOKUP($Q85,data,10,FALSE)),0,VLOOKUP($Q85,data,10,FALSE)) -> 2.65 | AH85: =IF(ISNA(VLOOKUP($Q85,data,11,FALSE)),0,VLOOKUP($Q85,data,11,FALSE)) -> 312.19 | AI85: =ROUND(AF85,0)-ROUND(AG85,0)-ROUND(AH85,0)-ROUND(AJ85,0) -> 0 | AJ85: =IF(ISNA(VLOOKUP($Q85,data,8,FALSE)),0,VLOOKUP($Q85,data,8,FALSE)) -> 2206.88 | AK85: ='Report Inputs'!$F$2 -> 55.9 | AL85: ='Report Inputs'!$E$2 -> 1080 | AM85: =IF(ISNA(VLOOKUP($Q85,data,14,FALSE)),0,VLOOKUP($Q85,data,14,FALSE)) -> 47.777 | AN85: C | AS85: BARBARA EPHRAIM | AT85: Y | AU85: PROD. ACCOUNTANT | AV85: =NOW() -> 42376.365
A86: 7 | B86: =MONTH('Report Inputs'!$B$2) -> 11 | C86: =YEAR('Report Inputs'!$B$2) -> 2015 | D86: 66571 | F86: OXY USA WTP LP | G86: PO BOX 27570 | H86: HOUSTON | I86: TEXAS | J86: 77227-7570 | K86: 713 | L86: 215-7309 | M86: 713 | N86: 985-1893 | O86: N | P86: 45 | Q86: 12225 | R86: 0 | S86: CASCADE CREEK 697-16-37D | T86: WMFK | U86: =IF(V86>0,"PR","SI") -> PR | V86: =IF(ISNA(VLOOKUP($Q86,data,4,FALSE)),0,VLOOKUP($Q86,data,4,FALSE)) -> 30 | W86: SENW | X86: 16 | Y86: 6S | Z86: 97W | AA86: =IF(ISNA(VLOOKUP($Q86,data,5,FALSE)),0,VLOOKUP($Q86,data,5,FALSE)) -> 0.227 | AB86: =IF(ISNA(VLOOKUP($Q86,data,7,FALSE)),0,VLOOKUP($Q86,data,7,FALSE)) -> 0.809 | AC86: =IF(ISNA(VLOOKUP($Q86,data,6,FALSE)),0,VLOOKUP($Q86,data,6,FALSE)) -> 0.908 | AD86: =ROUND(AC86,0)+ROUND(AE86,0)-ROUND(AA86,0)-ROUND(AB86,0) -> 0 | AE86: =IF(ISNA(VLOOKUP($Q86,data,13,FALSE)),0,VLOOKUP($Q86,data,13,FALSE)) -> 0.128 | AF86: =IF(ISNA(VLOOKUP($Q86,data,9,FALSE)),0,VLOOKUP($Q86,data,9,FALSE)) -> 2131.97 | AG86: =IF(ISNA(VLOOKUP($Q86,data,10,FALSE)),0,VLOOKUP($Q86,data,10,FALSE)) -> 0.1 | AH86: =IF(ISNA(VLOOKUP($Q86,data,11,FALSE)),0,VLOOKUP($Q86,data,11,FALSE)) -> 295.386 | AI86: =ROUND(AF86,0)-ROUND(AG86,0)-ROUND(AH86,0)-ROUND(AJ86,0) -> 1 | AJ86: =IF(ISNA(VLOOKUP($Q86,data,8,FALSE)),0,VLOOKUP($Q86,data,8,FALSE)) -> 1836.484 | AK86: ='Report Inputs'!$F$2 -> 55.9 | AL86: ='Report Inputs'!$E$2 -> 1080 | AM86: =IF(ISNA(VLOOKUP($Q86,data,14,FALSE)),0,VLOOKUP($Q86,data,14,FALSE)) -> 69.81 | AN86: C | AS86: BARBARA EPHRAIM | AT86: Y | AU86: PROD. ACCOUNTANT | AV86: =NOW() -> 42376.365
A87: 7 | B87: =MONTH('Report Inputs'!$B$2) -> 11 | C87: =YEAR('Report Inputs'!$B$2) -> 2015 | D87: 66571 | F87: OXY USA WTP LP | G87: PO BOX 27570 | H87: HOUSTON | I87: TEXAS | J87: 77227-7570 | K87: 713 | L87: 215-7309 | M87: 713 | N87: 985-1893 | O87: N | P87: 45 | Q87: 12227 | R87: 0 | S87: CASCADE CREEK 697-16-18D.5 | T87: FTUN | U87: =IF(V87>0,"PR","SI") -> PR | V87: =IF(ISNA(VLOOKUP($Q87,data,4,FALSE)),0,VLOOKUP($Q87,data,4,FALSE)) -> 30 | W87: SENW | X87: 16 | Y87: 6S | Z87: 97W | AA87: =IF(ISNA(VLOOKUP($Q87,data,5,FALSE)),0,VLOOKUP($Q87,data,5,FALSE))*0.5 -> 0.427 | AB87: =IF(ISNA(VLOOKUP($Q87,data,7,FALSE)),0,VLOOKUP($Q87,data,7,FALSE))*0.5 -> 1.6805 | AC87: =IF(ISNA(VLOOKUP($Q87,data,6,FALSE)),0,VLOOKUP($Q87,data,6,FALSE))*0.5 -> 1.8445 | AD87: =ROUND(AC87,0)+ROUND(AE87,0)-ROUND(AA87,0)-ROUND(AB87,0) -> 0 | AE87: =IF(ISNA(VLOOKUP($Q87,data,13,FALSE)),0,VLOOKUP($Q87,data,13,FALSE))*0.5 -> 0.263 | AF87: =IF(ISNA(VLOOKUP($Q87,data,9,FALSE)),0,VLOOKUP($Q87,data,9,FALSE))*0.5 -> 4095.89 | AG87: =IF(ISNA(VLOOKUP($Q87,data,10,FALSE)),0,VLOOKUP($Q87,data,10,FALSE))*0.5 -> 0.205 | AH87: =IF(ISNA(VLOOKUP($Q87,data,11,FALSE)),0,VLOOKUP($Q87,data,11,FALSE))*0.5 -> 279.1785 | AI87: =ROUND(AF87,0)-ROUND(AG87,0)-ROUND(AH87,0)-ROUND(AJ87,0) -> 0 | AJ87: =IF(ISNA(VLOOKUP($Q87,data,8,FALSE)),0,VLOOKUP($Q87,data,8,FALSE))*0.5 -> 3816.5065 | AK87: ='Report Inputs'!$F$2 -> 55.9 | AL87: ='Report Inputs'!$E$2 -> 1080 | AM87: =IF(ISNA(VLOOKUP($Q87,data,14,FALSE)),0,VLOOKUP($Q87,data,14,FALSE))*0.5 -> 145.0755 | AN87: C | AS87: BARBARA EPHRAIM | AT87: Y | AU87: PROD. ACCOUNTANT | AV87: =NOW() -> 42376.365
A88: 7 | B88: =MONTH('Report Inputs'!$B$2) -> 11 | C88: =YEAR('Report Inputs'!$B$2) -> 2015 | D88: 66571 | F88: OXY USA WTP LP | G88: PO BOX 27570 | H88: HOUSTON | I88: TEXAS | J88: 77227-7570 | K88: 713 | L88: 215-7309 | M88: 713 | N88: 985-1893 | O88: N | P88: 45 | Q88: 12227 | R88: 0 | S88: CASCADE CREEK 697-16-18D.5 | T88: WSTCG | U88: =IF(V88>0,"PR","SI") -> PR | V88: =IF(ISNA(VLOOKUP($Q88,data,4,FALSE)),0,VLOOKUP($Q88,data,4,FALSE)) -> 30 | W88: SENW | X88: 16 | Y88: 6S | Z88: 97W | AA88: =IF(ISNA(VLOOKUP($Q88,data,5,FALSE)),0,VLOOKUP($Q88,data,5,FALSE))*0.5 -> 0.427 | AB88: =IF(ISNA(VLOOKUP($Q88,data,7,FALSE)),0,VLOOKUP($Q88,data,7,FALSE))*0.5 -> 1.6805 | AC88: =IF(ISNA(VLOOKUP($Q88,data,6,FALSE)),0,VLOOKUP($Q88,data,6,FALSE))*0.5 -> 1.8445 | AD88: =ROUND(AC88,0)+ROUND(AE88,0)-ROUND(AA88,0)-ROUND(AB88,0) -> 0 | AE88: =IF(ISNA(VLOOKUP($Q88,data,13,FALSE)),0,VLOOKUP($Q88,data,13,FALSE))*0.5 -> 0.263 | AF88: =IF(ISNA(VLOOKUP($Q88,data,9,FALSE)),0,VLOOKUP($Q88,data,9,FALSE))*0.5 -> 4095.89 | AG88: =IF(ISNA(VLOOKUP($Q88,data,10,FALSE)),0,VLOOKUP($Q88,data,10,FALSE))*0.5 -> 0.205 | AH88: =IF(ISNA(VLOOKUP($Q88,data,11,FALSE)),0,VLOOKUP($Q88,data,11,FALSE))*0.5 -> 279.1785 | AI88: =ROUND(AF88,0)-ROUND(AG88,0)-ROUND(AH88,0)-ROUND(AJ88,0) -> 0 | AJ88: =IF(ISNA(VLOOKUP($Q88,data,8,FALSE)),0,VLOOKUP($Q88,data,8,FALSE))*0.5 -> 3816.5065 | AK88: ='Report Inputs'!$F$2 -> 55.9 | AL88: ='Report Inputs'!$E$2 -> 1080 | AM88: =IF(ISNA(VLOOKUP($Q88,data,14,FALSE)),0,VLOOKUP($Q88,data,14,FALSE))*0.5 -> 145.0755 | AN88: C | AS88: BARBARA EPHRAIM | AT88: Y | AU88: PROD. ACCOUNTANT | AV88: =NOW() -> 42376.365
A89: 7 | B89: =MONTH('Report Inputs'!$B$2) -> 11 | C89: =YEAR('Report Inputs'!$B$2) -> 2015 | D89: 66571 | F89: OXY USA WTP LP | G89: PO BOX 27570 | H89: HOUSTON | I89: TEXAS | J89: 77227-7570 | K89: 713 | L89: 215-7309 | M89: 713 | N89: 985-1893 | O89: N | P89: 45 | Q89: 12229 | R89: 0 | S89: CASCADE CREEK 697-16-35 | T89: WMFK | U89: =IF(V89>0,"PR","SI") -> PR | V89: =IF(ISNA(VLOOKUP($Q89,data,4,FALSE)),0,VLOOKUP($Q89,data,4,FALSE)) -> 30 | W89: NWSW | X89: 16 | Y89: 6S | Z89: 97W | AA89: =IF(ISNA(VLOOKUP($Q89,data,5,FALSE)),0,VLOOKUP($Q89,data,5,FALSE)) -> 0.256 | AB89: =IF(ISNA(VLOOKUP($Q89,data,7,FALSE)),0,VLOOKUP($Q89,data,7,FALSE)) -> 6.225 | AC89: =IF(ISNA(VLOOKUP($Q89,data,6,FALSE)),0,VLOOKUP($Q89,data,6,FALSE)) -> 6.15 | AD89: =ROUND(AC89,0)+ROUND(AE89,0)-ROUND(AA89,0)-ROUND(AB89,0) -> 0 | AE89: =IF(ISNA(VLOOKUP($Q89,data,13,FALSE)),0,VLOOKUP($Q89,data,13,FALSE)) -> 0.331 | AF89: =IF(ISNA(VLOOKUP($Q89,data,9,FALSE)),0,VLOOKUP($Q89,data,9,FALSE)) -> 2372.79 | AG89: =IF(ISNA(VLOOKUP($Q89,data,10,FALSE)),0,VLOOKUP($Q89,data,10,FALSE)) -> 1.19 | AH89: =IF(ISNA(VLOOKUP($Q89,data,11,FALSE)),0,VLOOKUP($Q89,data,11,FALSE)) -> 307.444 | AI89: =ROUND(AF89,0)-ROUND(AG89,0)-ROUND(AH89,0)-ROUND(AJ89,0) -> 1 | AJ89: =IF(ISNA(VLOOKUP($Q89,data,8,FALSE)),0,VLOOKUP($Q89,data,8,FALSE)) -> 2064.156 | AK89: ='Report Inputs'!$F$2 -> 55.9 | AL89: ='Report Inputs'!$E$2 -> 1080 | AM89: =IF(ISNA(VLOOKUP($Q89,data,14,FALSE)),0,VLOOKUP($Q89,data,14,FALSE)) -> 44.538 | AN89: C | AS89: BARBARA EPHRAIM | AT89: Y | AU89: PROD. ACCOUNTANT | AV89: =NOW() -> 42376.365
A90: 7 | B90: =MONTH('Report Inputs'!$B$2) -> 11 | C90: =YEAR('Report Inputs'!$B$2) -> 2015 | D90: 66571 | F90: OXY USA WTP LP | G90: PO BOX 27570 | H90: HOUSTON | I90: TEXAS | J90: 77227-7570 | K90: 713 | L90: 215-7309 | M90: 713 | N90: 985-1893 | O90: N | P90: 45 | Q90: 12232 | R90: 0 | S90: CASCADE CREEK 697-16-34 | T90: WMFK | U90: =IF(V90>0,"PR","SI") -> PR | V90: =IF(ISNA(VLOOKUP($Q90,data,4,FALSE)),0,VLOOKUP($Q90,data,4,FALSE)) -> 30 | W90: NWSW | X90: 16 | Y90: 6S | Z90: 97W | AA90: =IF(ISNA(VLOOKUP($Q90,data,5,FALSE)),0,VLOOKUP($Q90,data,5,FALSE)) -> 0.324 | AB90: =IF(ISNA(VLOOKUP($Q90,data,7,FALSE)),0,VLOOKUP($Q90,data,7,FALSE)) -> 7.622 | AC90: =IF(ISNA(VLOOKUP($Q90,data,6,FALSE)),0,VLOOKUP($Q90,data,6,FALSE))*0.5 -> 3.77 | AD90: =ROUND(AC90,0)+ROUND(AE90,0)-ROUND(AA90,0)-ROUND(AB90,0) -> -4 | AE90: =IF(ISNA(VLOOKUP($Q90,data,13,FALSE)),0,VLOOKUP($Q90,data,13,FALSE)) -> 0.406 | AF90: =IF(ISNA(VLOOKUP($Q90,data,9,FALSE)),0,VLOOKUP($Q90,data,9,FALSE)) -> 2855.23 | AG90: =IF(ISNA(VLOOKUP($Q90,data,10,FALSE)),0,VLOOKUP($Q90,data,10,FALSE)) -> 1.46 | AH90: =IF(ISNA(VLOOKUP($Q90,data,11,FALSE)),0,VLOOKUP($Q90,data,11,FALSE)) -> 326.715 | AI90: =ROUND(AF90,0)-ROUND(AG90,0)-ROUND(AH90,0)-ROUND(AJ90,0) -> 0 | AJ90: =IF(ISNA(VLOOKUP($Q90,data,8,FALSE)),0,VLOOKUP($Q90,data,8,FALSE)) -> 2527.055 | AK90: ='Report Inputs'!$F$2 -> 55.9 | AL90: ='Report Inputs'!$E$2 -> 1080 | AM90: =IF(ISNA(VLOOKUP($Q90,data,14,FALSE)),0,VLOOKUP($Q90,data,14,FALSE)) -> 54.528 | AN90: C | AS90: BARBARA EPHRAIM | AT90: Y | AU90: PROD. ACCOUNTANT | AV90: =NOW() -> 42376.365
A91: 7 | B91: =MONTH('Report Inputs'!$B$2) -> 11 | C91: =YEAR('Report Inputs'!$B$2) -> 2015 | D91: 66571 | F91: OXY USA WTP LP | G91: PO BOX 27570 | H91: HOUSTON | I91: TEXAS | J91: 77227-7570 | K91: 713 | L91: 215-7309 | M91: 713 | N91: 985-1893 | O91: N | P91: 45 | Q91: 12234 | R91: 0 | S91: CASCADE CREEK 697-15-21D | T91: WFCM | U91: =IF(V91>0,"PR","SI") -> PR | V91: =IF(ISNA(VLOOKUP($Q91,data,4,FALSE)),0,VLOOKUP($Q91,data,4,FALSE)) -> 30 | W91: SENE | X91: 15 | Y91: 6S | Z91: 97W | AA91: =IF(ISNA(VLOOKUP($Q91,data,5,FALSE)),0,VLOOKUP($Q91,data,5,FALSE)) -> 0.854 | AB91: =IF(ISNA(VLOOKUP($Q91,data,7,FALSE)),0,VLOOKUP($Q91,data,7,FALSE)) -> 19.705 | AC91: =IF(ISNA(VLOOKUP($Q91,data,6,FALSE)),0,VLOOKUP($Q91,data,6,FALSE)) -> 19.688 | AD91: =ROUND(AC91,0)+ROUND(AE91,0)-ROUND(AA91,0)-ROUND(AB91,0) -> 0 | AE91: =IF(ISNA(VLOOKUP($Q91,data,13,FALSE)),0,VLOOKUP($Q91,data,13,FALSE)) -> 0.871 | AF91: =IF(ISNA(VLOOKUP($Q91,data,9,FALSE)),0,VLOOKUP($Q91,data,9,FALSE)) -> 3596.56 | AG91: =IF(ISNA(VLOOKUP($Q91,data,10,FALSE)),0,VLOOKUP($Q91,data,10,FALSE)) -> 3.89 | AH91: =IF(ISNA(VLOOKUP($Q91,data,11,FALSE)),0,VLOOKUP($Q91,data,11,FALSE)) -> 358.782 | AI91: =ROUND(AF91,0)-ROUND(AG91,0)-ROUND(AH91,0)-ROUND(AJ91,0) -> 0 | AJ91: =IF(ISNA(VLOOKUP($Q91,data,8,FALSE)),0,VLOOKUP($Q91,data,8,FALSE)) -> 3233.888 | AK91: ='Report Inputs'!$F$2 -> 55.9 | AL91: ='Report Inputs'!$E$2 -> 1080 | AM91: =IF(ISNA(VLOOKUP($Q91,data,14,FALSE)),0,VLOOKUP($Q91,data,14,FALSE)) -> 70.01 | AN91: C | AS91: BARBARA EPHRAIM | AT91: Y | AU91: PROD. ACCOUNTANT | AV91: =NOW() -> 42376.365
A92: 7 | B92: =MONTH('Report Inputs'!$B$2) -> 11 | C92: =YEAR('Report Inputs'!$B$2) -> 2015 | D92: 66571 | F92: OXY USA WTP LP | G92: PO BOX 27570 | H92: HOUSTON | I92: TEXAS | J92: 77227-7570 | K92: 713 | L92: 215-7309 | M92: 713 | N92: 985-1893 | O92: N | P92: 45 | Q92: 12399 | R92: 0 | S92: SHELL 797-14-01D | T92: WFCM | U92: =IF(V92>0,"PR","SI") -> PR | V92: =IF(ISNA(VLOOKUP($Q92,data,4,FALSE)),0,VLOOKUP($Q92,data,4,FALSE)) -> 30 | W92: NWNW | X92: 14 | Y92: 7S | Z92: 97W | AA92: =IF(ISNA(VLOOKUP($Q92,data,5,FALSE)),0,VLOOKUP($Q92,data,5,FALSE)) -> 10.979 | AB92: =IF(ISNA(VLOOKUP($Q92,data,7,FALSE)),0,VLOOKUP($Q92,data,7,FALSE)) -> 0.249 | AC92: =IF(ISNA(VLOOKUP($Q92,data,6,FALSE)),0,VLOOKUP($Q92,data,6,FALSE)) -> 1.124 | AD92: =ROUND(AC92,0)+ROUND(AE92,0)-ROUND(AA92,0)-ROUND(AB92,0) -> 0 | AE92: =IF(ISNA(VLOOKUP($Q92,data,13,FALSE)),0,VLOOKUP($Q92,data,13,FALSE)) -> 10.104 | AF92: =IF(ISNA(VLOOKUP($Q92,data,9,FALSE)),0,VLOOKUP($Q92,data,9,FALSE)) -> 2413.55 | AG92: =IF(ISNA(VLOOKUP($Q92,data,10,FALSE)),0,VLOOKUP($Q92,data,10,FALSE)) -> 0 | AH92: =IF(ISNA(VLOOKUP($Q92,data,11,FALSE)),0,VLOOKUP($Q92,data,11,FALSE)) -> 375.127 | AI92: =ROUND(AF92,0)-ROUND(AG92,0)-ROUND(AH92,0)-ROUND(AJ92,0) -> 1 | AJ92: =IF(ISNA(VLOOKUP($Q92,data,8,FALSE)),0,VLOOKUP($Q92,data,8,FALSE)) -> 2038.423 | AK92: ='Report Inputs'!$F$2 -> 55.9 | AL92: ='Report Inputs'!$E$2 -> 1080 | AM92: =IF(ISNA(VLOOKUP($Q92,data,14,FALSE)),0,VLOOKUP($Q92,data,14,FALSE)) -> 0 | AN92: C | AS92: BARBARA EPHRAIM | AT92: Y | AU92: PROD. ACCOUNTANT | AV92: =NOW() -> 42376.365
A93: 7 | B93: =MONTH('Report Inputs'!$B$2) -> 11 | C93: =YEAR('Report Inputs'!$B$2) -> 2015 | D93: 66571 | F93: OXY USA WTP LP | G93: PO BOX 27570 | H93: HOUSTON | I93: TEXAS | J93: 77227-7570 | K93: 713 | L93: 215-7309 | M93: 713 | N93: 985-1893 | O93: N | P93: 45 | Q93: 12400 | R93: 0 | S93: CASCADE CREEK 697-03-67D | T93: WFCM | U93: =IF(V93>0,"PR","SI") -> PR | V93: =IF(ISNA(VLOOKUP($Q93,data,4,FALSE)),0,VLOOKUP($Q93,data,4,FALSE)) -> 30 | W93: NESW | X93: 3 | Y93: 6S | Z93: 97W | AA93: =IF(ISNA(VLOOKUP($Q93,data,5,FALSE)),0,VLOOKUP($Q93,data,5,FALSE)) -> 0.498 | AB93: =IF(ISNA(VLOOKUP($Q93,data,7,FALSE)),0,VLOOKUP($Q93,data,7,FALSE)) -> 11.089 | AC93: =IF(ISNA(VLOOKUP($Q93,data,6,FALSE)),0,VLOOKUP($Q93,data,6,FALSE)) -> 11.041 | AD93: =ROUND(AC93,0)+ROUND(AE93,0)-ROUND(AA93,0)-ROUND(AB93,0) -> 1 | AE93: =IF(ISNA(VLOOKUP($Q93,data,13,FALSE)),0,VLOOKUP($Q93,data,13,FALSE)) -> 0.546 | AF93: =IF(ISNA(VLOOKUP($Q93,data,9,FALSE)),0,VLOOKUP($Q93,data,9,FALSE)) -> 3183.02 | AG93: =IF(ISNA(VLOOKUP($Q93,data,10,FALSE)),0,VLOOKUP($Q93,data,10,FALSE)) -> 2.15 | AH93: =IF(ISNA(VLOOKUP($Q93,data,11,FALSE)),0,VLOOKUP($Q93,data,11,FALSE)) -> 340.91 | AI93: =ROUND(AF93,0)-ROUND(AG93,0)-ROUND(AH93,0)-ROUND(AJ93,0) -> 0 | AJ93: =IF(ISNA(VLOOKUP($Q93,data,8,FALSE)),0,VLOOKUP($Q93,data,8,FALSE)) -> 2839.96 | AK93: ='Report Inputs'!$F$2 -> 55.9 | AL93: ='Report Inputs'!$E$2 -> 1080 | AM93: =IF(ISNA(VLOOKUP($Q93,data,14,FALSE)),0,VLOOKUP($Q93,data,14,FALSE)) -> 275.151 | AN93: C | AS93: BARBARA EPHRAIM | AT93: Y | AU93: PROD. ACCOUNTANT | AV93: =NOW() -> 42376.365
A94: 7 | B94: =MONTH('Report Inputs'!$B$2) -> 11 | C94: =YEAR('Report Inputs'!$B$2) -> 2015 | D94: 66571 | F94: OXY USA WTP LP | G94: PO BOX 27570 | H94: HOUSTON | I94: TEXAS | J94: 77227-7570 | K94: 713 | L94: 215-7309 | M94: 713 | N94: 985-1893 | O94: N | P94: 45 | Q94: 12412 | R94: 0 | S94: CASCADE CREEK 697-03-51D | T94: WFCM | U94: =IF(V94>0,"PR","SI") -> PR | V94: =IF(ISNA(VLOOKUP($Q94,data,4,FALSE)),0,VLOOKUP($Q94,data,4,FALSE)) -> 30 | W94: NESW | X94: 3 | Y94: 6S | Z94: 97W | AA94: =IF(ISNA(VLOOKUP($Q94,data,5,FALSE)),0,VLOOKUP($Q94,data,5,FALSE)) -> 0.383 | AB94: =IF(ISNA(VLOOKUP($Q94,data,7,FALSE)),0,VLOOKUP($Q94,data,7,FALSE)) -> 8.975 | AC94: =IF(ISNA(VLOOKUP($Q94,data,6,FALSE)),0,VLOOKUP($Q94,data,6,FALSE)) -> 8.917 | AD94: =ROUND(AC94,0)+ROUND(AE94,0)-ROUND(AA94,0)-ROUND(AB94,0) -> 0 | AE94: =IF(ISNA(VLOOKUP($Q94,data,13,FALSE)),0,VLOOKUP($Q94,data,13,FALSE)) -> 0.441 | AF94: =IF(ISNA(VLOOKUP($Q94,data,9,FALSE)),0,VLOOKUP($Q94,data,9,FALSE)) -> 2619.02 | AG94: =IF(ISNA(VLOOKUP($Q94,data,10,FALSE)),0,VLOOKUP($Q94,data,10,FALSE)) -> 1.74 | AH94: =IF(ISNA(VLOOKUP($Q94,data,11,FALSE)),0,VLOOKUP($Q94,data,11,FALSE)) -> 318.661 | AI94: =ROUND(AF94,0)-ROUND(AG94,0)-ROUND(AH94,0)-ROUND(AJ94,0) -> -1 | AJ94: =IF(ISNA(VLOOKUP($Q94,data,8,FALSE)),0,VLOOKUP($Q94,data,8,FALSE)) -> 2298.619 | AK94: ='Report Inputs'!$F$2 -> 55.9 | AL94: ='Report Inputs'!$E$2 -> 1080 | AM94: =IF(ISNA(VLOOKUP($Q94,data,14,FALSE)),0,VLOOKUP($Q94,data,14,FALSE)) -> 222.703 | AN94: C | AS94: BARBARA EPHRAIM | AT94: Y | AU94: PROD. ACCOUNTANT | AV94: =NOW() -> 42376.365
A95: 7 | B95: =MONTH('Report Inputs'!$B$2) -> 11 | C95: =YEAR('Report Inputs'!$B$2) -> 2015 | D95: 66571 | F95: OXY USA WTP LP | G95: PO BOX 27570 | H95: HOUSTON | I95: TEXAS | J95: 77227-7570 | K95: 713 | L95: 215-7309 | M95: 713 | N95: 985-1893 | O95: N | P95: 45 | Q95: 12833 | R95: 0 | S95: CASCADE CREEK 697-20-04D | T95: WMFK | U95: =IF(V95>0,"PR","SI") -> PR | V95: =IF(ISNA(VLOOKUP($Q95,data,4,FALSE)),0,VLOOKUP($Q95,data,4,FALSE)) -> 30 | W95: NENW | X95: 20 | Y95: 6S | Z95: 97W | AA95: =IF(ISNA(VLOOKUP($Q95,data,5,FALSE)),0,VLOOKUP($Q95,data,5,FALSE)) -> 0.172 | AB95: =IF(ISNA(VLOOKUP($Q95,data,7,FALSE)),0,VLOOKUP($Q95,data,7,FALSE)) -> 1.242 | AC95: =IF(ISNA(VLOOKUP($Q95,data,6,FALSE)),0,VLOOKUP($Q95,data,6,FALSE)) -> 1.257 | AD95: =ROUND(AC95,0)+ROUND(AE95,0)-ROUND(AA95,0)-ROUND(AB95,0) -> 0 | AE95: =IF(ISNA(VLOOKUP($Q95,data,13,FALSE)),0,VLOOKUP($Q95,data,13,FALSE)) -> 0.157 | AF95: =IF(ISNA(VLOOKUP($Q95,data,9,FALSE)),0,VLOOKUP($Q95,data,9,FALSE)) -> 2335.45 | AG95: =IF(ISNA(VLOOKUP($Q95,data,10,FALSE)),0,VLOOKUP($Q95,data,10,FALSE)) -> 0.18 | AH95: =IF(ISNA(VLOOKUP($Q95,data,11,FALSE)),0,VLOOKUP($Q95,data,11,FALSE)) -> 182.246 | AI95: =ROUND(AF95,0)-ROUND(AG95,0)-ROUND(AH95,0)-ROUND(AJ95,0) -> 0 | AJ95: =IF(ISNA(VLOOKUP($Q95,data,8,FALSE)),0,VLOOKUP($Q95,data,8,FALSE)) -> 2153.024 | AK95: ='Report Inputs'!$F$2 -> 55.9 | AL95: ='Report Inputs'!$E$2 -> 1080 | AM95: =IF(ISNA(VLOOKUP($Q95,data,14,FALSE)),0,VLOOKUP($Q95,data,14,FALSE)) -> 22.351 | AN95: C | AS95: BARBARA EPHRAIM | AT95: Y | AU95: PROD. ACCOUNTANT | AV95: =NOW() -> 42376.365
A96: 7 | B96: =MONTH('Report Inputs'!$B$2) -> 11 | C96: =YEAR('Report Inputs'!$B$2) -> 2015 | D96: 66571 | F96: OXY USA WTP LP | G96: PO BOX 27570 | H96: HOUSTON | I96: TEXAS | J96: 77227-7570 | K96: 713 | L96: 215-7309 | M96: 713 | N96: 985-1893 | O96: N | P96: 45 | Q96: 12834 | R96: 0 | S96: CASCADE CREEK 697-20-09D | T96: WMFK | U96: =IF(V96>0,"PR","SI") -> PR | V96: =IF(ISNA(VLOOKUP($Q96,data,4,FALSE)),0,VLOOKUP($Q96,data,4,FALSE)) -> 30 | W96: NENW | X96: 20 | Y96: 6S | Z96: 97W | AA96: =IF(ISNA(VLOOKUP($Q96,data,5,FALSE)),0,VLOOKUP($Q96,data,5,FALSE)) -> 0.185 | AB96: =IF(ISNA(VLOOKUP($Q96,data,7,FALSE)),0,VLOOKUP($Q96,data,7,FALSE)) -> 1.325 | AC96: =IF(ISNA(VLOOKUP($Q96,data,6,FALSE)),0,VLOOKUP($Q96,data,6,FALSE)) -> 1.339 | AD96: =ROUND(AC96,0)+ROUND(AE96,0)-ROUND(AA96,0)-ROUND(AB96,0) -> 0 | AE96: =IF(ISNA(VLOOKUP($Q96,data,13,FALSE)),0,VLOOKUP($Q96,data,13,FALSE)) -> 0.171 | AF96: =IF(ISNA(VLOOKUP($Q96,data,9,FALSE)),0,VLOOKUP($Q96,data,9,FALSE)) -> 2486.86 | AG96: =IF(ISNA(VLOOKUP($Q96,data,10,FALSE)),0,VLOOKUP($Q96,data,10,FALSE)) -> 0.19 | AH96: =IF(ISNA(VLOOKUP($Q96,data,11,FALSE)),0,VLOOKUP($Q96,data,11,FALSE)) -> 188.817 | AI96: =ROUND(AF96,0)-ROUND(AG96,0)-ROUND(AH96,0)-ROUND(AJ96,0) -> 0 | AJ96: =IF(ISNA(VLOOKUP($Q96,data,8,FALSE)),0,VLOOKUP($Q96,data,8,FALSE)) -> 2297.853 | AK96: ='Report Inputs'!$F$2 -> 55.9 | AL96: ='Report Inputs'!$E$2 -> 1080 | AM96: =IF(ISNA(VLOOKUP($Q96,data,14,FALSE)),0,VLOOKUP($Q96,data,14,FALSE)) -> 23.854 | AN96: C | AS96: BARBARA EPHRAIM | AT96: Y | AU96: PROD. ACCOUNTANT | AV96: =NOW() -> 42376.365
A97: 7 | B97: =MONTH('Report Inputs'!$B$2) -> 11 | C97: =YEAR('Report Inputs'!$B$2) -> 2015 | D97: 66571 | F97: OXY USA WTP LP | G97: PO BOX 27570 | H97: HOUSTON | I97: TEXAS | J97: 77227-7570 | K97: 713 | L97: 215-7309 | M97: 713 | N97: 985-1893 | O97: N | P97: 45 | Q97: 13029 | R97: 0 | S97: CASCADE CREEK 697-20-17D | T97: WMFK | U97: =IF(V97>0,"PR","SI") -> PR | V97: =IF(ISNA(VLOOKUP($Q97,data,4,FALSE)),0,VLOOKUP($Q97,data,4,FALSE)) -> 30 | W97: NENW | X97: 20 | Y97: 6S | Z97: 97W | AA97: =IF(ISNA(VLOOKUP($Q97,data,5,FALSE)),0,VLOOKUP($Q97,data,5,FALSE)) -> 0.301 | AB97: =IF(ISNA(VLOOKUP($Q97,data,7,FALSE)),0,VLOOKUP($Q97,data,7,FALSE)) -> 2.141 | AC97: =IF(ISNA(VLOOKUP($Q97,data,6,FALSE)),0,VLOOKUP($Q97,data,6,FALSE)) -> 2.168 | AD97: =ROUND(AC97,0)+ROUND(AE97,0)-ROUND(AA97,0)-ROUND(AB97,0) -> 0 | AE97: =IF(ISNA(VLOOKUP($Q97,data,13,FALSE)),0,VLOOKUP($Q97,data,13,FALSE)) -> 0.274 | AF97: =IF(ISNA(VLOOKUP($Q97,data,9,FALSE)),0,VLOOKUP($Q97,data,9,FALSE)) -> 3966.07 | AG97: =IF(ISNA(VLOOKUP($Q97,data,10,FALSE)),0,VLOOKUP($Q97,data,10,FALSE)) -> 0.3 | AH97: =IF(ISNA(VLOOKUP($Q97,data,11,FALSE)),0,VLOOKUP($Q97,data,11,FALSE)) -> 253.007 | AI97: =ROUND(AF97,0)-ROUND(AG97,0)-ROUND(AH97,0)-ROUND(AJ97,0) -> 0 | AJ97: =IF(ISNA(VLOOKUP($Q97,data,8,FALSE)),0,VLOOKUP($Q97,data,8,FALSE)) -> 3712.763 | AK97: ='Report Inputs'!$F$2 -> 55.9 | AL97: ='Report Inputs'!$E$2 -> 1080 | AM97: =IF(ISNA(VLOOKUP($Q97,data,14,FALSE)),0,VLOOKUP($Q97,data,14,FALSE)) -> 38.543 | AN97: C | AS97: BARBARA EPHRAIM | AT97: Y | AU97: PROD. ACCOUNTANT | AV97: =NOW() -> 42376.365
A98: 7 | B98: =MONTH('Report Inputs'!$B$2) -> 11 | C98: =YEAR('Report Inputs'!$B$2) -> 2015 | D98: 66571 | F98: OXY USA WTP LP | G98: PO BOX 27570 | H98: HOUSTON | I98: TEXAS | J98: 77227-7570 | K98: 713 | L98: 215-7309 | M98: 713 | N98: 985-1893 | O98: N | P98: 45 | Q98: 13030 | R98: 0 | S98: CASCADE CREEK 697-20-25D | T98: WFCM | U98: =IF(V98>0,"PR","SI") -> PR | V98: =IF(ISNA(VLOOKUP($Q98,data,4,FALSE)),0,VLOOKUP($Q98,data,4,FALSE)) -> 29 | W98: NENW | X98: 20 | Y98: 6S | Z98: 97W | AA98: =IF(ISNA(VLOOKUP($Q98,data,5,FALSE)),0,VLOOKUP($Q98,data,5,FALSE)) -> 0.201 | AB98: =IF(ISNA(VLOOKUP($Q98,data,7,FALSE)),0,VLOOKUP($Q98,data,7,FALSE)) -> 1.401 | AC98: =IF(ISNA(VLOOKUP($Q98,data,6,FALSE)),0,VLOOKUP($Q98,data,6,FALSE)) -> 1.421 | AD98: =ROUND(AC98,0)+ROUND(AE98,0)-ROUND(AA98,0)-ROUND(AB98,0) -> 0 | AE98: =IF(ISNA(VLOOKUP($Q98,data,13,FALSE)),0,VLOOKUP($Q98,data,13,FALSE)) -> 0.181 | AF98: =IF(ISNA(VLOOKUP($Q98,data,9,FALSE)),0,VLOOKUP($Q98,data,9,FALSE)) -> 2623.27 | AG98: =IF(ISNA(VLOOKUP($Q98,data,10,FALSE)),0,VLOOKUP($Q98,data,10,FALSE)) -> 0.2 | AH98: =IF(ISNA(VLOOKUP($Q98,data,11,FALSE)),0,VLOOKUP($Q98,data,11,FALSE)) -> 194.736 | AI98: =ROUND(AF98,0)-ROUND(AG98,0)-ROUND(AH98,0)-ROUND(AJ98,0) -> 0 | AJ98: =IF(ISNA(VLOOKUP($Q98,data,8,FALSE)),0,VLOOKUP($Q98,data,8,FALSE)) -> 2428.334 | AK98: ='Report Inputs'!$F$2 -> 55.9 | AL98: ='Report Inputs'!$E$2 -> 1080 | AM98: =IF(ISNA(VLOOKUP($Q98,data,14,FALSE)),0,VLOOKUP($Q98,data,14,FALSE)) -> 25.208 | AN98: C | AS98: BARBARA EPHRAIM | AT98: Y | AU98: PROD. ACCOUNTANT | AV98: =NOW() -> 42376.365
A99: 7 | B99: =MONTH('Report Inputs'!$B$2) -> 11 | C99: =YEAR('Report Inputs'!$B$2) -> 2015 | D99: 66571 | F99: OXY USA WTP LP | G99: PO BOX 27570 | H99: HOUSTON | I99: TEXAS | J99: 77227-7570 | K99: 713 | L99: 215-7309 | M99: 713 | N99: 985-1893 | O99: N | P99: 45 | Q99: 13031 | R99: 0 | S99: CASCADE CREEK 697-20-06D | T99: WFCM | U99: =IF(V99>0,"PR","SI") -> PR | V99: =IF(ISNA(VLOOKUP($Q99,data,4,FALSE)),0,VLOOKUP($Q99,data,4,FALSE)) -> 30 | W99: NENW | X99: 20 | Y99: 6S | Z99: 97W | AA99: =IF(ISNA(VLOOKUP($Q99,data,5,FALSE)),0,VLOOKUP($Q99,data,5,FALSE)) -> 0.22 | AB99: =IF(ISNA(VLOOKUP($Q99,data,7,FALSE)),0,VLOOKUP($Q99,data,7,FALSE)) -> 1.661 | AC99: =IF(ISNA(VLOOKUP($Q99,data,6,FALSE)),0,VLOOKUP($Q99,data,6,FALSE)) -> 1.669 | AD99: =ROUND(AC99,0)+ROUND(AE99,0)-ROUND(AA99,0)-ROUND(AB99,0) -> 0 | AE99: =IF(ISNA(VLOOKUP($Q99,data,13,FALSE)),0,VLOOKUP($Q99,data,13,FALSE)) -> 0.212 | AF99: =IF(ISNA(VLOOKUP($Q99,data,9,FALSE)),0,VLOOKUP($Q99,data,9,FALSE)) -> 3096.01 | AG99: =IF(ISNA(VLOOKUP($Q99,data,10,FALSE)),0,VLOOKUP($Q99,data,10,FALSE)) -> 0.24 | AH99: =IF(ISNA(VLOOKUP($Q99,data,11,FALSE)),0,VLOOKUP($Q99,data,11,FALSE)) -> 215.25 | AI99: =ROUND(AF99,0)-ROUND(AG99,0)-ROUND(AH99,0)-ROUND(AJ99,0) -> 0 | AJ99: =IF(ISNA(VLOOKUP($Q99,data,8,FALSE)),0,VLOOKUP($Q99,data,8,FALSE)) -> 2880.52 | AK99: ='Report Inputs'!$F$2 -> 55.9 | AL99: ='Report Inputs'!$E$2 -> 1080 | AM99: =IF(ISNA(VLOOKUP($Q99,data,14,FALSE)),0,VLOOKUP($Q99,data,14,FALSE)) -> 29.902 | AN99: C | AS99: BARBARA EPHRAIM | AT99: Y | AU99: PROD. ACCOUNTANT | AV99: =NOW() -> 42376.365
A100: 7 | B100: =MONTH('Report Inputs'!$B$2) -> 11 | C100: =YEAR('Report Inputs'!$B$2) -> 2015 | D100: 66571 | F100: OXY USA WTP LP | G100: PO BOX 27570 | H100: HOUSTON | I100: TEXAS | J100: 77227-7570 | K100: 713 | L100: 215-7309 | M100: 713 | N100: 985-1893 | O100: N | P100: 45 | Q100: 13032 | R100: 0 | S100: CASCADE CREEK 697-20-19D | T100: WFCM | U100: =IF(V100>0,"PR","SI") -> PR | V100: =IF(ISNA(VLOOKUP($Q100,data,4,FALSE)),0,VLOOKUP($Q100,data,4,FALSE)) -> 30 | W100: NENW | X100: 20 | Y100: 6S | Z100: 97W | AA100: =IF(ISNA(VLOOKUP($Q100,data,5,FALSE)),0,VLOOKUP($Q100,data,5,FALSE)) -> 0.185 | AB100: =IF(ISNA(VLOOKUP($Q100,data,7,FALSE)),0,VLOOKUP($Q100,data,7,FALSE)) -> 1.334 | AC100: =IF(ISNA(VLOOKUP($Q100,data,6,FALSE)),0,VLOOKUP($Q100,data,6,FALSE)) -> 1.348 | AD100: =ROUND(AC100,0)+ROUND(AE100,0)-ROUND(AA100,0)-ROUND(AB100,0) -> 0 | AE100: =IF(ISNA(VLOOKUP($Q100,data,13,FALSE)),0,VLOOKUP($Q100,data,13,FALSE)) -> 0.171 | AF100: =IF(ISNA(VLOOKUP($Q100,data,9,FALSE)),0,VLOOKUP($Q100,data,9,FALSE)) -> 2502.16 | AG100: =IF(ISNA(VLOOKUP($Q100,data,10,FALSE)),0,VLOOKUP($Q100,data,10,FALSE)) -> 0.19 | AH100: =IF(ISNA(VLOOKUP($Q100,data,11,FALSE)),0,VLOOKUP($Q100,data,11,FALSE)) -> 189.481 | AI100: =ROUND(AF100,0)-ROUND(AG100,0)-ROUND(AH100,0)-ROUND(AJ100,0) -> 1 | AJ100: =IF(ISNA(VLOOKUP($Q100,data,8,FALSE)),0,VLOOKUP($Q100,data,8,FALSE)) -> 2312.489 | AK100: ='Report Inputs'!$F$2 -> 55.9 | AL100: ='Report Inputs'!$E$2 -> 1080 | AM100: =IF(ISNA(VLOOKUP($Q100,data,14,FALSE)),0,VLOOKUP($Q100,data,14,FALSE)) -> 24.006 | AN100: C | AS100: BARBARA EPHRAIM | AT100: Y | AU100: PROD. ACCOUNTANT | AV100: =NOW() -> 42376.365
...

Sheet Notes
A1: Version | B1: Notes | F1: Databases
F2: HOPSPP
A3: 6.6.29 | B3: 1. Fixed the Daily Inj Well query for EKPSPP to not pull Permit Information | F3: EKPSPP
F4: MOPSPP

Sheet Sheet1
