Workbook

Sheet List of Wells - Blank
A1: Operator's Wellbore Integrity Contact JULIE.TANNEHILL@ANADARKO.COM
A2: OFFSET WELL EVALUATIONS
A3: Offset Well API # | B3: Offset Well Name | C3: Nearest Proposed Horizontal Well Name | D3: Shortest Horizontal Distance from Offset Well to any Proposed HZ Well | E3: Offset Well Operator | F3: Offset Well Spud Date | G3: Offset Well Status | H3: Offset Well Surface Casing Setting Depth | I3: Base of Fox Hills or Depth of Deepest Water Well | J3: Historical Remedial Work to Provide Fox Hills Coverage | K3: Offset Well Objective Formation Top | L3: Offset Well Top of Production Casing Cement | M3: Comments (Optional)
A4: 05-123-08825 | B4: 3 JACK BERGER | C4: JZM 2N-3HZ | D4: 42 | E4: K P KAUFFMAN COMPANY INC | F4: 27963 | G4: PR | H4: 740 | I4: 850 | J4: - | K4: N/A | L4: - | M4: SX only. | Q4: =vlookup(A4,Sheet1!$D$1:$E$56,2,false) | U4: =VLOOKUP(#REF!,Sheet1!$D$1:$E$56,2,FALSE) -> #REF!
A5: 05-123-07473 | B5: 1 JACK BERGER | C5: JZM 2C-3HZ | D5: 76 | E5: K P KAUFFMAN COMPANY INC | F5: 26511 | G5: PR | H5: 197 | I5: 850 | J5: - | K5: N/A | L5: - | M5: SX only. | U5: =VLOOKUP(#REF!,Sheet1!$D$1:$E$56,2,FALSE) -> #REF!
A6: 05-123-09485 | B6: 17 SUCKLA-BROWN UNIT | C6: JZM 28C-3HZ | D6: 105 | E6: K P KAUFFMAN COMPANY INC | F6: 28625 | G6: PR | H6: 257 | I6: 850 | J6: - | K6: N/A | L6: - | M6: SX only. | U6: =VLOOKUP(#REF!,Sheet1!$D$1:$E$56,2,FALSE) -> #REF!
A7: 05-123-08820 | B7: 1 G G HOLLISTER 33-3 | C7: JZM 2N-3HZ | D7: 121 | E7: NOBLE ENERGY INC | F7: 28005 | G7: PA | H7: 614 | I7: 850 | J7: - | K7: N/A | L7: - | M7: SX only. | U7: =VLOOKUP(#REF!,Sheet1!$D$1:$E$56,2,FALSE) -> #REF!
A8: 05-123-08070 | B8: 10 SUCKLA BROWN UNIT | C8: JZM 2N-3HZ | D8: 133 | E8: AMOCO PRODUCTION CO. | F8: 27244 | G8: PA | H8: 212 | I8: 850 | J8: - | K8: N/A | L8: - | M8: SX only. | U8: =VLOOKUP(#REF!,Sheet1!$D$1:$E$56,2,FALSE) -> #REF!
A9: 05-123-08873 | B9: 12 SUCKLA-BROWN UNIT | C9: JZM 2N-3HZ | D9: 137 | E9: K P KAUFFMAN COMPANY INC | F9: 27967 | G9: PR | H9: 851 | I9: 850 | J9: - | K9: N/A | L9: - | M9: SX only. | U9: =VLOOKUP(#REF!,Sheet1!$D$1:$E$56,2,FALSE) -> #REF!
A10: 05-123-07481 | B10: 4 SUCKLA BROWN UNIT | C10: JZM 2N-3HZ | D10: 138 | E10: AMOCO PRODUCTION CO. | F10: 26492 | G10: PA | H10: 203 | I10: 850 | J10: - | K10: N/A | L10: - | M10: SX only. | U10: =VLOOKUP(#REF!,Sheet1!$D$1:$E$56,2,FALSE) -> #REF!
A11: 05-123-07528 | B11: 3 UPRR 42 PAN AM E | C11: JZM 2C-3HZ | D11: 146 | E11: K P KAUFFMAN COMPANY INC | F11: 26548 | G11: PR | H11: 210 | I11: 850 | J11: 1000 | K11: N/A | L11: - | M11: SX only. | U11: =VLOOKUP(#REF!,Sheet1!$D$1:$E$56,2,FALSE) -> #REF!
A12: 05-123-07842 | B12: 1 SUCKLA FARMS INC F UNIT | C12: JZM 2C-3HZ | D12: 166 | E12: KERR MCGEE OIL & GAS ONSHORE LP | F12: 34942 | G12: PR | H12: 225 | I12: 850 | J12: - | K12: 7385 | L12: 6960 | M12: - | U12: =VLOOKUP(#REF!,Sheet1!$D$1:$E$56,2,FALSE) -> #REF!
A13: 05-123-10039 | B13: 2 JACK BERGER GU "C" | C13: JZM 27N-W3HZ | D13: 172 | E13: KERR MCGEE OIL & GAS ONSHORE LP | F13: 29472 | G13: PR | H13: 290 | I13: 850 | J13: 754 | K13: 6850 | L13: 7340 | M13: - | U13: =VLOOKUP(#REF!,Sheet1!$D$1:$E$56,2,FALSE) -> #REF!
A14: 05-123-08601 | B14: 1 JACK BERGER C | C14: JZM 27N-W3HZ | D14: 176 | E14: KERR MCGEE OIL & GAS ONSHORE LP | F14: 27775 | G14: PR | H14: 235 | I14: 850 | J14: 750 | K14: 7280 | L14: 6510 | M14: - | U14: =VLOOKUP(#REF!,Sheet1!$D$1:$E$56,2,FALSE) -> #REF!
A15: 05-123-39301 | B15: 27N-34HZ SICKLER | C15: JZM 27N-W3HZ | D15: 178 | E15: KERR MCGEE OIL & GAS ONSHORE LP | F15: 41783 | G15: PR | H15: 1204 | I15: 850 | J15: - | K15: 7807 | L15: 0 | M15: - | U15: =VLOOKUP(#REF!,Sheet1!$D$1:$E$56,2,FALSE) -> #REF!
A16: 05-123-39378 | B16: 2C-34HZ SICKLER | C16: JZM 2N-3HZ | D16: 179 | E16: KERR MCGEE OIL & GAS ONSHORE LP | F16: 41782 | G16: PR | H16: 1208 | I16: 850 | J16: - | K16: 8071 | L16: 0 | M16: - | U16: =VLOOKUP(#REF!,Sheet1!$D$1:$E$56,2,FALSE) -> #REF!
A17: 05-123-09988 | B17: 2 FRANK J. SUCKLA | C17: JZM 27N-W3HZ | D17: 264 | E17: KERR MCGEE OIL & GAS ONSHORE LP | F17: 34790 | G17: PR | H17: 281 | I17: 850 | J17: - | K17: 7336 | L17: 6896 | M17: - | U17: =VLOOKUP(#REF!,Sheet1!$D$1:$E$56,2,FALSE) -> #REF!
A18: 05-123-39377 | B18: 27C-34HZ SICKLER | C18: JZM 27N-W3HZ | D18: 297 | E18: KERR MCGEE OIL & GAS ONSHORE LP | F18: 41785 | G18: PR | H18: 1208 | I18: 850 | J18: - | K18: 8064 | L18: 0 | M18: - | U18: =VLOOKUP(#REF!,Sheet1!$D$1:$E$56,2,FALSE) -> #REF!
A19: 05-123-07484 | B19: 8 SUCKLA-BROWN UNIT | C19: JZM 2N-3HZ | D19: 325 | E19: K P KAUFFMAN COMPANY INC | F19: 26480 | G19: PR | H19: 182 | I19: 850 | J19: - | K19: N/A | L19: - | M19: SX only. | U19: =VLOOKUP(#REF!,Sheet1!$D$1:$E$56,2,FALSE) -> #REF!
A20: 05-123-39375 | B20: 28N-34HZ SICKLER | C20: JZM 27N-W3HZ | D20: 426 | E20: KERR MCGEE OIL & GAS ONSHORE LP | F20: 41781 | G20: PR | H20: 1208 | I20: 850 | J20: - | K20: 7892 | L20: 0 | M20: - | U20: =VLOOKUP(#REF!,Sheet1!$D$1:$E$56,2,FALSE) -> #REF!
A21: 05-123-39379 | B21: 26C-34HZ SICKLER | C21: JZM 27N-W3HZ | D21: 474 | E21: KERR MCGEE OIL & GAS ONSHORE LP | F21: 41787 | G21: PR | H21: 1208 | I21: 850 | J21: - | K21: 8171 | L21: 0 | M21: - | U21: =VLOOKUP(#REF!,Sheet1!$D$1:$E$56,2,FALSE) -> #REF!
A22: 05-123-39128 | B22: SPURLING 36C-34HZ | C22: JZM 28C-3HZ | D22: 560 | E22: KERR MCGEE OIL & GAS ONSHORE LP | F22: 41735 | G22: PR | H22: 1086 | I22: 850 | J22: - | K22: 8072 | L22: 0 | M22: - | U22: =VLOOKUP(#REF!,Sheet1!$D$1:$E$56,2,FALSE) -> #REF!
A23: 05-123-14291 | B23: 1 SUCKLA FARMS INJ WELL(EPA) | C23: JZM 28C-3HZ | D23: 613 | E23: K P KAUFFMAN COMPANY INC | F23: 32675 | G23: IJ | H23: 759 | I23: 850 | J23: - | K23: 7300 | L23: 4610 | M23: - | U23: =VLOOKUP(#REF!,Sheet1!$D$1:$E$56,2,FALSE) -> #REF!
A24: 05-123-07538 | B24: 2 JACK BERGER | C24: JZM 27N-W3HZ | D24: 616 | E24: K P KAUFFMAN COMPANY INC | F24: 26542 | G24: PR | H24: 214 | I24: 850 | J24: - | K24: N/A | L24: - | M24: SX only. | U24: =VLOOKUP(#REF!,Sheet1!$D$1:$E$56,2,FALSE) -> #REF!
A25: 05-123-08826 | B25: 4 JACK BERGER | C25: JZM 27N-W3HZ | D25: 634 | E25: K P KAUFFMAN COMPANY INC | F25: 27967 | G25: PR | H25: 785 | I25: 850 | J25: - | K25: N/A | L25: - | M25: SX only. | U25: =VLOOKUP(#REF!,Sheet1!$D$1:$E$56,2,FALSE) -> #REF!
A26: 05-123-07483 | B26: 2 SUCKLA-BROWN UNIT | C26: JZM 28C-3HZ | D26: 644 | E26: BASIN EXPLORATION INC | F26: 26488 | G26: PA | H26: 202 | I26: 850 | J26: - | K26: N/A | L26: - | M26: SX only. | U26: =VLOOKUP(#REF!,Sheet1!$D$1:$E$56,2,FALSE) -> #REF!
A27: 05-123-08069 | B27: 9 SUCKLA BROWN UNIT | C27: JZM 28C-3HZ | D27: 665 | E27: AMOCO PRODUCTION CO. | F27: 27234 | G27: PA | H27: 213 | I27: 850 | J27: - | K27: N/A | L27: - | M27: SX only. | U27: =VLOOKUP(#REF!,Sheet1!$D$1:$E$56,2,FALSE) -> #REF!
A28: 05-123-07426 | B28: 6 SUCKLA BROWN UNIT | C28: JZM 28C-3HZ | D28: 667 | E28: AMOCO PRODUCTION CO. | F28: 26330 | G28: PA | H28: 223 | I28: 850 | J28: - | K28: N/A | L28: - | M28: SX only. | U28: =VLOOKUP(#REF!,Sheet1!$D$1:$E$56,2,FALSE) -> #REF!
A29: 05-123-39376 | B29: 1N-34HZ SICKLER | C29: JZM 27N-W3HZ | D29: 675 | E29: KERR MCGEE OIL & GAS ONSHORE LP | F29: 41786 | G29: PR | H29: 1208 | I29: 850 | J29: - | K29: 7888 | L29: 0 | M29: - | U29: =VLOOKUP(#REF!,Sheet1!$D$1:$E$56,2,FALSE) -> #REF!
A30: 05-123-07474 | B30: 1 AUGUST GITTLEIN | C30: JZM 28C-3HZ | D30: 700 | E30: K P KAUFFMAN COMPANY INC | F30: 26506 | G30: PR | H30: 195 | I30: 850 | J30: - | K30: N/A | L30: - | M30: SX only. | U30: =VLOOKUP(#REF!,Sheet1!$D$1:$E$56,2,FALSE) -> #REF!
A31: 05-123-07512 | B31: 1 SHELDON SICKLER | C31: JZM 2N-3HZ | D31: 719 | E31: K P KAUFFMAN COMPANY INC | F31: 26515 | G31: PR | H31: 207 | I31: 850 | J31: - | K31: N/A | L31: - | M31: SX only. | U31: =VLOOKUP(#REF!,Sheet1!$D$1:$E$56,2,FALSE) -> #REF!
A32: 05-123-07527 | B32: 2 UPRR 42 PAN AM E | C32: JZM 28C-3HZ | D32: 727 | E32: K P KAUFFMAN COMPANY INC | F32: 26524 | G32: PR | H32: 212 | I32: 850 | J32: - | K32: N/A | L32: - | M32: SX only. | U32: =VLOOKUP(#REF!,Sheet1!$D$1:$E$56,2,FALSE) -> #REF!
A33: 05-123-08876 | B33: 15 SUCKLA-BROWN UNIT | C33: JZM 28C-3HZ | D33: 744 | E33: K P KAUFFMAN COMPANY INC | F33: 28034 | G33: PA | H33: 860 | I33: 850 | J33: - | K33: N/A | L33: - | M33: SX only. | U33: =VLOOKUP(#REF!,Sheet1!$D$1:$E$56,2,FALSE) -> #REF!
A34: 05-123-08868 | B34: 5 UPRR 42 PAN AM E | C34: JZM 28C-3HZ | D34: 754 | E34: K P KAUFFMAN COMPANY INC | F34: 27983 | G34: PR | H34: 796 | I34: 850 | J34: - | K34: N/A | L34: - | M34: SX only. | U34: =VLOOKUP(#REF!,Sheet1!$D$1:$E$56,2,FALSE) -> #REF!
A35: 05-123-07482 | B35: 5 SUCKLA-BROWN UNIT | C35: JZM 27N-W3HZ | D35: 793 | E35: K P KAUFFMAN COMPANY INC | F35: 26484 | G35: PA | H35: 182 | I35: 850 | J35: - | K35: N/A | L35: - | M35: SX only. | U35: =VLOOKUP(#REF!,Sheet1!$D$1:$E$56,2,FALSE) -> #REF!
A36: 05-123-08996 | B36: 4 UPRR 42 PAN AM E | C36: JZM 27N-W3HZ | D36: 820 | E36: K P KAUFFMAN COMPANY INC | F36: 28053 | G36: PR | H36: 859 | I36: 850 | J36: - | K36: N/A | L36: - | M36: SX only. | U36: =VLOOKUP(#REF!,Sheet1!$D$1:$E$56,2,FALSE) -> #REF!
A37: 05-123-07480 | B37: 1 SUCKLA-BROWN UNIT | C37: JZM 27N-W3HZ | D37: 824 | E37: K P KAUFFMAN COMPANY INC | F37: 26470 | G37: PR | H37: 182 | I37: 850 | J37: - | K37: N/A | L37: - | M37: SX only. | U37: =VLOOKUP(#REF!,Sheet1!$D$1:$E$56,2,FALSE) -> #REF!
A38: 05-123-08874 | B38: 13 SUCKLA-BROWN UNIT | C38: JZM 27N-W3HZ | D38: 843 | E38: K P KAUFFMAN COMPANY INC | F38: 27971 | G38: PR | H38: 909 | I38: 850 | J38: - | K38: N/A | L38: - | M38: SX only. | U38: =VLOOKUP(#REF!,Sheet1!$D$1:$E$56,2,FALSE) -> #REF!
A39: 05-123-39127 | B39: SPURLING 14N-34HZ | C39: JZM 28C-3HZ | D39: 858 | E39: KERR MCGEE OIL & GAS ONSHORE LP | F39: 41758 | G39: PR | H39: 1095 | I39: 850 | J39: - | K39: 7878 | L39: 0 | M39: - | U39: =VLOOKUP(#REF!,Sheet1!$D$1:$E$56,2,FALSE) -> #REF!
A40: 05-123-08827 | B40: 2 ELTON N MILLER | C40: JZM 28C-3HZ | D40: 859 | E40: K P KAUFFMAN COMPANY INC | F40: 27956 | G40: PR | H40: 723 | I40: 850 | J40: - | K40: N/A | L40: - | M40: SX only. | U40: =VLOOKUP(#REF!,Sheet1!$D$1:$E$56,2,FALSE) -> #REF!
...

Sheet Sheet1
A1: 05-123-09988 | B1: =right(A1,5) | C1: 2 FRANK J. SUCKLA | D1: =RIGHT(A1,5) -> 09988 | E1: =C1 -> 2 FRANK J. SUCKLA
A2: 05-123-07501 | B2: =right(A1,5) | C2: 1-43-3 ALEX H MILLER | D2: =RIGHT(A2,5) -> 07501 | E2: =C2 -> 1-43-3 ALEX H MILLER
A3: 05-123-08996 | B3: =right(A1,5) | C3: 4 UPRR 42 PAN AM E | D3: =RIGHT(A3,5) -> 08996 | E3: =C3 -> 4 UPRR 42 PAN AM E
A4: 05-123-07480 | B4: =right(A1,5) | C4: 1 SUCKLA-BROWN UNIT | D4: =RIGHT(A4,5) -> 07480 | E4: =C4 -> 1 SUCKLA-BROWN UNIT
A5: 05-123-08874 | B5: =right(A1,5) | C5: 13 SUCKLA-BROWN UNIT | D5: =RIGHT(A5,5) -> 08874 | E5: =C5 -> 13 SUCKLA-BROWN UNIT
A6: 05-123-34599 | B6: =right(A1,5) | C6: 32-2 CAMENISCH | D6: =RIGHT(A6,5) -> 34599 | E6: =C6 -> 32-2 CAMENISCH
A7: 05-123-34719 | B7: =right(A1,5) | C7: 31-2 BERGER | D7: =RIGHT(A7,5) -> 34719 | E7: =C7 -> 31-2 BERGER
A8: 05-123-07538 | B8: =right(A1,5) | C8: 2 JACK BERGER | D8: =RIGHT(A8,5) -> 07538 | E8: =C8 -> 2 JACK BERGER
A9: 05-123-08826 | B9: =right(A1,5) | C9: 4 JACK BERGER | D9: =RIGHT(A9,5) -> 08826 | E9: =C9 -> 4 JACK BERGER
A10: 05-123-39377 | B10: =right(A1,5) | C10: 27C-34HZ SICKLER | D10: =RIGHT(A10,5) -> 39377 | E10: =C10 -> 27C-34HZ SICKLER
A11: 05-123-39376 | B11: =right(A1,5) | C11: 1N-34HZ SICKLER | D11: =RIGHT(A11,5) -> 39376 | E11: =C11 -> 1N-34HZ SICKLER
A12: 05-123-07482 | B12: =right(A1,5) | C12: 5 SUCKLA-BROWN UNIT | D12: =RIGHT(A12,5) -> 07482 | E12: =C12 -> 5 SUCKLA-BROWN UNIT
... A56: 05-123-34600 | B56: =right(A1,5) | C56: 22-2 CAMENISCH | D56: =RIGHT(A56,5) -> 34600 | E56: =C56 -> 22-2 CAMENISCH

Sheet List of Wells - Example
A1: Operator's Wellbore Integrity Contact | D1: wellbore.integrity@operator.com
A2: OFFSET WELL EVALUATIONS
A3: Offset Well API # | B3: Offset Well Name | C3: Nearest Proposed Horizontal Well Name | D3: Shortest Horizontal Distance from Offset Well to any Proposed HZ Well | E3: Offset Well Operator | F3: Offset Well Spud Date | G3: Offset Well Status | H3: Offset Well Surface Casing Setting Depth | I3: Base of Fox Hills or Depth of Deepest Water Well | J3: Historical Remedial Work to Provide Fox Hills Coverage | K3: Offset Well Objective Formation Top | L3: Offset Well Top of Production Casing Cement | M3: Comments (Optional)
A4: 05-123-60085 | B4: Example | C4: State Test | D4: 195' | E4: Bent Collar | F4: 32557 | G4: PA | H4: 450' | I4: 450' | J4: - | K4: 7570' | L4: 7350' | M4: Previous plugging documents indicate plugs above Nio and across Fox Hills
A5: 05-123-12346 | B5: Example #1 | C5: State #1HZ | D5: 230' | E5: KMG | F5: 40544 | G5: PR | H5: 500' | I5: 450' | J5: - | K5: 6820' | L5: 3500'
A6: 05-123-12347 | B6: Example #2 | C6: State #1HZ | D6: 500' | E6: Noble Energy | F6: 29952 | G6: SI | H6: 560' | I6: 450' | J6: - | K6: 6840' | L6: 7050' | M6: Operator will not stimulate stages within 500' of the existing well.
A7: 05-123-12348 | B7: Example #3 | C7: State #5HZ | D7: 930' | E7: KMG | F7: 26299 | G7: TA | H7: 410' | I7: 450' | J7: Yes | K7: 6810' | L7: 6540' | M7: Operator will plug and abandon well to adequately isolate all zones.
A8: 05-123-12349 | B8: Example #4 | C8: State #2HZ | D8: 110' | E8: KMG | F8: 33239 | G8: PR | H8: 415' | I8: 450' | J8: - | K8: N/A - SUSX | M8: NBRR not penetrated.
A9: 05-123-12350 | B9: Example #5 | C9: State #1HZ | D9: 150' | E9: KMG | F9: 29587 | G9: PR | H9: 350' | I9: 450' | J9: - | K9: 6815' | L9: 6600' | M9: Operator will provide adequate remedial cement to adequately isolate all zones.
A10: 05-123-12351 | B10: Example #6 | C10: State #3HZ | D10: 190' | E10: KMG | F10: 41275 | G10: XX
A11: 05-123-12352 | B11: Eample #7 | C11: State #3HZ | D11: 240' | E11: KMG | G11: AL

Sheet Instructions
A1: INSTRUCTIONS FOR OFFSET WELL EVALUATIONS
A2: Operator's Wellbore Integrity Contact | B2: Provide a current wellbore integrity contact for your company, which can be used by the COGCC or other operators to contact your company as necessary based on adjacent horizontal well activity. The intention of this contact is to have a single point contact to direct correspondence and it is suggested that it is not a single person but a dedicated address.
A3: OFFSET WELL EVALUATIONS
A4: Offset Well API # | B4: Enter the API# for all wells within 1500' of the proposed wellbore in successive rows. If no wells exist within 1500', check the box under the Offset Wells Evaluation tab on the APD indicating no wells within 1500'.
A5: Offset Well Name | B5: Enter this offset well's name.
A6: Nearest Proposed Horizontal Well Name | B6: Enter the name of the proposed horizontal well that is the nearest to this offset well.
A7: Shortest Horizontal Distance from Offset Well to any Proposed HZ Well | B7: Enter the shortest distance within the production zone from the offset well to the closest proposed horizontal well being evaluated by this sheet.
A8: Offset Well Operator | B8: Enter this offset well's operator of record.
A9: Offset Well Spud Date | B9: Enter the date this offset well was spud.
A10: Offset Well Status | B10: Enter this offset well's current status. **IF THE STATUS IS "XX" (approved APD but no spud notice) OR "DG", NO ADDITIONAL INFORMATION IS REQUIRED IN THIS ROW.**
A11: Offset Well Surface Casing Setting Depth | B11: Enter this offset well's surface casing setting depth.
A12: Base of Fox Hills or Depth of Deepest Water Well | B12: Enter the greater of the depth to the base of the Fox Hills transition zone based on this well's or an adjacent well's induction log or the grade corrected depth of the deepest water well within one mile of the proposed well's surface location.
A13: Historical Remedial Work to Provide Fox Hills Coverage | B13: Enter the depth to the DV tool and/or the stage cement top, if any. (**Complete cell only if an annular fill was done or a DV tool was used in the history of the well to provide the aquifer coverage.**)
A14: Offset Well Objective Formation Top | B14: IF THE PROPOSED HORIZONTAL WELL'S OBJECTIVE IS THE NIOBRARA OR CODELL - and this existing well penetrates the Niobrara, enter the Niobrara formation top based on this offset well's or an adjacent well's induction log. If this offset well does not penetrate the Niobrara and the proposed well will at least penetrate the Niobrara, enter "N/A" and no additional information is needed in this row. IF THE PROPOSED HORIZONTAL WELL'S OBJECTIVE FORMATION IS DEEPER THAN THE NIOBRARA AND CODELL - enter the formation top for the objective formation and its name.
A15: Offset Well Top of Production Casing Cement | B15: Enter the top of cement of the primary production casing cement job.
A16: Comments (Optional) | B16: Provide any other information deemed relevant. Also if needed, provide an acknowledgement that this well will be mitigated per the Horizontal Offset Policy (draft).
A18: IMPORTANT: All cells need to be formatted as text for uploading to eForm
A20: A blank cell in the Offset Well API# column will define the end of the spreadsheet to upload
A22: Spreadsheet to be uploaded does need to be closed
