Workbook

Sheet Master Form 2
A1: Well No | B1: Name | C1: API No | D1: MNTH | E1: CTY | F1: PERMIT | G1: QTR1 | H1: QTR2 | I1: SEC | J1: TWNS | K1: TWN DIR | L1: RNG | M1: RNG DIR | N1: STRAK | O1: RSV CODE | P1: WELL CLASS | Q1: YEAR | R1: STATUS | S1: OPR CODE | T1: OIL PROD | U1: GRAVITY | V1: WATER PROD | W1: GAS PROD | X1: DAYS | Y1: INJ VOL | Z1: CSG PSI | AA1: TBG PSI | AB1: OIL SALES | AC1: GAS SALES | AD1: INJ CODE | AE1: Gas Used on Lease | AF1: Gas Flared or Vented | AG1: # | AH1: BTU | AI1: SUM Oil Sales | AJ1: SUM Gas Sales
A2: WY040001 | B2: Horton 2 | C2: 49-045-20130 | D2: 10 | E2: 45 | F2: 20131 | G2: SW | H2: NE | I2: 27 | J2: 45 | K2: N | L2: 62 | M2: W | N2: 0 | O2: 691 | P2: I | Q2: 2015 | R2: AI | S2: 2375 | T2: 0 | U2: 0 | V2: 0 | W2: 0 | X2: 0 | Y2: 0 | Z2: 0 | AA2: 0 | AB2: 0 | AC2: =W2 -> 0 | AD2: 500 | AE2: 0 | AF2: 0 | AG2: E | AI2: =SUM(AB2:AB290) -> 0 | AJ2: =SUM(AC2:AC289) -> 0
A3: WY040002 | B3: 4 Mondell A 4 | C3: 49-045-20094 | D3: 10 | E3: 45 | F3: 20094 | G3: NW | H3: SW | I3: 34 | J3: 45 | K3: N | L3: 62 | M3: W | N3: 0 | O3: 691 | P3: I | Q3: 2015 | R3: AI | S3: 2375 | T3: 0 | U3: 0 | V3: 0 | W3: 0 | X3: 0 | Y3: 0 | Z3: 0 | AA3: 0 | AB3: 0 | AC3: =W3 -> 0 | AD3: 500 | AE3: 0 | AF3: 0 | AG3: E
A4: WY029001 | B4: 4-H Federal 1 | C4: 49-045-11190 | D4: 10 | E4: 45 | F4: 11190 | G4: NW | H4: NW | I4: 23 | J4: 43 | K4: N | L4: 65 | M4: W | N4: 0 | O4: 676 | P4: O | Q4: 2015 | R4: TA | S4: 2375 | T4: 0 | U4: 0 | V4: 0 | W4: 0 | X4: 0 | Y4: 0 | Z4: 0 | AA4: 0 | AB4: 0 | AC4: =W4 -> 0 | AD4: 0 | AE4: 0 | AF4: 0 | AG4: Z
A5: WY029002 | B5: 4-H Federal 2 | C5: 49-045-11200 | D5: 10 | E5: 45 | F5: 11200 | G5: SW | H5: NW | I5: 23 | J5: 43 | K5: N | L5: 65 | M5: W | N5: 0 | O5: 676 | P5: O | Q5: 2015 | R5: TA | S5: 2375 | T5: 0 | U5: 0 | V5: 0 | W5: 0 | X5: 0 | Y5: 0 | Z5: 0 | AA5: 0 | AB5: 0 | AC5: =W5 -> 0 | AD5: 0 | AE5: 0 | AF5: 0 | AG5: Z
A6: WY029003 | B6: 4-H Federal 3 | C6: 49-045-05798 | D6: 10 | E6: 45 | F6: 5798 | G6: SW | H6: NW | I6: 23 | J6: 43 | K6: N | L6: 65 | M6: W | N6: 0 | O6: 676 | P6: O | Q6: 2015 | R6: TA | S6: 2375 | T6: 0 | U6: 0 | V6: 0 | W6: 0 | X6: 0 | Y6: 0 | Z6: 0 | AA6: 0 | AB6: 0 | AC6: =W6 -> 0 | AD6: 0 | AE6: 0 | AF6: 0 | AG6: Z
A7: WY044001 | B7: Aimonetto 2 | C7: 49-045-21761 | D7: 10 | E7: 45 | F7: 21761 | G7: NE | H7: SW | I7: 20 | J7: 44 | K7: N | L7: 62 | M7: W | N7: 0 | O7: 676 | P7: O | Q7: 2015 | R7: PR | S7: 2375 | T7: 0 | U7: 0 | V7: 0 | W7: 0 | X7: 0 | Y7: 0 | Z7: 0 | AA7: 0 | AB7: 0 | AC7: =W7 -> 0 | AD7: 0 | AE7: 0 | AF7: 0 | AG7: SK
A8: WY044002 | B8: Aimonetto 4 | C8: 49-045-22101 | D8: 10 | E8: 45 | F8: 22101 | G8: SW | H8: SW | I8: 20 | J8: 44 | K8: N | L8: 62 | M8: W | N8: 0 | O8: 676 | P8: O | Q8: 2015 | R8: PR | S8: 2375 | T8: 0 | U8: 0 | V8: 0 | W8: 0 | X8: 0 | Y8: 0 | Z8: 0 | AA8: 0 | AB8: 0 | AC8: =W8 -> 0 | AD8: 0 | AE8: 0 | AF8: 0 | AG8: SK
A9: WY017001 | B9: AMMO FEDERAL #18-8A | C9: 49-011-22596 | D9: 10 | E9: 11 | F9: 22596 | G9: SE | H9: NE | I9: 18 | J9: 52 | K9: N | L9: 68 | M9: W | N9: 0 | O9: 616 | P9: O | Q9: 2015 | R9: PS | S9: 2375 | T9: 0 | U9: 0 | V9: 0 | W9: 0 | X9: 0 | Y9: 0 | Z9: 0 | AA9: 0 | AB9: 0 | AC9: =W9 -> 0 | AD9: 0 | AE9: 0 | AF9: 0 | AG9: N
A10: WY038001 | B10: Anthony Federal 1 | C10: 49-045-22127 | D10: 10 | E10: 45 | F10: 22127 | G10: NE | H10: NW | I10: 6 | J10: 43 | K10: N | L10: 63 | M10: W | N10: 0 | O10: 901 | P10: O | Q10: 2015 | R10: SI | S10: 2375 | T10: 0 | U10: 0 | V10: 0 | W10: 0 | X10: 0 | Y10: 0 | Z10: 0 | AA10: 0 | AB10: 0 | AC10: =W10 -> 0 | AD10: 0 | AE10: 0 | AF10: 0 | AG10: W
A11: WY032001 | B11: ARMAN FEDERAL B-1 | C11: 49-045-05616 | D11: 10 | E11: 45 | F11: 5616 | G11: NW | H11: NW | I11: 4 | J11: 42 | K11: N | L11: 64 | M11: W | N11: 0 | O11: 676 | P11: O | Q11: 2015 | R11: PR | S11: 2375 | T11: 0 | U11: 0 | V11: 0 | W11: 0 | X11: 0 | Y11: 0 | Z11: 0 | AA11: 0 | AB11: 0 | AC11: =W11 -> 0 | AD11: 0 | AE11: 0 | AF11: 0 | AG11: W
A12: WY011004 | B12: ASH FEDERAL #1 | C12: 49-005-29082 | D12: 10 | E12: 5 | F12: 29082 | G12: NW | H12: SW | I12: 27 | J12: 52 | K12: N | L12: 69 | M12: W | N12: 0 | O12: 616 | P12: I | Q12: 2015 | R12: AI | S12: 2375 | T12: 0 | U12: 0 | V12: 0 | W12: 0 | X12: 0 | Y12: 0 | Z12: 0 | AA12: 0 | AB12: 0 | AC12: =W12 -> 0 | AD12: 500 | AE12: 0 | AF12: 0 | AG12: F
A13: WY011005 | B13: ASH WSW #1 | C13: 49-005-95001 | D13: 10 | E13: 5 | F13: 95001 | G13: NW | H13: SW | I13: 27 | J13: 52 | K13: N | L13: 69 | M13: W | N13: 0 | O13: 616 | P13: S | Q13: 2015 | R13: SI | S13: 2375 | T13: 0 | U13: 0 | V13: 0 | W13: 0 | X13: 0 | Y13: 0 | Z13: 0 | AA13: 0 | AB13: 0 | AC13: =W13 -> 0 | AD13: 0 | AE13: 0 | AF13: 0 | AG13: Z
A14: WY011002 | B14: ASPEN FEDERAL #28-1 | C14: 49-005-29163 | D14: 10 | E14: 5 | F14: 29163 | G14: NE | H14: SE | I14: 28 | J14: 52 | K14: N | L14: 69 | M14: W | N14: 0 | O14: 616 | P14: O | Q14: 2015 | R14: PR | S14: 2375 | T14: 0 | U14: 0 | V14: 0 | W14: 0 | X14: 0 | Y14: 0 | Z14: 0 | AA14: 0 | AB14: 0 | AC14: =W14 -> 0 | AD14: 0 | AE14: 0 | AF14: 0 | AG14: F
... A16: WY032002 | B16: Berg 2 | C16: 49-045-22229 | D16: 10 | E16: 45 | F16: 22229 | G16: SE | H16: SE | I16: 24 | J16: 42 | K16: N | L16: 65 | M16: W | N16: 0 | O16: 916 | P16: O | Q16: 2015 | R16: SI | S16: 2375 | T16: 0 | U16: 0 | V16: 0 | W16: 0 | X16: 0 | Y16: 0 | Z16: 0 | AA16: 0 | AB16: 0 | AC16: =W16 -> 0 | AD16: 0 | AE16: 0 | AF16: 0 | AG16: W
A17: WY032003 | B17: Berg 9 | C17: 49-045-05372 | D17: 10 | E17: 45 | F17: 5372 | G17: NE | H17: SE | I17: 24 | J17: 42 | K17: N | L17: 65 | M17: W | N17: 0 | O17: 916 | P17: O | Q17: 2015 | R17: SI | S17: 2375 | T17: 0 | U17: 0 | V17: 0 | W17: ='Actual Sales'!D124 -> 0 | X17: 0 | Y17: 0 | Z17: 0 | AA17: 0 | AB17: 0 | AC17: =W17 -> 0 | AD17: 0 | AE17: 0 | AF17: 0 | AG17: W | AH17: ='Actual Sales'!E124 -> 0
A18: WY048001 | B18: Biggs Govt 1 | C18: 49-017-05879 | D18: 10 | E18: 17 | F18: 5879 | G18: SE | H18: NE | I18: 12 | J18: 44 | K18: N | L18: 97 | M18: W | N18: 0 | O18: 871 | P18: D | Q18: 2015 | R18: AI | S18: 2375 | T18: 0 | U18: 0 | V18: 0 | W18: 0 | X18: 0 | Y18: 0 | Z18: 0 | AA18: 0 | AB18: 0 | AC18: =W18 -> 0 | AD18: 500 | AE18: 0 | AF18: 0 | AG18: K
A19: WY044003 | B19: Boggs 1 | C19: 49-045-22577 | D19: 10 | E19: 45 | F19: 22577 | G19: SE | H19: NE | I19: 35 | J19: 45 | K19: N | L19: 62 | M19: W | N19: 0 | O19: 676 | P19: O | Q19: 2015 | R19: SI | S19: 2375 | T19: 0 | U19: 0 | V19: 0 | W19: 0 | X19: 0 | Y19: 0 | Z19: 0 | AA19: 0 | AB19: 0 | AC19: =W19 -> 0 | AD19: 0 | AE19: 0 | AF19: 0 | AG19: S
A20: WY044004 | B20: Boggs 2 | C20: 49-045-22578 | D20: 10 | E20: 45 | F20: 22578 | G20: SW | H20: NE | I20: 35 | J20: 45 | K20: N | L20: 62 | M20: W | N20: 0 | O20: 676 | P20: I | Q20: 2015 | R20: SI | S20: 2375 | T20: 0 | U20: 0 | V20: 0 | W20: 0 | X20: 0 | Y20: 0 | Z20: 0 | AA20: 0 | AB20: 0 | AC20: =W20 -> 0 | AD20: 500 | AE20: 0 | AF20: 0 | AG20: Z
A21: WY044005 | B21: Boggs 3 | C21: 49-045-22569 | D21: 10 | E21: 45 | F21: 22569 | G21: SW | H21: NE | I21: 35 | J21: 45 | K21: N | L21: 62 | M21: W | N21: 0 | O21: 676 | P21: O | Q21: 2015 | R21: PR | S21: 2375 | T21: 0 | U21: 0 | V21: 0 | W21: 0 | X21: 0 | Y21: 0 | Z21: 0 | AA21: 0 | AB21: 0 | AC21: =W21 -> 0 | AD21: 0 | AE21: 0 | AF21: 0 | AG21: S
A22: WY044006 | B22: Boulden 1 | C22: 49-045-06455 | D22: 10 | E22: 45 | F22: 6455 | G22: NW | H22: SE | I22: 22 | J22: 44 | K22: N | L22: 62 | M22: W | N22: 0 | O22: 691 | P22: O | Q22: 2015 | R22: SI | S22: 2375 | T22: 0 | U22: 0 | V22: 0 | W22: 0 | X22: 0 | Y22: 0 | Z22: 0 | AA22: 0 | AB22: 0 | AC22: =W22 -> 0 | AD22: 0 | AE22: 0 | AF22: 0 | AG22: SK
A23: WY029004 | B23: Bradley Federal 3-1 | C23: 49-045-21100 | D23: 10 | E23: 45 | F23: 21100 | G23: SE | H23: NE | I23: 3 | J23: 43 | K23: N | L23: 65 | M23: W | N23: 0 | O23: 691 | P23: O | Q23: 2015 | R23: SI | S23: 2375 | T23: 0 | U23: 0 | V23: 0 | W23: 0 | X23: 0 | Y23: 0 | Z23: 0 | AA23: 0 | AB23: 0 | AC23: =W23 -> 0 | AD23: 0 | AE23: 0 | AF23: 0 | AG23: E
A24: WY032004 | B24: Bruner 1 | C24: 49-045-21526 | D24: 10 | E24: 45 | F24: 21526 | G24: SW | H24: SE | I24: 11 | J24: 42 | K24: N | L24: 65 | M24: W | N24: 0 | O24: 916 | P24: O | Q24: 2015 | R24: PR | S24: 2375 | T24: 0 | U24: 0 | V24: 0 | W24: ='Actual Sales'!D125 -> 0 | X24: 0 | Y24: 0 | Z24: 0 | AA24: 0 | AB24: 0 | AC24: =W24 -> 0 | AD24: 0 | AE24: 0 | AF24: 0 | AG24: W | AH24: ='Actual Sales'!E125 -> 0
A25: WY032005 | B25: Bruner 2 | C25: 49-045-21529 | D25: 10 | E25: 45 | F25: 21529 | G25: NW | H25: SE | I25: 11 | J25: 42 | K25: N | L25: 65 | M25: W | N25: 0 | O25: 916 | P25: O | Q25: 2015 | R25: SI | S25: 2375 | T25: 0 | U25: 0 | V25: 0 | W25: 0 | X25: 0 | Y25: 0 | Z25: 0 | AA25: 0 | AB25: 0 | AC25: =W25 -> 0 | AD25: 0 | AE25: 0 | AF25: 0 | AG25: W
A26: WY032006 | B26: Bruner 3 | C26: 49-045-22076 | D26: 10 | E26: 45 | F26: 22076 | G26: SW | H26: NE | I26: 11 | J26: 42 | K26: N | L26: 65 | M26: W | N26: 0 | O26: 916 | P26: O | Q26: 2015 | R26: PR | S26: 2375 | T26: 0 | U26: 0 | V26: 0 | W26: ='Actual Sales'!D126 -> 0 | X26: 0 | Y26: 0 | Z26: 0 | AA26: 0 | AB26: 0 | AC26: =W26 -> 0 | AD26: 0 | AE26: 0 | AF26: 0 | AG26: W
A27: WY032007 | B27: Bruner 4 | C27: 49-045-22075 | D27: 10 | E27: 45 | F27: 22075 | G27: NW | H27: NE | I27: 11 | J27: 42 | K27: N | L27: 65 | M27: W | N27: 0 | O27: 916 | P27: O | Q27: 2015 | R27: SI | S27: 2375 | T27: 0 | U27: 0 | V27: 0 | W27: 0 | X27: 0 | Y27: 0 | Z27: 0 | AA27: 0 | AB27: 0 | AC27: =W27 -> 0 | AD27: 0 | AE27: 0 | AF27: 0 | AG27: W
A28: WY036001 | B28: Capitol 4 | C28: 49-045-06494 | D28: 10 | E28: 45 | F28: 6494 | G28: NE | H28: NE | I28: 18 | J28: 44 | K28: N | L28: 63 | M28: W | N28: 0 | O28: 691 | P28: O | Q28: 2015 | R28: PR | S28: 2375 | T28: 0 | U28: 0 | V28: 0 | W28: 0 | X28: 0 | Y28: 0 | Z28: 0 | AA28: 0 | AB28: 0 | AC28: =W28 -> 0 | AD28: 0 | AE28: 0 | AF28: 0 | AG28: E
A29: WY036002 | B29: Capitol 5 | C29: 49-045-06727 | D29: 10 | E29: 45 | F29: 6727 | G29: SE | H29: SE | I29: 7 | J29: 44 | K29: N | L29: 63 | M29: W | N29: 0 | O29: 691 | P29: O | Q29: 2015 | R29: PR | S29: 2375 | T29: 0 | U29: 0 | V29: 0 | W29: 0 | X29: 0 | Y29: 0 | Z29: 0 | AA29: 0 | AB29: 0 | AC29: =W29 -> 0 | AD29: 0 | AE29: 0 | AF29: 0 | AG29: E
A30: WY036003 | B30: Capitol 6 | C30: 49-045-11151 | D30: 10 | E30: 45 | F30: 11151 | G30: NE | H30: NE | I30: 18 | J30: 44 | K30: N | L30: 63 | M30: W | N30: 0 | O30: 691 | P30: O | Q30: 2015 | R30: SI | S30: 2375 | T30: 0 | U30: 0 | V30: 0 | W30: 0 | X30: 0 | Y30: 0 | Z30: 0 | AA30: 0 | AB30: 0 | AC30: =W30 -> 0 | AD30: 0 | AE30: 0 | AF30: 0 | AG30: Z
A31: WY040003 | B31: Chism B-042450A 2 | C31: 49-045-07054 | D31: 10 | E31: 45 | F31: 7054 | G31: NE | H31: NE | I31: 33 | J31: 45 | K31: N | L31: 62 | M31: W | N31: 0 | O31: 691 | P31: O | Q31: 2015 | R31: SI | S31: 2375 | T31: 0 | U31: 0 | V31: 0 | W31: 0 | X31: 0 | Y31: 0 | Z31: 0 | AA31: 0 | AB31: 0 | AC31: =W30 -> 0 | AD31: 0 | AE31: 0 | AF31: 0 | AG31: E
A32: WY040004 | B32: Chism B-042450A 3 | C32: 49-045-07059 | D32: 10 | E32: 45 | F32: 7059 | G32: NW | H32: NE | I32: 33 | J32: 45 | K32: N | L32: 62 | M32: W | N32: 0 | O32: 691 | P32: O | Q32: 2015 | R32: SI | S32: 2375 | T32: 0 | U32: 0 | V32: 0 | W32: 0 | X32: 0 | Y32: 0 | Z32: 0 | AA32: 0 | AB32: 0 | AC32: =W32 -> 0 | AD32: 0 | AE32: 0 | AF32: 0 | AG32: E
A33: WY040005 | B33: Chism B-042450A 5 | C33: 49-045-20047 | D33: 10 | E33: 45 | F33: 20047 | G33: SE | H33: SE | I33: 33 | J33: 45 | K33: N | L33: 62 | M33: W | N33: 0 | O33: 691 | P33: O | Q33: 2015 | R33: SI | S33: 2375 | T33: 0 | U33: 0 | V33: 0 | W33: 0 | X33: 0 | Y33: 0 | Z33: 0 | AA33: 0 | AB33: 0 | AC33: =W33 -> 0 | AD33: 0 | AE33: 0 | AF33: 0 | AG33: E
A34: WY032008 | B34: Collins 10 | C34: 49-045-22074 | D34: 10 | E34: 45 | F34: 22074 | G34: NE | H34: NE | I34: 14 | J34: 42 | K34: N | L34: 65 | M34: W | N34: 0 | O34: 916 | P34: O | Q34: 2015 | R34: PR | S34: 2375 | T34: 0 | U34: 0 | V34: 0 | W34: ='Actual Sales'!D127 -> 0 | X34: 0 | Y34: 0 | Z34: 0 | AA34: 0 | AB34: 0 | AC34: =W34 -> 0 | AD34: 0 | AE34: 0 | AF34: 0 | AG34: W | AH34: ='Actual Sales'!E127 -> 0
A35: WY032034 | B35: COLLINS 14-7 | C35: 49-045-29257 | D35: 10 | E35: 45 | F35: 29257 | G35: SW | H35: NE | I35: 14 | J35: 42 | K35: N | L35: 65 | M35: W | N35: 0 | O35: 901 | P35: O | Q35: 2015 | R35: PR | S35: 2375 | T35: 0 | U35: 0 | V35: 0 | W35: ='Actual Sales'!D128 -> 0 | X35: 0 | Y35: 0 | Z35: 0 | AA35: 0 | AB35: 0 | AC35: =W35 -> 0 | AD35: 0 | AE35: 0 | AF35: 0 | AG35: W | AH35: ='Actual Sales'!E128 -> 0
A36: WY032009 | B36: Collins 30 | C36: 49-045-22882 | D36: 10 | E36: 45 | F36: 22882 | G36: NW | H36: NE | I36: 14 | J36: 42 | K36: N | L36: 65 | M36: W | N36: 0 | O36: 901 | P36: O | Q36: 2015 | R36: PR | S36: 2375 | T36: 0 | U36: 0 | V36: 0 | W36: 0 | X36: 0 | Y36: 0 | Z36: 0 | AA36: 0 | AB36: 0 | AC36: =W36 -> 0 | AD36: 0 | AE36: 0 | AF36: 0 | AG36: W
A37: WY032010 | B37: Collins 8 | C37: 49-045-05460 | D37: 10 | E37: 45 | F37: 5460 | G37: SE | H37: NE | I37: 14 | J37: 42 | K37: N | L37: 65 | M37: W | N37: 0 | O37: 916 | P37: O | Q37: 2015 | R37: PR | S37: 2375 | T37: 0 | U37: 0 | V37: 0 | W37: ='Actual Sales'!D129 -> 0 | X37: 0 | Y37: 0 | Z37: 0 | AA37: 0 | AB37: 0 | AC37: =W37 -> 0 | AD37: 0 | AE37: 0 | AF37: 0 | AG37: W | AH37: ='Actual Sales'!E129 -> 0
A38: WY044007 | B38: Coronado 2 | C38: 49-045-22485 | D38: 10 | E38: 45 | F38: 22485 | G38: SE | H38: SE | I38: 35 | J38: 45 | K38: N | L38: 62 | M38: W | N38: 0 | O38: 676 | P38: O | Q38: 2015 | R38: PR | S38: 2375 | T38: 0 | U38: 0 | V38: 0 | W38: 0 | X38: 0 | Y38: 0 | Z38: 0 | AA38: 0 | AB38: 0 | AC38: =W38 -> 0 | AD38: 0 | AE38: 0 | AF38: 0 | AG38: S
A39: WY029005 | B39: Cotton 2 | C39: 49-045-05872 | D39: 10 | E39: 45 | F39: 5872 | G39: SE | H39: NE | I39: 17 | J39: 43 | K39: N | L39: 65 | M39: W | N39: 0 | O39: 691 | P39: O | Q39: 2015 | R39: PR | S39: 2375 | T39: 0 | U39: 0 | V39: 0 | W39: 0 | X39: 0 | Y39: 0 | Z39: 0 | AA39: 0 | AB39: 0 | AC39: =W39 -> 0 | AD39: 0 | AE39: 0 | AF39: 0 | AG39: W
A40: WY029006 | B40: Cotton 3 | C40: 49-045-05892 | D40: 10 | E40: 45 | F40: 5892 | G40: NW | H40: NE | I40: 17 | J40: 43 | K40: N | L40: 65 | M40: W | N40: 0 | O40: 691 | P40: O | Q40: 2015 | R40: PR | S40: 2375 | T40: 0 | U40: 0 | V40: 0 | W40: 0 | X40: 0 | Y40: 0 | Z40: 0 | AA40: 0 | AB40: 0 | AC40: =W40 -> 0 | AD40: 0 | AE40: 0 | AF40: 0 | AG40: W
A41: WY036004 | B41: Don Thorson 1 | C41: 49-045-22546 | D41: 10 | E41: 45 | F41: 22546 | G41: SE | H41: NE | I41: 18 | J41: 44 | K41: N | L41: 63 | M41: W | N41: 0 | O41: 691 | P41: O | Q41: 2015 | R41: PR | S41: 2375 | T41: 0 | U41: 0 | V41: 0 | W41: 0 | X41: 0 | Y41: 0 | Z41: 0 | AA41: 0 | AB41: 0 | AC41: =W41 -> 0 | AD41: 0 | AE41: 0 | AF41: 0 | AG41: E
...

Sheet Master Form 7
A1: 1 | C1: 7 | D1: 10 | E1: 2015 | F1: 10386 | H1: POC-I LLC. | I1: 1888 SHERMAN STREET STE. 500 | J1: DENVER | K1: CO | L1: 80203 | M1: 303 | N1: 825-2324 | O1: 303 | P1: 629-9233 | Q1: N | R1: 81 | S1: 5119 | T1: 0 | U1: ILES #8 | V1: SNDC | W1: PR | X1: 30 | Y1: SWNW | Z1: 23 | AA1: 4N | AB1: 92W | AC1: 232 | AD1: 565 | AE1: 476 | AF1: 0 | AG1: 321 | AH1: 0 | AI1: 0 | AJ1: 0 | AK1: 0 | AL1: 0 | AM1: 30 | AN1: 0 | AO1: 100008 | AP1: M | AQ1: 0 | AR1: 0 | AS1: 0 | AT1: 0 | AU1: Stephen Tygard | AV1: Y | AW1: GIS/PRODUCTION | AX1: 42326
A2: 2 | C2: 7 | D2: 10 | E2: 2015 | F2: 10386 | H2: POC-I LLC. | I2: 1888 SHERMAN STREET STE. 500 | J2: DENVER | K2: CO | L2: 80203 | M2: 303 | N2: 825-2324 | O2: 303 | P2: 629-9233 | Q2: N | R2: 81 | S2: 5108 | T2: 0 | U2: ILES #11 | V2: SNDC | W2: SI | Y2: NESE | Z2: 22 | AA2: 4N | AB2: 92W | AC2: 209 | AD2: 0 | AE2: 0 | AF2: 0 | AG2: 209 | AH2: 0 | AI2: 0 | AJ2: 0 | AK2: 0 | AL2: 0 | AN2: 0 | AP2: M | AQ2: 0 | AR2: 0 | AS2: 0 | AT2: 0 | AU2: Stephen Tygard | AV2: Y | AW2: GIS/PRODUCTION | AX2: 42326
A3: 3 | C3: 7 | D3: 10 | E3: 2015 | F3: 10386 | H3: POC-I LLC. | I3: 1888 SHERMAN STREET STE. 500 | J3: DENVER | K3: CO | L3: 80203 | M3: 303 | N3: 825-2324 | O3: 303 | P3: 629-9233 | Q3: N | R3: 81 | S3: 5093 | T3: 0 | U3: ILES #22 | V3: SNDC | W3: PR | X3: 30 | Y3: SESW | Z3: 22 | AA3: 4N | AB3: 92W | AC3: 249 | AD3: 1131 | AE3: 953 | AF3: 0 | AG3: 427 | AH3: 0 | AI3: 0 | AJ3: 0 | AK3: 0 | AL3: 0 | AM3: 30 | AN3: 0 | AO3: 72733 | AP3: M | AQ3: 0 | AR3: 0 | AS3: 0 | AT3: 0 | AU3: Stephen Tygard | AV3: Y | AW3: GIS/PRODUCTION | AX3: 42326
A4: 4 | C4: 7 | D4: 10 | E4: 2015 | F4: 10386 | H4: POC-I LLC. | I4: 1888 SHERMAN STREET STE. 500 | J4: DENVER | K4: CO | L4: 80203 | M4: 303 | N4: 825-2324 | O4: 303 | P4: 629-9233 | Q4: N | R4: 81 | S4: 5656 | T4: 0 | U4: ILES #24 | V4: SNDC | W4: PR | X4: 31 | Y4: SWSE | Z4: 22 | AA4: 4N | AB4: 92W | AC4: 383 | AD4: 1168 | AE4: 984 | AF4: 0 | AG4: 567 | AH4: 0 | AI4: 0 | AJ4: 0 | AK4: 0 | AL4: 0 | AM4: 30 | AN4: 0 | AO4: 140920 | AP4: M | AQ4: 0 | AR4: 0 | AS4: 0 | AT4: 0 | AU4: Stephen Tygard | AV4: Y | AW4: GIS/PRODUCTION | AX4: 42326
A5: 5 | C5: 7 | D5: 10 | E5: 2015 | F5: 10386 | H5: POC-I LLC. | I5: 1888 SHERMAN STREET STE. 500 | J5: DENVER | K5: CO | L5: 80203 | M5: 303 | N5: 825-2324 | O5: 303 | P5: 629-9233 | Q5: N | R5: 81 | S5: 5086 | T5: 0 | U5: ILES #25 | V5: MRSN | W5: PR | X5: 10 | Y5: NENW | Z5: 27 | AA5: 4N | AB5: 92W | AC5: 13 | AD5: 3 | AE5: 2 | AF5: 0 | AG5: 14 | AH5: 0 | AI5: 0 | AJ5: 0 | AK5: 0 | AL5: 0 | AM5: 30 | AN5: 0 | AO5: 30 | AP5: M | AQ5: 0 | AR5: 0 | AS5: 0 | AT5: 0 | AU5: Stephen Tygard | AV5: Y | AW5: GIS/PRODUCTION | AX5: 42326
A6: 6 | C6: 7 | D6: 10 | E6: 2015 | F6: 10386 | H6: POC-I LLC. | I6: 1888 SHERMAN STREET STE. 500 | J6: DENVER | K6: CO | L6: 80203 | M6: 303 | N6: 825-2324 | O6: 303 | P6: 629-9233 | Q6: N | R6: 81 | S6: 5106 | T6: 0 | U6: ILES #26 | V6: MRSN | W6: SI | Y6: NWSE | Z6: 22 | AA6: 4N | AB6: 92W | AC6: 6 | AD6: 0 | AE6: 0 | AF6: 0 | AG6: 6 | AH6: 0 | AI6: 0 | AJ6: 0 | AK6: 0 | AL6: 0 | AN6: 0 | AP6: M | AQ6: 0 | AR6: 0 | AS6: 0 | AT6: 0 | AU6: Stephen Tygard | AV6: Y | AW6: GIS/PRODUCTION | AX6: 42326
A7: 7 | C7: 7 | D7: 10 | E7: 2015 | F7: 10386 | H7: POC-I LLC. | I7: 1888 SHERMAN STREET STE. 500 | J7: DENVER | K7: CO | L7: 80203 | M7: 303 | N7: 825-2324 | O7: 303 | P7: 629-9233 | Q7: N | R7: 81 | S7: 5107 | T7: 0 | U7: ILES #6 | V7: SNDC | W7: SI | Y7: NWSW | Z7: 23 | AA7: 4N | AB7: 92W | AC7: 0 | AD7: 0 | AE7: 0 | AF7: 0 | AG7: 0 | AH7: 0 | AI7: 0 | AJ7: 0 | AK7: 0 | AL7: 0 | AM7: 0 | AN7: 0 | AO7: 0 | AQ7: 0 | AR7: 0 | AS7: 0 | AT7: 0 | AU7: Stephen Tygard | AV7: Y | AW7: GIS/PRODUCTION | AX7: 42326
A8: 8 | C8: 7 | D8: 10 | E8: 2015 | F8: 10386 | H8: POC-I LLC. | I8: 1888 SHERMAN STREET STE. 500 | J8: DENVER | K8: CO | L8: 80203 | M8: 303 | N8: 825-2324 | O8: 303 | P8: 629-9233 | Q8: N | R8: 81 | S8: 5090 | T8: 0 | U8: ILES #37 | V8: SNDC | W8: PR | X8: 31 | Y8: SWSE | Z8: 22 | AA8: 4N | AB8: 92W | AC8: 10 | AD8: 11 | AE8: 9 | AF8: 0 | AG8: 12 | AH8: 0 | AI8: 0 | AJ8: 0 | AK8: 0 | AL8: 0 | AM8: 30 | AN8: 0 | AO8: 3551 | AP8: M | AQ8: 0 | AR8: 0 | AS8: 0 | AT8: 0 | AU8: Stephen Tygard | AV8: Y | AW8: GIS/PRODUCTION | AX8: 42326

Sheet OGOR
A1: H1 | B1: Doc | C1: O,M,R | D1: Prod Mo | E1: Oper # | F1: Oper Name | G1: Ls Agmt # | H1: Lse Agmt Nm | I1: MMS agmt# | J1: Agency Ls agmt #
A2: LA | B2: Line # | C2: Action code | D2: API | E2: Prod interval | F2: Oper well number (15) | G2: Status code | H2: DAYS Prod | I2: OIL | J2: GAS | K2: WATER | L2: INJ
A3: LB | B3: Line # | C3: Action code | D3: Disposition code | E3: Metering point number | F3: Gas plant number | H3: BTU FACTOR | I3: OIL/Cond | J3: GAS | K3: WATER
A4: LC | B4: Line # | C4: Action code | D4: Product code | E4: Inv storage point # | F4: Metering point # | G4: GRAV | H4: BEG INV | I4: PROD BBLS | J4: SALES BBLS | K4: ADJ CODE | L4: ADJ VOL | M4: END INV
A5: H1 | B5: OGOR | C5: O | D5: 102015 | E5: K3387 | F5: POC-I LLC | H5: Mush Creek | J5: WYB038802
A6: LA | B6: 0001 | C6: A | D6: 490450649400 | E6: S01 | F6: Capitol 4 | G6: 08 | H6: ='Master Form 2'!X28 -> 0 | I6: ='Master Form 2'!T28 -> 0 | J6: ='Master Form 2'!W28 -> 0 | K6: ='Master Form 2'!V28 -> 0 | L6: ='Master Form 2'!Y28 -> 0
A7: LA | B7: 0002 | C7: A | D7: 490450672700 | E7: S01 | F7: Capitol 5 | G7: 08 | H7: ='Master Form 2'!X29 -> 0 | I7: ='Master Form 2'!T29 -> 0 | J7: ='Master Form 2'!W29 -> 0 | K7: ='Master Form 2'!V29 -> 0 | L7: ='Master Form 2'!Y29 -> 0
A8: LA | B8: 0003 | C8: A | D8: 490451115100 | E8: S01 | F8: Capitol 6 | G8: 12 | H8: ='Master Form 2'!X30 -> 0 | I8: ='Master Form 2'!T30 -> 0 | J8: ='Master Form 2'!W30 -> 0 | K8: ='Master Form 2'!V30 -> 0 | L8: ='Master Form 2'!Y30 -> 0
A9: LA | B9: 0004 | C9: A | D9: 490452010700 | E9: S01 | F9: Hanzol 1 | G9: 12 | H9: ='Master Form 2'!X102 -> 0 | I9: ='Master Form 2'!T102 -> 0 | J9: ='Master Form 2'!W102 -> 0 | K9: ='Master Form 2'!V102 -> 0 | L9: ='Master Form 2'!Y102 -> 0
A10: LA | B10: 0005 | C10: A | D10: 490452011900 | E10: S01 | F10: Hanzol 2 | G10: 08 | H10: ='Master Form 2'!X103 -> 0 | I10: ='Master Form 2'!T103 -> 0 | J10: ='Master Form 2'!W103 -> 0 | K10: ='Master Form 2'!V103 -> 0 | L10: ='Master Form 2'!Y103 -> 0
A11: LA | B11: 0006 | C11: A | D11: 490452049800 | E11: S01 | F11: Manx 2 | G11: 08 | H11: ='Master Form 2'!X120 -> 0 | I11: ='Master Form 2'!T120 -> 0 | J11: ='Master Form 2'!W120 -> 0 | K11: ='Master Form 2'!V120 -> 0 | L11: ='Master Form 2'!Y120 -> 0
A12: LA | B12: 0007 | C12: A | D12: 490452185400 | E12: S01 | F12: Manx 3 | G12: 08 | H12: ='Master Form 2'!X121 -> 0 | I12: ='Master Form 2'!T121 -> 0 | J12: ='Master Form 2'!W121 -> 0 | K12: ='Master Form 2'!V121 -> 0 | L12: ='Master Form 2'!Y121 -> 0
A13: LB | B13: 2001 | C13: A | D13: 10 | H13: 0 | I13: =SUM(I6:I12) -> 0 | J13: 0 | K13: 0
A14: LB | B14: 2002 | C14: A | D14: 27 | H14: 0 | I14: 0 | J14: 0 | K14: =SUM(K6:K12) -> 0
A15: LC | B15: 3001 | C15: A | D15: 01 | G15: 408 | H15: =Inventory!K3 -> 827 | I15: =I13 -> 0 | J15: =Inventory!M3 -> 0 | M15: =H15+I15-J15+L15 -> 827
A16: T1 | B16: =COUNTIF(A6:A15,"LA")+COUNTIF(A6:A15,"LB")+COUNTIF(A6:A15,"LC") -> 10 | C16: Mark Choury | D16: 3072377854 | F16: =TODAY() -> 42326
A17: H1 | B17: OGOR | C17: O | D17: =D5 -> 102015 | E17: K3387 | F17: POC-I LLC | H17: Mush Creek | J17: 891011622C
A18: LA | B18: 0001 | C18: A | D18: 490450924800 | E18: S01 | F18: MushCrk UN 9-1 | G18: 12 | H18: ='Master Form 2'!X134 -> 0 | I18: ='Master Form 2'!T134 -> 0 | J18: ='Master Form 2'!W134 -> 0 | K18: ='Master Form 2'!V134 -> 0 | L18: ='Master Form 2'!Y134 -> 0
A19: LA | B19: 0002 | C19: A | D19: 490450925000 | E19: S01 | F19: MushCrk U 10-1D | G19: 08 | H19: ='Master Form 2'!X132 -> 0 | I19: ='Master Form 2'!T132 -> 0 | J19: ='Master Form 2'!W132 -> 0 | K19: ='Master Form 2'!V132 -> 0 | L19: ='Master Form 2'!Y132 -> 0
A20: LA | B20: 0003 | C20: A | D20: 490450925100 | E20: S01 | F20: MushCrk U 10-2E | G20: 08 | H20: ='Master Form 2'!X133 -> 0 | I20: ='Master Form 2'!T133 -> 0 | J20: ='Master Form 2'!W133 -> 0 | K20: ='Master Form 2'!V133 -> 0 | L20: ='Master Form 2'!Y133 -> 0
A21: LA | B21: 0004 | C21: A | D21: 490452107300 | E21: S01 | F21: MushCrk U 10-1A | G21: 08 | H21: ='Master Form 2'!X131 -> 0 | I21: ='Master Form 2'!T131 -> 0 | J21: ='Master Form 2'!W131 -> 0 | K21: ='Master Form 2'!V131 -> 0 | L21: ='Master Form 2'!Y131 -> 0
A22: LA | B22: 0005 | C22: A | D22: 490450921800 | E22: S01 | F22: Vessels 12 | G22: 12 | H22: ='Master Form 2'!X246 -> 0 | I22: ='Master Form 2'!T246 -> 0 | J22: ='Master Form 2'!W246 -> 0 | K22: ='Master Form 2'!V246 -> 0 | L22: ='Master Form 2'!Y246 -> 0
A23: LB | B23: 2001 | C23: A | D23: 10 | H23: 0 | I23: =SUM(I18:I22) -> 0 | J23: 0 | K23: 0
A24: LC | B24: 3001 | C24: A | D24: 01 | G24: ='Actual Sales'!C30*10 -> 0 | H24: =Inventory!K4 -> 115 | I24: =I23 -> 0 | J24: =Inventory!M4 -> 0 | M24: =H24+I24-J24+L24 -> 115
A25: T1 | B25: =COUNTIF(A18:A24,"LA")+COUNTIF(A18:A24,"LB")+COUNTIF(A18:A24,"LC") -> 7 | C25: =C16 -> Mark Choury | D25: =D16 -> 3072377854 | F25: =F16 -> 42326
A26: H1 | B26: OGOR | C26: O | D26: =D5 -> 102015 | E26: K3387 | F26: POC-I LLC | H26: Mush Creek | J26: WYB037775
A27: LA | B27: 0001 | C27: A | D27: 490450638900 | E27: S01 | F27: Texaco 17 | G27: 12 | H27: ='Master Form 2'!X224 -> 0 | I27: ='Master Form 2'!T224 -> 0 | J27: ='Master Form 2'!W224 -> 0 | K27: ='Master Form 2'!V224 -> 0 | L27: ='Master Form 2'!Y224 -> 0
A28: LA | B28: 0002 | C28: A | D28: 490450640500 | E28: S01 | F28: Texaco 9 | G28: 08 | H28: ='Master Form 2'!X230 -> 0 | I28: ='Master Form 2'!T230 -> 0 | J28: ='Master Form 2'!W230 -> 0 | K28: ='Master Form 2'!V230 -> 0 | L28: ='Master Form 2'!Y230 -> 0
A29: LA | B29: 0003 | C29: A | D29: 490450642100 | E29: S01 | F29: Texaco 4 | G29: 08 | H29: ='Master Form 2'!X226 -> 0 | I29: ='Master Form 2'!T226 -> 0 | J29: ='Master Form 2'!W226 -> 0 | K29: ='Master Form 2'!V226 -> 0 | L29: ='Master Form 2'!Y226 -> 0
A30: LA | B30: 0004 | C30: A | D30: 490450644200 | E30: S01 | F30: Texaco 6 | G30: 08 | H30: ='Master Form 2'!X228 -> 0 | I30: ='Master Form 2'!T228 -> 0 | J30: ='Master Form 2'!W228 -> 0 | K30: ='Master Form 2'!V228 -> 0 | L30: ='Master Form 2'!Y228 -> 0
A31: LA | B31: 0005 | C31: A | D31: 490450646600 | E31: S01 | F31: Texaco 6W | G31: 12 | H31: ='Master Form 2'!X229 -> 0 | I31: ='Master Form 2'!T229 -> 0 | J31: ='Master Form 2'!W229 -> 0 | K31: ='Master Form 2'!V229 -> 0 | L31: ='Master Form 2'!Y229 -> 0
A32: LA | B32: 0006 | C32: A | D32: 490451109300 | E32: S01 | F32: Texaco 5 | G32: 12 | H32: ='Master Form 2'!X227 -> 0 | I32: ='Master Form 2'!T227 -> 0 | J32: ='Master Form 2'!W227 -> 0 | K32: ='Master Form 2'!V227 -> 0 | L32: ='Master Form 2'!Y227 -> 0
A33: LA | B33: 0007 | C33: A | D33: 490452057800 | E33: S01 | F33: Texaco 23 | G33: 12 | H33: ='Master Form 2'!X225 -> 0 | I33: ='Master Form 2'!T225 -> 0 | J33: ='Master Form 2'!W225 -> 0 | K33: ='Master Form 2'!V225 -> 0 | L33: ='Master Form 2'!Y225 -> 0
A34: LB | B34: 2001 | C34: A | D34: 10 | H34: 0 | I34: =SUM(I27:I33) -> 0 | J34: 0 | K34: 0
A35: LB | B35: 2002 | C35: A | D35: 27 | H35: 0 | I35: 0 | J35: 0 | K35: =SUM(K27:K33) -> 0
A36: LC | B36: 3001 | C36: A | D36: 01 | G36: 0 | H36: =Inventory!K5 -> 634 | I36: =I34 -> 0 | J36: =Inventory!M5 -> 0 | M36: =H36+I36-J36+L36 -> 634 | O36: Gravity
A37: T1 | B37: =COUNTIF(A27:A36,"LA")+COUNTIF(A27:A36,"LB")+COUNTIF(A27:A36,"LC") -> 10 | C37: =C16 -> Mark Choury | D37: =D16 -> 3072377854 | F37: =F16 -> 42326
A38: H1 | B38: OGOR | C38: O | D38: =D5 -> 102015 | E38: K3387 | F38: POC-I LLC | H38: NSCU | J38: WYW184179X
A39: LA | B39: 0001 | C39: A | D39: 490450705400 | E39: S01 | F39: Chism 2 | G39: 12 | H39: ='Master Form 2'!X31 -> 0 | I39: ='Master Form 2'!T31 -> 0 | J39: ='Master Form 2'!W31 -> 0 | K39: ='Master Form 2'!V31 -> 0 | L39: ='Master Form 2'!Y31 -> 0
A40: LA | B40: 0002 | C40: A | D40: 490450705900 | E40: S01 | F40: Chism 3 | G40: 12 | H40: ='Master Form 2'!X32 -> 0 | I40: ='Master Form 2'!T32 -> 0 | J40: ='Master Form 2'!W32 -> 0 | K40: ='Master Form 2'!V32 -> 0 | L40: ='Master Form 2'!Y32 -> 0
...

Sheet Inventory
B1: 42292 | J1: OGOR Inventories
A2: Name | B2: BEG | C2: Prod | D2: Sold | E2: Variance | F2: END | K2: BEG | L2: Prod | M2: Sold | N2: Variance | O2: END
A3: Bradley Federal 3-1 | B3: 113 | C3: ='Master Form 2'!T23 -> 0 | D3: ='Master Form 2'!AB23 -> 0 | E3: 0 | F3: =B3+C3-D3+E3 -> 113 | J3: WYB038802 | K3: =B4+B10+B16 -> 827 | L3: =C4+C10+C16 -> 0 | M3: =D4+D10+D16 -> 0 | N3: =E4+E10+E16 -> 0 | O3: =F4+F10+F16 -> 827
A4: Capitol 4 & 5 | B4: 305 | C4: ='Master Form 2'!T28+'Master Form 2'!T29 -> 0 | D4: ='Master Form 2'!AB28+'Master Form 2'!AB29 -> 0 | E4: 0 | F4: =B4+C4-D4+E4 -> 305 | J4: 891011622C | K4: =B15 -> 115 | L4: =C15 -> 0 | M4: =D15 -> 0 | N4: =E15 -> 0 | O4: =F15 -> 115
A5: Chism B-042450A 2 & 5 | B5: 53 | C5: ='Master Form 2'!T31+'Master Form 2'!T33 -> 0 | D5: ='Master Form 2'!AB31+'Master Form 2'!AB33 -> 0 | E5: 0 | F5: =B5+C5-D5+E5 -> 53 | J5: WYB037775 | K5: =B31+B32+B33 -> 634 | L5: =C31+C32+C33 -> 0 | M5: =D31+D32+D33 -> 0 | N5: =E31+E32+E33 -> 0 | O5: =F31+F32+F33 -> 634
A6: Don Thorson 1 | B6: 342 | C6: ='Master Form 2'!T41 -> 0 | D6: ='Master Form 2'!AB41 -> 0 | E6: 0 | F6: =B6+C6-D6+E6 -> 342 | J6: WYW184791X | K6: =B5+B12+B13+B19+B20+B22+B23+B63+B64+B26+B73+B77+B97+B98+B101+B134+B131 -> 3746 | L6: =C5+C12+C13+C19+C20+C22+C23+C63+C64+C26+C73+C77+C97+C98+C101+C134+C131 -> 0 | M6: =D5+D12+D13+D19+D20+D22+D23+D63+D64+D26+D73+D77+D97+D98+D101+D134+D131 -> 0 | N6: =E5+E12+E13+E19+E20+E22+E23+E63+E64+E26+E73+E77+E97+E98+E101+E134+E131 -> 0 | O6: =F5+F12+F13+F19+F20+F22+F23+F63+F64+F26+F73+F77+F97+F98+F101+F134+F131 -> 3746
A7: Egert 2 | B7: 83 | C7: ='Master Form 2'!T59 -> 0 | D7: ='Master Form 2'!AB59 -> 0 | E7: 0 | F7: =B7+C7-D7+E7 -> 83 | J7: WYB043538 | K7: 0 | L7: 0 | M7: 0 | N7: 0 | O7: 0
A8: Federal 32-1 | B8: 232 | C8: ='Master Form 2'!T71 -> 0 | D8: ='Master Form 2'!AB71 -> 0 | E8: 0 | F8: =B8+C8-D8+E8 -> 232 | J8: WYB043857 | K8: =B11 -> 126 | L8: =C11 -> 0 | M8: =D11 -> 0 | N8: =E11 -> 0 | O8: =F11 -> 126
E9: 0 | J9: WYBLMA017074 | K9: =B37 -> 222 | L9: =C37 -> 0 | M9: =D37 -> 0 | N9: =E37 -> 0 | O9: =F37 -> 222
A10: Hanzol 2 | B10: 212 | C10: ='Master Form 2'!T103 -> 0 | D10: ='Master Form 2'!AB103 -> 0 | E10: 0 | F10: =B10+C10-D10+E10 -> 212 | J10: WYW01020C | K10: 0 | L10: 0 | M10: 0 | N10: 0 | O10: 0
A11: Hayes Kyhl 1 | B11: 126 | C11: ='Master Form 2'!T104+'Master Form 2'!T117 -> 0 | D11: ='Master Form 2'!AB104 -> 0 | E11: 0 | F11: =B11+C11-D11+E11 -> 126 | J11: WYW01020D | K11: =B3 -> 113 | L11: =C3 -> 0 | M11: =D3 -> 0 | N11: =E3 -> 0 | O11: =F3 -> 113
A12: Horton A 2 | B12: 167 | C12: ='Master Form 2'!T112 -> 0 | D12: ='Master Form 2'!AB112 -> 0 | E12: 0 | F12: =B12+C12-D12+E12 -> 167 | J12: WYW0175933 | K12: =B39 -> 148 | L12: =C39 -> 0 | M12: =D39 -> 0 | N12: =E39 -> 0 | O12: =F39 -> 148
A13: Horton Battery | B13: 267 | C13: ='Master Form 2'!T105+'Master Form 2'!T106+'Master Form 2'!T107+'Master Form 2'!T108+'Master Form 2'!T109+'Master Form 2'!T110+'Master Form 2'!T111 -> 0 | D13: ='Master Form 2'!AB105+'Master Form 2'!AB106+'Master Form 2'!AB107+'Master Form 2'!AB108+'Master Form 2'!AB109+'Master Form 2'!AB110+'Master Form 2'!AB111 -> 0 | E13: 0 | F13: =B13+C13-D13+E13 -> 267 | J13: WYW0208729 | K13: =B54 -> 337 | L13: =C54 -> 0 | M13: =D54 -> 0 | N13: =E54 -> 0 | O13: =F54 -> 337
A14: Johnson B 1 | B14: 526 | C14: ='Master Form 2'!T115 -> 0 | D14: ='Master Form 2'!AB115 -> 0 | E14: 0 | F14: =B14+C14-D14+E14 -> 526 | J14: WYW0311265 | K14: =B128 -> 19 | L14: =C128 -> 0 | M14: =D128 -> 0 | N14: =E128 -> 0 | O14: =F128 -> 19
A15: Mallette Battery (Mush Crk) | B15: 115 | C15: ='Master Form 2'!T131+'Master Form 2'!T132+'Master Form 2'!T133+'Master Form 2'!T134 -> 0 | D15: ='Master Form 2'!AB131+'Master Form 2'!AB132+'Master Form 2'!AB133+'Master Form 2'!AB134 -> 0 | E15: 0 | F15: =B15+C15-D15+E15 -> 115 | J15: WYW0314275 | K15: =B52 -> 206 | L15: =C52 -> 0 | M15: =D52 -> 0 | N15: =E52 -> 0 | O15: =F52 -> 206
A16: Manx 2 & 3 | B16: 310 | C16: ='Master Form 2'!T120+'Master Form 2'!T121 -> 0 | D16: ='Master Form 2'!AB120+'Master Form 2'!AB121 -> 0 | E16: 0 | F16: =B16+C16-D16+E16 -> 310 | J16: WYW035705A | K16: =B38 -> 77 | L16: =C38 -> 0 | M16: =D38 -> 0 | N16: =E38 -> 0 | O16: =F38 -> 77
A17: Michaels 3-20 | B17: 80 | C17: ='Master Form 2'!T123 -> 0 | D17: ='Master Form 2'!AB123 -> 0 | E17: 0 | F17: =B17+C17-D17+E17 -> 80 | J17: WYW037878A | K17: =B103 -> 156 | L17: =C103 -> 0 | M17: =D103 -> 0 | N17: =E103 -> 0 | O17: =F103 -> 156
A18: Michigan Oil 3 | B18: 0 | C18: ='Master Form 2'!T124 -> 0 | D18: ='Master Form 2'!AB124 -> 0 | E18: 0 | F18: =B18+C18-D18+E18 -> 0 | J18: WYBLMA014652C | K18: =B122 -> 4 | L18: =C122 -> 0 | M18: =D122 -> 0 | N18: =E122 -> 0 | O18: =F122 -> 4
A19: Mondell A 1 & 2 | B19: 141 | C19: ='Master Form 2'!T125+'Master Form 2'!T126 -> 0 | D19: ='Master Form 2'!AB125+'Master Form 2'!AB126 -> 0 | E19: 0 | F19: =B19+C19-D19+E19 -> 141 | J19: WYW046887B | K19: =B121+B123 -> 309 | L19: =C121+C123 -> 0 | M19: =D121+D123 -> 0 | N19: =E121+E123 -> 0 | O19: =F121+F123 -> 309
A20: Mondell B 1 & 4 | B20: 563 | C20: ='Master Form 2'!T127+'Master Form 2'!T128+'Master Form 2'!T129+'Master Form 2'!T130 -> 0 | D20: ='Master Form 2'!AB127+'Master Form 2'!AB128+'Master Form 2'!AB129+'Master Form 2'!AB130 -> 0 | E20: 0 | F20: =B20+C20-D20+E20 -> 563 | J20: WYW046887C | K20: =B119 -> 35 | L20: =C119 -> 0 | M20: =D119 -> 0 | N20: =E119 -> 0 | O20: =F119 -> 35
A21: P A Smith 1 | B21: 85 | C21: ='Master Form 2'!T139 -> 0 | D21: ='Master Form 2'!AB139 -> 0 | E21: 0 | F21: =B21+C21-D21+E21 -> 85 | J21: WYW065946B | K21: =B118+B117+B130 -> 437 | L21: =C118+C117+C130 -> 0 | M21: =D118+D117+D130 -> 0 | N21: =E118+E117+E130 -> 0 | O21: =F118+F117+F130 -> 437
A22: Peter Smith 1 | B22: 291 | C22: ='Master Form 2'!T142 -> 0 | D22: ='Master Form 2'!AB142 -> 0 | E22: 0 | F22: =B22+C22-D22+E22 -> 291 | J22: WYW083471A | K22: =B116+B120 -> 333 | L22: =C116+C120 -> 0 | M22: =D116+D120 -> 0 | N22: =E116+E120 -> 0 | O22: =F116+F120 -> 333
A23: Peter Smith A 1 | B23: 268 | C23: ='Master Form 2'!T143 -> 0 | D23: ='Master Form 2'!AB143 -> 0 | E23: 0 | F23: =B23+C23-D23+E23 -> 268 | J23: 891008671A | K23: =B99 -> 82 | L23: =C99 -> 0 | M23: =D99 -> 0 | N23: =E99 -> 0 | O23: =F99 -> 82
A24: Ritthaler 1 | B24: 77 | C24: ='Master Form 2'!T157 -> 0 | D24: ='Master Form 2'!AB157 -> 0 | E24: 0 | F24: =B24+C24-D24+E24 -> 77 | J24: 891008664A | K24: =B100 -> 327 | L24: =C100 -> 0 | M24: =D100 -> 0 | N24: =E100 -> 0 | O24: =F100 -> 327
A25: Rock Well 17-15H | B25: 257 | C25: ='Master Form 2'!T158 -> 0 | D25: ='Master Form 2'!AB158 -> 0 | E25: 0 | F25: =B25+C25-D25+E25 -> 257 | J25: 84685U9250 | K25: =B34 -> 318 | L25: =C34 -> 0 | M25: =D34 -> 0 | N25: =E34 -> 0 | O25: =F34 -> 318
A26: Rock Well 34-15H | B26: 187 | C26: ='Master Form 2'!T159 -> 0 | D26: ='Master Form 2'!AB159 -> 0 | E26: 0 | F26: =B26+C26-D26+E26 -> 187 | J26: WYW141491X | K26: =B106 -> 257 | L26: =C106 -> 0 | M26: =D106 -> 0 | N26: =E106 -> 0 | O26: =F106 -> 257
A27: ROCK WELL STATE 16-15H | B27: 455 | C27: ='Master Form 2'!T160 -> 0 | D27: ='Master Form 2'!AB160 -> 0 | E27: 0 | F27: =B27+C27-D27+E27 -> 455 | J27: WYW3504 | K27: =B8 -> 232 | L27: =C8 -> 0 | M27: =D8 -> 0 | N27: =E8 -> 0 | O27: =F8 -> 232
A28: Sedgwick Patent 6 | B28: 75 | C28: ='Master Form 2'!T204 -> 0 | D28: ='Master Form 2'!AB204 -> 0 | E28: 0 | F28: =B28+C28-D28+E28 -> 75 | J28: WYW50072 | K28: =B53 -> 46 | L28: =C53 -> 0 | M28: =D53 -> 0 | N28: =E53 -> 0 | O28: =F53 -> 46
A29: Sprecher Skinner 3 | B29: 293 | C29: ='Master Form 2'!T214 -> 0 | D29: ='Master Form 2'!AB214 -> 0 | E29: 0 | F29: =B29+C29-D29+E29 -> 293 | J29: WYW51499 | K29: =B68 -> 84 | L29: =C68 -> 0 | M29: =D68 -> 0 | N29: =E68 -> 0 | O29: =F68 -> 84
A30: State 27,7 | B30: 50 | C30: ='Master Form 2'!T216+'Master Form 2'!T219 -> 0 | D30: ='Master Form 2'!AB216+'Master Form 2'!AB219 -> 0 | E30: 0 | F30: =B30+C30-D30+E30 -> 50 | J30: WYW64732 | K30: =B87 -> 16 | L30: =C87 -> 0 | M30: =D87 -> 0 | N30: =E87 -> 0 | O30: =F87 -> 16
A31: Texaco 4 (Updike) | B31: 270 | C31: ='Master Form 2'!T226 -> 0 | D31: ='Master Form 2'!AB226 -> 0 | E31: 0 | F31: =B31+C31-D31+E31 -> 270 | J31: WYW67655 | K31: =B89+B88+B86 -> 545 | L31: =C89+C88+C86 -> 0 | M31: =D89+D88+D86 -> 0 | N31: =E89+E88+E86 -> 0 | O31: =F89+F88+F86 -> 545
A32: Texaco 6 (Updike) | B32: 92 | C32: ='Master Form 2'!T228 -> 0 | D32: ='Master Form 2'!AB228 -> 0 | E32: 0 | F32: =B32+C32-D32+E32 -> 92 | J32: WYW73415 | K32: =B85+B136 -> 740 | L32: =C85+C136 -> 0 | M32: =D85+D136 -> 0 | N32: =E85+E136 -> 0 | O32: =F85+F136 -> 740
A33: Texaco 9 (Updike) | B33: 272 | C33: ='Master Form 2'!T230 -> 0 | D33: ='Master Form 2'!AB230 -> 0 | E33: 0 | F33: =B33+C33-D33+E33 -> 272 | J33: 8910087090 | K33: =B29 -> 293 | L33: =C29 -> 0 | M33: =D29 -> 0 | N33: =E29 -> 0 | O33: =F29 -> 293
A34: TNSU | B34: 318 | C34: ='Master Form 2'!T235+'Master Form 2'!T236+'Master Form 2'!T237+'Master Form 2'!T238+'Master Form 2'!T239+'Master Form 2'!T240+'Master Form 2'!T241+'Master Form 2'!T242+'Master Form 2'!T243+'Master Form 2'!T244+'Master Form 2'!T245 -> 0 | D34: ='Master Form 2'!AB235+'Master Form 2'!AB236+'Master Form 2'!AB237+'Master Form 2'!AB238+'Master Form 2'!AB239+'Master Form 2'!AB240+'Master Form 2'!AB241+'Master Form 2'!AB242+'Master Form 2'!AB243+'Master Form 2'!AB244+'Master Form 2'!AB245 -> 0 | E34: 0 | F34: =B34+C34-D34+E34 -> 318 | J34: WYW0321830 | K34: 0 | L34: 0 | M34: 0 | N34: 0 | O34: 0
A35: Wade Unit | B35: 287 | C35: ='Master Form 2'!T247+'Master Form 2'!T248+'Master Form 2'!T249+'Master Form 2'!T250+'Master Form 2'!T251+'Master Form 2'!T252+'Master Form 2'!T253+'Master Form 2'!T254+'Master Form 2'!T255+'Master Form 2'!T257 -> 0 | D35: ='Master Form 2'!AB247+'Master Form 2'!AB248+'Master Form 2'!AB249+'Master Form 2'!AB250+'Master Form 2'!AB251+'Master Form 2'!AB252+'Master Form 2'!AB253+'Master Form 2'!AB254+'Master Form 2'!AB255+'Master Form 2'!AB257 -> 0 | E35: 0 | F35: =B35+C35-D35+E35 -> 287 | J35: WYW118260 | K35: =B42 -> 268 | L35: =C42 -> 0 | M35: =D42 -> 0 | N35: =E42 -> 0 | O35: =F42 -> 268
A36: Wade Unit 5 | B36: 40 | C36: ='Master Form 2'!T256 -> 0 | D36: ='Master Form 2'!AB256 -> 0 | E36: 0 | F36: =B36+C36-D36+E36 -> 40 | J36: WYW121965 | K36: =B41 -> 284 | L36: =C41 -> 0 | M36: =D41 -> 0 | N36: =E41 -> 0 | O36: =F41 -> 284
A37: Wight Govt 3 | B37: 222 | C37: ='Master Form 2'!T259 -> 0 | D37: ='Master Form 2'!AB259 -> 0 | E37: 0 | F37: =B37+C37-D37+E37 -> 222 | J37: WYW67877 | K37: =B56 -> 185 | L37: =C56 -> 0 | M37: =D56 -> 0 | N37: =E56 -> 0 | O37: =F56 -> 185
A38: Wilner 1 | B38: 77 | C38: ='Master Form 2'!T260 -> 0 | D38: ='Master Form 2'!AB260 -> 0 | E38: 0 | F38: =B38+C38-D38+E38 -> 77 | J38: WYW115093X | K38: =B58 -> 337 | L38: =C58 -> 0 | M38: =D58 -> 0 | N38: =E58 -> 0 | O38: =F58 -> 337
A39: Wolters 1 | B39: 148 | C39: ='Master Form 2'!T267 -> 0 | D39: ='Master Form 2'!AB267 -> 0 | E39: 0 | F39: =B39+C39-D39+E39 -> 148 | J39: WYW55050 | K39: =B57 -> 120 | L39: =C57 -> 0 | M39: =D57 -> 0 | N39: =E57 -> 0 | O39: =F57 -> 120
A40: ASPEN FEDERAL #28-1 | B40: 519 | C40: ='Master Form 2'!T14 -> 0 | D40: ='Master Form 2'!AB14 -> 0 | E40: 0 | F40: =B40+C40-D40+E40 -> 519 | J40: WYW143300 | K40: =B55 -> 151 | L40: =C55 -> 0 | M40: =D55 -> 0 | N40: =E55 -> 0 | O40: =F55 -> 151
...

Sheet Actual Sales
A1: Tank Battery | B1: BBLS | C1: Gravity | D1: MCF | E1: BTU | F1: Gross Value | G1: Purchaser | I1: Enterprise
A2: Chism Govt
A3: Mondell A | I3: Wyoming Refining
A4: Mondell B | I4: 88 Oil
A5: Pete Smith 1 | I5: Anadarko
A6: Horton A | I6: EnWest
A7: Peter Smith A
A8: Horton Battery
A9: St 34-15H
A10: Hayes Kyhl | I10: Oil Sales Value: | K10: =SUM(F2:F123,F152:F160) -> 0 | L10: =SUM(B2:B123,B152:B160) -> 0
A11: PA Smith | I11: Gas Sales Value: | K11: =SUM(F124:F150) -> 0 | L11: =SUM(D124:D150) -> 0
A12: Wilner
A13: Texaco 9
A14: Texaco 4
A15: State 27, 7, 3, 4
A16: State 16-15H
A17: Texaco 6
A18: St 17-15H
A19: Wight Govt 3
A20: Sedgwick 6
A21: Hanzol 2
A22: Michaels 3-20
A23: Manx 2
... A38: Sprecher Skinner
A39: Bradley Federal 3-1 | H39: SCU WYW109691X
A40: Skull Creek Unit | H40: SCSU WYW109692X
A41: Donielson | H41: Donielson Wells | L41: Garfield 2 sells off Donielson Battery
A42: Garfield 2 | H42: Garfield Wells | L42: Calculated with other Garfields for Severance
A43: Garfield 3
A44: Garfield 4
A45: State 2
A46: Fina State 1-16
A47: Boulden Fee
A48: Aimonetto
A49: Winco St.
A50: BNSU
A51: Barton 1
A52: Smith Govt
A53: Smith 1-A
A54: Cotton 2&3
...

Sheet Severance
A1: 2375 | B1: 2000 | C1: 102015 | D1: 571 | E1: O | F1: 0 | G1: 0 | H1: 0 | I1: 0 | J1: S10 | K1: ='Actual Sales'!B2+'Actual Sales'!B3+'Actual Sales'!B4+'Actual Sales'!B5+'Actual Sales'!B6+'Actual Sales'!B7+'Actual Sales'!B8+'Actual Sales'!B9+'Actual Sales'!B43+'Actual Sales'!B44+'Actual Sales'!B45+'Actual Sales'!B121+'Actual Sales'!B122+'Actual Sales'!B123+'Actual Sales'!B152+'Actual Sales'!B157 -> 0 | L1: ='Actual Sales'!F2+'Actual Sales'!F3+'Actual Sales'!F4+'Actual Sales'!F5+'Actual Sales'!F6+'Actual Sales'!F7+'Actual Sales'!F8+'Actual Sales'!F9+'Actual Sales'!F43+'Actual Sales'!F44+'Actual Sales'!F45+'Actual Sales'!F121+'Actual Sales'!F122+'Actual Sales'!F123+'Actual Sales'!F152+'Actual Sales'!F157 -> 0 | M1: =ROUND(L1*0.02263381,0) -> 0 | N1: =L1-M1 -> 0 | O1: =ROUND(N1*0.04,2) -> 0 | P1: North Skull Creek Unit | R1: =L1/K1 -> #DIV/0! | S1: When verifying Sales check for
A2: 2375 | B2: 2000 | C2: =C1 -> 102015 | D2: 575 | E2: O | F2: 0 | G2: 0 | H2: 0 | I2: 0 | J2: S10 | K2: 0 | L2: 0 | M2: =ROUND(L2*0.125,0) -> 0 | N2: =L2-M2 -> 0 | O2: =ROUND(N2*0.04,2) -> 0 | P2: Smith Govt | R2: =L2/K2 -> #DIV/0! | S2: inactive lines that need to be added!
A3: 2375 | B3: 2000 | C3: =C1 -> 102015 | D3: 678 | E3: O | F3: 0 | G3: 0 | H3: 0 | I3: 0 | J3: S10 | K3: ='Actual Sales'!B49 -> 0 | L3: ='Actual Sales'!F49 -> 0 | M3: =ROUND(L3*0.125,0) -> 0 | N3: =L3-M3 -> 0 | O3: =ROUND(N3*0.04,2) -> 0 | P3: Winco State | R3: =L3/K3 -> #DIV/0!
A4: 2375 | B4: 2000 | C4: =C1 -> 102015 | D4: 681 | E4: O | F4: 0 | G4: 0 | H4: 0 | I4: 0 | J4: S10 | K4: ='Actual Sales'!B48 -> 0 | L4: ='Actual Sales'!F48 -> 0 | M4: 0 | N4: =L4-M4 -> 0 | O4: =ROUND(N4*0.04,2) -> 0 | P4: Aimonetto 2, 4 | R4: =L4/K4 -> #DIV/0! | S4: If corrections are needed
A5: 2375 | B5: 2000 | C5: =C1 -> 102015 | D5: 2205 | E5: O | F5: 0 | G5: 0 | H5: 0 | I5: 0 | J5: S10 | K5: ='Actual Sales'!B11 -> 0 | L5: ='Actual Sales'!F11 -> 0 | M5: 0 | N5: =L5-M5 -> 0 | O5: =ROUND(N5*0.04,2) -> 0 | P5: P A Smith | R5: =L5/K5 -> #DIV/0! | S5: must email barb.royce@wyo.gov
A6: 2375 | B6: 2000 | C6: =C1 -> 102015 | D6: 2273 | E6: O | F6: 0 | G6: 0 | H6: 0 | I6: 0 | J6: S10 | K6: ='Actual Sales'!B120 -> 0 | L6: ='Actual Sales'!F120 -> 0 | M6: 0 | N6: =L6-M6 -> 0 | O6: =ROUND(N6*0.04,2) -> 0 | P6: Thompson 1 | R6: =L6/K6 -> #DIV/0! | S6: telling why amending report
A7: 2375 | B7: 2000 | C7: =C1 -> 102015 | D7: 2274 | E7: O | F7: 0 | G7: 0 | H7: 0 | I7: 0 | J7: S10 | K7: ='Actual Sales'!B111+'Actual Sales'!B99+'Actual Sales'!B102 -> 0 | L7: ='Actual Sales'!F102+'Actual Sales'!F99+'Actual Sales'!F111 -> 0 | M7: =ROUND(L7*0.125,0) -> 0 | N7: =L7-M7 -> 0 | O7: =ROUND(N7*0.04,2) -> 0 | P7: Zerbst 23-10, 43-13 & 42-13 | R7: =L7/K7 -> #DIV/0!
A8: 2375 | B8: 3000 | C8: =C1 -> 102015 | D8: 2274 | E8: O | F8: 0 | G8: 0 | H8: 0 | I8: 0 | J8: BAS | K8: 0 | L8: 0 | M8: =ROUND(L8*0.125,0) -> 0 | N8: =L8-M8 -> 0 | O8: =ROUND(N8*0.06,2) -> 0 | P8: Zerbst 23-10, 43-13 & 42-13 | R8: =L8/K8 -> #DIV/0!
A9: 2375 | B9: 2000 | C9: =C1 -> 102015 | D9: 2276 | E9: O | F9: 0 | G9: 0 | H9: 0 | I9: 0 | J9: BAS | K9: ='Actual Sales'!B96 -> 0 | L9: ='Actual Sales'!F96 -> 0 | M9: 0 | N9: =L9-M9 -> 0 | O9: =ROUND(N9*0.06,2) -> 0 | P9: Hanson 14-7 | R9: =L9/K9 -> #DIV/0!
A10: 2375 | B10: 2000 | C10: =C1 -> 102015 | D10: 2277 | E10: O | F10: 0 | G10: 0 | H10: 0 | I10: 0 | J10: S10 | K10: ='Actual Sales'!B100+'Actual Sales'!B98 -> 0 | L10: ='Actual Sales'!F100+'Actual Sales'!F98 -> 0 | M10: 0 | N10: =L10-M10 -> 0 | O10: =ROUND(N10*0.04,2) -> 0 | P10: Hanson 41-13 | R10: =L10/K10 -> #DIV/0!
A11: 2375 | B11: 2000 | C11: =C1 -> 102015 | D11: 2278 | E11: O | F11: 0 | G11: 0 | H11: 0 | I11: 0 | J11: S10 | K11: ='Actual Sales'!B104+'Actual Sales'!B112 -> 0 | L11: ='Actual Sales'!F104+'Actual Sales'!F112 -> 0 | M11: 0 | N11: =L11-M11 -> 0 | O11: =ROUND(N11*0.04,2) -> 0 | P11: Gaskil 24-27 & 34-27 | R11: =L11/K11 -> #DIV/0!
A12: 2375 | B12: 2000 | C12: =C1 -> 102015 | D12: 2279 | E12: O | F12: 0 | G12: 0 | H12: 0 | I12: 0 | J12: S10 | K12: ='Actual Sales'!B114+'Actual Sales'!B115 -> 0 | L12: ='Actual Sales'!F114+'Actual Sales'!F115 -> 0 | M12: 0 | N12: =L12-M12 -> 0 | O12: =ROUND(N12*0.04,2) -> 0 | P12: Thomposn 41-34 7 42-34 | R12: =L12/K12 -> #DIV/0!
A13: 2375 | B13: 3000 | C13: =C1 -> 102015 | D13: 2279 | E13: O | F13: 0 | G13: 0 | H13: 0 | I13: 0 | J13: BAS | K13: ='Actual Sales'!D143 -> 0 | L13: ='Actual Sales'!F143 -> 0 | M13: 0 | N13: =L13-M13 -> 0 | O13: =ROUND(N13*0.06,2) -> 0 | P13: Thompson 41-34 | R13: =L13/K13 -> #DIV/0!
A14: 2375 | B14: 2000 | C14: =C1 -> 102015 | D14: 2280 | E14: O | F14: 0 | G14: 0 | H14: 0 | I14: 0 | J14: S10 | K14: ='Actual Sales'!B105 -> 0 | L14: ='Actual Sales'!F105 -> 0 | M14: 0 | N14: =L14-M14 -> 0 | O14: =ROUND(N14*0.04,2) -> 0 | P14: Gaskill 43-34 | R14: =L14/K14 -> #DIV/0!
A15: 2375 | B15: 3000 | C15: =C1 -> 102015 | D15: 2280 | E15: O | F15: 0 | G15: 0 | H15: 0 | I15: 0 | J15: BAS | K15: ='Actual Sales'!D137 -> 0 | L15: ='Actual Sales'!F137 -> 0 | M15: 0 | N15: =L15-M15 -> 0 | O15: =ROUND(N15*0.06,2) -> 0 | P15: Gaskill 43-34 | R15: =L15/K15 -> #DIV/0!
A16: 2375 | B16: 2000 | C16: =C1 -> 102015 | D16: 2285 | E16: O | F16: 0 | G16: 0 | H16: 0 | I16: 0 | J16: S10 | K16: ='Actual Sales'!B118 -> 0 | L16: ='Actual Sales'!F118 -> 0 | M16: 0 | N16: =L16-M16 -> 0 | O16: =ROUND(N16*0.04,2) -> 0 | P16: Zerbst 3-31 | R16: =L16/K16 -> #DIV/0!
A17: 2375 | B17: 3000 | C17: =C1 -> 102015 | D17: 2285 | E17: O | F17: 0 | G17: 0 | H17: 0 | I17: 0 | J17: BAS | K17: 0 | L17: 0 | M17: 0 | N17: =L17-M17 -> 0 | O17: =ROUND(N17*0.06,2) -> 0 | P17: Zerbst 3-31 | R17: =L17/K17 -> #DIV/0!
A18: 2375 | B18: 2000 | C18: =C1 -> 102015 | D18: 2286 | E18: O | F18: 0 | G18: 0 | H18: 0 | I18: 0 | J18: S10 | K18: ='Actual Sales'!B109+'Actual Sales'!B110+'Actual Sales'!B119+'Actual Sales'!B108+'Actual Sales'!B107+'Actual Sales'!B117+'Actual Sales'!B113 -> 0 | L18: ='Actual Sales'!F109+'Actual Sales'!F110+'Actual Sales'!F119+'Actual Sales'!F108+'Actual Sales'!F107+'Actual Sales'!F117+'Actual Sales'!F113 -> 0 | M18: 0 | N18: =L18-M18 -> 0 | O18: =ROUND(N18*0.04,2) -> 0 | P18: Zerbst #3-14, #31-34, 11-10, 12-10, 22-3 | R18: =L18/K18 -> #DIV/0!
A19: 2375 | B19: 3000 | C19: =C1 -> 102015 | D19: 2286 | E19: O | F19: 0 | G19: 0 | H19: 0 | I19: 0 | J19: BAS | K19: ='Actual Sales'!D145+'Actual Sales'!D146+'Actual Sales'!D147+'Actual Sales'!D144+'Actual Sales'!D150 -> 0 | L19: ='Actual Sales'!F145+'Actual Sales'!F146+'Actual Sales'!F147+'Actual Sales'!F144+'Actual Sales'!F150 -> 0 | M19: 0 | N19: =L19-M19 -> 0 | O19: =ROUND(N19*0.06,2) -> 0 | P19: Zerbst 3-22 & 10-21 & 3-14 & 24-3 & 11-10 | R19: =L19/K19 -> #DIV/0!
A20: 2375 | B20: 2000 | C20: =C1 -> 102015 | D20: 2287 | E20: O | F20: 0 | G20: 0 | H20: 0 | I20: 0 | J20: S10 | K20: ='Actual Sales'!B106 -> 0 | L20: ='Actual Sales'!F106 -> 0 | M20: =ROUND(L20*0.125,0) -> 0 | N20: =L20-M20 -> 0 | O20: =ROUND(N20*0.04,2) -> 0 | P20: Zerbst State 3-32 | R20: =L20/K20 -> #DIV/0!
A21: 2375 | B21: 3000 | C21: =C1 -> 102015 | D21: 2287 | E21: O | F21: 0 | G21: 0 | H21: 0 | I21: 0 | J21: BAS | K21: ='Actual Sales'!D149 -> 0 | L21: ='Actual Sales'!F149 -> 0 | M21: =ROUND(L21*0.125,0) -> 0 | N21: =L21-M21 -> 0 | O21: =ROUND(N21*0.06,2) -> 0 | P21: Zerbst 3-32 | R21: =L21/K21 -> #DIV/0!
A22: 2375 | B22: 2000 | C22: =C1 -> 102015 | D22: 2288 | E22: O | F22: 0 | G22: 0 | H22: 0 | I22: 0 | J22: S10 | K22: ='Actual Sales'!B101 -> 0 | L22: ='Actual Sales'!F101 -> 0 | M22: =ROUND(L22*0.125,0) -> 0 | N22: =L22-M22 -> 0 | O22: =ROUND(N22*0.04,2) -> 0 | P22: Zerbst 21-18 | R22: =L22/K22 -> #DIV/0!
A23: 2375 | B23: 3000 | C23: =C1 -> 102015 | D23: 2288 | E23: O | F23: 0 | G23: 0 | H23: 0 | I23: 0 | J23: BAS | K23: ='Actual Sales'!D148 -> 0 | L23: ='Actual Sales'!F148 -> 0 | M23: =ROUND(L23*0.125,0) -> 0 | N23: =L23-M23 -> 0 | O23: =ROUND(N23*0.06,2) -> 0 | P23: Zerbst 21-18 | R23: =L23/K23 -> #DIV/0!
A24: 2375 | B24: 2000 | C24: =C1 -> 102015 | D24: 2757 | E24: O | F24: 0 | G24: 0 | H24: 0 | I24: 0 | J24: S10 | K24: ='Actual Sales'!B23 -> 0 | L24: ='Actual Sales'!F23 -> 0 | M24: =ROUND(L24*0.125,0) -> 0 | N24: =L24-M24 -> 0 | O24: =ROUND(N24*0.04,2) -> 0 | P24: Manx #2 | R24: =L24/K24 -> #DIV/0!
A25: 2375 | B25: 2000 | C25: =C1 -> 102015 | D25: 2759 | E25: O | F25: 0 | G25: 0 | H25: 0 | I25: 0 | J25: S10 | K25: ='Actual Sales'!B84 -> 0 | L25: ='Actual Sales'!F84 -> 0 | M25: 0 | N25: =L25-M25 -> 0 | O25: =ROUND(N25*0.04,2) -> 0 | P25: Haight Trust #1 | R25: =L25/K25 -> #DIV/0!
A26: 2375 | B26: 2000 | C26: =C1 -> 102015 | D26: 5444 | E26: O | F26: 0 | G26: 0 | H26: 0 | I26: 0 | J26: S10 | K26: ='Actual Sales'!B153 -> 0 | L26: ='Actual Sales'!F153 -> 0 | M26: 0 | N26: =L26-M26 -> 0 | O26: =ROUND(N26*0.04,2) -> 0 | P26: Stewart 2 | R26: =L26/K26 -> #DIV/0!
A27: 2375 | B27: 2000 | C27: =C1 -> 102015 | D27: 5446 | E27: O | F27: 0 | G27: 0 | H27: 0 | I27: 0 | J27: BAS | K27: ='Actual Sales'!B80 -> 0 | L27: ='Actual Sales'!F80 -> 0 | M27: =ROUND(L27*0.125,0) -> 0 | N27: =L27-M27 -> 0 | O27: =ROUND(N27*0.06,2) -> 0 | P27: Federal Texaco Government #1 | R27: =L27/K27 -> #DIV/0!
A28: 2375 | B28: 2000 | C28: =C1 -> 102015 | D28: 5449 | E28: O | F28: 0 | G28: 0 | H28: 0 | I28: 0 | J28: BAS | K28: ='Actual Sales'!B77 -> 0 | L28: ='Actual Sales'!F77 -> 0 | M28: =ROUND(L28*0.125,0) -> 0 | N28: =L28-M28 -> 0 | O28: =ROUND(N28*0.06,2) -> 0 | P28: Federal 35-1 | R28: =L28/K28 -> #DIV/0!
A29: 2375 | B29: 2000 | C29: =C1 -> 102015 | D29: 5450 | E29: O | F29: 0 | G29: 0 | H29: 0 | I29: 0 | J29: BAS | K29: ='Actual Sales'!B76 -> 0 | L29: ='Actual Sales'!F76 -> 0 | M29: 0 | N29: =L29-M29 -> 0 | O29: =ROUND(N29*0.06,2) -> 0 | P29: LB Gray 1-23 | R29: =L29/K29 -> #DIV/0!
A30: 2375 | B30: 2000 | C30: =C1 -> 102015 | D30: 5456 | E30: O | F30: 0 | G30: 0 | H30: 0 | I30: 0 | J30: BAS | K30: ='Actual Sales'!B79 -> 0 | L30: ='Actual Sales'!F79 -> 0 | M30: =ROUND(L30*0.125,0) -> 0 | N30: =L30-M30 -> 0 | O30: =ROUND(N30*0.06,2) -> 0 | P30: North Breaks Minnelusa B Unit | R30: =L30/K30 -> #DIV/0!
A31: 2375 | B31: 2000 | C31: =C1 -> 102015 | D31: 5458 | E31: O | F31: 0 | G31: 0 | H31: 0 | I31: 0 | J31: BAS | K31: ='Actual Sales'!B78+'Actual Sales'!B159 -> 0 | L31: ='Actual Sales'!F78+'Actual Sales'!F159 -> 0 | M31: 0 | N31: =L31-M31 -> 0 | O31: =ROUND(N31*0.06,2) -> 0 | P31: Simpson 31-10 & 31-15 | R31: =L31/K31 -> #DIV/0!
A32: 2375 | B32: 2000 | C32: =C1 -> 102015 | D32: 5459 | E32: O | F32: 0 | G32: 0 | H32: 0 | I32: 0 | J32: BAS | K32: ='Actual Sales'!B92 -> 0 | L32: ='Actual Sales'!F92 -> 0 | M32: 0 | N32: =L32-M32 -> 0 | O32: =ROUND(N32*0.06,2) -> 0 | P32: Zimmerschied-Hahn 23-2 | R32: =L32/K32 -> #DIV/0!
A33: 2375 | B33: 2000 | C33: =C1 -> 102015 | D33: 5462 | E33: O | F33: 0 | G33: 0 | H33: 0 | I33: 0 | J33: BAS | K33: 0 | L33: 0 | M33: 0 | N33: =L33-M33 -> 0 | O33: =ROUND(N33*0.06,2) -> 0 | P33: Z-Hahn 14-10 | R33: =L33/K33 -> #DIV/0!
A34: 2375 | B34: 2000 | C34: =C1 -> 102015 | D34: 5559 | E34: O | F34: 0 | G34: 0 | H34: 0 | I34: 0 | J34: BAS | K34: ='Actual Sales'!B85 -> 0 | L34: ='Actual Sales'!F85 -> 0 | M34: =ROUND(L34*0.125,0) -> 0 | N34: =L34-M34 -> 0 | O34: =ROUND(N34*0.06,2) -> 0 | P34: King Dome/Ogle Wells | R34: =L34/K34+R55 -> #DIV/0!
A35: 2375 | B35: 2000 | C35: =C1 -> 102015 | D35: 6168 | E35: O | F35: 0 | G35: 0 | H35: 0 | I35: 0 | J35: BAS | K35: ='Actual Sales'!B94+'Actual Sales'!B154+'Actual Sales'!B155 -> 0 | L35: ='Actual Sales'!F154+'Actual Sales'!F155+'Actual Sales'!F94 -> 0 | M35: 0 | N35: =L35-M35 -> 0 | O35: =ROUND(N35*0.06,2) -> 0 | P35: Pfister 13-19, 14-19A&24-19 | R35: =L35/K35 -> #DIV/0!
A36: 2375 | B36: 2000 | C36: =C1 -> 102015 | D36: 6169 | E36: O | F36: 0 | G36: 0 | H36: 0 | I36: 0 | J36: BAS | K36: ='Actual Sales'!B95 -> 0 | L36: ='Actual Sales'!F95 -> 0 | M36: 0 | N36: =L36-M36 -> 0 | O36: =ROUND(N36*0.06,2) -> 0 | P36: Pfister 43-25 | R36: =L36/K36 -> #DIV/0!
A37: 2375 | B37: 2000 | C37: =C1 -> 102015 | D37: 6356 | E37: O | F37: 0 | G37: 0 | H37: 0 | I37: 0 | J37: S10 | K37: ='Actual Sales'!B69 -> 0 | L37: ='Actual Sales'!F69 -> 0 | M37: =ROUND(L37*0.125,0) -> 0 | N37: =L37-M37 -> 0 | O37: =ROUND(N37*0.04,2) -> 0 | P37: Govt #10 | R37: =L37/K37 -> #DIV/0!
A38: 2375 | B38: 2000 | C38: =C1 -> 102015 | D38: 6357 | E38: O | F38: 0 | G38: 0 | H38: 0 | I38: 0 | J38: S10 | K38: ='Actual Sales'!B68 -> 0 | L38: ='Actual Sales'!F68 -> 0 | M38: =ROUND(L38*0.125,0) -> 0 | N38: =L38-M38 -> 0 | O38: =ROUND(N38*0.04,2) -> 0 | P38: Govt #9 | R38: =L38/K38 -> #DIV/0!
A39: 2375 | B39: 2000 | C39: =C1 -> 102015 | D39: 6358 | E39: O | F39: 0 | G39: 0 | H39: 0 | I39: 0 | J39: S10 | K39: 0 | L39: 0 | M39: =ROUND(L39*0.125,0) -> 0 | N39: =L39-M39 -> 0 | O39: =ROUND(N39*0.04,2) -> 0 | P39: Govt #8 | R39: =L39/K39 -> #DIV/0!
A40: 2375 | B40: 2000 | C40: =C1 -> 102015 | D40: 6360 | E40: O | F40: 0 | G40: 0 | H40: 0 | I40: 0 | J40: S10 | K40: ='Actual Sales'!B67 -> 0 | L40: ='Actual Sales'!F67 -> 0 | M40: =ROUND(L40*0.125,0) -> 0 | N40: =L40-M40 -> 0 | O40: =ROUND(N40*0.04,2) -> 0 | P40: Govt #2 | R40: =L40/K40 -> #DIV/0!
...

Sheet Conservation
A2: POC-I LLC. | E2: For the Period Ending: | G2: 42308
A3: Lease Name | B3: APIS | C3: Gross Gas Sales (MCF) | D3: Gross Value of Sales | E3: Federal Royalty | F3: Net Gas Sales | G3: Taxable Value of Gas Sales
A4: Bruner 1 | B4: 4521526 | C4: ='Actual Sales'!D125 -> 0 | D4: ='Actual Sales'!F125 -> 0 | E4: 0 | F4: =C4-E4 -> 0 | G4: =D4 -> 0
A5: Gov 11-1-S | B5: 4521977 | C5: ='Actual Sales'!D138 -> 0 | D5: ='Actual Sales'!F138 -> 0 | E5: =C5*0.125 -> 0 | F5: =C5-E5 -> 0 | G5: =D5*0.875 -> 0
A6: Elk 13-2 | B6: 4521778 | C6: ='Actual Sales'!D130 -> 0 | D6: ='Actual Sales'!F130 -> 0 | E6: 0 | F6: =C6-E6 -> 0 | G6: =D6 -> 0
A7: Collins 10 | B7: 4522074 | C7: ='Actual Sales'!D127 -> 0 | D7: ='Actual Sales'!F127 -> 0 | E7: 0 | F7: =C7-E7 -> 0 | G7: =D7 -> 0
A8: Bruner Fee 3 | B8: 4522076 | C8: ='Actual Sales'!D138 -> 0 | D8: ='Actual Sales'!F138 -> 0 | E8: 0 | F8: =C8-E8 -> 0 | G8: =D8 -> 0
A9: Elk 13-5 | B9: 4522178 | C9: ='Actual Sales'!D132 -> 0 | D9: ='Actual Sales'!F132 -> 0 | E9: 0 | F9: =C9-E9 -> 0 | G9: =D9 -> 0
A10: Elk 13-9 | B10: 4522228 | C10: ='Actual Sales'!D133 -> 0 | D10: ='Actual Sales'!F133 -> 0 | E10: 0 | F10: =C10-E10 -> 0 | G10: =D10 -> 0
A11: Govt 14-9 | B11: 4522436 | C11: 0 | D11: 0 | E11: 0 | F11: =C11-E11 -> 0 | G11: =D11 -> 0
A12: Collins 8 | B12: 4505460 | C12: ='Actual Sales'!D129 -> 0 | D12: ='Actual Sales'!F129 -> 0 | E12: 0 | F12: =C12-E12 -> 0 | G12: =D12 -> 0
A13: Elk 7 | B13: 4505443 | C13: ='Actual Sales'!D134 -> 0 | D13: ='Actual Sales'!F134 -> 0 | E13: =C13*0.125 -> 0 | F13: =C13-E13 -> 0 | G13: =D13*0.875 -> 0
A14: Elk 13-4 | B14: 4522451 | C14: ='Actual Sales'!D131 -> 0 | D14: ='Actual Sales'!F131 -> 0 | E14: 0 | F14: =C14-E14 -> 0 | G14: =D14 -> 0
A15: Fed 43-11 | B15: 4522880 | C15: ='Actual Sales'!D135 -> 0 | D15: ='Actual Sales'!F135 -> 0 | E15: =C15*0.125 -> 0 | F15: =C15-E15 -> 0 | G15: =D15*0.875 -> 0
A16: Fed 44-11 | B16: 4522881 | C16: ='Actual Sales'!D136 -> 0 | D16: ='Actual Sales'!F136 -> 0 | E16: =C16*0.125 -> 0 | F16: =C16-E16 -> 0 | G16: =D16*0.875 -> 0
A17: Collins 31-14 | B17: 4522882 | C17: 0 | D17: 0 | E17: 0 | F17: =C17-E17 -> 0 | G17: =D17 -> 0
A18: Berg 9 | B18: 4505372 | C18: ='Actual Sales'!D124 -> 0 | D18: ='Actual Sales'!F124 -> 0 | E18: 0 | F18: =C18-E18 -> 0 | G18: =D18 -> 0
A19: Grieves 24-8 | B19: 4529260 | C19: ='Actual Sales'!D142 -> 0 | D19: ='Actual Sales'!F142 -> 0 | E19: 0 | F19: =C19-E19 -> 0 | G19: =D19 -> 0
A20: Grieves 24-1 | B20: 4529261 | C20: ='Actual Sales'!D141 -> 0 | D20: ='Actual Sales'!F141 -> 0 | E20: 0 | F20: =C20-E20 -> 0 | G20: =D20 -> 0
A21: Grieves 13-16 | B21: 4529256 | C21: ='Actual Sales'!D140 -> 0 | D21: ='Actual Sales'!F140 -> 0 | E21: 0 | F21: =C21-E21 -> 0 | G21: =D21 -> 0
A22: Gov 1-2 | B22: 4505409 | C22: ='Actual Sales'!D139 -> 0 | D22: ='Actual Sales'!F139 -> 0 | E22: =C22*0.125 -> 0 | F22: =C22-E22 -> 0 | G22: =D22*0.875 -> 0
A23: Collins 14-7 | B23: 4529257 | C23: ='Actual Sales'!D128 -> 0 | D23: ='Actual Sales'!F128 -> 0 | E23: 0 | F23: =C23-E23 -> 0 | G23: =D23 -> 0
A24: Zerbst 3-32 | B24: 2720869 | C24: ='Actual Sales'!D149 -> 0 | D24: ='Actual Sales'!F149 -> 0 | E24: 0 | F24: =C24-E24 -> 0 | G24: =D24 -> 0
A25: Zerbst 3-22 | B25: 2720894 | C25: ='Actual Sales'!D146 -> 0 | D25: ='Actual Sales'!F146 -> 0 | E25: =C25*0.125 -> 0 | F25: =C25-E25 -> 0 | G25: =D25*0.875 -> 0
A26: Zerbst 10-21 | B26: 2720902 | C26: ='Actual Sales'!D150 -> 0 | D26: ='Actual Sales'!F150 -> 0 | E26: 0 | F26: =C26-E26 -> 0 | G26: =D26 -> 0
A27: Gaskill 43-34 | B27: 2720843 | C27: ='Actual Sales'!D137 -> 0 | D27: ='Actual Sales'!F137 -> 0 | E27: 0 | F27: =C27-E27 -> 0 | G27: =D27 -> 0
A28: Zerbst 24-3 | B28: 2720899 | C28: ='Actual Sales'!D147 -> 0 | D28: ='Actual Sales'!F147 -> 0 | E28: 0 | F28: =C28-E28 -> 0 | G28: =D28 -> 0
A29: Zerbst 3-14 | B29: 2720908 | C29: ='Actual Sales'!D145 -> 0 | D29: ='Actual Sales'!F145 -> 0 | E29: 0 | F29: =C29-E29 -> 0 | G29: =D29 -> 0
A30: 11-10 | B30: 2720909 | C30: ='Actual Sales'!D144 -> 0 | D30: ='Actual Sales'!F144 -> 0 | E30: 0 | F30: =C30-E30 -> 0 | G30: =D30 -> 0
A31: Thompson 41-34 | B31: 2720829 | C31: ='Actual Sales'!D143 -> 0 | D31: ='Actual Sales'!F143 -> 0 | E31: 0 | F31: =C31-E31 -> 0 | G31: =D31 -> 0
A33: Totals | C33: =SUM(C4:C31) -> 0 | D33: =SUM(D4:D31) -> 0 | E33: =SUM(E4:E31) -> 0 | F33: =SUM(F4:F31) -> 0 | G33: =SUM(G4:G31) -> 0
E35: GAS | F35: Cons Tax | G35: =G33*0.0004 -> 0
A37: POC-I LLC. | E37: For the Period Ending: | G37: =G2 -> 42308
A38: Lease Name | B38: APIs | C38: Gross Oil Sales (Bbl) | D38: Gross Value of Sales | E38: Federal Royalty | F38: Net Oil Sales | G38: Taxable Value of Oil Sales
A39: 4-H Fed Battery | B39: 4511190 | C39: 0 | D39: 0 | E39: =C39*0.125 -> 0 | F39: =C39-E39 -> 0 | G39: =D39*0.875 -> 0
B40: 4511200
B41: 4505798
A42: Aimonetto 2 & 4 | B42: 4521761 | C42: ='Actual Sales'!B48 -> 0 | D42: ='Actual Sales'!F48 -> 0 | E42: 0 | F42: =C42-E42 -> 0 | G42: =D42 -> 0
B43: 4522101
A44: Ames Federal 32-1 | B44: 4521065 | C44: ='Actual Sales'!B33 -> 0 | D44: ='Actual Sales'!F33 -> 0 | E44: =C44*0.125 -> 0 | F44: =C44-E44 -> 0 | G44: =D44*0.875 -> 0
...

Sheet Cons. Tax Form
B1: FORM OG- 001 | K1: WYOMING OIL AND GAS CONSERVATION COMMISSION
B2: 10M 10-13 | K2: 2211 KING BOULEVARD
B3: RETURN ORIGINAL | K3: P.O. BOX 2640 | S3: FOR THE PERIOD ENDING | U3: =Conservation!G2 -> 42308
B4: 2375 | D4: Oil & Gas | F4: Monthly or Semi | J4: ( Circle One ) | K4: CASPER, WYOMING 82602
B5: Op. Code | D5: Oil or Gas
B6: POC-I LLC. | L6: CONSERVATION TAX FORM OG-001
B7: Name of business or taxpayer | S7: Payments and corresponding forms must be submitted on or before the 25th day of the 2nd month following the month in which the production occurs.
B8: 1888 Sherman St. Suite 500 Denver, CO 80203
B9: Business Address
B10: API # / WELL NAME | J10: GROSS OIL SALES IN BARRELS | K10: GROSS GAS SALES IN M.C.F. | L10: INDIAN OR TRIBAL, STATE OR GOVERN- MENT ROYALTIES | N10: GAS PLANT NAME, SHRINKAGE, PLANT USE, ETC. | O10: NET OIL SALES IN BARRELS | P10: NET GAS SALES IN M.C.F. | Q10: NET LIQUID SALES IN GALLONS | R10: TAXABLE VALUE OF NET SALES | U10: IF ANOTHER PARTY REMITS THE TAXES ON THIS PROPERTY
L11: BBLS. OR M.C.F. | R11: OIL | S11: GAS | T11: LIQUIDS | U11: LIST NAME
B13: See Attached
L27: =Conservation!E33 -> 0 | M27: MCF
B28: TOTALS | J28: =Conservation!C278 -> 0 | K28: =Conservation!C33 -> 0 | L28: =Conservation!E278 -> 0 | M28: BBLS | O28: =Conservation!F278 -> 0 | P28: =Conservation!F33 -> 0 | R28: =Conservation!G278 -> 0 | S28: =Conservation!G33 -> 0
C29: This Form Must Be Signed
B30: I hereby certify that I have examined this report and that the statements made and shown hereon and in any accompanying schedules are to the best of my knowledge and belief a true and complete return, made in good faith for the period stated, pursuant to Section 30-5-116 W.S. Republished 1977, and the rules and regulations issued under authority thereof. | S30: OIL | T30: GAS | U30: LIQUIDS
L31: Phone: | N31: 307-237-7854 | Q31: TOTAL TAXABLE VALUE | S31: =R28 -> 0 | T31: =S28 -> 0
K33: =TODAY() -> 42326 | L33: Email: | N33: wyoeaglefan@wyoming.com
C34: Agent, or officer if corp., trustee, etc. | J34: Date | L34: GAS PLANT INFORMATION SHOULD CORRESPOND WITH FORM 9.VOLUMES SHOULD CORRESPOND WITH VOLUMES REPORTED ON PRODUCTION FORM 2. TOTAL TAXABLE VALUE LIABILITY SHOULD CORRESPOND WITH THE INFORMATION PROVIDED TO THE DEPT. OF REVENUE AND TAXATION. PURCHASERS SHOULD PROVIDE OPERATORS NAME FOR EACH PROPERTY. | Q34: NET TAXABLE VALUE | S34: =S31 -> 0 | T34: =T31 -> 0
C35: POC-I LLC.
Q36: TAX RATE | S36: 0.0004 | T36: 0.0004
C37: Name of business or taxpayer ( PLEASE PRINT ) | Q37: TAX DUE | S37: =S34*S36 -> 0 | T37: =T34*T36 -> 0
