Workbook

Sheet List of Wells - Blank
A1: Operator's Wellbore Integrity Contact
A2: OFFSET WELL EVALUATIONS
A3: Offset Well API # | B3: Offset Well Name | C3: Nearest Proposed Horizontal Well Name | D3: Shortest Horizontal Distance from Offset Well to any Proposed HZ Well | E3: Offset Well Operator | F3: Offset Well Spud Date | G3: Offset Well Status | H3: Offset Well Surface Casing Setting Depth | I3: Base of Fox Hills or Depth of Deepest Water Well | J3: Historical Remedial Work to Provide Fox Hills Coverage | K3: Offset Well Objective Formation Top | L3: Offset Well Top of Production Casing Cement | M3: Comments (Optional)
A4: 05-123-21425 | B4: 7-28A WHITTEMORE | C4: COOK 15C-28HZ | D4: 78 | E4: KERR MCGEE OIL & GAS ONSHORE LP | F4: =VLOOKUP($A4,Sheet1!$A$3:$M$589,6,FALSE) -> 5/8/2003 | G4: PA | H4: =VLOOKUP($A4,Sheet1!$A$3:$M$589,8,FALSE) -> 915 | I4: =VLOOKUP($A4,Sheet1!$A$3:$M$589,9,FALSE) -> 800 | J4: None | K4: =VLOOKUP($A4,Sheet1!$A$3:$M$589,11,FALSE) -> 6922 | L4: =VLOOKUP($A4,Sheet1!$A$3:$M$589,12,FALSE) -> 6350
A5: 05-123-09945 | B5: 34-16 Nichols | C5: COOK 2N-16HZ | D5: 82 | E5: KERR MCGEE OIL & GAS ONSHORE LP | F5: =VLOOKUP($A5,Sheet1!$A$3:$M$589,6,FALSE) -> 4/25/1980 | G5: PR | H5: =VLOOKUP($A5,Sheet1!$A$3:$M$589,8,FALSE) -> 666 | I5: =VLOOKUP($A5,Sheet1!$A$3:$M$589,9,FALSE) -> 720 | J5: None | K5: =VLOOKUP($A5,Sheet1!$A$3:$M$589,11,FALSE) -> 6952 | L5: =VLOOKUP($A5,Sheet1!$A$3:$M$589,12,FALSE) -> 7184
A6: 05-123-25916 | B6: 21-02 ARENDS X | C6: COOK 15C-28HZ | D6: 97 | E6: KERR MCGEE OIL & GAS ONSHORE LP | F6: =VLOOKUP($A6,Sheet1!$A$3:$M$589,6,FALSE) -> 9/11/08 | G6: PR | H6: =VLOOKUP($A6,Sheet1!$A$3:$M$589,8,FALSE) -> 896 | I6: =VLOOKUP($A6,Sheet1!$A$3:$M$589,9,FALSE) -> 800 | J6: =VLOOKUP($A6,Sheet1!$A$3:$M$589,10,FALSE) -> DV tool at 5769' | K6: =VLOOKUP($A6,Sheet1!$A$3:$M$589,11,FALSE) -> 6950 | L6: =VLOOKUP($A6,Sheet1!$A$3:$M$589,12,FALSE) -> 2000
A7: 05-123-09948 | B7: 34-21 HALLER | C7: COOK 37N-28HZ | D7: 135 | E7: KERR MCGEE OIL & GAS ONSHORE LP | F7: =VLOOKUP($A7,Sheet1!$A$3:$M$589,6,FALSE) -> 5/8/1980 | G7: PR | H7: =VLOOKUP($A7,Sheet1!$A$3:$M$589,8,FALSE) -> 643 | I7: =VLOOKUP($A7,Sheet1!$A$3:$M$589,9,FALSE) -> 800 | J7: None | K7: =VLOOKUP($A7,Sheet1!$A$3:$M$589,11,FALSE) -> 6930 | L7: =VLOOKUP($A7,Sheet1!$A$3:$M$589,12,FALSE) -> 6654
A8: 05-123-19452 | B8: 2A HSR-DEKALB | C8: COOK 37N-28HZ | D8: 142 | E8: KERR MCGEE OIL & GAS ONSHORE LP | F8: 35695 | G8: PA | H8: 963 | I8: 800 | J8: - | K8: 6916 | L8: 6870 | M8: P&A completed in 2013. Nio top found from Allen X 28-08 05-123-26954 Offset
A9: 05-123-07946 | B9: 1 DEKALB | C9: COOK 37N-28HZ | D9: 158 | E9: KERR MCGEE OIL & GAS ONSHORE LP | F9: =VLOOKUP($A9,Sheet1!$A$3:$M$589,6,FALSE) -> 11/26/1973 | G9: PA | H9: =VLOOKUP($A9,Sheet1!$A$3:$M$589,8,FALSE) -> 210 | I9: =VLOOKUP($A9,Sheet1!$A$3:$M$589,9,FALSE) -> 800 | J9: None | K9: =VLOOKUP($A9,Sheet1!$A$3:$M$589,11,FALSE) -> 6922 | L9: =VLOOKUP($A9,Sheet1!$A$3:$M$589,12,FALSE) -> 0 | M9: =VLOOKUP($A9,Sheet1!$A$3:$M$589,13,FALSE) -> P&A completed in 2013
A10: 05-123-22982 | B10: 21-7JI HALLER X | C10: COOK 15C-28HZ | D10: 168 | E10: KERR MCGEE OIL & GAS ONSHORE LP | F10: =VLOOKUP($A10,Sheet1!$A$3:$M$589,6,FALSE) -> 7/9/2005 | G10: PR | H10: =VLOOKUP($A10,Sheet1!$A$3:$M$589,8,FALSE) -> 888 | I10: =VLOOKUP($A10,Sheet1!$A$3:$M$589,9,FALSE) -> 800 | J10: None | K10: =VLOOKUP($A10,Sheet1!$A$3:$M$589,11,FALSE) -> 6939 | L10: =VLOOKUP($A10,Sheet1!$A$3:$M$589,12,FALSE) -> 6280
A11: 05-123-33481 | B11: 36-16 THOMASON | C11: COOK 28N-16HZ | D11: 197 | E11: KERR MCGEE OIL & GAS ONSHORE LP | F11: =VLOOKUP($A11,Sheet1!$A$3:$M$589,6,FALSE) -> 10/12/2011 | G11: PR | H11: =VLOOKUP($A11,Sheet1!$A$3:$M$589,8,FALSE) -> 940 | I11: =VLOOKUP($A11,Sheet1!$A$3:$M$589,9,FALSE) -> 720 | J11: None | K11: =VLOOKUP($A11,Sheet1!$A$3:$M$589,11,FALSE) -> 7265 | L11: =VLOOKUP($A11,Sheet1!$A$3:$M$589,12,FALSE) -> 740
A12: 05-123-33479 | B12: 23-16 THOMASON | C12: COOK 28N-16HZ | D12: 208 | E12: KERR MCGEE OIL & GAS ONSHORE LP | F12: =VLOOKUP($A12,Sheet1!$A$3:$M$589,6,FALSE) -> 10/9/2011 | G12: PR | H12: =VLOOKUP($A12,Sheet1!$A$3:$M$589,8,FALSE) -> 951 | I12: =VLOOKUP($A12,Sheet1!$A$3:$M$589,9,FALSE) -> 720 | J12: None | K12: =VLOOKUP($A12,Sheet1!$A$3:$M$589,11,FALSE) -> 7038 | L12: =VLOOKUP($A12,Sheet1!$A$3:$M$589,12,FALSE) -> 530
A13: 05-123-10645 | B13: 2 DEKALB | C13: COOK 37N-28HZ | D13: 215 | E13: KERR MCGEE OIL & GAS ONSHORE LP | F13: 30076 | G13: PA | H13: - | I13: 800 | J13: - | K13: - | L13: 6400 | M13: P&A completed in 2013.
A14: 05-123-34529 | B14: 25-16R THOMASON | C14: COOK 28N-16HZ | D14: 228 | E14: KERR MCGEE OIL & GAS ONSHORE LP | F14: =VLOOKUP($A14,Sheet1!$A$3:$M$589,6,FALSE) -> 10/6/2011 | G14: PR | H14: =VLOOKUP($A14,Sheet1!$A$3:$M$589,8,FALSE) -> 943 | I14: =VLOOKUP($A14,Sheet1!$A$3:$M$589,9,FALSE) -> 720 | J14: None | K14: =VLOOKUP($A14,Sheet1!$A$3:$M$589,11,FALSE) -> 7126 | L14: =VLOOKUP($A14,Sheet1!$A$3:$M$589,12,FALSE) -> 870
A15: 05-123-33478 | B15: 21-16 THOMASON | C15: COOK 28N-16HZ | D15: 237 | E15: KERR MCGEE OIL & GAS ONSHORE LP | F15: =VLOOKUP($A15,Sheet1!$A$3:$M$589,6,FALSE) -> 9/29/2011 | G15: PR | H15: =VLOOKUP($A15,Sheet1!$A$3:$M$589,8,FALSE) -> 952 | I15: =VLOOKUP($A15,Sheet1!$A$3:$M$589,9,FALSE) -> 720 | J15: None | K15: =VLOOKUP($A15,Sheet1!$A$3:$M$589,11,FALSE) -> 7336 | L15: =VLOOKUP($A15,Sheet1!$A$3:$M$589,12,FALSE) -> 690
A16: 05-123-32499 | B16: DECHANT 36-9 | C16: COOK 28N-16HZ | D16: 333 | E16: KERR MCGEE OIL & GAS ONSHORE LP | F16: =VLOOKUP($A16,Sheet1!$A$3:$M$589,6,FALSE) -> 3/1/2011 | G16: PR | H16: =VLOOKUP($A16,Sheet1!$A$3:$M$589,8,FALSE) -> 840 | I16: =VLOOKUP($A16,Sheet1!$A$3:$M$589,9,FALSE) -> 556 | J16: =VLOOKUP($A16,Sheet1!$A$3:$M$589,10,FALSE) -> DV tool @ 3942 | K16: =VLOOKUP($A16,Sheet1!$A$3:$M$589,11,FALSE) -> 7350 | L16: =VLOOKUP($A16,Sheet1!$A$3:$M$589,12,FALSE) -> 634
A17: 05-123-36225 | B17: GITTLEIN 3N-28HZ | C17: COOK 36N-28HZ | D17: 355 | E17: KERR MCGEE OIL & GAS ONSHORE LP | F17: =VLOOKUP($A17,Sheet1!$A$3:$M$589,6,FALSE) -> 10/12/2013 | G17: PR | H17: =VLOOKUP($A17,Sheet1!$A$3:$M$589,8,FALSE) -> 1338 | I17: =VLOOKUP($A17,Sheet1!$A$3:$M$589,9,FALSE) -> 920 | J17: None | K17: =VLOOKUP($A17,Sheet1!$A$3:$M$589,11,FALSE) -> 7057 | L17: =VLOOKUP($A17,Sheet1!$A$3:$M$589,12,FALSE) -> 154
A18: 05-123-32380 | B18: 37-9 THOMASON | C18: COOK 2N-16HZ | D18: 392 | E18: KERR MCGEE OIL & GAS ONSHORE LP | F18: 40649 | G18: PR | H18: 790 | I18: 725 | J18: None | K18: 7045 | L18: 6480 | M18: DV tool at 5343' w/ cmt up to 660.
A19: 05-123-07401 | B19: 41-21 HALLER | C19: COOK 37N-28HZ | D19: 550 | E19: KERR MCGEE OIL & GAS ONSHORE LP | F19: 26285 | G19: PR | H19: 208 | I19: 800 | J19: Annular remedial Cement over Aquifer. 600' - 0'. | K19: 6952 | L19: 6100 | M19: Squeeze over Codell/Nio. 1-1/4" annular for aquifer job.
A20: 05-123-36231 | B20: GITTLEIN 3C-28HZ | C20: COOK 36N-28HZ | D20: 595 | E20: KERR MCGEE OIL & GAS ONSHORE LP | F20: =VLOOKUP($A20,Sheet1!$A$3:$M$589,6,FALSE) -> 9/30/2013 | G20: PR | H20: =VLOOKUP($A20,Sheet1!$A$3:$M$589,8,FALSE) -> 1336 | I20: =VLOOKUP($A20,Sheet1!$A$3:$M$589,9,FALSE) -> 920 | J20: None | K20: =VLOOKUP($A20,Sheet1!$A$3:$M$589,11,FALSE) -> 6960 | L20: =VLOOKUP($A20,Sheet1!$A$3:$M$589,12,FALSE) -> 200
A21: 05-123-23330 | B21: 15-9 THOMASON | C21: COOK 2G-16HZ | D21: 619 | E21: KERR MCGEE OIL & GAS ONSHORE LP | F21: =VLOOKUP($A21,Sheet1!$A$3:$M$589,6,FALSE) -> 2/15/06 | G21: PR | H21: =VLOOKUP($A21,Sheet1!$A$3:$M$589,8,FALSE) -> 891 | I21: =VLOOKUP($A21,Sheet1!$A$3:$M$589,9,FALSE) -> 725 | J21: =VLOOKUP($A21,Sheet1!$A$3:$M$589,10,FALSE) -> DV tool at 3112 | K21: =VLOOKUP($A21,Sheet1!$A$3:$M$589,11,FALSE) -> 6926 | L21: =VLOOKUP($A21,Sheet1!$A$3:$M$589,12,FALSE) -> 6190
A22: 05-123-21072 | B22: 21-16 FOURWAY | C22: COOK 28N-16HZ | D22: 623 | E22: ENCANA ENERGY RESOURCES INC. | F22: =VLOOKUP($A22,Sheet1!$A$3:$M$589,6,FALSE) -> NA | G22: AL | H22: =VLOOKUP($A22,Sheet1!$A$3:$M$589,8,FALSE) -> NA | I22: =VLOOKUP($A22,Sheet1!$A$3:$M$589,9,FALSE) -> NA | J22: None | K22: =VLOOKUP($A22,Sheet1!$A$3:$M$589,11,FALSE) -> NA | L22: =VLOOKUP($A22,Sheet1!$A$3:$M$589,12,FALSE) -> NA | M22: =VLOOKUP($A22,Sheet1!$A$3:$M$589,13,FALSE) -> Well never drilled
A23: 05-123-33477 | B23: 14-16 THOMASON | C23: COOK 28N-16HZ | D23: 640 | E23: KERR MCGEE OIL & GAS ONSHORE LP | F23: =VLOOKUP($A23,Sheet1!$A$3:$M$589,6,FALSE) -> 10/16/2011 | G23: PR | H23: =VLOOKUP($A23,Sheet1!$A$3:$M$589,8,FALSE) -> 946 | I23: =VLOOKUP($A23,Sheet1!$A$3:$M$589,9,FALSE) -> 720 | J23: None | K23: =VLOOKUP($A23,Sheet1!$A$3:$M$589,11,FALSE) -> 7167 | L23: =VLOOKUP($A23,Sheet1!$A$3:$M$589,12,FALSE) -> 520
A24: 05-123-21085 | B24: 22-16 FOURWAY | C24: COOK 28N-16HZ | D24: 662 | E24: ENCANA ENERGY RESOURCES INC. | F24: =VLOOKUP($A24,Sheet1!$A$3:$M$589,6,FALSE) -> NA | G24: AL | H24: =VLOOKUP($A24,Sheet1!$A$3:$M$589,8,FALSE) -> NA | I24: =VLOOKUP($A24,Sheet1!$A$3:$M$589,9,FALSE) -> NA | J24: None | K24: =VLOOKUP($A24,Sheet1!$A$3:$M$589,11,FALSE) -> NA | L24: =VLOOKUP($A24,Sheet1!$A$3:$M$589,12,FALSE) -> NA | M24: =VLOOKUP($A24,Sheet1!$A$3:$M$589,13,FALSE) -> Well never drilled
A25: 05-123-07982 | B25: 41-16 NICHOLS | C25: COOK 2N-16HZ | D25: 679 | E25: NOBLE ENERGY INC | F25: 27034 | G25: PA | H25: 218 | I25: 725 | J25: - | K25: 6968 | L25: - | M25: P&A completed in 2012
A26: 05-123-33480 | B26: 6-16 THOMASON | C26: COOK 28N-16HZ | D26: 682 | E26: KERR MCGEE OIL & GAS ONSHORE LP | F26: =VLOOKUP($A26,Sheet1!$A$3:$M$589,6,FALSE) -> 9/26/2011 | G26: PR | H26: =VLOOKUP($A26,Sheet1!$A$3:$M$589,8,FALSE) -> 943 | I26: =VLOOKUP($A26,Sheet1!$A$3:$M$589,9,FALSE) -> 720 | J26: None | K26: =VLOOKUP($A26,Sheet1!$A$3:$M$589,11,FALSE) -> 7118 | L26: =VLOOKUP($A26,Sheet1!$A$3:$M$589,12,FALSE) -> 420
A27: 05-123-33482 | B27: 25-16 THOMASON | C27: COOK 28N-16HZ | D27: 774 | E27: KERR MCGEE OIL & GAS ONSHORE LP | F27: =VLOOKUP($A27,Sheet1!$A$3:$M$589,6,FALSE) -> 10/3/2011 | G27: DA | H27: =VLOOKUP($A27,Sheet1!$A$3:$M$589,8,FALSE) -> 780 | I27: =VLOOKUP($A27,Sheet1!$A$3:$M$589,9,FALSE) -> 720 | J27: None | K27: =VLOOKUP($A27,Sheet1!$A$3:$M$589,11,FALSE) -> NA | L27: =VLOOKUP($A27,Sheet1!$A$3:$M$589,12,FALSE) -> NA | M27: =VLOOKUP($A27,Sheet1!$A$3:$M$589,13,FALSE) -> P&A completed in 2013. Only surface was drilled
A28: 05-123-20897 | B28: 11-21A ADAMSON | C28: COOK 36N-28HZ | D28: 776 | E28: KERR MCGEE OIL & GAS ONSHORE LP | F28: =VLOOKUP($A28,Sheet1!$A$3:$M$589,6,FALSE) -> 7/7/2002 | G28: PR | H28: =VLOOKUP($A28,Sheet1!$A$3:$M$589,8,FALSE) -> 862 | I28: =VLOOKUP($A28,Sheet1!$A$3:$M$589,9,FALSE) -> 800 | J28: None | K28: =VLOOKUP($A28,Sheet1!$A$3:$M$589,11,FALSE) -> 6949 | L28: =VLOOKUP($A28,Sheet1!$A$3:$M$589,12,FALSE) -> 6100
A29: 05-123-19558 | B29: 11-28A HSR-ROLAND | C29: COOK 36N-28HZ | D29: 782 | E29: KERR MCGEE OIL & GAS ONSHORE LP | F29: =VLOOKUP($A29,Sheet1!$A$3:$M$589,6,FALSE) -> 2/21/1998 | G29: PR | H29: =VLOOKUP($A29,Sheet1!$A$3:$M$589,8,FALSE) -> 915 | I29: =VLOOKUP($A29,Sheet1!$A$3:$M$589,9,FALSE) -> 800 | J29: None | K29: =VLOOKUP($A29,Sheet1!$A$3:$M$589,11,FALSE) -> 6828 | L29: =VLOOKUP($A29,Sheet1!$A$3:$M$589,12,FALSE) -> 6514
A30: 05-123-35608 | B30: 28N-9HZ HAYMAKER | C30: COOK 28N-16HZ | D30: 782 | E30: KERR MCGEE OIL & GAS ONSHORE LP | F30: =VLOOKUP($A30,Sheet1!$A$3:$M$589,6,FALSE) -> 10/3/2012 | G30: PR | H30: =VLOOKUP($A30,Sheet1!$A$3:$M$589,8,FALSE) -> 890 | I30: =VLOOKUP($A30,Sheet1!$A$3:$M$589,9,FALSE) -> 570 | J30: None | K30: =VLOOKUP($A30,Sheet1!$A$3:$M$589,11,FALSE) -> 7101 | L30: =VLOOKUP($A30,Sheet1!$A$3:$M$589,12,FALSE) -> 150
A31: 05-123-35658 | B31: 2C-9HZ THOMASON | C31: COOK 2G-16HZ | D31: 783 | E31: KERR MCGEE OIL & GAS ONSHORE LP | F31: =VLOOKUP($A31,Sheet1!$A$3:$M$589,6,FALSE) -> 9/20/12 | G31: PR | H31: =VLOOKUP($A31,Sheet1!$A$3:$M$589,8,FALSE) -> 890 | I31: =VLOOKUP($A31,Sheet1!$A$3:$M$589,9,FALSE) -> 570 | J31: None | K31: =VLOOKUP($A31,Sheet1!$A$3:$M$589,11,FALSE) -> 6948 | L31: =VLOOKUP($A31,Sheet1!$A$3:$M$589,12,FALSE) -> 510
A32: 05-123-35659 | B32: 27N-W9HZ THOMASON | C32: COOK 2N-16HZ | D32: 790 | E32: KERR MCGEE OIL & GAS ONSHORE LP | F32: 41171 | G32: PR | H32: 928 | I32: 570 | J32: None | K32: 7072 | L32: 400
A33: 05-123-35657 | B33: 2N-9HZ THOMASON | C33: COOK 2G-16HZ | D33: 809 | E33: KERR MCGEE OIL & GAS ONSHORE LP | F33: =VLOOKUP($A33,Sheet1!$A$3:$M$589,6,FALSE) -> 9/22/12 | G33: PR | H33: =VLOOKUP($A33,Sheet1!$A$3:$M$589,8,FALSE) -> 890 | I33: =VLOOKUP($A33,Sheet1!$A$3:$M$589,9,FALSE) -> 570 | J33: None | K33: =VLOOKUP($A33,Sheet1!$A$3:$M$589,11,FALSE) -> 7114 | L33: =VLOOKUP($A33,Sheet1!$A$3:$M$589,12,FALSE) -> 350
A34: 05-123-17144 | B34: 16-11 THOMASON X | C34: COOK 28N-16HZ | D34: 820 | E34: KERR MCGEE OIL & GAS ONSHORE LP | F34: =VLOOKUP($A34,Sheet1!$A$3:$M$589,6,FALSE) -> 7/31/1993 | G34: PR | H34: =VLOOKUP($A34,Sheet1!$A$3:$M$589,8,FALSE) -> 823 | I34: =VLOOKUP($A34,Sheet1!$A$3:$M$589,9,FALSE) -> 720 | J34: None | K34: =VLOOKUP($A34,Sheet1!$A$3:$M$589,11,FALSE) -> 6928 | L34: =VLOOKUP($A34,Sheet1!$A$3:$M$589,12,FALSE) -> 6500
A35: 05-123-17205 | B35: 16-3 THOMASON X | C35: COOK 28N-16HZ | D35: 836 | E35: KERR MCGEE OIL & GAS ONSHORE LP | F35: =VLOOKUP($A35,Sheet1!$A$3:$M$589,6,FALSE) -> 8/12/1993 | G35: PR | H35: =VLOOKUP($A35,Sheet1!$A$3:$M$589,8,FALSE) -> 821 | I35: =VLOOKUP($A35,Sheet1!$A$3:$M$589,9,FALSE) -> 720 | J35: None | K35: =VLOOKUP($A35,Sheet1!$A$3:$M$589,11,FALSE) -> 6978 | L35: =VLOOKUP($A35,Sheet1!$A$3:$M$589,12,FALSE) -> 6550 | M35: =VLOOKUP($A35,Sheet1!$A$3:$M$589,13,FALSE) -> P&Acompleted in 2015
A36: 05-123-26954 | B36: 28-08 ALLEN X | C36: COOK 37N-28HZ | D36: 845 | E36: KERR MCGEE OIL & GAS ONSHORE LP | F36: 39665 | G36: PR | H36: 972 | I36: 800 | J36: None | K36: 6916 | L36: 1960
A37: 05-123-26952 | B37: 28-01 ALLEN X | C37: COOK 37N-28HZ | D37: 880 | E37: KERR MCGEE OIL & GAS ONSHORE LP | F37: 39660 | G37: PR | H37: 953 | I37: 800 | J37: None | K37: 6866 | L37: 1000
A38: 05-123-25915 | B38: 21-09 ARENDS X | C38: COOK 37N-28HZ | D38: 900 | E38: KERR MCGEE OIL & GAS ONSHORE LP | F38: 39685 | G38: PR | H38: 909 | I38: 800 | J38: None | K38: 6971 | L38: 2845
A39: 05-123-36218 | B39: GITTLEIN 29N-28HZ | C39: COOK 36N-28HZ | D39: 936 | E39: KERR MCGEE OIL & GAS ONSHORE LP | F39: =VLOOKUP($A39,Sheet1!$A$3:$M$589,6,FALSE) -> 9/11/2013 | G39: PR | H39: =VLOOKUP($A39,Sheet1!$A$3:$M$589,8,FALSE) -> 1301 | I39: =VLOOKUP($A39,Sheet1!$A$3:$M$589,9,FALSE) -> 920 | J39: None | K39: =VLOOKUP($A39,Sheet1!$A$3:$M$589,11,FALSE) -> 7047 | L39: =VLOOKUP($A39,Sheet1!$A$3:$M$589,12,FALSE) -> 630
A40: 05-123-25862 | B40: 21-06 MEGUIRE X | C40: COOK 36N-28HZ | D40: 974 | E40: KERR MCGEE OIL & GAS ONSHORE LP | F40: =VLOOKUP($A40,Sheet1!$A$3:$M$589,6,FALSE) -> 10/28/2008 | G40: PR | H40: =VLOOKUP($A40,Sheet1!$A$3:$M$589,8,FALSE) -> 880 | I40: =VLOOKUP($A40,Sheet1!$A$3:$M$589,9,FALSE) -> 800 | J40: None | K40: =VLOOKUP($A40,Sheet1!$A$3:$M$589,11,FALSE) -> 6968 | L40: =VLOOKUP($A40,Sheet1!$A$3:$M$589,12,FALSE) -> 3030
...

Sheet Sheet1
A2: Offset Well API # | B2: Offset Well Name | C2: Nearest Proposed Horizontal Well Name | D2: Shortest Horizontal Distance from Offset Well to any Proposed HZ Well | E2: Offset Well Operator | F2: Offset Well Spud Date | G2: Offset Well Status | H2: Offset Well Surface Casing Setting Depth | I2: Base of Fox Hills or Depth of Deepest Water Well | J2: Historical Remedial Work to Provide Fox Hills Coverage | K2: Offset Well Objective Formation Top | L2: Offset Well Top of Production Casing Cement | M2: Comments (Optional)
A3: 05-123-05043 | B3: 1 LUCAS | C3: VYNCKIER 15N-29HZ | D3: 1155 | E3: RAYMOND OIL & GAS CO. INC | F3: 8/21/1957 | G3: DA | H3: 221 | I3: 830 | K3: N/A | M3: Hygiene Dry and Abandoned
A4: 05-123-05043 | B4: 1 LUCAS | C4: TEDFORD 30N-28HZ | D4: 778 | E4: RAYMOND OIL & GAS CO. | F4: - | G4: INC | H4: - | I4: 779 | J4: - | K4: - | L4: -
A5: 05-123-07336 | B5: POWERS 14-22 | C5: POWERS 2-22HZ PAD | D5: 1933 | E5: KERR MCGEE OIL & GAS ONSHORE LP | F5: =VLOOKUP(A5,'[1]List of Wells - Blank'!$C$4:$R$64,6,FALSE) -> 26149 | G5: =VLOOKUP($A5,'[1]List of Wells - Blank'!$C$4:$R$64,7,FALSE) -> PR | H5: =VLOOKUP($A5,'[1]List of Wells - Blank'!$C$4:$R$64,8,FALSE) -> 496 | I5: =VLOOKUP($A5,'[1]List of Wells - Blank'!$C$4:$R$64,9,FALSE) -> 800 | J5: =VLOOKUP($A5,'[1]List of Wells - Blank'!$C$4:$R$64,10,FALSE) -> Has sqz holes at 850 and cmt from 1350 to 380 | K5: =VLOOKUP($A5,'[1]List of Wells - Blank'!$C$4:$R$64,11,FALSE) -> 6978 | L5: =VLOOKUP($A5,'[1]List of Wells - Blank'!$C$4:$R$64,12,FALSE) -> 6150 | M5: =VLOOKUP($A5,'[1]List of Wells - Blank'!$C$4:$R$64,13,FALSE) -> Has a sqz to cover CD/NB. Log in Log Delivery Solution
A6: 05-123-07348 | B6: 1 WILLIAM D. LANSDOWN | C6: TEDFORD 29N-28HZ | D6: 1097 | E6: K P KAUFFMAN COMPANY INC | F6: 8/7/1971 | G6: PR | H6: 705 | I6: 778 | K6: N/A | L6: no CBL | M6: Sussex production
A7: 05-123-07376 | B7: 2 WILLIAM D LANSDOWN | C7: TEDFORD 28N-28HZ | D7: 1089 | E7: AMOCO PRODUCTION CO. | F7: 11/12/1971 | G7: DA | H7: 697 | I7: 821 | K7: N/A | L7: no CBL | M7: Sussex
A8: 05-123-07382 | B8: 1 LEO SMITS | C8: TEDFORD 4N-28HZ | D8: 147 | E8: AMOCO PRODUCTION CO. | F8: - | G8: AL | H8: - | I8: 758 | J8: - | K8: - | L8: -
A9: 05-123-07669 | B9: POWERS 41-22 | C9: POWERS 2-22HZ PAD | D9: 55 | E9: KERR MCGEE OIL & GAS ONSHORE LP | F9: =VLOOKUP(A9,'[1]List of Wells - Blank'!$C$4:$R$64,6,FALSE) -> 26759 | G9: =VLOOKUP($A9,'[1]List of Wells - Blank'!$C$4:$R$64,7,FALSE) -> PR | H9: =VLOOKUP($A9,'[1]List of Wells - Blank'!$C$4:$R$64,8,FALSE) -> 131 | I9: =VLOOKUP($A9,'[1]List of Wells - Blank'!$C$4:$R$64,9,FALSE) -> 685 | J9: =VLOOKUP($A9,'[1]List of Wells - Blank'!$C$4:$R$64,10,FALSE) -> Squeeze 446-710 | K9: =VLOOKUP($A9,'[1]List of Wells - Blank'!$C$4:$R$64,11,FALSE) -> 6910 | L9: =VLOOKUP($A9,'[1]List of Wells - Blank'!$C$4:$R$64,12,FALSE) -> 6554
A10: 05-123-07669 | B10: 41-22 POWERS | D10: 1210 | E10: KERR MCGEE OIL & GAS ONSHORE LP | F10: 4/5/1973 | G10: PR | H10: 131 | I10: 685 | J10: Squeeze 446-710 | K10: 6910 | L10: 6554
A11: 05-123-07669 | B11: 41-22 POWERS | C11: POWERS 27N-27HZ | D11: 187 | E11: KERR MCGEE OIL & GAS ONSHORE LP | F11: 26759 | G11: PR | H11: 131 | I11: 685 | J11: Squeeze 446-710 | K11: 6910 | L11: 6554
A12: 05-123-07727 | B12: 1 SHIVERS | C12: VYNCKIER 15N-29HZ | D12: 546 | E12: PDC ENERGY INC | F12: 6/23/1973 | G12: PR | H12: 576 | I12: 830 | K12: 7101 | L12: 6566
A13: 05-123-07727 | B13: 1 SHIVERS | C13: TEDFORD 30N-28HZ | D13: 1378 | E13: PDC ENERGY INC | F13: 6/23/1973 | G13: PR | H13: 576 | I13: 728 | K13: 7101 | L13: 6566
A14: 05-123-07752 | B14: 1 MARGARET EICHTHALER | D14: 1165 | E14: KERR MCGEE OIL & GAS ONSHORE LP | F14: =VLOOKUP(A14,[2]Sheet2!$B$2:$I$61,8,FALSE) -> 26886 | G14: PR | H14: =VLOOKUP(A14,[2]Sheet2!$B$3:$M$61,12,FALSE) -> 233 | I14: 1700 | J14: DV tool at 932' | K14: =VLOOKUP(A14,[2]Sheet2!$B$3:$E$61,4,FALSE) -> 6966 | L14: =VLOOKUP(A14,[2]Sheet2!$B$3:$F$61,5,FALSE) -> 5944 | M14: Sqz holes @ 6950'. DV tool at 932'
A15: 05-123-07766 | B15: 1 WILLIAM D. LANSDOWN B UNIT | C15: TEDFORD 29N-28HZ | D15: 1108 | E15: KERR MCGEE OIL & GAS ONSHORE LP | F15: 7/30/1973 | G15: PR | H15: 233 | I15: 784 | J15: DV tool 810', TOC=386' | K15: 7122 | L15: 7002
A16: 05-123-07767 | B16: 1 KEITH A CARTER UNIT | C16: VYNCKIER 15N-29HZ | D16: 1497 | E16: KERR MCGEE OIL & GAS ONSHORE LP | F16: 7/7/1973 | G16: PR | H16: 232 | I16: 830 | J16: DV Tool 812' | K16: 7195 | L16: 7322
A17: 05-123-07833 | B17: 1 JAMES A DAMIANA | C17: TEDFORD 30N-28HZ | D17: 998 | E17: K P KAUFFMAN COMPANY INC | F17: 9/10/1973 | G17: PR | H17: 220 | I17: 761 | K17: N/A | L17: no CBL | M17: Sussex production
A18: 05-123-07857 | B18: UPRR 62 PAN AM E 1 | C18: POWERS 2-22HZ PAD | D18: 1572 | E18: KERR MCGEE OIL & GAS ONSHORE LP | F18: =VLOOKUP(A18,'[1]List of Wells - Blank'!$C$4:$R$64,6,FALSE) -> 26926 | G18: =VLOOKUP($A18,'[1]List of Wells - Blank'!$C$4:$R$64,7,FALSE) -> PA | H18: =VLOOKUP($A18,'[1]List of Wells - Blank'!$C$4:$R$64,8,FALSE) -> 211 | I18: =VLOOKUP($A18,'[1]List of Wells - Blank'!$C$4:$R$64,9,FALSE) -> 200 | J18: =VLOOKUP($A18,'[1]List of Wells - Blank'!$C$4:$R$64,10,FALSE) -> DV tool at 738 | K18: =VLOOKUP($A18,'[1]List of Wells - Blank'!$C$4:$R$64,11,FALSE) -> 6884 | L18: =VLOOKUP($A18,'[1]List of Wells - Blank'!$C$4:$R$64,12,FALSE) -> 356 | M18: =VLOOKUP($A18,'[1]List of Wells - Blank'!$C$4:$R$64,13,FALSE) -> P&A completed in 2013
A19: 05-123-07857 | B19: 1 UPRR 62 PAN AM E | D19: 51 | E19: KERR MCGEE OIL & GAS ONSHORE LP | F19: 9/19/1973 | G19: PA | H19: 211 | I19: 200 | J19: DV tool at 738 | K19: 6884 | L19: 356 | M19: P&A completed in 2013
A20: 05-123-07873 | B20: 1 PUTNAM | C20: VYNCKIER 15C-29HZ | D20: 98 | E20: BWAB INC | F20: 9/27/1973 | G20: PA | H20: 252 | I20: 830 | K20: N/A | M20: Sussex P&A
A21: 05-123-07892 | B21: 1 THOMASON | C21: MEGUIRE 29N-16HZ | D21: 157 | E21: PETERSON ENERGY OPERATING INC | F21: 10/16/1973 | G21: PR | H21: 233 | I21: 720 | K21: 6932
A22: 05-123-07892 | B22: 1 THOMASON | C22: MEGUIRE 29C-16HZ | D22: 439 | E22: PETERSON ENERGY OPERATING INC | F22: 10/16/1973 | G22: PR | H22: 233 | I22: 720 | K22: 6932 | L22: 0
A23: 05-123-07894 | B23: 2 SHIVERS | C23: VYNCKIER 15C-29HZ | D23: 61 | E23: NOBLE ENERGY PRODUCTION INC | F23: 11/27/1973 | G23: PA | H23: 510 | I23: 760 | K23: N/A | M23: Sussex P&A
A24: 05-123-07946 | B24: 1 DEKALB | C24: ADAMSON 28N-28HZ | D24: 1482 | E24: KERR MCGEE OIL & GAS ONSHORE LP | F24: 11/26/1973 | G24: PA | H24: 210 | I24: 800 | K24: 6922 | L24: 0 | M24: P&A completed in 2013
A25: 05-123-07949 | B25: 1 SUCCO | C25: VYNCKIER 36C-29HZ | D25: 1436 | E25: VESSELS OIL & GAS COMPANY | F25: 11/29/1973 | G25: PA | H25: 133 | I25: 722 | J25: DV Tool 701' | K25: N/A | L25: no CBL | M25: Sussex P&A
A26: 05-123-07951 | B26: 3 SHIVERS | C26: TEDFORD 30N-28HZ | D26: 951 | E26: PATINA OIL & GAS CORPORATION | F26: 12/3/1973 | G26: PA | H26: 580 | I26: 740 | K26: N/A | L26: no CBL | M26: Sussex production
A27: 05-123-07951 | B27: 3 SHIVERS | C27: VYNCKIER 15N-29HZ | D27: 976 | E27: PATINA OIL & GAS CORPORATION | F27: 12/3/1973 | G27: PA | H27: 580 | I27: 830 | K27: N/A | M27: Sussex P&A
A28: 05-123-07969 | B28: 1 AMOCO ENERGY SMITS UNIT C | C28: TEDFORD 30C-28HZ | D28: 199 | E28: K P KAUFFMAN COMPANY INC | F28: 12/21/1973 | G28: PR | H28: 223 | I28: 759 | K28: N/A | L28: no CBL | M28: Sussex production
A29: 05-123-08038 | B29: 1 SARCHET | C29: SARCHET 37C-20HZ | D29: 61 | E29: KERR MCGEE OIL & GAS ONSHORE LP | F29: 5/1/1974 | G29: PR | H29: 231 | I29: 720 | J29: DV tool at 850' | K29: 6974 | L29: 6370
A30: 05-123-08038 | B30: 1 SARCHET | C30: SARCHET 16N-20HZ | D30: 876 | E30: KERR MCGEE OIL & GAS ONSHORE LP | F30: 5/1/1974 | G30: PR | H30: 231 | I30: 720 | J30: DV tool at 850' | K30: 6974 | L30: 6370
A31: 05-123-08122 | B31: 1-A APPEL (MARTIN) | C31: VYNCKIER 36C-29HZ | D31: 263 | E31: FOUNDATION ENERGY MANAGEMENT LLC | F31: 12/2/1974 | G31: PR | H31: 577 | I31: 722 | K31: N/A | M31: Sussex production
A32: 05-123-08155 | B32: 1 UPRR 62 PAN AM UNIT I | D32: 1277 | E32: KERR MCGEE OIL & GAS ONSHORE LP | F32: 9/26/1974 | G32: PR | H32: 207 | I32: 665 | J32: DV tool at 718 | K32: 6940 | L32: 6500
A33: 05-123-08159 | B33: POWERS USX X 27-7 | C33: POWERS 2-22HZ PAD | D33: 1229 | E33: KERR MCGEE OIL & GAS ONSHORE LP | F33: =VLOOKUP(A33,'[1]List of Wells - Blank'!$C$4:$R$64,6,FALSE) -> 27311 | G33: =VLOOKUP($A33,'[1]List of Wells - Blank'!$C$4:$R$64,7,FALSE) -> PR | H33: =VLOOKUP($A33,'[1]List of Wells - Blank'!$C$4:$R$64,8,FALSE) -> 210 | I33: =VLOOKUP($A33,'[1]List of Wells - Blank'!$C$4:$R$64,9,FALSE) -> 200 | J33: =VLOOKUP($A33,'[1]List of Wells - Blank'!$C$4:$R$64,10,FALSE) -> DV tool @ 750' | K33: =VLOOKUP($A33,'[1]List of Wells - Blank'!$C$4:$R$64,11,FALSE) -> 6930 | L33: =VLOOKUP($A33,'[1]List of Wells - Blank'!$C$4:$R$64,12,FALSE) -> 6930 | M33: =VLOOKUP($A33,'[1]List of Wells - Blank'!$C$4:$R$64,13,FALSE) -> holes found in csg at 1398-1459. pump through pkr @ 1193 w/ 50 sx cmt. Tested good.
A34: 05-123-08159 | B34: 27-7 POWERS USX X | D34: 144 | E34: KERR MCGEE OIL & GAS ONSHORE LP | F34: =VLOOKUP(A34,[2]Sheet2!$B$3:$I$61,8,FALSE) -> 27311 | G34: PR | H34: =VLOOKUP(A34,[2]Sheet2!$B$3:$M$61,12,FALSE) -> 210 | I34: 200 | J34: DV tool @ 750' | K34: =VLOOKUP(A34,[2]Sheet2!$B$3:$E$61,4,FALSE) -> 6930 | L34: 6490 | M34: holes found in csg at 1398-1459. pump through pkr @ 1193 w/ 50 sx cmt. Tested good.
A35: 05-123-08159 | B35: 27-7 POWERS USX X | C35: POWERS 2G-27HZ | D35: 1277 | E35: KERR MCGEE OIL & GAS ONSHORE LP | F35: 27311 | G35: PR | H35: 210 | I35: 200 | J35: DV tool @ 750' | K35: 6930 | L35: 6930 | M35: holes found in csg at 1398-1459. pump through pkr @ 1193 w/ 50 sx cmt. Tested good.
A36: 05-123-08198 | B36: 1 MARY D ARNDT | C36: ADAMSON 14N-28HZ | D36: 1386 | E36: KERR MCGEE OIL & GAS ONSHORE LP | F36: 11/13/1974 | G36: PR | H36: 209 | I36: 860 | J36: DV Tool at 860' | K36: 6840 | L36: 6340
A37: 05-123-08288 | B37: 1 ERNIE F ADAMSON GAS UNIT | C37: ADAMSON 14N-28HZ | D37: 179 | E37: AMOCO PRODUCTION CO. | F37: 1/29/1975 | G37: DA | H37: 164 | I37: 800 | J37: OH filled from 1500' to top of intercept well | K37: 6939 | L37: NA | M37: Well properly P&A'd by WHSS 1 intercept well 2015
A38: 05-123-08288 | B38: 1 ERNIE F ADAMSON GAS UNIT | C38: SARCHET 38C-20HZ | D38: 1187 | E38: AMOCO PRODUCTION CO. | F38: 1/29/1975 | G38: DA | H38: 164 | I38: 800 | J38: OH filled from 1500' to top of intercept well | K38: 6939 | L38: NA | M38: Well properly P&A'd by WHSS 1 intercept well 2015
A39: 05-123-08327 | B39: 1X ADAMSON ERNIE F GU | C39: ADAMSON 14N-28HZ | D39: 136 | E39: KERR MCGEE OIL & GAS ONSHORE LP | F39: 2/19/1975 | G39: PR | H39: 208 | I39: 800 | J39: Squeeze at 1750 | K39: 6940 | L39: 6220
A40: 05-123-08327 | B40: 1X ADAMSON ERNIE F GU | C40: SARCHET 38C-20HZ | D40: 1241 | E40: KERR MCGEE OIL & GAS ONSHORE LP | F40: 2/19/1975 | G40: PR | H40: 208 | I40: 800 | J40: Squeeze at 1750 | K40: 6940 | L40: 6220
A41: 05-123-08542 | B41: 1 PUTNAM | C41: VYNCKIER 36C-29HZ | D41: 1461 | E41: PDC ENERGY INC | F41: 10/6/1975 | G41: PR | H41: 680 | I41: 755 | K41: 7140 | L41: no CBL
...

Sheet List of Wells - Example
A1: Operator's Wellbore Integrity Contact | D1: wellbore.integrity@operator.com
A2: OFFSET WELL EVALUATIONS
A3: Offset Well API # | B3: Offset Well Name | C3: Nearest Proposed Horizontal Well Name | D3: Shortest Horizontal Distance from Offset Well to any Proposed HZ Well | E3: Offset Well Operator | F3: Offset Well Spud Date | G3: Offset Well Status | H3: Offset Well Surface Casing Setting Depth | I3: Base of Fox Hills or Depth of Deepest Water Well | J3: Historical Remedial Work to Provide Fox Hills Coverage | K3: Offset Well Objective Formation Top | L3: Offset Well Top of Production Casing Cement | M3: Comments (Optional)
A4: 05-123-60085 | B4: Example | C4: State Test | D4: 195' | E4: Bent Collar | F4: 32557 | G4: PA | H4: 450' | I4: 450' | J4: - | K4: 7570' | L4: 7350' | M4: Previous plugging documents indicate plugs above Nio and across Fox Hills
A5: 05-123-12346 | B5: Example #1 | C5: State #1HZ | D5: 230' | E5: KMG | F5: 40544 | G5: PR | H5: 500' | I5: 450' | J5: - | K5: 6820' | L5: 3500'
A6: 05-123-12347 | B6: Example #2 | C6: State #1HZ | D6: 500' | E6: Noble Energy | F6: 29952 | G6: SI | H6: 560' | I6: 450' | J6: - | K6: 6840' | L6: 7050' | M6: Operator will not stimulate stages within 500' of the existing well.
A7: 05-123-12348 | B7: Example #3 | C7: State #5HZ | D7: 930' | E7: KMG | F7: 26299 | G7: TA | H7: 410' | I7: 450' | J7: Yes | K7: 6810' | L7: 6540' | M7: Operator will plug and abandon well to adequately isolate all zones.
A8: 05-123-12349 | B8: Example #4 | C8: State #2HZ | D8: 110' | E8: KMG | F8: 33239 | G8: PR | H8: 415' | I8: 450' | J8: - | K8: N/A - SUSX | M8: NBRR not penetrated.
A9: 05-123-12350 | B9: Example #5 | C9: State #1HZ | D9: 150' | E9: KMG | F9: 29587 | G9: PR | H9: 350' | I9: 450' | J9: - | K9: 6815' | L9: 6600' | M9: Operator will provide adequate remedial cement to adequately isolate all zones.
A10: 05-123-12351 | B10: Example #6 | C10: State #3HZ | D10: 190' | E10: KMG | F10: 41275 | G10: XX
A11: 05-123-12352 | B11: Eample #7 | C11: State #3HZ | D11: 240' | E11: KMG | G11: AL

Sheet Instructions
A1: INSTRUCTIONS FOR OFFSET WELL EVALUATIONS
A2: Operator's Wellbore Integrity Contact | B2: Provide a current wellbore integrity contact for your company, which can be used by the COGCC or other operators to contact your company as necessary based on adjacent horizontal well activity. The intention of this contact is to have a single point contact to direct correspondence and it is suggested that it is not a single person but a dedicated address.
A3: OFFSET WELL EVALUATIONS
A4: Offset Well API # | B4: Enter the API# for all wells within 1500' of the proposed wellbore in successive rows. If no wells exist within 1500', check the box under the Offset Wells Evaluation tab on the APD indicating no wells within 1500'.
A5: Offset Well Name | B5: Enter this offset well's name.
A6: Nearest Proposed Horizontal Well Name | B6: Enter the name of the proposed horizontal well that is the nearest to this offset well.
A7: Shortest Horizontal Distance from Offset Well to any Proposed HZ Well | B7: Enter the shortest distance within the production zone from the offset well to the closest proposed horizontal well being evaluated by this sheet.
A8: Offset Well Operator | B8: Enter this offset well's operator of record.
A9: Offset Well Spud Date | B9: Enter the date this offset well was spud.
A10: Offset Well Status | B10: Enter this offset well's current status. **IF THE STATUS IS "XX" (approved APD but no spud notice) OR "DG", NO ADDITIONAL INFORMATION IS REQUIRED IN THIS ROW.**
A11: Offset Well Surface Casing Setting Depth | B11: Enter this offset well's surface casing setting depth.
A12: Base of Fox Hills or Depth of Deepest Water Well | B12: Enter the greater of the depth to the base of the Fox Hills transition zone based on this well's or an adjacent well's induction log or the grade corrected depth of the deepest water well within one mile of the proposed well's surface location.
A13: Historical Remedial Work to Provide Fox Hills Coverage | B13: Enter the depth to the DV tool and/or the stage cement top, if any. (**Complete cell only if an annular fill was done or a DV tool was used in the history of the well to provide the aquifer coverage.**)
A14: Offset Well Objective Formation Top | B14: IF THE PROPOSED HORIZONTAL WELL'S OBJECTIVE IS THE NIOBRARA OR CODELL - and this existing well penetrates the Niobrara, enter the Niobrara formation top based on this offset well's or an adjacent well's induction log. If this offset well does not penetrate the Niobrara and the proposed well will at least penetrate the Niobrara, enter "N/A" and no additional information is needed in this row. IF THE PROPOSED HORIZONTAL WELL'S OBJECTIVE FORMATION IS DEEPER THAN THE NIOBRARA AND CODELL - enter the formation top for the objective formation and its name.
A15: Offset Well Top of Production Casing Cement | B15: Enter the top of cement of the primary production casing cement job.
A16: Comments (Optional) | B16: Provide any other information deemed relevant. Also if needed, provide an acknowledgement that this well will be mitigated per the Horizontal Offset Policy (draft).
A18: IMPORTANT: All cells need to be formatted as text for uploading to eForm
A20: A blank cell in the Offset Well API# column will define the end of the spreadsheet to upload
A22: Spreadsheet to be uploaded does need to be closed
