Workbook
Name \0: #REF!
Name \1: #REF!
Name \A: #REF!
Name \B: #REF!
Name \C: #REF!
Name \D: #REF!
Name \E: #REF!
Name \I: #REF!
Name \J: #REF!
Name \L: #REF!
Name \N: #REF!
Name \P: #REF!
Name \q: '[1]Run Sheet'!#REF!
Name \S: #REF!
Name \T: #REF!
Name \V: #REF!
Name \X: #REF!
Name \Z: #REF!
Name ______add3: '[2]General Input'!$B$12
Name ______Col1: #REF!
Name ______Col10: #REF!
Name ______Col11: #REF!
Name ______Col12: #REF!
Name ______Col13: #REF!
Name ______Col14: #REF!
Name ______Col2: #REF!
Name ______Col3: #REF!
Name ______Col4: #REF!
Name ______Col5: #REF!
Name ______Col6: #REF!
Name ______Col7: #REF!
Name ______Col8: #REF!
Name ______Col9: #REF!
Name ______CSL1: [3]INPUT!$C$23
Name ______des20: '[2]Tool Recommendation'!$D$20
Name ______des21: '[2]Tool Recommendation'!$D$21
Name ______des23: '[2]Tool Recommendation'!$D$23
Name ______des26: '[2]Tool Recommendation'!$D$26
Name ______des29: '[2]Tool Recommendation'!$D$29
Name ______des31: '[2]Tool Recommendation'!$D$31
Name ______des33: '[2]Tool Recommendation'!$D$33
Name ______des35: '[2]Tool Recommendation'!$D$35
Name ______des37: '[2]Tool Recommendation'!$D$37
Name ______des38: '[2]Tool Recommendation'!$D$38
Name ______des40: '[2]Tool Recommendation'!$D$40
Name ______des41: '[4]Tool Recommendation'!#REF!
Name ______des42: '[4]Tool Recommendation'!#REF!
Name ______des43: '[4]Tool Recommendation'!#REF!
Name ______des44: '[4]Tool Recommendation'!#REF!
Name ______des45: '[4]Tool Recommendation'!#REF!
Name ______des46: '[4]Tool Recommendation'!#REF!
Name ______des47: '[4]Tool Recommendation'!#REF!
Name ______des48: '[4]Tool Recommendation'!#REF!
Name ______des49: '[4]Tool Recommendation'!#REF!
Name ______des50: '[4]Tool Recommendation'!#REF!
Name ______des51: '[4]Tool Recommendation'!#REF!
Name ______des52: '[4]Tool Recommendation'!#REF!
Name ______des53: '[4]Tool Recommendation'!#REF!
Name ______des54: '[4]Tool Recommendation'!#REF!
Name ______des55: '[4]Tool Recommendation'!#REF!

Sheet  Vertical WBD
B1: ='Horizontal WBD'!A1 -> Converse Family 6 1H
B3: Niobrara Horizontal
A4: Proposed Wellbore
I5: GL: | J5: ='Horizontal WBD'!D7 -> 5602
I6: KB: | J6: ='Horizontal WBD'!D8 -> 5626
I8: Tubing Install Data
I9: 7" hornet packer | L9: 6558
I10: 2-3/8" 8rd L-80 tubing | L10: 6573
J16: ITEM | L16: MD | M16: TVD
J17: 15' PBR: | L17: ='[24]WV Cleanup'!J2 -> 6597.2 | M17: ='[24]WV Cleanup'!K2 -> 6595.22
J18: 4-1/2” HPPK Pkr: | L18: =L17+15 -> 6612.2 | M18: =M17+15 -> 6610.22
J19: KOP: | L19: ='[24]WV Cleanup'!J3 -> 6724 | M19: ='[24]WV Cleanup'!K3 -> 6722.02
J20: 45° : | L20: ='[24]WV Cleanup'!J4 -> 7198.3872 | M20: ='[24]WV Cleanup'!K4 -> 7148.0732
I21: PBR | J21: 90° : | L21: ='[24]WV Cleanup'!J5 -> 7716.0331 | M21: ='[24]WV Cleanup'!K5 -> 7323.7245
I22: HPPK pkr | J22: PBTD: | L22: ='[24]WV Cleanup'!J6 -> 11300.8 | M22: ='[24]WV Cleanup'!K6 -> 7514.3812
I23: KOP | J23: TD: | L23: ='[24]WV Cleanup'!J7 -> 11344 | M23: ='[24]WV Cleanup'!K7 -> 7518.74 | N23: 4 1/2" shoe TD
L26: 7" Shoe
B39: String | E39: Size | H39: Weight | I39: Grade | J39: Thread | K39: Top | L39: Bottom | M39: TOC
B40: Surface | E40: ='Horizontal WBD'!H2 -> 9.625 | H40: ='Horizontal WBD'!I2 -> 36 | I40: ='Horizontal WBD'!J2 -> J-55 | J40: ='Horizontal WBD'!K2 -> STC | K40: ='Horizontal WBD'!L2 -> 24 | L40: ='Horizontal WBD'!M2 -> 1810.5 | M40: ='Horizontal WBD'!P2 -> Surface
B41: Interm. | E41: ='Horizontal WBD'!H3 -> 7 | H41: ='Horizontal WBD'!I3 -> 32 | I41: ='Horizontal WBD'!J3 -> P-110 | J41: ='Horizontal WBD'!K3 -> BTC | K41: ='Horizontal WBD'!L3 -> 24 | L41: ='Horizontal WBD'!M3 -> 7670.5 | M41: ='Horizontal WBD'!P3 -> 1710
B42: Liner | E42: ='Horizontal WBD'!H4 -> 4.5 | H42: ='Horizontal WBD'!I4 -> 13.5 | I42: ='Horizontal WBD'!J4 -> P-110 | J42: ='Horizontal WBD'!K4 -> BTC | K42: ='Horizontal WBD'!L4 -> 6597.2 | L42: ='Horizontal WBD'!M4 -> 11344 | M42: ='Horizontal WBD'!P4 -> -
E44: String | H44: ='[24]Casing and Tubular Data'!G15 -> Drift (in) | I44: ='[24]Casing and Tubular Data'!L3 -> Capacity (BBL/ft) | J44: ='[24]Casing and Tubular Data'!D15 -> Burst (psi) | K44: ='[24]Casing and Tubular Data'!E15 -> Collapse (psi) | L44: ='[24]Casing and Tubular Data'!F15 -> Tension (psi)
E45: Surface | H45: ='[24]Casing and Tubular Data'!G16 -> 8.765 | I45: ='[24]Casing and Tubular Data'!L5 -> 0.07731 | J45: ='[24]Casing and Tubular Data'!D16 -> 3060.8696 | K45: ='[24]Casing and Tubular Data'!E16 -> 1924 | L45: ='[24]Casing and Tubular Data'!F16 -> 281429
E46: Interm. | H46: ='[24]Casing and Tubular Data'!G17 -> 5.969 | I46: ='[24]Casing and Tubular Data'!L6 -> 0.036 | J46: ='[24]Casing and Tubular Data'!D17 -> 7700.4499 | K46: ='[24]Casing and Tubular Data'!E17 -> 10248 | L46: ='[24]Casing and Tubular Data'!F17 -> 640714
E47: Liner | H47: ='[24]Casing and Tubular Data'!G18 -> 3.795 | I47: ='[24]Casing and Tubular Data'!L7 -> 0.0149 | J47: ='[24]Casing and Tubular Data'!D18 -> 9500.1148 | K47: ='[24]Casing and Tubular Data'!E18 -> 10162 | L47: ='[24]Casing and Tubular Data'!F18 -> 301429

Sheet Horizontal WBD
A1: ='[24]WV Cleanup'!B2 -> Converse Family 6 1H | G1: String | H1: Size | I1: Weight | J1: Grade | K1: Thread | L1: Top | M1: Bottom | N1: Bit Size | O1: Sacks | P1: TOC
G2: Surface | H2: ='[24]Casing and Tubular Data'!B5 -> 9.625 | I2: ='[24]Casing and Tubular Data'!C5 -> 36 | J2: ='[24]Casing and Tubular Data'!D5 -> J-55 | K2: ='[24]Casing and Tubular Data'!E5 -> STC | L2: ='[24]Casing and Tubular Data'!I5 -> 24 | M2: ='[24]Casing and Tubular Data'!J5 -> 1810.5 | N2: ='[24]Casing and Tubular Data'!F5 -> 13.5 | O2: ='[24]Casing and Tubular Data'!G5 -> 650 | P2: ='[24]Casing and Tubular Data'!H5 -> Surface
A3: ="API Number: "&'[24]WV Cleanup'!B19 -> API Number: 0500507204 | G3: Interm. | H3: ='[24]Casing and Tubular Data'!B6 -> 7 | I3: ='[24]Casing and Tubular Data'!C6 -> 32 | J3: ='[24]Casing and Tubular Data'!D6 -> P-110 | K3: ='[24]Casing and Tubular Data'!E6 -> BTC | L3: ='[24]Casing and Tubular Data'!I6 -> 24 | M3: ='[24]Casing and Tubular Data'!J6 -> 7670.5 | N3: ='[24]Casing and Tubular Data'!F6 -> 8.75 | O3: ='[24]Casing and Tubular Data'!G6 -> 535 | P3: ='[24]Casing and Tubular Data'!H6 -> 1710
A4: Niobrara Horizontal | G4: Liner | H4: ='[24]Casing and Tubular Data'!B7 -> 4.5 | I4: ='[24]Casing and Tubular Data'!C7 -> 13.5 | J4: ='[24]Casing and Tubular Data'!D7 -> P-110 | K4: ='[24]Casing and Tubular Data'!E7 -> BTC | L4: ='[24]Casing and Tubular Data'!I7 -> 6597.2 | M4: ='[24]Casing and Tubular Data'!J7 -> 11344 | N4: ='[24]Casing and Tubular Data'!F7 -> 6" | O4: ='[24]Casing and Tubular Data'!G7 -> - | P4: ='[24]Casing and Tubular Data'!H7 -> -
A5: Horizontal Wellbore Schematic
A7: Original Elevation (GL): | D7: ='[24]WV Cleanup'!B20 -> 5602 | G7: ITEM | I7: MD | J7: TVD
A8: KB Elevation (KB): | D8: ='[24]WV Cleanup'!B21 -> 5626 | G8: 4-1/2” Liner Top: | I8: ='[24]WV Cleanup'!J2 -> 6597.2 | J8: ='[24]WV Cleanup'!K2 -> 6595.22
G9: KOP: | I9: ='[24]WV Cleanup'!J3 -> 6724 | J9: ='[24]WV Cleanup'!K3 -> 6722.02
G10: 45° : | I10: ='[24]WV Cleanup'!J4 -> 7198.3872 | J10: ='[24]WV Cleanup'!K4 -> 7148.0732
G11: 90° : | I11: ='[24]WV Cleanup'!J5 -> 7716.0331 | J11: ='[24]WV Cleanup'!K5 -> 7323.7245
G12: PBTD: | I12: ='[24]WV Cleanup'!J6 -> 11300.8 | J12: ='[24]WV Cleanup'!K6 -> 7514.3812 | K12: Float collar
G13: TD: | I13: ='[24]WV Cleanup'!J7 -> 11344 | J13: ='[24]WV Cleanup'!K7 -> 7518.74 | K13: 4 1/2" shoe TD
K14: Open hole TD at 11,354'
A20: Swell Packer | B20: Swell Packer | C20: Swell Packer | D20: Swell Packer | E20: Swell Packer | F20: Swell Packer | G20: Swell Packer | H20: Swell Packer | I20: Swell Packer | J20: Swell Packer | K20: Swell Packer | L20: Swell Packer | M20: Swell Packer | N20: Swell Packer | O20: Swell Packer | P20: Swell Packer | Q20: Swell Packer | R20: Swell Packer | S20: Swell Packer | T20: Swell Packer | U20: Swell Packer
A21: ='[24]Wireline Info'!$C$30 -> 7704.7 | B21: =VLOOKUP(B30,'[24]Wireline Info'!$B$10:$I$30,2,FALSE) -> 7891 | C21: =VLOOKUP(C30,'[24]Wireline Info'!$B$10:$I$30,2,FALSE) -> 8075.2 | D21: =VLOOKUP(D30,'[24]Wireline Info'!$B$10:$I$30,2,FALSE) -> 8256.5 | E21: =VLOOKUP(E30,'[24]Wireline Info'!$B$10:$I$30,2,FALSE) -> 8441.1 | F21: =VLOOKUP(F30,'[24]Wireline Info'!$B$10:$I$30,2,FALSE) -> 8622.7 | G21: =VLOOKUP(G30,'[24]Wireline Info'!$B$10:$I$30,2,FALSE) -> 8798.1 | H21: =VLOOKUP(H30,'[24]Wireline Info'!$B$10:$I$30,2,FALSE) -> 8975.5 | I21: =VLOOKUP(I30,'[24]Wireline Info'!$B$10:$I$30,2,FALSE) -> 9151 | ... U21: =VLOOKUP(U30,'[24]Wireline Info'!$B$10:$I$30,2,FALSE) -> 11246.5 | V21: 4-1/2" Shoe
A22: =A21+15.8 -> 7720.5 | B22: =B21+15.8 -> 7906.8 | C22: =C21+15.8 -> 8091 | D22: =D21+15.8 -> 8272.3 | E22: =E21+15.8 -> 8456.9 | F22: =F21+15.8 -> 8638.5 | G22: =G21+15.8 -> 8813.9 | H22: =H21+15.8 -> 8991.3 | ... U22: =U21+15.8 -> 11262.3 | V22: ='[24]WV Cleanup'!J7 -> 11344
A30: 7" Shoe | B30: =C30+1 -> 20 | C30: =D30+1 -> 19 | D30: =E30+1 -> 18 | E30: =F30+1 -> 17 | F30: =G30+1 -> 16 | G30: =H30+1 -> 15 | H30: =I30+1 -> 14 | I30: =J30+1 -> 13 | ... T30: =U30+1 -> 2 | U30: =1 -> 1 | V30: TD
A31: ='[24]Casing and Tubular Data'!J6 -> 7670.5 | B31: Plug & Perf | C31: Plug & Perf | D31: Plug & Perf | E31: Plug & Perf | F31: Plug & Perf | G31: Plug & Perf | H31: Plug & Perf | I31: Plug & Perf | J31: Plug & Perf | K31: Plug & Perf | L31: Plug & Perf | M31: Plug & Perf | N31: Plug & Perf | O31: Plug & Perf | P31: Plug & Perf | Q31: Plug & Perf | R31: Plug & Perf | S31: Plug & Perf | T31: Plug & Perf | U31: Plug & Perf | V31: ='[24]WV Cleanup'!J6 -> 11300.8
B32: =VLOOKUP(B$30,'[24]Wireline Info'!$B$10:$I$30,3,FALSE) -> 7881 | C32: =VLOOKUP(C$30,'[24]Wireline Info'!$B$10:$I$30,3,FALSE) -> 8065.2 | D32: =VLOOKUP(D$30,'[24]Wireline Info'!$B$10:$I$30,3,FALSE) -> 8246.5 | E32: =VLOOKUP(E$30,'[24]Wireline Info'!$B$10:$I$30,3,FALSE) -> 8431.1 | F32: =VLOOKUP(F$30,'[24]Wireline Info'!$B$10:$I$30,3,FALSE) -> 8612.7 | G32: =VLOOKUP(G$30,'[24]Wireline Info'!$B$10:$I$30,3,FALSE) -> 8788.1 | H32: =VLOOKUP(H$30,'[24]Wireline Info'!$B$10:$I$30,3,FALSE) -> 8965.5 | I32: =VLOOKUP(I$30,'[24]Wireline Info'!$B$10:$I$30,3,FALSE) -> 9141 | ... U32: =VLOOKUP(U$30,'[24]Wireline Info'!$B$10:$I$30,3,FALSE) -> 11236.5 | V32: OPEN HOLE TD
B33: 7865 | C33: 8050 | D33: 8232 | E33: =VLOOKUP(E$30,'[24]Wireline Info'!$B$10:$I$30,4,FALSE) -> 8421.1 | F33: 8598 | G33: 8773 | H33: 8951 | I33: 9126 | J33: 9304 | K33: 9488 | L33: 9673 | M33: 9852 | N33: 10032 | O33: 10210 | P33: 10385 | Q33: 10565 | R33: =VLOOKUP(R$30,'[24]Wireline Info'!$B$10:$I$30,4,FALSE) -> 10756.5 | S33: 10939 | T33: 11080 | U33: 11226 | V33: 11,354'
B34: =VLOOKUP(B$30,'[24]Wireline Info'!$B$10:$I$30,5,FALSE) -> 7805.75 | C34: =VLOOKUP(C$30,'[24]Wireline Info'!$B$10:$I$30,5,FALSE) -> 7991 | D34: =VLOOKUP(D$30,'[24]Wireline Info'!$B$10:$I$30,5,FALSE) -> 8173.75 | E34: =VLOOKUP(E$30,'[24]Wireline Info'!$B$10:$I$30,5,FALSE) -> 8356.7 | F34: =VLOOKUP(F$30,'[24]Wireline Info'!$B$10:$I$30,5,FALSE) -> 8539.8 | G34: =VLOOKUP(G$30,'[24]Wireline Info'!$B$10:$I$30,5,FALSE) -> 8718.3 | H34: =VLOOKUP(H$30,'[24]Wireline Info'!$B$10:$I$30,5,FALSE) -> 8894.7 | I34: =VLOOKUP(I$30,'[24]Wireline Info'!$B$10:$I$30,5,FALSE) -> 9071.15 | ... P34: =VLOOKUP(P$30,'[24]Wireline Info'!$B$10:$I$30,5,FALSE) -> 10329.95 | Q34: 10510 | R34: 10681 | S34: =VLOOKUP(S$30,'[24]Wireline Info'!$B$10:$I$30,5,FALSE) -> 10877.85 | T34: =VLOOKUP(T$30,'[24]Wireline Info'!$B$10:$I$30,5,FALSE) -> 11041.5 | U34: =VLOOKUP(U$30,'[24]Wireline Info'!$B$10:$I$30,5,FALSE) -> 11183.05
B35: =VLOOKUP(B$30,'[24]Wireline Info'!$B$10:$I$30,6,FALSE) -> 7740.5 | C35: 7925 | D35: =VLOOKUP(D$30,'[24]Wireline Info'!$B$10:$I$30,6,FALSE) -> 8111 | E35: =VLOOKUP(E$30,'[24]Wireline Info'!$B$10:$I$30,6,FALSE) -> 8292.3 | F35: =VLOOKUP(F$30,'[24]Wireline Info'!$B$10:$I$30,6,FALSE) -> 8476.9 | G35: =VLOOKUP(G$30,'[24]Wireline Info'!$B$10:$I$30,6,FALSE) -> 8658.5 | H35: =VLOOKUP(H$30,'[24]Wireline Info'!$B$10:$I$30,6,FALSE) -> 8833.9 | I35: =VLOOKUP(I$30,'[24]Wireline Info'!$B$10:$I$30,6,FALSE) -> 9011.3 | J35: =VLOOKUP(J$30,'[24]Wireline Info'!$B$10:$I$30,6,FALSE) -> 9186.8 | K35: 9362 | L35: =VLOOKUP(L$30,'[24]Wireline Info'!$B$10:$I$30,6,FALSE) -> 9548.8 | M35: 9735 | N35: =VLOOKUP(N$30,'[24]Wireline Info'!$B$10:$I$30,6,FALSE) -> 9913.1 | O35: =VLOOKUP(O$30,'[24]Wireline Info'!$B$10:$I$30,6,FALSE) -> 10092.9 | P35: 10268 | Q35: =VLOOKUP(Q$30,'[24]Wireline Info'!$B$10:$I$30,6,FALSE) -> 10446.1 | R35: =VLOOKUP(R$30,'[24]Wireline Info'!$B$10:$I$30,6,FALSE) -> 10625.3 | S35: 10810 | T35: =VLOOKUP(T$30,'[24]Wireline Info'!$B$10:$I$30,6,FALSE) -> 10999.2 | U35: =VLOOKUP(U$30,'[24]Wireline Info'!$B$10:$I$30,6,FALSE) -> 11139.6
T38: For Vertical Wellbore Schematic see previous page
