Workbook
Name LookupRange: Lookup!$A:$A,Lookup!$C:$C,Lookup!$E:$E

Sheet Data
A1: Header Information | B1: measured depth (ft) | C1: inclination (°) | D1: azimuth (°) | E1: true vertical depth (ft) | F1: northing +N/-S (ft) | G1: easting +E/-W (ft)
A2: Operator Name | B2: 0 | C2: 0 | D2: 0 | E2: 0 | F2: =[1]Surveys!V10 -> 0 | G2: =[1]Surveys!W10 -> 0
A3: Petroleum Development Corporation | B3: 156 | C3: 0.4 | D3: 136.4 | E3: =IF(Data!B3="","",IF([1]Surveys!$V$1=1,E2+([1]Surveys!U11*[1]Surveys!F11/2*(COS(RADIANS(Data!C3))+COS(RADIANS(Data!C2)))),IF([1]Surveys!$V$1=2,IF(Data!C3=Data!C2,E2+[1]Surveys!F11*(DEGREES(COS(RADIANS([2]E8Data!C3)))),E2+([1]Surveys!F11/(Data!C3-Data!C2))*(DEGREES(SIN(RADIANS(Data!C3))-SIN(RADIANS(Data!C2))))),E2+([1]Surveys!F11*(COS(RADIANS((Data!C3+Data!C2)/2))))))) -> 155.99873 | F3: =[1]Surveys!V11 -> -0.39434092 | G3: =[1]Surveys!W11 -> 0.37552578
A4: Operator Number | B4: 245 | C4: 1.1 | D4: 241.3 | E4: =IF(Data!B4="","",IF([1]Surveys!$V$1=1,E3+([1]Surveys!U12*[1]Surveys!F12/2*(COS(RADIANS(Data!C4))+COS(RADIANS(Data!C3)))),IF([1]Surveys!$V$1=2,IF(Data!C4=Data!C3,E3+[1]Surveys!F12*(COS(RADIANS(Data!C4))),E3+([1]Surveys!F12/(Data!C4-Data!C3))*(DEGREES(SIN(RADIANS(Data!C4))-SIN(RADIANS(Data!C3))))),E3+([1]Surveys!F12*(COS(RADIANS((Data!C4+Data!C3)/2))))))) -> 244.99305 | F4: =[1]Surveys!V12 -> -1.0295906 | G4: =[1]Surveys!W12 -> -0.15958835
A5: 69175 | B5: 337 | C5: 3.4 | D5: 257 | E5: =IF(Data!B5="","",IF([1]Surveys!$V$1=1,E4+([1]Surveys!U13*[1]Surveys!F13/2*(COS(RADIANS(Data!C5))+COS(RADIANS(Data!C4)))),IF([1]Surveys!$V$1=2,IF(Data!C5=Data!C4,E4+[1]Surveys!F13*(COS(RADIANS(Data!C5))),E4+([1]Surveys!F13/(Data!C5-Data!C4))*(DEGREES(SIN(RADIANS(Data!C5))-SIN(RADIANS(Data!C4))))),E4+([1]Surveys!F13*(COS(RADIANS((Data!C5+Data!C4)/2))))))) -> 336.9166 | F5: =[1]Surveys!V13 -> -2.0675017 | G5: =[1]Surveys!W13 -> -3.5928383
A6: Well Name and Number | B6: 429 | C6: 5.2 | D6: 257.6 | E6: =IF(Data!B6="","",IF([1]Surveys!$V$1=1,E5+([1]Surveys!U14*[1]Surveys!F14/2*(COS(RADIANS(Data!C6))+COS(RADIANS(Data!C5)))),IF([1]Surveys!$V$1=2,IF(Data!C6=Data!C5,E5+[1]Surveys!F14*(COS(RADIANS(Data!C6))),E5+([1]Surveys!F14/(Data!C6-Data!C5))*(DEGREES(SIN(RADIANS(Data!C6))-SIN(RADIANS(Data!C5))))),E5+([1]Surveys!F14*(COS(RADIANS((Data!C6+Data!C5)/2))))))) -> 428.65387 | F6: =[1]Surveys!V14 -> -3.5765661 | G6: =[1]Surveys!W14 -> -10.323408
A7: Ryland 20YD | B7: 521 | C7: 7.3 | D7: 247.2 | E7: =IF(Data!B7="","",IF([1]Surveys!$V$1=1,E6+([1]Surveys!U15*[1]Surveys!F15/2*(COS(RADIANS(Data!C7))+COS(RADIANS(Data!C6)))),IF([1]Surveys!$V$1=2,IF(Data!C7=Data!C6,E6+[1]Surveys!F15*(COS(RADIANS(Data!C7))),E6+([1]Surveys!F15/(Data!C7-Data!C6))*(DEGREES(SIN(RADIANS(Data!C7))-SIN(RADIANS(Data!C6))))),E6+([1]Surveys!F15*(COS(RADIANS((Data!C7+Data!C6)/2))))))) -> 520.10482 | F7: =[1]Surveys!V15 -> -6.7372901 | G7: =[1]Surveys!W15 -> -19.784873
A8: API Number (if available) | B8: 614 | C8: 8.7 | D8: 242.4 | E8: =IF(Data!B8="","",IF([1]Surveys!$V$1=1,E7+([1]Surveys!U16*[1]Surveys!F16/2*(COS(RADIANS(Data!C8))+COS(RADIANS(Data!C7)))),IF([1]Surveys!$V$1=2,IF(Data!C8=Data!C7,E7+[1]Surveys!F16*(COS(RADIANS(Data!C8))),E7+([1]Surveys!F16/(Data!C8-Data!C7))*(DEGREES(SIN(RADIANS(Data!C8))-SIN(RADIANS(Data!C7))))),E7+([1]Surveys!F16*(COS(RADIANS((Data!C8+Data!C7)/2))))))) -> 612.19849 | F8: =[1]Surveys!V16 -> -12.285918 | G8: =[1]Surveys!W16 -> -31.465644
A9: 123-31999 | B9: 643 | C9: 9 | D9: 239.5 | E9: =IF(Data!B9="","",IF([1]Surveys!$V$1=1,E8+([1]Surveys!U17*[1]Surveys!F17/2*(COS(RADIANS(Data!C9))+COS(RADIANS(Data!C8)))),IF([1]Surveys!$V$1=2,IF(Data!C9=Data!C8,E8+[1]Surveys!F17*(COS(RADIANS(Data!C9))),E8+([1]Surveys!F17/(Data!C9-Data!C8))*(DEGREES(SIN(RADIANS(Data!C9))-SIN(RADIANS(Data!C8))))),E8+([1]Surveys!F17*(COS(RADIANS((Data!C9+Data!C8)/2))))))) -> 640.85334 | F9: =[1]Surveys!V17 -> -14.453322 | G9: =[1]Surveys!W17 -> -35.3638
A10: Location: QQ SEC TWP RGE | B10: 735 | C10: 8.9 | D10: 233.3 | E10: =IF(Data!B10="","",IF([1]Surveys!$V$1=1,E9+([1]Surveys!U18*[1]Surveys!F18/2*(COS(RADIANS(Data!C10))+COS(RADIANS(Data!C9)))),IF([1]Surveys!$V$1=2,IF(Data!C10=Data!C9,E9+[1]Surveys!F18*(COS(RADIANS(Data!C10))),E9+([1]Surveys!F18/(Data!C10-Data!C9))*(DEGREES(SIN(RADIANS(Data!C10))-SIN(RADIANS(Data!C9))))),E9+([1]Surveys!F18*(COS(RADIANS((Data!C10+Data!C9)/2))))))) -> 731.73533 | F10: =[1]Surveys!V18 -> -22.358855 | G10: =[1]Surveys!W18 -> -47.270334
A11: NESW Sec 21 T4N R67W | B11: 828 | C11: 13.3 | D11: 235 | E11: =IF(Data!B11="","",IF([1]Surveys!$V$1=1,E10+([1]Surveys!U19*[1]Surveys!F19/2*(COS(RADIANS(Data!C11))+COS(RADIANS(Data!C10)))),IF([1]Surveys!$V$1=2,IF(Data!C11=Data!C10,E10+[1]Surveys!F19*(COS(RADIANS(Data!C11))),E10+([1]Surveys!F19/(Data!C11-Data!C10))*(DEGREES(SIN(RADIANS(Data!C11))-SIN(RADIANS(Data!C10))))),E10+([1]Surveys!F19*(COS(RADIANS((Data!C11+Data!C10)/2))))))) -> 822.97336 | F11: =[1]Surveys!V19 -> -32.799075 | G11: =[1]Surveys!W19 -> -61.808243
A12: Citing Type: Planned or Actual | B12: 921 | C12: 15.9 | D12: 230.9 | E12: =IF(Data!B12="","",IF([1]Surveys!$V$1=1,E11+([1]Surveys!U20*[1]Surveys!F20/2*(COS(RADIANS(Data!C12))+COS(RADIANS(Data!C11)))),IF([1]Surveys!$V$1=2,IF(Data!C12=Data!C11,E11+[1]Surveys!F20*(COS(RADIANS(Data!C12))),E11+([1]Surveys!F20/(Data!C12-Data!C11))*(DEGREES(SIN(RADIANS(Data!C12))-SIN(RADIANS(Data!C11))))),E11+([1]Surveys!F20*(COS(RADIANS((Data!C12+Data!C11)/2))))))) -> 912.96501 | F12: =[1]Surveys!V20 -> -46.971859 | G12: =[1]Surveys!W20 -> -80.460807
A13: Actual | B13: 1014 | C13: 17.7 | D13: 230 | E13: =IF(Data!B13="","",IF([1]Surveys!$V$1=1,E12+([1]Surveys!U21*[1]Surveys!F21/2*(COS(RADIANS(Data!C13))+COS(RADIANS(Data!C12)))),IF([1]Surveys!$V$1=2,IF(Data!C13=Data!C12,E12+[1]Surveys!F21*(COS(RADIANS(Data!C13))),E12+([1]Surveys!F21/(Data!C13-Data!C12))*(DEGREES(SIN(RADIANS(Data!C13))-SIN(RADIANS(Data!C12))))),E12+([1]Surveys!F21*(COS(RADIANS((Data!C13+Data!C12)/2))))))) -> 1001.9922 | F13: =[1]Surveys!V21 -> -64.094975 | G13: =[1]Surveys!W21 -> -101.17866
A14: Deviation Indicator | B14: 1108 | C14: 19.1 | D14: 230.7 | E14: =IF(Data!B14="","",IF([1]Surveys!$V$1=1,E13+([1]Surveys!U22*[1]Surveys!F22/2*(COS(RADIANS(Data!C14))+COS(RADIANS(Data!C13)))),IF([1]Surveys!$V$1=2,IF(Data!C14=Data!C13,E13+[1]Surveys!F22*(COS(RADIANS(Data!C14))),E13+([1]Surveys!F22/(Data!C14-Data!C13))*(DEGREES(SIN(RADIANS(Data!C14))-SIN(RADIANS(Data!C13))))),E13+([1]Surveys!F22*(COS(RADIANS((Data!C14+Data!C13)/2))))))) -> 1091.1845 | F14: =[1]Surveys!V22 -> -83.022006 | G14: =[1]Surveys!W22 -> -124.02734
A15: =INDEX(Lookup!E2:E5,Lookup!F2) -> Directional | B15: 1201 | C15: 20.7 | D15: 229.7 | E15: =IF(Data!B15="","",IF([1]Surveys!$V$1=1,E14+([1]Surveys!U23*[1]Surveys!F23/2*(COS(RADIANS(Data!C15))+COS(RADIANS(Data!C14)))),IF([1]Surveys!$V$1=2,IF(Data!C15=Data!C14,E14+[1]Surveys!F23*(COS(RADIANS(Data!C15))),E14+([1]Surveys!F23/(Data!C15-Data!C14))*(DEGREES(SIN(RADIANS(Data!C15))-SIN(RADIANS(Data!C14))))),E14+([1]Surveys!F23*(COS(RADIANS((Data!C15+Data!C14)/2))))))) -> 1178.6287 | F15: =[1]Surveys!V23 -> -103.29169 | G15: =[1]Surveys!W23 -> -148.33912
A16: North Reference | B16: 1294 | C16: 21.5 | D16: 228.6 | E16: =IF(Data!B16="","",IF([1]Surveys!$V$1=1,E15+([1]Surveys!U24*[1]Surveys!F24/2*(COS(RADIANS(Data!C16))+COS(RADIANS(Data!C15)))),IF([1]Surveys!$V$1=2,IF(Data!C16=Data!C15,E15+[1]Surveys!F24*(COS(RADIANS(Data!C16))),E15+([1]Surveys!F24/(Data!C16-Data!C15))*(DEGREES(SIN(RADIANS(Data!C16))-SIN(RADIANS(Data!C15))))),E15+([1]Surveys!F24*(COS(RADIANS((Data!C16+Data!C15)/2))))))) -> 1265.393 | F16: =[1]Surveys!V24 -> -125.19342 | G16: =[1]Surveys!W24 -> -173.65891
A17: =INDEX(Lookup!A2:A4,Lookup!B2) -> True | B17: 1387 | C17: 22.7 | D17: 228.6 | E17: =IF(Data!B17="","",IF([1]Surveys!$V$1=1,E16+([1]Surveys!U25*[1]Surveys!F25/2*(COS(RADIANS(Data!C17))+COS(RADIANS(Data!C16)))),IF([1]Surveys!$V$1=2,IF(Data!C17=Data!C16,E16+[1]Surveys!F25*(COS(RADIANS(Data!C17))),E16+([1]Surveys!F25/(Data!C17-Data!C16))*(DEGREES(SIN(RADIANS(Data!C17))-SIN(RADIANS(Data!C16))))),E16+([1]Surveys!F25*(COS(RADIANS((Data!C17+Data!C16)/2))))))) -> 1351.5586 | F17: =[1]Surveys!V25 -> -148.33154 | G17: =[1]Surveys!W25 -> -199.90396
A18: Grid Type | B18: 1479 | C18: 22.6 | D18: 230.8 | E18: =IF(Data!B18="","",IF([1]Surveys!$V$1=1,E17+([1]Surveys!U26*[1]Surveys!F26/2*(COS(RADIANS(Data!C18))+COS(RADIANS(Data!C17)))),IF([1]Surveys!$V$1=2,IF(Data!C18=Data!C17,E17+[1]Surveys!F26*(COS(RADIANS(Data!C18))),E17+([1]Surveys!F26/(Data!C18-Data!C17))*(DEGREES(SIN(RADIANS(Data!C18))-SIN(RADIANS(Data!C17))))),E17+([1]Surveys!F26*(COS(RADIANS((Data!C18+Data!C17)/2))))))) -> 1436.4646 | F18: =[1]Surveys!V26 -> -171.24411 | G18: =[1]Surveys!W26 -> -226.91934
A19: =INDEX(Lookup!C2:C12,Lookup!D2) -> #VALUE! | B19: 1573 | C19: 25 | D19: 227.5 | E19: =IF(Data!B19="","",IF([1]Surveys!$V$1=1,E18+([1]Surveys!U27*[1]Surveys!F27/2*(COS(RADIANS(Data!C19))+COS(RADIANS(Data!C18)))),IF([1]Surveys!$V$1=2,IF(Data!C19=Data!C18,E18+[1]Surveys!F27*(COS(RADIANS(Data!C19))),E18+([1]Surveys!F27/(Data!C19-Data!C18))*(DEGREES(SIN(RADIANS(Data!C19))-SIN(RADIANS(Data!C18))))),E18+([1]Surveys!F27*(COS(RADIANS((Data!C19+Data!C18)/2))))))) -> 1522.4683 | F19: =[1]Surveys!V27 -> -196.08379 | G19: =[1]Surveys!W27 -> -255.56635
B20: 1666 | C20: 25.9 | D20: 228.3 | E20: =IF(Data!B20="","",IF([1]Surveys!$V$1=1,E19+([1]Surveys!U28*[1]Surveys!F28/2*(COS(RADIANS(Data!C20))+COS(RADIANS(Data!C19)))),IF([1]Surveys!$V$1=2,IF(Data!C20=Data!C19,E19+[1]Surveys!F28*(COS(RADIANS(Data!C20))),E19+([1]Surveys!F28/(Data!C20-Data!C19))*(DEGREES(SIN(RADIANS(Data!C20))-SIN(RADIANS(Data!C19))))),E19+([1]Surveys!F28*(COS(RADIANS((Data!C20+Data!C19)/2))))))) -> 1606.4431 | F20: =[1]Surveys!V28 -> -222.87263 | G20: =[1]Surveys!W28 -> -285.22102
B21: 1759 | C21: 25.2 | D21: 229.2 | E21: =IF(Data!B21="","",IF([1]Surveys!$V$1=1,E20+([1]Surveys!U29*[1]Surveys!F29/2*(COS(RADIANS(Data!C21))+COS(RADIANS(Data!C20)))),IF([1]Surveys!$V$1=2,IF(Data!C21=Data!C20,E20+[1]Surveys!F29*(COS(RADIANS(Data!C21))),E20+([1]Surveys!F29/(Data!C21-Data!C20))*(DEGREES(SIN(RADIANS(Data!C21))-SIN(RADIANS(Data!C20))))),E20+([1]Surveys!F29*(COS(RADIANS((Data!C21+Data!C20)/2))))))) -> 1690.3483 | F21: =[1]Surveys!V29 -> -249.32164 | G21: =[1]Surveys!W29 -> -315.37423
B22: 1853 | C22: 25.6 | D22: 230.3 | E22: =IF(Data!B22="","",IF([1]Surveys!$V$1=1,E21+([1]Surveys!U30*[1]Surveys!F30/2*(COS(RADIANS(Data!C22))+COS(RADIANS(Data!C21)))),IF([1]Surveys!$V$1=2,IF(Data!C22=Data!C21,E21+[1]Surveys!F30*(COS(RADIANS(Data!C22))),E21+([1]Surveys!F30/(Data!C22-Data!C21))*(DEGREES(SIN(RADIANS(Data!C22))-SIN(RADIANS(Data!C21))))),E21+([1]Surveys!F30*(COS(RADIANS((Data!C22+Data!C21)/2))))))) -> 1775.2622 | F22: =[1]Surveys!V30 -> -275.37002 | G22: =[1]Surveys!W30 -> -346.14822
B23: 1946 | C23: 24 | D23: 231.6 | E23: =IF(Data!B23="","",IF([1]Surveys!$V$1=1,E22+([1]Surveys!U31*[1]Surveys!F31/2*(COS(RADIANS(Data!C23))+COS(RADIANS(Data!C22)))),IF([1]Surveys!$V$1=2,IF(Data!C23=Data!C22,E22+[1]Surveys!F31*(COS(RADIANS(Data!C23))),E22+([1]Surveys!F31/(Data!C23-Data!C22))*(DEGREES(SIN(RADIANS(Data!C23))-SIN(RADIANS(Data!C22))))),E22+([1]Surveys!F31*(COS(RADIANS((Data!C23+Data!C22)/2))))))) -> 1859.6834 | F23: =[1]Surveys!V31 -> -299.95385 | G23: =[1]Surveys!W31 -> -376.43138
B24: 2039 | C24: 23.9 | D24: 231 | E24: =IF(Data!B24="","",IF([1]Surveys!$V$1=1,E23+([1]Surveys!U32*[1]Surveys!F32/2*(COS(RADIANS(Data!C24))+COS(RADIANS(Data!C23)))),IF([1]Surveys!$V$1=2,IF(Data!C24=Data!C23,E23+[1]Surveys!F32*(COS(RADIANS(Data!C24))),E23+([1]Surveys!F32/(Data!C24-Data!C23))*(DEGREES(SIN(RADIANS(Data!C24))-SIN(RADIANS(Data!C23))))),E23+([1]Surveys!F32*(COS(RADIANS((Data!C24+Data!C23)/2))))))) -> 1944.6762 | F24: =[1]Surveys!V32 -> -323.55763 | G24: =[1]Surveys!W32 -> -405.89434
B25: 2132 | C25: 26 | D25: 229.7 | E25: =IF(Data!B25="","",IF([1]Surveys!$V$1=1,E24+([1]Surveys!U33*[1]Surveys!F33/2*(COS(RADIANS(Data!C25))+COS(RADIANS(Data!C24)))),IF([1]Surveys!$V$1=2,IF(Data!C25=Data!C24,E24+[1]Surveys!F33*(COS(RADIANS(Data!C25))),E24+([1]Surveys!F33/(Data!C25-Data!C24))*(DEGREES(SIN(RADIANS(Data!C25))-SIN(RADIANS(Data!C24))))),E24+([1]Surveys!F33*(COS(RADIANS((Data!C25+Data!C24)/2))))))) -> 2028.993 | F25: =[1]Surveys!V33 -> -348.60078 | G25: =[1]Surveys!W33 -> -436.0851
B26: 2225 | C26: 25.5 | D26: 229.2 | E26: =IF(Data!B26="","",IF([1]Surveys!$V$1=1,E25+([1]Surveys!U34*[1]Surveys!F34/2*(COS(RADIANS(Data!C26))+COS(RADIANS(Data!C25)))),IF([1]Surveys!$V$1=2,IF(Data!C26=Data!C25,E25+[1]Surveys!F34*(COS(RADIANS(Data!C26))),E25+([1]Surveys!F34/(Data!C26-Data!C25))*(DEGREES(SIN(RADIANS(Data!C26))-SIN(RADIANS(Data!C25))))),E25+([1]Surveys!F34*(COS(RADIANS((Data!C26+Data!C25)/2))))))) -> 2112.7578 | F26: =[1]Surveys!V34 -> -374.86598 | G26: =[1]Surveys!W34 -> -466.78586
B27: 2318 | C27: 24.7 | D27: 227.9 | E27: =IF(Data!B27="","",IF([1]Surveys!$V$1=1,E26+([1]Surveys!U35*[1]Surveys!F35/2*(COS(RADIANS(Data!C27))+COS(RADIANS(Data!C26)))),IF([1]Surveys!$V$1=2,IF(Data!C27=Data!C26,E26+[1]Surveys!F35*(COS(RADIANS(Data!C27))),E26+([1]Surveys!F35/(Data!C27-Data!C26))*(DEGREES(SIN(RADIANS(Data!C27))-SIN(RADIANS(Data!C26))))),E26+([1]Surveys!F35*(COS(RADIANS((Data!C27+Data!C26)/2))))))) -> 2196.9756 | F27: =[1]Surveys!V35 -> -400.97422 | G27: =[1]Surveys!W35 -> -496.35788
B28: 2411 | C28: 24.3 | D28: 231.2 | E28: =IF(Data!B28="","",IF([1]Surveys!$V$1=1,E27+([1]Surveys!U36*[1]Surveys!F36/2*(COS(RADIANS(Data!C28))+COS(RADIANS(Data!C27)))),IF([1]Surveys!$V$1=2,IF(Data!C28=Data!C27,E27+[1]Surveys!F36*(COS(RADIANS(Data!C28))),E27+([1]Surveys!F36/(Data!C28-Data!C27))*(DEGREES(SIN(RADIANS(Data!C28))-SIN(RADIANS(Data!C27))))),E27+([1]Surveys!F36*(COS(RADIANS((Data!C28+Data!C27)/2))))))) -> 2281.6059 | F28: =[1]Surveys!V36 -> -425.99277 | G28: =[1]Surveys!W36 -> -525.68955
B29: 2503 | C29: 24.9 | D29: 230.8 | E29: =IF(Data!B29="","",IF([1]Surveys!$V$1=1,E28+([1]Surveys!U37*[1]Surveys!F37/2*(COS(RADIANS(Data!C29))+COS(RADIANS(Data!C28)))),IF([1]Surveys!$V$1=2,IF(Data!C29=Data!C28,E28+[1]Surveys!F37*(COS(RADIANS(Data!C29))),E28+([1]Surveys!F37/(Data!C29-Data!C28))*(DEGREES(SIN(RADIANS(Data!C29))-SIN(RADIANS(Data!C28))))),E28+([1]Surveys!F37*(COS(RADIANS((Data!C29+Data!C28)/2))))))) -> 2365.2553 | F29: =[1]Surveys!V37 -> -450.09533 | G29: =[1]Surveys!W37 -> -555.45129
B30: 2597 | C30: 24.4 | D30: 229.3 | E30: =IF(Data!B30="","",IF([1]Surveys!$V$1=1,E29+([1]Surveys!U38*[1]Surveys!F38/2*(COS(RADIANS(Data!C30))+COS(RADIANS(Data!C29)))),IF([1]Surveys!$V$1=2,IF(Data!C30=Data!C29,E29+[1]Surveys!F38*(COS(RADIANS(Data!C30))),E29+([1]Surveys!F38/(Data!C30-Data!C29))*(DEGREES(SIN(RADIANS(Data!C30))-SIN(RADIANS(Data!C29))))),E29+([1]Surveys!F38*(COS(RADIANS((Data!C30+Data!C29)/2))))))) -> 2450.6899 | F30: =[1]Surveys!V38 -> -475.26385 | G30: =[1]Surveys!W38 -> -585.50678
B31: 2689 | C31: 25.1 | D31: 226.2 | E31: =IF(Data!B31="","",IF([1]Surveys!$V$1=1,E30+([1]Surveys!U39*[1]Surveys!F39/2*(COS(RADIANS(Data!C31))+COS(RADIANS(Data!C30)))),IF([1]Surveys!$V$1=2,IF(Data!C31=Data!C30,E30+[1]Surveys!F39*(COS(RADIANS(Data!C31))),E30+([1]Surveys!F39/(Data!C31-Data!C30))*(DEGREES(SIN(RADIANS(Data!C31))-SIN(RADIANS(Data!C30))))),E30+([1]Surveys!F39*(COS(RADIANS((Data!C31+Data!C30)/2))))))) -> 2534.2421 | F31: =[1]Surveys!V39 -> -501.16288 | G31: =[1]Surveys!W39 -> -613.99886
... B87: 7893 | C87: 0.3 | D87: 126.8 | E87: =IF(Data!B87="","",IF([1]Surveys!$V$1=1,E86+([1]Surveys!U95*[1]Surveys!F95/2*(COS(RADIANS(Data!C87))+COS(RADIANS(Data!C86)))),IF([1]Surveys!$V$1=2,IF(Data!C87=Data!C86,E86+[1]Surveys!F95*(COS(RADIANS(Data!C87))),E86+([1]Surveys!F95/(Data!C87-Data!C86))*(DEGREES(SIN(RADIANS(Data!C87))-SIN(RADIANS(Data!C86))))),E86+([1]Surveys!F95*(COS(RADIANS((Data!C87+Data!C86)/2))))))) -> 7464.7487 | F87: =[1]Surveys!V95 -> -1357.2384 | G87: =[1]Surveys!W95 -> -1650.0111

Sheet Lookup
A1: North Reference | B1: RetunValue | C1: Grid Type | D1: ReturnValue | E1: Deviation Indicator | F1: ReturnValue
B2: 2 | D2: 0 | F2: 2
A3: True | C3: SPCS-Colorado Central-NAD27 | E3: Directional
A4: Grid | C4: SPCS-Colorado Central-NAD83 | E4: High Angle
C5: SPCS-Colorado North-NAD27 | E5: Horizontal
C6: SPCS-Colorado North-NAD83
C7: SPCS-Colorado South-NAD27
C8: SPCS-Colorado South-NAD83
C9: UTM-Zone 12 NAD27
C10: UTM-Zone 12 NAD83
C11: UTM-Zone 13 NAD27
C12: UTM-Zone 13 NAD83
