Workbook

Sheet Information
A1: Company: | B1: Petroleum Development Corporation
A2: Well Name: | B2: Noffsinger 21-33
A3: Legal Description: | B3: NENW 33 6N 64W 6 PM
A4: County/State: | B4: Weld County, CO
A5: Current Wellbore Schematic: | B5: Current Wellbore Schematice - NOT TO SCALE!!!
A6: Date: | B6: 40907
A7: API#: | B7: 05-123-14259 | E7: !!!!!NOTE!!!!!
A9: Surface Casing: | B9: 8 5/8" @ 333' w/175 sks . | E9: ONLY ENTER DATA IN COLUMN "B"
A11: Production Casing: | B11: 41/2" @ 7041' w/ 220 sks | E11: ALL DATA WILL BE CARRIED OVER ONTO WELLBORE SCHEMATIC SHEET
A12: Top of Cement: | B12: 0' & 3307 & 6424'
E13: ONLY NOTES AND WELLBORE COLORS NEED TO BE CHANGED ON THE
A14: Perforations: | E14: WELLBORE SCHEMATIC PAGE.
A15: Old: | B15: Codell: 6878'-6894''
B16: Ft Hays: 6856'-6876'
B17: Niobrara: 6589'-6801'
A20: New: | B20: SQZ perf @ 750'
A25: PBTD: | B25: 6954'
A26: Casing TD: | B26: 7041'
A28: GL Elevation: | B28: 4652'
A29: KB Elevation: | B29: 4665'
A31: Longstring Cement: | B31: 7041' w/ 220 sks G
A36: Current Tubing In Hole:

Sheet Wellbore Schematic
E1: =Information!B1 -> Petroleum Development Corporation
E2: =Information!B2 -> Noffsinger 21-33
E3: =Information!B3 -> NENW 33 6N 64W 6 PM
E4: =Information!B4 -> Weld County, CO
E5: =Information!B5 -> Current Wellbore Schematice - NOT TO SCALE!!!
E6: =Information!B6 -> 40907
E7: =Information!A7 -> API#: | H7: =Information!B7 -> 05-123-14259
N8: =Information!A28 -> GL Elevation: | O8: =Information!B28 -> 4652'
N9: =Information!A29 -> KB Elevation: | O9: =Information!B29 -> 4665'
B12: =Information!A9 -> Surface Casing:
B13: =Information!B9 -> 8 5/8" @ 333' w/175 sks .
N16: =Information!A31 -> Longstring Cement:
N17: =Information!B31 -> 7041' w/ 220 sks G
N18: =Information!B32 -> 0
N19: =Information!B33 -> 0
N20: =Information!B34 -> 0
B21: =Information!A11 -> Production Casing:
B22: =Information!B11 -> 41/2" @ 7041' w/ 220 sks
L26: Parkman 3604'
N27: =Information!A12 -> Top of Cement:
N28: =Information!B12 -> 0' & 3307 & 6424'
B32: =Information!A14 -> Perforations: | N32: =Information!A36 -> Current Tubing In Hole:
B33: =Information!A15 -> Old: | C33: =Information!B15 -> Codell: 6878'-6894'' | N33: =Information!B36 -> 0
C34: =Information!B16 -> Ft Hays: 6856'-6876' | N34: =Information!B37 -> 0
C35: =Information!B17 -> Niobrara: 6589'-6801' | N35: =Information!B38 -> 0
C36: =Information!B18 -> 0
C37: =Information!B19 -> 0 | L37: Niobrara
B38: =Information!A20 -> New: | C38: =Information!B20 -> SQZ perf @ 750'
C39: =Information!B21 -> 0 | L39: Ft Hays
C40: =Information!B22 -> 0 | L40: Codell
C41: =Information!B23 -> 0
N42: =Information!A25 -> PBTD: | O42: =Information!B25 -> 6954'
N43: =Information!A26 -> Casing TD: | O43: =Information!B26 -> 7041'
B45: NOTES
B46: Set CIBP @ 6548 w/ 2 sks cmt on top, isolate casign leaks 2556 to 4085', TIH to 3700' pumpd 50 sks, tag TOC @ 3783', TIH to 3700' pumpd 50 sks pumped 50 sks, tag TOC @ 3307, Set CIBP @ 800', perf @ 750' and pumped 381 sks cmt. Ran CBL 491'-surface, cmt top @ 340. Cut casg 4' below surface, spotted 10 sks cmt down production and surface csg, welded on top cap.

Sheet Sheet3
